{"text_format":"3","workbook":"xlsx","n_sheets":13,"sheets":["Оглавление","Шаровые краны, ОК, Сетч.фильтры","Трубы","Аксиальные фитинги","Шкафы коллекторные","Узлы ТП, коллекторы","Клапаны для отоп.приборов","Бойлеры OLD","Бойлеры","Мембранные баки","Дымоходы","Теплоноситель","Конвертация цен"],"not_rendered":{"images":130,"macros":1,"external_links":1,"defined_names":11},"read":"whole","date_system":"1900"}

{"sheet":"Оглавление","index":0,"n_rows":36,"n_cols":11,"rows_kept":36,"merged":[[5,0,5,13],[6,0,7,13],[8,0,8,13],[11,9,11,10],[12,0,12,8],[13,0,13,8],[14,0,14,8],[15,0,15,8],[16,0,16,8],[17,0,17,8],[18,0,18,8],[19,0,19,8],[20,0,20,8],[21,0,21,8],[22,0,22,8],[24,0,24,8],[25,0,25,7],[26,0,26,7],[27,0,27,7],[28,0,28,7],[29,0,29,13],[30,0,30,13],[31,0,31,7],[32,0,32,13],[33,0,33,13],[34,0,34,13],[35,0,35,13]]}
[]
[]
[]
[]
[]
["ПРАЙС-ЛИСТ ОТ 10/03/2025"]
["Проставьте, пожалуйста, обозначенную Вашим менеджером скидку в  поле \"Ваша скидка\" "]
[]
["Внимание! На позиции с признаком \"специальное предложение \" и \"акция\" скидка не распространяется!"]
[]
[]
[{"$nulls":9},"Ваша скидка"]
["Трубопроводная арматура",{"$nulls":9},{"v":0,"d":"0.00%"}]
["Трубы, Защитные гофротрубы",{"$nulls":9},{"v":0,"d":"0.00%"}]
["Аксиальные фитинги",{"$nulls":9},{"v":0,"d":"0.00%"}]
["Шкафы коллекторные",{"$nulls":9},{"v":0,"d":"0.00%"}]
["Оборудование для тёплого пола",{"$nulls":9},{"v":0,"d":"0.00%"}]
["Коллекторные блоки для систем отопления",{"$nulls":9},{"v":0,"d":"0.00%"}]
["Клапаны для отопительных приборов",{"$nulls":9},{"v":0,"d":"0.00%"}]
["Бойлеры, Накопители, Теплоаккумуляторы",{"$nulls":9},{"v":0,"d":"0.00%"}]
["Мембранные расширительные баки",{"$nulls":9},{"v":0,"d":"0.00%"}]
["Дымоходы",{"$nulls":9},{"v":0,"d":"0.00%"}]
["Теплохладоноситель ",{"$nulls":9},{"v":0,"d":"0.00%"}]
[]
["Быстрые ссылки"]
["Шаровые краны, обратные клапаны, фильтры"]
["Трубы, Защитные гофротрубы"]
["Фитинги для аксиальной запресовки"]
["Коллекторные шкафы"]
["Смесительные узлы и комплектующие для напольного отопления"]
["Коллекторные блоки и комплектующие"]
["Клапаны для отопительных приборов"]
["Байлеры, Накопители, Теплоаккумуляторы"]
["Мембранные расширительные баки"]
["Дымоходы"]
["Теплохладоноситель"]

{"sheet":"Шаровые краны, ОК, Сетч.фильтры","index":1,"n_rows":70,"n_cols":12,"rows_kept":70,"merged":[[3,0,3,7],[7,9,7,11],[12,10,12,11],[13,0,14,0],[13,1,14,1],[13,2,14,3],[13,4,14,4],[13,5,14,5],[13,6,14,6],[13,7,14,7],[13,9,14,9],[13,10,14,10],[13,11,14,11],[15,0,20,0],[15,2,20,3],[21,0,24,0],[21,2,24,3],[25,0,30,0],[25,2,30,3],[31,0,34,0],[31,2,34,3],[35,0,38,0],[35,2,38,3],[49,0,54,0],[49,2,54,3],[64,0,69,0],[64,2,69,3]]}
[]
[]
[]
["Шаровые краны, обратные клапаны, фильтры"]
[]
["ПОЛНОПРОХОДНЫЕ ШАРОВЫЕ КРАНЫ"]
["• Седельные уплотнительные кольца шара изготовлены из фторопласта (PTFE)"]
["• Кольцевые прокладки штока изготовлены из фтористого каучука (FPM)",{"$nulls":8},"На главную страницу"]
["• Корпус: латунь хромированная горячепресованная (CW617N) "]
["• Рукоятка: рычаг - сталь с полимерным покрытием, бабочка - алюминий "]
["• Максимальное рабочее давление : 35 бар для Ду 15-20, 28 бар для Ду 25-50"]
["• Диапазон рабочих температур: от -20 до +180⁰C"]
[{"$nulls":9},"Итого:",{"$f":"SUM(L16:L39)+SUM(L50:L55)+SUM(L65:L70)","v":{"v":0,"d":"0.00"}}]
["Фото","Артикул","Наименование товара",null,"Размер","Вес, г","Упаковка, шт.","Коробка, шт.","Цена за шт.","Цена со скидкой, RUB","Кол-во, шт.","Сумма со скидкой, RUB"]
[{"$nulls":8},"RUB"]
[null,"GK 550 12","Кран шаровой (ручка -  рычаг), внутренняя-внутренняя резьба",null,"1/2\"",175,10,100,{"$f":"'Конвертация цен'!H6","v":{"v":509,"d":"509.00"}},{"$f":"I16-I16*Оглавление!$K$13","v":{"v":509,"d":"509.00"}},null,{"$f":"K16*J16","v":{"v":0,"d":"0.00"}}]
[null,"GK 550 34",null,null,"3/4\"",265,5,50,{"$f":"'Конвертация цен'!H7","v":{"v":769,"d":"769.00"}},{"$f":"I17-I17*Оглавление!$K$13","v":{"v":769,"d":"769.00"}},null,{"$f":"K17*J17","v":{"v":0,"d":"0.00"}}]
[null,"GK 550 1",null,null,"1\"",400,5,25,{"$f":"'Конвертация цен'!H8","v":{"v":1209,"d":"1209.00"}},{"$f":"I18-I18*Оглавление!$K$13","v":{"v":1209,"d":"1,209.00"}},null,{"v":0,"d":"0.00"}]
[null,"GK 550 114",null,null,"1 1/4\"",560,4,20,{"$f":"'Конвертация цен'!H9","v":{"v":1779,"d":"1779.00"}},{"$f":"I19-I19*Оглавление!$K$13","v":{"v":1779,"d":"1,779.00"}},null,{"v":0,"d":"0.00"}]
[null,"GK 550 112",null,null,"1 1/2\"",980,4,15,{"$f":"'Конвертация цен'!H10","v":{"v":2812,"d":"2812.00"}},{"$f":"I20-I20*Оглавление!$K$13","v":{"v":2812,"d":"2,812.00"}},null,{"v":0,"d":"0.00"}]
[null,"GK 550 2",null,null,"2\"",1550,2,10,{"$f":"'Конвертация цен'!H11","v":{"v":4339,"d":"4339.00"}},{"$f":"I21-I21*Оглавление!$K$13","v":{"v":4339,"d":"4,339.00"}},null,{"v":0,"d":"0.00"}]
[null,"GK 551 12","Кран шаровой (ручка -  бабочка), внутренняя-внутренняя резьба",null,"1/2\"",178,10,100,{"$f":"'Конвертация цен'!H12","v":{"v":509,"d":"509.00"}},{"$f":"I22-I22*Оглавление!$K$13","v":{"v":509,"d":"509.00"}},null,{"v":0,"d":"0.00"}]
[null,"GK 551 34",null,null,"3/4\"",255,5,50,{"$f":"'Конвертация цен'!H13","v":{"v":769,"d":"769.00"}},{"$f":"I23-I23*Оглавление!$K$13","v":{"v":769,"d":"769.00"}},null,{"v":0,"d":"0.00"}]
[null,"GK 551 1",null,null,"1\"",390,5,50,{"$f":"'Конвертация цен'!H14","v":{"v":1209,"d":"1209.00"}},{"$f":"I24-I24*Оглавление!$K$13","v":{"v":1209,"d":"1,209.00"}},null,{"v":0,"d":"0.00"}]
[null,"GK 551 114",null,null,"1 1/4\"",530,5,25,{"$f":"'Конвертация цен'!H15","v":{"v":1779,"d":"1779.00"}},{"$f":"I25-I25*Оглавление!$K$13","v":{"v":1779,"d":"1,779.00"}},null,{"v":0,"d":"0.00"}]
[null,"GK 554L 12","Кран шаровой (ручка -  рычаг), внутренняя-наружная резьба",null,"1/2\"",190,5,50,{"$f":"'Конвертация цен'!H16","v":{"v":549,"d":"549.00"}},{"$f":"I26-I26*Оглавление!$K$13","v":{"v":549,"d":"549.00"}},null,{"v":0,"d":"0.00"}]
[null,"GK 554L 34",null,null,"3/4\"",300,5,50,{"$f":"'Конвертация цен'!H17","v":{"v":817,"d":"817.00"}},{"$f":"I27-I27*Оглавление!$K$13","v":{"v":817,"d":"817.00"}},null,{"v":0,"d":"0.00"}]
[null,"GK 554L 1",null,null,"1\"",435,2,20,{"$f":"'Конвертация цен'!H18","v":{"v":1307,"d":"1307.00"}},{"$f":"I28-I28*Оглавление!$K$13","v":{"v":1307,"d":"1,307.00"}},null,{"v":0,"d":"0.00"}]
[null,"GK 554L 114",null,null,"1 1/4\"",650,2,20,{"$f":"'Конвертация цен'!H19","v":{"v":2020,"d":"2020.00"}},{"$f":"I29-I29*Оглавление!$K$13","v":{"v":2020,"d":"2,020.00"}},null,{"v":0,"d":"0.00"}]
[null,"GK 554L 112",null,null,"1 1/2\"",1040,4,20,{"$f":"'Конвертация цен'!H20","v":{"v":3286,"d":"3286.00"}},{"$f":"I30-I30*Оглавление!$K$13","v":{"v":3286,"d":"3,286.00"}},null,{"v":0,"d":"0.00"}]
[null,"GK 554L 2",null,null,"2\"",1680,2,10,{"$f":"'Конвертация цен'!H21","v":{"v":5259,"d":"5259.00"}},{"$f":"I31-I31*Оглавление!$K$13","v":{"v":5259,"d":"5,259.00"}},null,{"v":0,"d":"0.00"}]
[null,"GK 554 12","Кран шаровой (ручка - бабочка), внутренняя-наружная резьба",null,"1/2\"",180,10,100,{"$f":"'Конвертация цен'!H22","v":{"v":565,"d":"565.00"}},{"$f":"I32-I32*Оглавление!$K$13","v":{"v":565,"d":"565.00"}},null,{"v":0,"d":"0.00"}]
[null,"GK 554 34",null,null,"3/4\"",285,5,50,{"$f":"'Конвертация цен'!H23","v":{"v":840,"d":"840.00"}},{"$f":"I33-I33*Оглавление!$K$13","v":{"v":840,"d":"840.00"}},null,{"v":0,"d":"0.00"}]
[null,"GK 554 1",null,null,"1\"",420,5,25,{"$f":"'Конвертация цен'!H24","v":{"v":1307,"d":"1307.00"}},{"$f":"I34-I34*Оглавление!$K$13","v":{"v":1307,"d":"1,307.00"}},null,{"v":0,"d":"0.00"}]
[null,"GK 554 114",null,null,"1 1/4\"",620,4,20,{"$f":"'Конвертация цен'!H25","v":{"v":2186,"d":"2186.00"}},{"$f":"I35-I35*Оглавление!$K$13","v":{"v":2186,"d":"2,186.00"}},null,{"v":0,"d":"0.00"}]
[null,"GK 559 12","Кран шаровой (ручка-бабочка), внутренняя-американка",null,"1/2\"",253,1,50,{"$f":"'Конвертация цен'!H26","v":{"v":718,"d":"718.00"}},{"$f":"I36-I36*Оглавление!$K$13","v":{"v":718,"d":"718.00"}},null,{"v":0,"d":"0.00"}]
[null,"GK 559 34",null,null,"3/4\"",405,1,25,{"$f":"'Конвертация цен'!H27","v":{"v":1104,"d":"1104.00"}},{"$f":"I37-I37*Оглавление!$K$13","v":{"v":1104,"d":"1,104.00"}},null,{"v":0,"d":"0.00"}]
[null,"GK 559 1",null,null,"1\"",592,1,20,{"$f":"'Конвертация цен'!H28","v":{"v":1739.9999999999998,"d":"1740.00"}},{"$f":"I38-I38*Оглавление!$K$13","v":{"v":1739.9999999999998,"d":"1,740.00"}},null,{"v":0,"d":"0.00"}]
[null,"GK 559 114",null,null,"1\" 1/4",835,1,20,{"$f":"'Конвертация цен'!H29","v":{"v":2624,"d":"2624.00"}},{"$f":"I39-I39*Оглавление!$K$13","v":{"v":2624,"d":"2,624.00"}},null,{"v":0,"d":"0.00"}]
[]
["ОБРАТНЫЕ КЛАПАНЫ"]
["• Корпус: латунь горячепресованная (CW617N) "]
["• Золотник, верхняя и нижняя тарелка изготовлены из нейлона (РА)"]
["• Уплотнение между тарелок нитрил бутадиеновый каучук (NBR)"]
["• Возвратная пружина из нержавеющей стали (AISI 302)"]
["• Максимальное рабочее давление : 16 бар для Ду 15-25, 10 бар для Ду 32-50"]
["• Макс. рабочая температура: 100 °C "]
["• Дифференциальное давление срабатывания 0,02 бар"]
[]
[null,"GK 30 12","Клапан обратный с латунным золотником, внутренняя-внутренняя резьба",null,"1/2\"",100,30,120,{"$f":"'Конвертация цен'!H30","v":{"v":519,"d":"519.00"}},{"$f":"I50-I50*Оглавление!$K$13","v":{"v":519,"d":"519.00"}},null,{"$f":"K50*J50","v":{"v":0,"d":"0.00"}}]
[null,"GK 30 34",null,null,"3/4\"",155,30,120,{"$f":"'Конвертация цен'!H31","v":{"v":696,"d":"696.00"}},{"$f":"I51-I51*Оглавление!$K$13","v":{"v":696,"d":"696.00"}},null,{"$f":"K51*J51","v":{"v":0,"d":"0.00"}}]
[null,"GK 30 1",null,null,"1\"",235,18,72,{"$f":"'Конвертация цен'!H32","v":{"v":976,"d":"976.00"}},{"$f":"I52-I52*Оглавление!$K$13","v":{"v":976,"d":"976.00"}},null,{"$f":"K52*J52","v":{"v":0,"d":"0.00"}}]
[null,"GK 30 114",null,null,"1 1/4\"",386,14,42,{"$f":"'Конвертация цен'!H33","v":{"v":1453,"d":"1453.00"}},{"$f":"I53-I53*Оглавление!$K$13","v":{"v":1453,"d":"1,453.00"}},null,{"v":0,"d":"0.00"}]
[null,"GK 30 112",null,null,"1 1/2\"",524,12,24,{"$f":"'Конвертация цен'!H34","v":{"v":1898,"d":"1898.00"}},{"$f":"I54-I54*Оглавление!$K$13","v":{"v":1898,"d":"1,898.00"}},null,{"$f":"K54*J54","v":{"v":0,"d":"0.00"}}]
[null,"GK 30 2",null,null,"2\"",740,10,20,{"$f":"'Конвертация цен'!H35","v":{"v":2868,"d":"2868.00"}},{"$f":"I55-I55*Оглавление!$K$13","v":{"v":2868,"d":"2,868.00"}},null,{"$f":"K55*J55","v":{"v":0,"d":"0.00"}}]
[]
["СЕТЧАТЫЕ ФИЛЬТРЫ ТОНКОЙ ОЧИСТКИ"]
["• Корпус и заглушка: латунь горячепресованная (CW617N) "]
["• Уплотнение заглушки фторопласт (PTFE)"]
["• Фильтрующий элемент из нержавеющей стали (AISI 304)"]
["• Максимальное рабочее давление : 16 бар "]
["• Макс. рабочая температура: 110 °C "]
["• Размер ячейки фильтрующего элемента 0,5 мм"]
[]
[null,"GK 44N 12","Фильтр тонкой механической очистки косой, сетка 500 мкм, внутренняя-внутренняя резьба",null,"1/2\"",130,20,180,{"$f":"'Конвертация цен'!H36","v":{"v":575,"d":"575.00"}},{"$f":"I65-I65*Оглавление!K13","v":{"v":575,"d":"575.00"}},null,{"$f":"K65*J65","v":{"v":0,"d":"0.00"}}]
[null,"GK 44N 34",null,null,"3/4\"",190,20,120,{"$f":"'Конвертация цен'!H37","v":{"v":899,"d":"899.00"}},{"$f":"I66-I66*Оглавление!K14","v":{"v":899,"d":"899.00"}},null,{"$f":"K66*J66","v":{"v":0,"d":"0.00"}}]
[null,"GK 44N 1",null,null,"1\"",280,15,90,{"$f":"'Конвертация цен'!H38","v":{"v":1116,"d":"1116.00"}},{"$f":"I67-I67*Оглавление!K15","v":{"v":1116,"d":"1,116.00"}},null,{"v":0,"d":"0.00"}]
[null,"GK 44N 114",null,null,"1 1/4\"",540,6,36,{"$f":"'Конвертация цен'!H39","v":{"v":2159,"d":"2159.00"}},{"$f":"I68-I68*Оглавление!$K$13","v":{"v":2159,"d":"2,159.00"}},null,{"v":0,"d":"0.00"}]
[null,"GK 44N 112",null,null,"1 1/2\"",650,2,24,{"$f":"'Конвертация цен'!H40","v":{"v":3240,"d":"3240.00"}},{"$f":"I69-I69*Оглавление!K16","v":{"v":3240,"d":"3,240.00"}},null,{"v":0,"d":"0.00"}]
[null,"GK 44N 2",null,null,"2\"",1158,2,12,{"$f":"'Конвертация цен'!H41","v":{"v":5374,"d":"5374.00"}},{"$f":"I70-I70*Оглавление!K17","v":{"v":5374,"d":"5,374.00"}},null,{"v":0,"d":"0.00"}]

{"sheet":"Трубы","index":2,"n_rows":38,"n_cols":11,"rows_kept":38,"merged":[[3,0,3,8],[7,10,7,12],[8,8,8,10],[12,0,12,7],[12,9,12,10],[13,0,14,0],[13,1,14,1],[13,2,14,2],[13,9,14,9],[13,10,14,10],[15,0,23,0],[28,0,29,0],[28,1,29,1],[28,2,29,2],[28,5,28,6],[28,9,29,9],[28,10,29,10],[29,5,29,6],[30,0,33,0],[30,5,30,6],[31,5,31,6],[32,5,32,6],[33,5,33,6],[34,0,37,0],[34,5,34,6],[35,5,35,6],[36,5,36,6],[37,5,37,6]]}
[]
[]
[]
["Трубы, Защитные гофротрубы"]
[]
["ТРУБА GEKON TRITHERM УНИВЕРСАЛЬНАЯ PE-Xa/EVOH "]
["• Материал: сшитый полиэтилен, способ сшивки - пероксидный (PE-Xa)"]
["• Наружный кислородозащитный барьер EVOH,  кислородопроницаемость не более 0,1 г/м3 в сутки"]
["• Рабочая температура от -20 до +95⁰C",{"$nulls":7},"На главную страницу"]
["• Максимальный кратковременный нагрев +110⁰C"]
["• Номинальное рабочее давление 6 бар, 10 бар"]
["• Страна производства: Россия"]
[{"$nulls":8},"Итого:",{"$f":"SUM(K16:K24)+SUM(K31:K38)","v":{"v":60.4,"d":"60.40"}}]
["Фото","Артикул","Наименование товара","Диаметр","Толщина стенки","PN","Упаковка","Цена за метр","Цена за метр со скидкой","Кол-во, м.","Сумма со скидкой, RUB"]
[{"$nulls":3},"мм","мм","бар","м","RUB","RUB"]
[null,"GK 71640006","Труба Gekon TRITHERM универсальная PE-Xa/EVOH 16х2,0, бухта 400 м",16,2,6,400,{"$f":"'Конвертация цен'!H45","v":{"v":109.5,"d":"109.50"}},{"$f":"H16-H16*Оглавление!$K$14","v":{"v":109.5,"d":"109.50"}},null,{"$f":"J16*I16","v":{"v":0,"d":"0.00"}}]
[null,"GK 71630006","Труба Gekon TRITHERM универсальная PE-Xa/EVOH 16х2,0, бухта 300 м",16,2,6,300,{"$f":"'Конвертация цен'!H46","v":{"v":109.5,"d":"109.50"}},{"$f":"H17-H17*Оглавление!$K$14","v":{"v":109.5,"d":"109.50"}},null,{"$f":"J17*I17","v":{"v":0,"d":"0.00"}}]
[null,"GK 71620006","Труба Gekon TRITHERM универсальная PE-Xa/EVOH 16х2,0, бухта 200 м",16,2,6,200,{"$f":"'Конвертация цен'!H47","v":{"v":109.5,"d":"109.50"}},{"$f":"H18-H18*Оглавление!$K$14","v":{"v":109.5,"d":"109.50"}},null,{"v":0,"d":"0.00"}]
[null,"GK 71620010","Труба Gekon TRITHERM универсальная PE-Xa/EVOH 16х2,2, бухта 200 м",16,2.2,10,200,{"$f":"'Конвертация цен'!H48","v":{"v":116,"d":"116.00"}},{"$f":"H19-H19*Оглавление!$K$14","v":{"v":116,"d":"116.00"}},null,{"v":0,"d":"0.00"}]
[null,"GK 71610010","Труба Gekon TRITHERM универсальная PE-Xa/EVOH 16х2,2, бухта 100 м",16,2.2,10,100,{"$f":"'Конвертация цен'!H49","v":{"v":116,"d":"116.00"}},{"$f":"H20-H20*Оглавление!$K$14","v":{"v":116,"d":"116.00"}},null,{"v":0,"d":"0.00"}]
[null,"GK 72020006","Труба Gekon TRITHERM универсальная PE-Xa/EVOH 20х2,0, бухта 200 м",20,2,6,200,{"$f":"'Конвертация цен'!H50","v":161.55},{"$f":"H21-H21*Оглавление!$K$14","v":161.55},null,{"$f":"J21*I21","v":{"v":0,"d":"0.00"}}]
[null,"GK 72010010","Труба Gekon TRITHERM универсальная PE-Xa/EVOH 20х2,8, бухта 100 м",20,2.8,10,100,{"$f":"'Конвертация цен'!H51","v":{"v":175.7,"d":"175.70"}},{"$f":"H22-H22*Оглавление!$K$14","v":{"v":175.7,"d":"175.70"}},null,{"v":0,"d":"0.00"}]
[null,"GK 72505010","Труба Gekon TRITHERM универсальная PE-Xa/EVOH 25х3,5, бухта 50 м",25,3.5,10,50,{"$f":"'Конвертация цен'!H52","v":{"v":301,"d":"301.00"}},{"$f":"H23-H23*Оглавление!$K$14","v":{"v":301,"d":"301.00"}},null,{"v":0,"d":"0.00"}]
[null,"GK 73205010","Труба Gekon TRITHERM универсальная PE-Xa/EVOH 32х4,4, бухта 50 м",32,4.4,10,50,{"$f":"'Конвертация цен'!H53","v":{"v":488,"d":"488.00"}},{"$f":"H24-H24*Оглавление!$K$14","v":{"v":488,"d":"488.00"}},null,{"v":0,"d":"0.00"}]
[]
["ТРУБА ГОФРИРОВАННАЯ ПНД"]
["• Для механической защиты полимерных труб"]
[]
["Фото","Артикул","Наименование товара","Наружный диаметр","Внутренний диаметр","Упаковка",null,"Цена за метр","Цена за метр со скидкой","Кол-во, м.","Сумма со скидкой, RUB"]
[{"$nulls":3},"мм","мм","м",null,"RUB","RUB"]
[null,"GK 716050R","Труба гофрированная ПНД для 16-й полимерной трубы, красная, бухта 50 метров",21,18.3,50,null,{"$f":"'Конвертация цен'!H54","v":{"v":27.5,"d":"27.50"}},{"$f":"H31-H31*Оглавление!$K$14","v":{"v":27.5,"d":"27.50"}},null,{"$f":"I31*J31","v":{"v":0,"d":"0.00"}}]
[null,"GK 720050R","Труба гофрированная ПНД для 20-й полимерной трубы, красная, бухта 50 метров",25,21.8,50,50,{"$f":"'Конвертация цен'!H55","v":{"v":35.5,"d":"35.50"}},{"$f":"H32-H32*Оглавление!$K$14","v":{"v":35.5,"d":"35.50"}},null,{"$f":"I32*J32","v":{"v":0,"d":"0.00"}}]
[null,"GK 725030R","Труба гофрированная ПНД для 25-й полимерной трубы, красная, бухта 30 метров",32,27,30,30,{"$f":"'Конвертация цен'!H56","v":{"v":46.3,"d":"46.30"}},{"$f":"H33-H33*Оглавление!$K$14","v":{"v":46.3,"d":"46.30"}},null,{"v":0,"d":"0.00"}]
[null,"GK 732030R","Труба гофрированная ПНД для 32-й полимерной трубы, красная, бухта 30 метров",40,35,30,30,{"$f":"'Конвертация цен'!H57","v":{"v":60.4,"d":"60.40"}},{"$f":"H34-H34*Оглавление!$K$14","v":{"v":60.4,"d":"60.40"}},null,{"v":0,"d":"0.00"}]
[null,"GK 716050B","Труба гофрированная ПНД для 16-й полимерной трубы, синяя, бухта 50 метров",21,18.3,50,null,{"$f":"'Конвертация цен'!H58","v":{"v":27.5,"d":"27.50"}},{"$f":"H35-H35*Оглавление!$K$14","v":{"v":27.5,"d":"27.50"}},null,{"v":0,"d":"0.00"}]
[null,"GK 720050B","Труба гофрированная ПНД для 20-й полимерной трубы, синяя, бухта 50 метров",25,21.8,50,50,{"$f":"'Конвертация цен'!H59","v":{"v":35.5,"d":"35.50"}},{"$f":"H36-H36*Оглавление!$K$14","v":{"v":35.5,"d":"35.50"}},null,{"v":0,"d":"0.00"}]
[null,"GK 725030B","Труба гофрированная ПНД для 25-й полимерной трубы, синяя, бухта 30 метров",32,27,30,30,{"$f":"'Конвертация цен'!H60","v":{"v":46.3,"d":"46.30"}},{"$f":"H37-H37*Оглавление!$K$14","v":{"v":46.3,"d":"46.30"}},null,{"v":0,"d":"0.00"}]
[null,"GK 732030B","Труба гофрированная ПНД для 32-й полимерной трубы, синяя, бухта 30 метров",40,35,30,30,{"$f":"'Конвертация цен'!H61","v":{"v":60.4,"d":"60.40"}},{"$f":"H38-H38*Оглавление!$K$14","v":{"v":60.4,"d":"60.40"}},{"v":1,"d":"1.00"},{"v":60.4,"d":"60.40"}]

{"sheet":"Аксиальные фитинги","index":3,"n_rows":102,"n_cols":11,"rows_kept":102,"merged":[[3,0,3,7],[6,8,6,10],[10,9,10,10],[11,0,12,0],[11,1,12,1],[11,2,12,3],[11,4,12,4],[11,5,12,5],[11,6,12,6],[11,8,12,8],[11,9,12,9],[11,10,12,10],[13,0,16,0],[13,2,13,3],[14,2,14,3],[15,2,15,3],[16,2,16,3],[17,0,20,0],[17,2,17,3],[18,2,18,3],[19,2,19,3],[20,2,20,3],[21,0,25,0],[21,2,21,3],[22,2,22,3],[23,2,23,3],[24,2,24,3],[25,2,25,3],[26,0,34,0],[26,2,26,3],[27,2,27,3],[28,2,28,3],[29,2,29,3],[30,2,30,3],[31,2,31,3],[32,2,32,3],[33,2,33,3],[34,2,34,3],[35,0,41,0],[35,2,35,3],[36,2,36,3],[37,2,37,3],[38,2,38,3],[39,2,39,3],[40,2,40,3],[41,2,41,3],[42,0,45,0],[42,2,42,3],[43,2,43,3],[44,2,44,3],[45,2,45,3],[46,0,52,0],[46,2,46,3],[47,2,47,3],[48,2,48,3],[49,2,49,3],[50,2,50,3],[51,2,51,3],[52,2,52,3],[53,0,59,0],[53,2,53,3],[54,2,54,3],[55,2,55,3],[56,2,56,3],[57,2,57,3],[58,2,58,3],[59,2,59,3],[60,0,63,0],[60,2,60,3],[61,2,61,3],[62,2,62,3],[63,2,63,3],[64,0,81,0],[64,2,64,3],[65,2,65,3],[66,2,66,3],[67,2,67,3],[68,2,68,3],[69,2,69,3],[70,2,70,3],[71,2,71,3],[72,2,72,3],[73,2,73,3],[74,2,74,3],[75,2,75,3],[76,2,76,3],[77,2,77,3],[78,2,78,3],[79,2,79,3],[80,2,80,3],[81,2,81,3],[82,2,82,3],[83,2,83,3],[84,0,88,0],[84,2,84,3],[85,2,85,3],[86,2,86,3],[87,2,87,3],[88,2,88,3],[89,0,90,0],[89,2,89,3],[90,2,90,3],[91,0,92,0],[91,2,91,3],[92,2,92,3],[93,0,95,0],[93,2,93,3],[94,2,94,3],[95,2,95,3],[96,0,98,0],[96,2,96,3],[97,2,97,3],[98,2,98,3],[99,0,100,0],[99,2,99,3],[100,2,100,3],[101,2,101,3]]}
[]
[]
[]
["Фитинги для аксиальной запресовки"]
[]
["• Материал: фитинги - латунь ЛС 59-1, монтажная гильза - ПВДФ (PVDF)"]
["• Номинальное рабочее давление: 10 бар ",{"$nulls":7},"На главную страницу"]
["• Макс. рабочая температура: 95⁰C"]
["• Фитинги аксиальной заперсовки Gekon соответствуют ГОСТ 32415-2013"]
["• Фитинги аксиальной запрессовки относят к неразъёмным соединениям, что позволяет использовать их для\nскрытой прокладки систем (заливки в бетон)"]
[{"$nulls":8},"Итого:",{"$f":"SUM(K14:K102)","v":{"v":0,"d":"0.00"}}]
["Фото","Артикул","Наименование товара",null,"Размер","Упаковка, шт.","Коробка, шт.","Цена за шт.","Цена со скидкой, RUB","Кол-во, шт.","Сумма со скидкой, RUB"]
[{"$nulls":7},"RUB"]
[null,"GK 7GX001000016","Кольцо монтажное GX 16",null,16,20,300,{"$f":"'Конвертация цен'!H65","v":{"v":35,"d":"35.00"}},{"$f":"H14-H14*Оглавление!$K$15","v":{"v":35,"d":"35.00"}},null,{"$f":"J14*I14","v":{"v":0,"d":"0.00"}}]
[null,"GK 7GX001000020","Кольцо монтажное GX 20",null,20,20,300,{"$f":"'Конвертация цен'!H66","v":{"v":40,"d":"40.00"}},{"$f":"H15-H15*Оглавление!$K$15","v":{"v":40,"d":"40.00"}},null,{"$f":"J15*I15","v":{"v":0,"d":"0.00"}}]
[null,"GK 7GX001000025","Кольцо монтажное GX 25",null,25,20,200,{"$f":"'Конвертация цен'!H67","v":{"v":67,"d":"67.00"}},{"$f":"H16-H16*Оглавление!$K$15","v":{"v":67,"d":"67.00"}},null,{"v":0,"d":"0.00"}]
[null,"GK 7GX001000032","Кольцо монтажное GX 32",null,32,5,100,{"$f":"'Конвертация цен'!H68","v":{"v":109.00000000000001,"d":"109.00"}},{"$f":"H17-H17*Оглавление!$K$15","v":{"v":109.00000000000001,"d":"109.00"}},null,{"$f":"J17*I17","v":{"v":0,"d":"0.00"}}]
[null,"GK 7GX002001616","Прямой фитинг GX 16x16",null,"16x16",10,250,{"$f":"'Конвертация цен'!H69","v":{"v":167,"d":"167.00"}},{"$f":"H18-H18*Оглавление!$K$15","v":{"v":167,"d":"167.00"}},null,{"$f":"J18*I18","v":{"v":0,"d":"0.00"}}]
[null,"GK 7GX002002020","Прямой фитинг GX 20x20",null,"20x20",10,250,{"$f":"'Конвертация цен'!H70","v":{"v":315,"d":"315.00"}},{"$f":"H19-H19*Оглавление!$K$15","v":{"v":315,"d":"315.00"}},null,{"v":0,"d":"0.00"}]
[null,"GK 7GX002002525","Прямой фитинг GX 25x25",null,"25x25",10,100,{"$f":"'Конвертация цен'!H71","v":{"v":447,"d":"447.00"}},{"$f":"H20-H20*Оглавление!$K$15","v":{"v":447,"d":"447.00"}},null,{"v":0,"d":"0.00"}]
[null,"GK 7GX002003232","Прямой фитинг GX 32x32",null,"32x32",5,100,{"$f":"'Конвертация цен'!H72","v":{"v":1087,"d":"1087.00"}},{"$f":"H21-H21*Оглавление!$K$15","v":{"v":1087,"d":"1,087.00"}},null,{"v":0,"d":"0.00"}]
[null,"GK 7GX002002016","Прямой переходный фитинг GX 20x16",null,"20x16",10,250,{"$f":"'Конвертация цен'!H74","v":{"v":264,"d":"264.00"}},{"$f":"H22-H22*Оглавление!$K$15","v":{"v":264,"d":"264.00"}},null,{"v":0,"d":"0.00"}]
[null,"GK 7GX002002516","Прямой переходный фитинг GX 25x16",null,"25x16",10,100,{"$f":"'Конвертация цен'!H75","v":{"v":415.00000000000006,"d":"415.00"}},{"$f":"H23-H23*Оглавление!$K$15","v":{"v":415.00000000000006,"d":"415.00"}},null,{"v":0,"d":"0.00"}]
[null,"GK 7GX002002520","Прямой переходный фитинг GX 25x20",null,"25x20",10,100,{"$f":"'Конвертация цен'!H76","v":{"v":415.00000000000006,"d":"415.00"}},{"$f":"H24-H24*Оглавление!$K$15","v":{"v":415.00000000000006,"d":"415.00"}},null,{"v":0,"d":"0.00"}]
[null,"GK 7GX002003220","Прямой переходный фитинг GX 32x20",null,"32x20",5,100,{"$f":"'Конвертация цен'!H77","v":{"v":1411,"d":"1411.00"}},{"$f":"H25-H25*Оглавление!$K$15","v":{"v":1411,"d":"1,411.00"}},null,{"v":0,"d":"0.00"}]
[null,"GK 7GX002003225","Прямой переходный фитинг GX 32x25",null,"32x25",5,100,{"$f":"'Конвертация цен'!H78","v":{"v":1104,"d":"1104.00"}},{"$f":"H26-H26*Оглавление!$K$15","v":{"v":1104,"d":"1,104.00"}},null,{"v":0,"d":"0.00"}]
[null,"GK 7GX005001612","Прямой фитинг GX с наружной резьбой 16x1/2\"M",null,"16x1/2\"M",10,250,{"$f":"'Конвертация цен'!H81","v":{"v":191,"d":"191.00"}},{"$f":"H27-H27*Оглавление!$K$15","v":{"v":191,"d":"191.00"}},null,{"v":0,"d":"0.00"}]
[null,"GK 7GX005002012","Прямой фитинг GX с наружной резьбой 20x1/2\"M",null,"20x1/2\"M",10,250,{"$f":"'Конвертация цен'!H82","v":{"v":242,"d":"242.00"}},{"$f":"H28-H28*Оглавление!$K$15","v":{"v":242,"d":"242.00"}},null,{"v":0,"d":"0.00"}]
[null,"GK 7GX005002512","Прямой фитинг GX с наружной резьбой 25x1/2\"M",null,"25x1/2\"M",10,250,{"$f":"'Конвертация цен'!H83","v":{"v":367,"d":"367.00"}},{"$f":"H29-H29*Оглавление!$K$15","v":{"v":367,"d":"367.00"}},null,{"v":0,"d":"0.00"}]
[null,"GK 7GX005001634","Прямой фитинг GX с наружной резьбой 16x3/4\"M",null,"16x3/4\"M",10,250,{"$f":"'Конвертация цен'!H84","v":{"v":305,"d":"305.00"}},{"$f":"H30-H30*Оглавление!$K$15","v":{"v":305,"d":"305.00"}},null,{"v":0,"d":"0.00"}]
[null,"GK 7GX005002034","Прямой фитинг GX с наружной резьбой 20x3/4\"M",null,"20x3/4\"M",10,250,{"$f":"'Конвертация цен'!H85","v":{"v":333,"d":"333.00"}},{"$f":"H31-H31*Оглавление!$K$15","v":{"v":333,"d":"333.00"}},null,{"v":0,"d":"0.00"}]
[null,"GK 7GX005002534","Прямой фитинг GX с наружной резьбой 25x3/4\"M",null,"25x3/4\"M",10,250,{"$f":"'Конвертация цен'!H86","v":{"v":356,"d":"356.00"}},{"$f":"H32-H32*Оглавление!$K$15","v":{"v":356,"d":"356.00"}},null,{"v":0,"d":"0.00"}]
[null,"GK 7GX005002010","Прямой фитинг GX с наружной резьбой 20x1\"M",null,"20x1\"M",5,100,{"$f":"'Конвертация цен'!H87","v":{"v":484,"d":"484.00"}},{"$f":"H33-H33*Оглавление!$K$15","v":{"v":484,"d":"484.00"}},null,{"v":0,"d":"0.00"}]
[null,"GK 7GX005002510","Прямой фитинг GX с наружной резьбой 25x1\"M",null,"25x1\"M",5,100,{"$f":"'Конвертация цен'!H88","v":{"v":560,"d":"560.00"}},{"$f":"H34-H34*Оглавление!$K$15","v":{"v":560,"d":"560.00"}},null,{"v":0,"d":"0.00"}]
[null,"GK 7GX005003210","Прямой фитинг GX с наружной резьбой 32x1\"M",null,"32x1\"M",5,100,{"$f":"'Конвертация цен'!H89","v":{"v":977.9999999999999,"d":"978.00"}},{"$f":"H35-H35*Оглавление!$K$15","v":{"v":977.9999999999999,"d":"978.00"}},null,{"v":0,"d":"0.00"}]
[null,"GK 7GX006001612","Прямой фитинг GX с внутренней резьбой 16x1/2\"F",null,"16x1/2\"F",10,250,{"$f":"'Конвертация цен'!H92","v":{"v":338,"d":"338.00"}},{"$f":"H36-H36*Оглавление!$K$15","v":{"v":338,"d":"338.00"}},null,{"v":0,"d":"0.00"}]
[null,"GK 7GX006002012","Прямой фитинг GX с внутренней резьбой 20x1/2\"F",null,"20x1/2\"F",10,250,{"$f":"'Конвертация цен'!H93","v":{"v":365,"d":"365.00"}},{"$f":"H37-H37*Оглавление!$K$15","v":{"v":365,"d":"365.00"}},null,{"v":0,"d":"0.00"}]
[null,"GK 7GX006001634","Прямой фитинг GX с внутренней резьбой 16x3/4\"F",null,"16x3/4\"F",10,250,{"$f":"'Конвертация цен'!H94","v":{"v":400,"d":"400.00"}},{"$f":"H38-H38*Оглавление!$K$15","v":{"v":400,"d":"400.00"}},null,{"v":0,"d":"0.00"}]
[null,"GK 7GX006002034","Прямой фитинг GX с внутренней резьбой 20x3/4\"F",null,"20x3/4\"F",10,250,{"$f":"'Конвертация цен'!H95","v":{"v":535,"d":"535.00"}},{"$f":"H39-H39*Оглавление!$K$15","v":{"v":535,"d":"535.00"}},null,{"v":0,"d":"0.00"}]
[null,"GK 7GX006002534","Прямой фитинг GX с внутренней резьбой 25x3/4\"F",null,"25x3/4\"F",10,100,{"$f":"'Конвертация цен'!H96","v":{"v":584,"d":"584.00"}},{"$f":"H40-H40*Оглавление!$K$15","v":{"v":584,"d":"584.00"}},null,{"v":0,"d":"0.00"}]
[null,"GK 7GX006002510","Прямой фитинг GX с внутренней резьбой 25x1\"F",null,"25x1\"F",5,100,{"$f":"'Конвертация цен'!H97","v":{"v":798,"d":"798.00"}},{"$f":"H41-H41*Оглавление!$K$15","v":{"v":798,"d":"798.00"}},null,{"v":0,"d":"0.00"}]
[null,"GK 7GX006003210","Прямой фитинг GX с внутренней резьбой 32x1\"F",null,"32x1\"F",5,100,{"$f":"'Конвертация цен'!H98","v":{"v":1496,"d":"1496.00"}},{"$f":"H42-H42*Оглавление!$K$15","v":{"v":1496,"d":"1,496.00"}},null,{"v":0,"d":"0.00"}]
[null,"GK 7GX003001616","Угольник 90° GX 16x16",null,"16x16",10,250,{"$f":"'Конвертация цен'!H101","v":{"v":260,"d":"260.00"}},{"$f":"H43-H43*Оглавление!$K$15","v":{"v":260,"d":"260.00"}},null,{"v":0,"d":"0.00"}]
[null,"GK 7GX003002020","Угольник 90° GX 20x20",null,"20x20",10,100,{"$f":"'Конвертация цен'!H102","v":{"v":384,"d":"384.00"}},{"$f":"H44-H44*Оглавление!$K$15","v":{"v":384,"d":"384.00"}},null,{"v":0,"d":"0.00"}]
[null,"GK 7GX003002525","Угольник 90° GX 25x25",null,"25x25",5,50,{"$f":"'Конвертация цен'!H103","v":{"v":560,"d":"560.00"}},{"$f":"H45-H45*Оглавление!$K$15","v":{"v":560,"d":"560.00"}},null,{"v":0,"d":"0.00"}]
[null,"GK 7GX003003232","Угольник 90° GX 32x32",null,"32x32",5,50,{"$f":"'Конвертация цен'!H104","v":{"v":1155,"d":"1155.00"}},{"$f":"H46-H46*Оглавление!$K$15","v":{"v":1155,"d":"1,155.00"}},null,{"v":0,"d":"0.00"}]
[null,"GK 7GX009001612","Угольник 90° GX с наружной резьбой",null,"16x1/2\"M",10,150,{"$f":"'Конвертация цен'!H106","v":{"v":325,"d":"325.00"}},{"$f":"H47-H47*Оглавление!$K$15","v":{"v":325,"d":"325.00"}},null,{"v":0,"d":"0.00"}]
[null,"GK 7GX009002012","Угольник 90° GX с наружной резьбой",null,"20x1/2\"M",10,150,{"$f":"'Конвертация цен'!H107","v":{"v":438,"d":"438.00"}},{"$f":"H48-H48*Оглавление!$K$15","v":{"v":438,"d":"438.00"}},null,{"v":0,"d":"0.00"}]
[null,"GK 7GX009001634","Угольник 90° GX с наружной резьбой",null,"16x3/4\"M",10,50,{"$f":"'Конвертация цен'!H108","v":{"v":467,"d":"467.00"}},{"$f":"H49-H49*Оглавление!$K$15","v":{"v":467,"d":"467.00"}},null,{"v":0,"d":"0.00"}]
[null,"GK 7GX009002034","Угольник 90° GX с наружной резьбой",null,"20x3/4\"M",10,50,{"$f":"'Конвертация цен'!H110","v":{"v":567,"d":"567.00"}},{"$f":"H50-H50*Оглавление!$K$15","v":{"v":567,"d":"567.00"}},null,{"v":0,"d":"0.00"}]
[null,"GK 7GX009002534","Угольник 90° GX с наружной резьбой",null,"25x3/4\"M",10,50,{"$f":"'Конвертация цен'!H109","v":{"v":789,"d":"789.00"}},{"$f":"H51-H51*Оглавление!$K$15","v":{"v":789,"d":"789.00"}},null,{"v":0,"d":"0.00"}]
[null,"GK 7GX009002510","Угольник 90° GX с наружной резьбой",null,"25x1\"M",5,50,{"$f":"'Конвертация цен'!H111","v":{"v":919.9999999999999,"d":"920.00"}},{"$f":"H52-H52*Оглавление!$K$15","v":{"v":919.9999999999999,"d":"920.00"}},null,{"v":0,"d":"0.00"}]
[null,"GK 7GX009003210","Угольник 90° GX с наружной резьбой",null,"32x1\"M",5,50,{"$f":"'Конвертация цен'!H112","v":{"v":1496,"d":"1496.00"}},{"$f":"H53-H53*Оглавление!$K$15","v":{"v":1496,"d":"1,496.00"}},null,{"v":0,"d":"0.00"}]
[null,"GK 7GX010001612","Угольник 90° GX с внутренней резьбой",null,"16x1/2\"F",10,150,{"$f":"'Конвертация цен'!H113","v":{"v":347,"d":"347.00"}},{"$f":"H54-H54*Оглавление!$K$15","v":{"v":347,"d":"347.00"}},null,{"v":0,"d":"0.00"}]
[null,"GK 7GX010002012","Угольник 90° GX с внутренней резьбой",null,"20x1/2\"F",10,150,{"$f":"'Конвертация цен'!H114","v":{"v":445,"d":"445.00"}},{"$f":"H55-H55*Оглавление!$K$15","v":{"v":445,"d":"445.00"}},null,{"v":0,"d":"0.00"}]
[null,"GK 7GX010001634","Угольник 90° GX с внутренней резьбой",null,"16x3/4\"F",10,50,{"$f":"'Конвертация цен'!H115","v":{"v":529,"d":"529.00"}},{"$f":"H56-H56*Оглавление!$K$15","v":{"v":529,"d":"529.00"}},null,{"v":0,"d":"0.00"}]
[null,"GK 7GX010002034","Угольник 90° GX с внутренней резьбой",null,"20x3/4\"F",10,50,{"$f":"'Конвертация цен'!H116","v":{"v":536,"d":"536.00"}},{"$f":"H57-H57*Оглавление!$K$15","v":{"v":536,"d":"536.00"}},null,{"v":0,"d":"0.00"}]
[null,"GK 7GX010002534","Угольник 90° GX с внутренней резьбой",null,"25x3/4\"F",10,50,{"$f":"'Конвертация цен'!H117","v":{"v":640,"d":"640.00"}},{"$f":"H58-H58*Оглавление!$K$15","v":{"v":640,"d":"640.00"}},null,{"v":0,"d":"0.00"}]
[null,"GK 7GX010002510","Угольник 90° GX с внутренней резьбой",null,"25x1\"F",5,50,{"$f":"'Конвертация цен'!H118","v":{"v":1162,"d":"1162.00"}},{"$f":"H59-H59*Оглавление!$K$15","v":{"v":1162,"d":"1,162.00"}},null,{"v":0,"d":"0.00"}]
[null,"GK 7GX010003210","Угольник 90° GX с внутренней резьбой",null,"32x1\"F",5,50,{"$f":"'Конвертация цен'!H119","v":{"v":1960.0000000000002,"d":"1960.00"}},{"$f":"H60-H60*Оглавление!$K$15","v":{"v":1960.0000000000002,"d":"1,960.00"}},null,{"v":0,"d":"0.00"}]
[null,"GK 7GX004161616","Тройник соединительный GX 16х16х16",null,"16x16x16",10,100,{"$f":"'Конвертация цен'!H120","v":{"v":333,"d":"333.00"}},{"$f":"H61-H61*Оглавление!$K$15","v":{"v":333,"d":"333.00"}},null,{"v":0,"d":"0.00"}]
[null,"GK 7GX004202020","Тройник соединительный GX 20х20х20",null,"20x20x20",5,100,{"$f":"'Конвертация цен'!H121","v":{"v":501.99999999999994,"d":"502.00"}},{"$f":"H62-H62*Оглавление!$K$15","v":{"v":501.99999999999994,"d":"502.00"}},null,{"v":0,"d":"0.00"}]
[null,"GK 7GX004252525","Тройник соединительный GX 25х25х25",null,"25x25x25",5,50,{"$f":"'Конвертация цен'!H122","v":{"v":751,"d":"751.00"}},{"$f":"H63-H63*Оглавление!$K$15","v":{"v":751,"d":"751.00"}},null,{"v":0,"d":"0.00"}]
[null,"GK 7GX004323232","Тройник соединительный GX 32х32х32",null,"32x32x32",5,40,{"$f":"'Конвертация цен'!H123","v":{"v":1524,"d":"1524.00"}},{"$f":"H64-H64*Оглавление!$K$15","v":{"v":1524,"d":"1,524.00"}},null,{"v":0,"d":"0.00"}]
[null,"GK 7GX004162016","Тройник переходной GX 16х20х16",null,"16x20x16",10,100,{"$f":"'Конвертация цен'!H125","v":{"v":473.00000000000006,"d":"473.00"}},{"$f":"H65-H65*Оглавление!$K$15","v":{"v":473.00000000000006,"d":"473.00"}},null,{"v":0,"d":"0.00"}]
[null,"GK 7GX004201616","Тройник переходной GX 20х16х16",null,"20x16X16",10,100,{"$f":"'Конвертация цен'!H126","v":{"v":473.00000000000006,"d":"473.00"}},{"$f":"H66-H66*Оглавление!$K$15","v":{"v":473.00000000000006,"d":"473.00"}},null,{"v":0,"d":"0.00"}]
[null,"GK 7GX004201620","Тройник переходной GX 20х16х20",null,"20x16x20",10,100,{"$f":"'Конвертация цен'!H127","v":{"v":516,"d":"516.00"}},{"$f":"H67-H67*Оглавление!$K$15","v":{"v":516,"d":"516.00"}},null,{"v":0,"d":"0.00"}]
[null,"GK 7GX004202016","Тройник переходной GX 20х20х16",null,"20x20x16",10,100,{"$f":"'Конвертация цен'!H128","v":{"v":545,"d":"545.00"}},{"$f":"H68-H68*Оглавление!$K$15","v":{"v":545,"d":"545.00"}},null,{"v":0,"d":"0.00"}]
[null,"GK 7GX004202520","Тройник переходной GX 20х25х20",null,"20x25x20",10,100,{"$f":"'Конвертация цен'!H129","v":{"v":740,"d":"740.00"}},{"$f":"H69-H69*Оглавление!$K$15","v":{"v":740,"d":"740.00"}},null,{"v":0,"d":"0.00"}]
[null,"GK 7GX004251616","Тройник переходной GX 25х16х16",null,"25x16x16",5,100,{"$f":"'Конвертация цен'!H130","v":{"v":589,"d":"589.00"}},{"$f":"H70-H70*Оглавление!$K$15","v":{"v":589,"d":"589.00"}},null,{"v":0,"d":"0.00"}]
[null,"GK 7GX004251620","Тройник переходной GX 25х16х20",null,"25x16x20",5,100,{"$f":"'Конвертация цен'!H131","v":{"v":711,"d":"711.00"}},{"$f":"H71-H71*Оглавление!$K$15","v":{"v":711,"d":"711.00"}},null,{"v":0,"d":"0.00"}]
[null,"GK 7GX004251625","Тройник переходной GX 25х16х25",null,"25x16x25",5,100,{"$f":"'Конвертация цен'!H132","v":{"v":727,"d":"727.00"}},{"$f":"H72-H72*Оглавление!$K$15","v":{"v":727,"d":"727.00"}},null,{"$f":"J72*I72","v":{"v":0,"d":"0.00"}}]
[null,"GK 7GX004252020","Тройник переходной GX 25х20х20",null,"25x20x20",5,100,{"$f":"'Конвертация цен'!H133","v":{"v":735,"d":"735.00"}},{"$f":"H73-H73*Оглавление!$K$15","v":{"v":735,"d":"735.00"}},null,{"v":0,"d":"0.00"}]
[null,"GK 7GX004252025","Тройник переходной GX 25х20х25",null,"25x20x25",5,100,{"$f":"'Конвертация цен'!H134","v":{"v":805.0000000000001,"d":"805.00"}},{"$f":"H74-H74*Оглавление!$K$15","v":{"v":805.0000000000001,"d":"805.00"}},null,{"v":0,"d":"0.00"}]
[null,"GK 7GX004252520","Тройник переходной GX 25х25х20",null,"25x25x20",5,100,{"$f":"'Конвертация цен'!H135","v":{"v":864,"d":"864.00"}},{"$f":"H75-H75*Оглавление!$K$15","v":{"v":864,"d":"864.00"}},null,{"v":0,"d":"0.00"}]
[null,"GK 7GX004252516","Тройник переходной GX 25х25х16",null,"25x25x16",5,100,{"$f":"'Конвертация цен'!H136","v":{"v":864,"d":"864.00"}},{"$f":"H76-H76*Оглавление!$K$15","v":{"v":864,"d":"864.00"}},null,{"v":0,"d":"0.00"}]
[null,"GK 7GX004322020","Тройник переходной GX 32х20х20",null,"32x20x20",5,50,{"$f":"'Конвертация цен'!H137","v":{"v":1596,"d":"1596.00"}},{"$f":"H77-H77*Оглавление!$K$15","v":{"v":1596,"d":"1,596.00"}},null,{"v":0,"d":"0.00"}]
[null,"GK 7GX004322025","Тройник переходной GX 32х20х25",null,"32x20x25",5,50,{"$f":"'Конвертация цен'!H138","v":{"v":1556,"d":"1556.00"}},{"$f":"H78-H78*Оглавление!$K$15","v":{"v":1556,"d":"1,556.00"}},null,{"v":0,"d":"0.00"}]
[null,"GK 7GX004322525","Тройник переходной GX 32х25х25",null,"32x25x25",5,50,{"$f":"'Конвертация цен'!H139","v":{"v":1547,"d":"1547.00"}},{"$f":"H79-H79*Оглавление!$K$15","v":{"v":1547,"d":"1,547.00"}},null,{"v":0,"d":"0.00"}]
[null,"GK 7GX004322532","Тройник переходной GX 32х25х32",null,"32x25x32",5,50,{"$f":"'Конвертация цен'!H140","v":{"v":1575,"d":"1575.00"}},{"$f":"H80-H80*Оглавление!$K$15","v":{"v":1575,"d":"1,575.00"}},null,{"v":0,"d":"0.00"}]
[null,"GK 7GX004323220","Тройник переходной GX 32х32х20",null,"32x32x20",5,40,{"$f":"'Конвертация цен'!H141","v":{"v":1980,"d":"1980.00"}},{"$f":"H81-H81*Оглавление!$K$15","v":{"v":1980,"d":"1,980.00"}},null,{"v":0,"d":"0.00"}]
[null,"GK 7GX004323225","Тройник переходной GX 32х32х25",null,"32x32x25",5,40,{"$f":"'Конвертация цен'!H142","v":{"v":1630.9999999999998,"d":"1631.00"}},{"$f":"H82-H82*Оглавление!$K$15","v":{"v":1630.9999999999998,"d":"1,631.00"}},null,{"v":0,"d":"0.00"}]
[null,"GK 7GX016161216","Тройник с наружной резьбой GX 16x1/2\"Mx16",null,"16x1/2\"Mx16",5,100,{"$f":"'Конвертация цен'!H147","v":{"v":473.00000000000006,"d":"473.00"}},{"$f":"H83-H83*Оглавление!$K$15","v":{"v":473.00000000000006,"d":"473.00"}},null,{"v":0,"d":"0.00"}]
[null,"GK 7GX017161216","Тройник GX с внутренней резьбой",null,"16x1/2\"Fx16",5,100,{"$f":"'Конвертация цен'!H152","v":{"v":429,"d":"429.00"}},{"$f":"H84-H84*Оглавление!$K$15","v":{"v":429,"d":"429.00"}},null,{"v":0,"d":"0.00"}]
[null,"GK 7GX011001612","Угольник установочный GX с внутренней резьбой",null,"16x1/2\"F",5,50,{"$f":"'Конвертация цен'!H157","v":{"v":562,"d":"562.00"}},{"$f":"H85-H85*Оглавление!$K$15","v":{"v":562,"d":"562.00"}},null,{"v":0,"d":"0.00"}]
[null,"GK 7GX018001612","Угольник установочный GX с внутренней резьбой",null,"16x1/2\"F (45 мм)",5,50,{"$f":"'Конвертация цен'!H158","v":{"v":553,"d":"553.00"}},{"$f":"H86-H86*Оглавление!$K$15","v":{"v":553,"d":"553.00"}},null,{"v":0,"d":"0.00"}]
[null,"GK 7GX011002012","Угольник установочный GX с внутренней резьбой",null,"20x1/2\"F",5,50,{"$f":"'Конвертация цен'!H159","v":{"v":687,"d":"687.00"}},{"$f":"H87-H87*Оглавление!$K$15","v":{"v":687,"d":"687.00"}},null,{"v":0,"d":"0.00"}]
[null,"GK 7GX018002012","Угольник установочный GX с внутренней резьбой",null,"20x1/2\"F (45 мм)",5,50,{"$f":"'Конвертация цен'!H160","v":{"v":678,"d":"678.00"}},{"$f":"H88-H88*Оглавление!$K$15","v":{"v":678,"d":"678.00"}},null,{"v":0,"d":"0.00"}]
[null,"GK 7GX011002034","Угольник установочный GX с внутренней резьбой",null,"20x3/4\"F",5,50,{"$f":"'Конвертация цен'!H161","v":{"v":919.9999999999999,"d":"920.00"}},{"$f":"H89-H89*Оглавление!$K$15","v":{"v":919.9999999999999,"d":"920.00"}},null,{"v":0,"d":"0.00"}]
[null,"GK 7GX012001625","Угольник GX с хромированной трубкой (250 мм)",null,"16x15(L-250 мм)",1,50,{"$f":"'Конвертация цен'!H163","v":{"v":1053,"d":"1053.00"}},{"$f":"H90-H90*Оглавление!$K$15","v":{"v":1053,"d":"1,053.00"}},null,{"v":0,"d":"0.00"}]
[null,"GK 7GX012002025","Угольник GX с хромированной трубкой (250 мм)",null,"20x15(L-250 мм)",1,50,{"$f":"'Конвертация цен'!H164","v":{"v":1253,"d":"1253.00"}},{"$f":"H91-H91*Оглавление!$K$15","v":{"v":1253,"d":"1,253.00"}},null,{"v":0,"d":"0.00"}]
[null,"GK 7GX019001625","Тройник GX с хромированной трубкой (250 мм)",null,"16x15(L-250 мм)x16",1,50,{"$f":"'Конвертация цен'!H165","v":{"v":1453,"d":"1453.00"}},{"$f":"H92-H92*Оглавление!$K$15","v":{"v":1453,"d":"1,453.00"}},null,{"v":0,"d":"0.00"}]
[null,"GK 7GX019002025","Тройник GX с хромированной трубкой (250 мм)",null,"20x15(L-250 мм)x20",1,50,{"$f":"'Конвертация цен'!H166","v":{"v":1647,"d":"1647.00"}},{"$f":"H93-H93*Оглавление!$K$15","v":{"v":1647,"d":"1,647.00"}},null,{"v":0,"d":"0.00"}]
[null,"GK 7GX020000016","Заглушка GX 16",null,16,10,500,{"$f":"'Конвертация цен'!H167","v":{"v":125,"d":"125.00"}},{"$f":"H94-H94*Оглавление!$K$15","v":{"v":125,"d":"125.00"}},null,{"v":0,"d":"0.00"}]
[null,"GK 7GX020000020","Заглушка GX 20",null,20,10,250,{"$f":"'Конвертация цен'!H168","v":{"v":238,"d":"238.00"}},{"$f":"H95-H95*Оглавление!$K$15","v":{"v":238,"d":"238.00"}},null,{"v":0,"d":"0.00"}]
[null,"GK 7GX020000025","Заглушка GX 25",null,25,10,250,{"$f":"'Конвертация цен'!H169","v":{"v":358,"d":"358.00"}},{"$f":"H96-H96*Оглавление!$K$15","v":{"v":358,"d":"358.00"}},null,{"v":0,"d":"0.00"}]
[null,"GK 7GX008001612","Фитинг с накидной гайкой GX 1/2\"EU x 16 PEX",null,"1/2\"EUx16 PEX",10,250,{"$f":"'Конвертация цен'!H170","v":{"v":440.00000000000006,"d":"440.00"}},{"$f":"H97-H97*Оглавление!$K$15","v":{"v":440.00000000000006,"d":"440.00"}},null,{"v":0,"d":"0.00"}]
[null,"GK 7GX008001634","Фитинг с накидной гайкой GX 3/4\"EU x 16 PEX",null,"3/4\"EUx16 PEX",10,250,{"$f":"'Конвертация цен'!H171","v":{"v":385,"d":"385.00"}},{"$f":"H98-H98*Оглавление!$K$15","v":{"v":385,"d":"385.00"}},null,{"v":0,"d":"0.00"}]
[null,"GK 7GX008002034","Фитинг с накидной гайкой GX 3/4\"EU x 20 PEX",null,"3/4\"EUx20 PEX",10,250,{"$f":"'Конвертация цен'!H172","v":{"v":580,"d":"580.00"}},{"$f":"H99-H99*Оглавление!$K$15","v":{"v":580,"d":"580.00"}},null,{"v":0,"d":"0.00"}]
[null,"GK 7GX013001634","Переходник для пластиковой трубы с соединением евроконус, 3/4\"E x(16x2,2)",null,"3/4\"E x 16 PEX (16*2,2)",25,250,{"$f":"'Конвертация цен'!H173","v":{"v":347,"d":"347.00"}},{"$f":"H100-H100*Оглавление!$K$15","v":{"v":347,"d":"347.00"}},null,{"v":0,"d":"0.00"}]
[null,"GK 7GX013002034","Переходник для пластиковой трубы с соединением евроконус, 3/4\"E x(20x2,8)",null,"3/4\"E x 20 PEX (20*2,8)",25,250,{"$f":"'Конвертация цен'!H174","v":{"v":411.00000000000006,"d":"411.00"}},{"$f":"H101-H101*Оглавление!$K$15","v":{"v":411.00000000000006,"d":"411.00"}},null,{"v":0,"d":"0.00"}]
[null,"GK 7GX013001534","Переходник для медной трубы с соединением евроконус, 3/4\"E x15",null,"3/4\"E x 15",25,250,{"$f":"'Конвертация цен'!H175","v":{"v":245.00000000000003,"d":"245.00"}},{"$f":"H102-H102*Оглавление!$K$15","v":{"v":245.00000000000003,"d":"245.00"}},null,{"v":0,"d":"0.00"}]

{"sheet":"Шкафы коллекторные","index":4,"n_rows":52,"n_cols":11,"rows_kept":52,"merged":[[3,0,3,7],[5,8,5,10],[14,9,14,10],[15,0,16,0],[15,1,16,1],[15,2,16,3],[15,4,16,4],[15,5,16,5],[15,6,16,6],[15,8,16,8],[15,9,16,9],[15,10,16,10],[17,0,23,0],[17,2,23,3],[36,0,37,0],[36,1,37,1],[36,2,37,3],[36,4,37,4],[36,5,37,5],[36,6,37,6],[36,8,37,8],[36,9,37,9],[36,10,37,10],[38,0,44,0],[38,2,44,3],[45,0,51,0],[45,2,51,3]]}
[]
[]
[]
["Коллекторные шкафы"]
[]
["ШКАФ ВСТРОЕННЫЙ (ШРВ) С НАКЛАДНОЙ ДВЕРЦЕЙ",{"$nulls":7},"На главную страницу"]
["• Страна производства: Россия"]
["• Внутри шкафа установлены передвижные монтажные рейки, к которым крепится оборудование"]
["• Ножки регулируются по высоте до 40мм"]
["• Выдвижная рамка позволяет регулировать глубину от 125 мм до 195 мм"]
["• В боковых стенах корпуса предусмотрена перфорация для удобного пропуска присоединительных трубопроводов"]
["• Корпус шкафа изготовлен из стали толщиной 0,8 мм"]
["• Лицевые поверхности шкафа окрашены порошковой эмалью с предварительной фосфатной подготовкой"]
["• Откидная дверца закрывается на замок"]
[{"$nulls":8},"Итого:",{"$f":"SUM(K18:K24)+SUM(K39:K52)","v":{"v":0,"d":"0.00"}}]
["Фото","Артикул","Наименование товара",null,"Высота х ширина","Вес, кг","Упаковка, шт.","Цена за шт.","Цена со скидкой, RUB","Кол-во, шт.","Сумма со скидкой, RUB"]
[{"$nulls":7},"RUB"]
[null,"GK SHV-0","Шкаф встроенный (ШРВ) с накладной дверцей, регулируемая глубина от 125 до 195 мм",null,"668 x 402",6.77,1,{"$f":"'Конвертация цен'!H179","v":{"v":4071.195,"d":"4071.20"}},{"$f":"H18-H18*Оглавление!$K$16","v":{"v":4071.195,"d":"4,071.20"}},null,{"$f":"J18*I18","v":{"v":0,"d":"0.00"}}]
[null,"GK SHV-1",null,null,"668 x 492",7.45,1,{"$f":"'Конвертация цен'!H180","v":{"v":4344.3146,"d":"4344.31"}},{"$f":"H19-H19*Оглавление!$K$16","v":{"v":4344.3146,"d":"4,344.31"}},null,{"v":0,"d":"0.00"}]
[null,"GK SHV-2",null,null,"668 x 592",8.15,1,{"$f":"'Конвертация цен'!H181","v":{"v":5056.2,"d":"5056.20"}},{"$f":"H20-H20*Оглавление!$K$16","v":{"v":5056.2,"d":"5,056.20"}},null,{"v":0,"d":"0.00"}]
[null,"GK SHV-3",null,null,"668 x 742",10.49,1,{"$f":"'Конвертация цен'!H182","v":{"v":6217.695000000001,"d":"6217.70"}},{"$f":"H21-H21*Оглавление!$K$16","v":{"v":6217.695000000001,"d":"6,217.70"}},null,{"v":0,"d":"0.00"}]
[null,"GK SHV-4",null,null,"668 x 892",10.91,1,{"$f":"'Конвертация цен'!H183","v":7274.25},{"$f":"H22-H22*Оглавление!$K$17","v":{"v":7274.25,"d":"7,274.25"}},null,{"v":0,"d":"0.00"}]
[null,"GK SHV-5",null,null,"668 x 1042",11.33,1,{"$f":"'Конвертация цен'!H184","v":{"v":8037.450000000001,"d":"8037.45"}},{"$f":"H23-H23*Оглавление!$K$17","v":{"v":8037.450000000001,"d":"8,037.45"}},null,{"v":0,"d":"0.00"}]
[null,"GK SHV-6",null,null,"668 x 1192",11.75,1,{"$f":"'Конвертация цен'!H185","v":8800.65},{"$f":"H24-H24*Оглавление!$K$17","v":{"v":8800.65,"d":"8,800.65"}},null,{"v":0,"d":"0.00"}]
[]
["ШКАФ НАРУЖНЫЙ (ШРН) С НАКЛАДНОЙ ДВЕРЦЕЙ"]
["• Страна производства: Россия"]
["• Внутри шкафа установлены передвижные монтажные рейки, к которым крепится оборудование"]
["• Ножки регулируются по высоте до 40мм"]
["• Стандартная глубина наружного шкафа 120 мм (GK SHN), увеличенная глубина наружного шкафа 150 мм (GK SHN-150)"]
["• В боковых стенах корпуса предусмотрена перфорация для удобного пропуска присоединительных трубопроводов"]
["• Корпус шкафа изготовлен из стали толщиной 0,8 мм"]
["• Лицевые поверхности шкафа окрашены порошковой эмалью с предварительной фосфатной подготовкой"]
["• Откидная дверца закрывается на замок"]
["• Все шкафы наружного типа оборудованы нижней съемной планкой для удобства монтажа трубопровода"]
[]
["Фото","Артикул","Наименование товара",null,"Высота х ширина","Вес, кг","Упаковка, шт.","Цена за шт.","Цена со скидкой, RUB","Кол-во, шт.","Сумма со скидкой, RUB"]
[{"$nulls":7},"RUB"]
[null,"GK SHN-0","Шкаф наружный (ШРН) с накладной дверцей, стандартная глубина 120 мм",null,"652 x 367",5.2,1,{"$f":"'Конвертация цен'!H186","v":3410.55},{"$f":"H39-H39*Оглавление!$K$16","v":{"v":3410.55,"d":"3,410.55"}},null,{"$f":"J39*I39","v":{"v":0,"d":"0.00"}}]
[null,"GK SHN-1",null,null,"652 x 457",6.55,1,{"$f":"'Конвертация цен'!H187","v":{"v":4114.729200000001,"d":"4114.73"}},{"$f":"H40-H40*Оглавление!$K$16","v":{"v":4114.729200000001,"d":"4,114.73"}},null,{"$f":"J40*I40","v":{"v":0,"d":"0.00"}}]
[null,"GK SHN-2",null,null,"652 x 557",6.65,1,{"$f":"'Конвертация цен'!H188","v":{"v":4404.0986,"d":"4404.10"}},{"$f":"H41-H41*Оглавление!$K$16","v":{"v":4404.0986,"d":"4,404.10"}},null,{"v":0,"d":"0.00"}]
[null,"GK SHN-3",null,null,"652 x 707",7.3,1,{"$f":"'Конвертация цен'!H189","v":{"v":5251.452,"d":"5251.45"}},{"$f":"H42-H42*Оглавление!$K$16","v":{"v":5251.452,"d":"5,251.45"}},null,{"v":0,"d":"0.00"}]
[null,"GK SHN-4",null,null,"652 x 857",8.25,1,{"$f":"'Конвертация цен'!H190","v":{"v":6252.8976,"d":"6252.90"}},{"$f":"H43-H43*Оглавление!$K$16","v":{"v":6252.8976,"d":"6,252.90"}},null,{"v":0,"d":"0.00"}]
[null,"GK SHN-5",null,null,"652 x 1007",9.04,1,{"$f":"'Конвертация цен'!H191","v":{"v":7118.970600000001,"d":"7118.97"}},{"$f":"H44-H44*Оглавление!$K$16","v":{"v":7118.970600000001,"d":"7,118.97"}},null,{"v":0,"d":"0.00"}]
[null,"GK SHN-6","Трехходовой фитинг для установки в поток датчика температуры",null,"652 x 1157",9.71,1,{"$f":"'Конвертация цен'!H192","v":{"v":8409.478200000001,"d":"8409.48"}},{"$f":"H45-H45*Оглавление!$K$16","v":{"v":8409.478200000001,"d":"8,409.48"}},null,{"v":0,"d":"0.00"}]
[null,"GK SHN-150-0","Шкаф наружный (ШРН) с накладной дверцей, увеличенная глубина 150 мм",null,"652 x 367",5.5,1,{"$f":"'Конвертация цен'!H193","v":3935.25},{"$f":"H46-H46*Оглавление!$K$16","v":{"v":3935.25,"d":"3,935.25"}},null,{"v":0,"d":"0.00"}]
[null,"GK SHN-150-1",null,null,"652 x 457",6.37,1,{"$f":"'Конвертация цен'!H194","v":{"v":4436.1,"d":"4436.10"}},{"$f":"H47-H47*Оглавление!$K$16","v":{"v":4436.1,"d":"4,436.10"}},null,{"v":0,"d":"0.00"}]
[null,"GK SHN-150-2",null,null,"652 x 557",7.01,1,{"$f":"'Конвертация цен'!H195","v":{"v":4810.788799999999,"d":"4810.79"}},{"$f":"H48-H48*Оглавление!$K$16","v":{"v":4810.788799999999,"d":"4,810.79"}},null,{"v":0,"d":"0.00"}]
[null,"GK SHN-150-3",null,null,"652 x 707",7.91,1,{"$f":"'Конвертация цен'!H196","v":{"v":5826.0992,"d":"5826.10"}},{"$f":"H49-H49*Оглавление!$K$16","v":{"v":5826.0992,"d":"5,826.10"}},null,{"v":0,"d":"0.00"}]
[null,"GK SHN-150-4",null,null,"652 x 857",9.01,1,{"$f":"'Конвертация цен'!H197","v":6682.77},{"$f":"H50-H50*Оглавление!$K$16","v":{"v":6682.77,"d":"6,682.77"}},null,{"v":0,"d":"0.00"}]
[null,"GK SHN-150-5",null,null,"652 x 1007",10.26,1,{"$f":"'Конвертация цен'!H198","v":{"v":7996.0252,"d":"7996.03"}},{"$f":"H51-H51*Оглавление!$K$16","v":{"v":7996.0252,"d":"7,996.03"}},null,{"v":0,"d":"0.00"}]
[null,"GK SHN-150-6","Трехходовой фитинг для установки в поток датчика температуры",null,"652 x 1157",10.81,1,{"$f":"'Конвертация цен'!H199","v":{"v":8841.195,"d":"8841.20"}},{"$f":"H52-H52*Оглавление!$K$16","v":{"v":8841.195,"d":"8,841.20"}},null,{"v":0,"d":"0.00"}]

{"sheet":"Узлы ТП, коллекторы","index":5,"n_rows":109,"n_cols":11,"rows_kept":109,"merged":[[3,0,5,6],[5,8,5,10],[18,9,18,10],[19,0,20,0],[19,1,20,1],[19,2,20,3],[19,4,20,4],[19,5,20,5],[19,6,20,6],[19,8,20,8],[19,9,20,9],[19,10,20,10],[21,2,21,3],[22,2,22,3],[35,0,36,0],[35,1,36,1],[35,2,36,3],[35,4,36,4],[35,5,36,5],[35,6,36,6],[35,8,36,8],[35,9,36,9],[35,10,36,10],[37,2,37,3],[38,2,38,3],[49,0,50,0],[49,1,50,1],[49,2,50,3],[49,4,50,4],[49,5,50,5],[49,6,50,6],[49,8,50,8],[49,9,50,9],[49,10,50,10],[51,0,61,0],[51,2,61,3],[62,0,72,0],[62,2,72,3],[73,0,83,0],[73,2,83,3],[84,0,94,0],[84,2,94,3],[98,0,99,0],[98,1,99,1],[98,2,99,3],[98,4,99,4],[98,5,99,5],[98,6,99,6],[98,8,99,8],[98,9,99,9],[98,10,99,10],[100,2,100,3],[101,2,101,3],[102,2,102,3],[103,0,104,0],[103,2,103,3],[104,2,104,3],[105,0,106,0],[105,2,106,3],[107,2,107,3],[108,2,108,3]]}
[]
[]
[]
["Смесительные узлы и комплектующие для напольного отопления, коллекторные блоки и комплектующие"]
[]
[{"$nulls":8},"На главную страницу"]
[]
["НАСОСНО-СМЕСИТЕЛЬНЫЕ УЗЛЫ НА ОСНОВЕ ТЕРМОСТАТИЧЕСКОГО СМЕСИТЕЛЯ"]
["• Номинальное давление: 10 бар"]
["• Макс. температура потока на входе смесителя: 110° C"]
["• Температура смешанного потока: 20°C- 45°C"]
["• Материал корпуса латунь CW617N"]
["• Монтажная длина насоса: без установленной байпасной линии - 130 / 180 мм, с байпасной линией - 130 мм"]
["• При установке с коллекторами Gekon монтажная длина насоса - 130 мм"]
["• Расстояние между коллекторами: 210 ÷ 240 мм"]
["• Присоединение к распределительному коллектору: эксцентрик 30 мм, 1\"НР, присоединение к трубопроводу СО: 1\"НР"]
["• Смесительный узел укомплектован Термометром и ручным воздухоотводчиком, имеет возможность установки предохранительного термостата"]
["• Смесительный узел поставляется без насоса"]
[{"$nulls":8},"Итого:",{"$f":"SUM(K22:K23)+SUM(K38:K39)+SUM(K52:K95)+SUM(K101:K109)","v":{"v":0,"d":"0.00"}}]
["Фото","Артикул","Наименование товара",null,"Присоединение к ТП","Упаковка, шт.","Коробка, шт.","Цена за шт.","Цена со скидкой, RUB","Кол-во, шт.","Сумма со скидкой, RUB"]
[{"$nulls":7},"RUB"]
[null,"GK 7686G-F3","Насосно-смесительная группа для напольного отопления по фиксированной температуре смешения c фитингом для подключения байпаса и накидной гайкой для насоса G1 ½",null,"1\"",1,20,{"$f":"'Конвертация цен'!H203","v":{"v":20100,"d":"20100.00"}},{"$f":"H22-H22*Оглавление!$K$17","v":{"v":20100,"d":"20,100.00"}},null,{"$f":"J22*I22","v":{"v":0,"d":"0.00"}}]
[null,"GK 7686901","Байпасная линия для узлов GK 7686G-F30, GK 7686G-F3 (диапазон 0÷0.5 бар, Kvs 5,0 м3/ч, Межосевое расстояние 210 мм)",null,"1/2\"",1,20,{"$f":"'Конвертация цен'!H204","v":{"v":5523,"d":"5523.00"}},{"$f":"H23-H23*Оглавление!$K$17","v":{"v":5523,"d":"5,523.00"}},null,{"v":0,"d":"0.00"}]
[]
["  НАСОСНО-СМЕСИТЕЛЬНЫЙ УЗЕЛ НА ОСНОВЕ ТЕРМОСТАТИЧЕСКОГО КЛАПАНА С ДАТЧИКОМ ТЕМПЕРАТУРЫ"]
["• Номинальное давление: 6 бар"]
["• Макс. температура потока на входе смесителя: 95° C"]
["• Температура смешанного потока: 20°C- 60°C"]
["• Материал корпуса латунь CW617N"]
["• При установке с коллекторами Gekon монтажная длина насоса - 130 мм"]
["• Расстояние между коллекторами: 277 мм"]
["• Присоединение к распределительному коллектору: 1\"НР, присоединение к трубопроводу СО: 3/4\"НР, присоединение насоса: 1 1/2\" ВР"]
["• Смесительный узел укомплектован термостатической головкой с выносным датчиком температуры"]
["• Смесительный узел поставляется без насоса"]
[]
["Фото","Артикул","Наименование товара",null,"Присоединение к ТП","Упаковка, шт.","Коробка, шт.","Цена за шт.","Цена со скидкой, RUB","Кол-во, шт.","Сумма со скидкой, RUB"]
[{"$nulls":7},"RUB"]
[null,"GK 7685","Насосно-смесительный узел для напольного отопления с термостатической головкой",null,"3/4\"",1,20,{"$f":"'Конвертация цен'!H205","v":{"v":12748,"d":"12748.00"}},{"$f":"H38-H38*Оглавление!$K$17","v":{"v":12748,"d":"12,748.00"}},null,{"$f":"J38*I38","v":{"v":0,"d":"0.00"}}]
[null,"GK 714R","Трехходовой фитинг для установки в поток датчика температуры",null,"1\"",10,10,{"$f":"'Конвертация цен'!H206","v":{"v":2320,"d":"2320.00"}},{"$f":"H39-H39*Оглавление!$K$17","v":{"v":2320,"d":"2,320.00"}},null,{"$f":"J39*I39","v":{"v":0,"d":"0.00"}}]
[]
["КОЛЛЕКТОРНЫЕ БЛОКИ ДЛЯ НАПОЛЬНОГО И РАДИАТОРНОГО ОТОПДЛЕНИЯ"]
["• Номинальное давление: 6 бар (GK 721, GK 741), 10 бар (GK 731, GK 751)"]
["• Макс. рабочая температура: 82 °С (GK 721, GK 741), 100 °С (GK 731, GK 751)"]
["• Материал коллектора нержавеющая сталь AISI 304"]
["• Номинальный диаметр коллектора DN 25 (присоединение 1\" ВР), отводы DN 20 (присоединение 3/4\" НР, Евроконус)"]
["• Коллектор подающий с расходомерами (GK 721, GK 741), с микрометрическими вентилями (GK 731, GK 751);  коллектор обратный с термоклапанами"]
["• Максимальное дифференциальное давление: 1 бар"]
["• Межосевое расстояние между выходами 50мм"]
[]
["Фото","Артикул","Наименование товара",null,"Присоединение к ТП","Упаковка, шт.","Коробка, шт.","Цена за шт.","Цена со скидкой, RUB","Кол-во, шт.","Сумма со скидкой, RUB"]
[{"$nulls":7},"RUB"]
[null,"GK 72102","Коллекторный блок с расходомерами, термостатическими клапанами и ручными воздухоотводчиками",null,"1\"x3/4\"х2",1,1,{"$f":"'Конвертация цен'!H207","v":{"v":9562,"d":"9562.00"}},{"$f":"H52-H52*Оглавление!$K$18","v":{"v":9562,"d":"9,562.00"}},null,{"v":0,"d":"0.00"}]
[null,"GK 72103",null,null,"1\"x3/4\"х3",1,1,{"$f":"'Конвертация цен'!H208","v":{"v":11742,"d":"11742.00"}},{"$f":"H53-H53*Оглавление!$K$18","v":{"v":11742,"d":"11,742.00"}},null,{"v":0,"d":"0.00"}]
[null,"GK 72104",null,null,"1\"x3/4\"х4",1,1,{"$f":"'Конвертация цен'!H209","v":{"v":13946,"d":"13946.00"}},{"$f":"H54-H54*Оглавление!$K$18","v":{"v":13946,"d":"13,946.00"}},null,{"v":0,"d":"0.00"}]
[null,"GK 72105",null,null,"1\"x3/4\"х5",1,1,{"$f":"'Конвертация цен'!H210","v":{"v":16450,"d":"16450.00"}},{"$f":"H55-H55*Оглавление!$K$18","v":{"v":16450,"d":"16,450.00"}},null,{"v":0,"d":"0.00"}]
[null,"GK 72106",null,null,"1\"x3/4\"х6",1,1,{"$f":"'Конвертация цен'!H211","v":{"v":18660,"d":"18660.00"}},{"$f":"H56-H56*Оглавление!$K$18","v":{"v":18660,"d":"18,660.00"}},null,{"v":0,"d":"0.00"}]
[null,"GK 72107",null,null,"1\"x3/4\"х7",1,1,{"$f":"'Конвертация цен'!H212","v":{"v":21621,"d":"21621.00"}},{"$f":"H57-H57*Оглавление!$K$18","v":{"v":21621,"d":"21,621.00"}},null,{"v":0,"d":"0.00"}]
[null,"GK 72108",null,null,"1\"x3/4\"х8",1,1,{"$f":"'Конвертация цен'!H213","v":{"v":24207,"d":"24207.00"}},{"$f":"H58-H58*Оглавление!$K$18","v":{"v":24207,"d":"24,207.00"}},null,{"v":0,"d":"0.00"}]
[null,"GK 72109",null,null,"1\"x3/4\"х9",1,1,{"$f":"'Конвертация цен'!H214","v":{"v":26544,"d":"26544.00"}},{"$f":"H59-H59*Оглавление!$K$18","v":{"v":26544,"d":"26,544.00"}},null,{"v":0,"d":"0.00"}]
[null,"GK 72110",null,null,"1\"x3/4\"х10",1,1,{"$f":"'Конвертация цен'!H215","v":{"v":29092,"d":"29092.00"}},{"$f":"H60-H60*Оглавление!$K$18","v":{"v":29092,"d":"29,092.00"}},null,{"v":0,"d":"0.00"}]
[null,"GK 72111",null,null,"1\"x3/4\"х11",1,1,{"$f":"'Конвертация цен'!H216","v":{"v":31422.000000000004,"d":"31422.00"}},{"$f":"H61-H61*Оглавление!$K$18","v":{"v":31422.000000000004,"d":"31,422.00"}},null,{"v":0,"d":"0.00"}]
[null,"GK 72112",null,null,"1\"x3/4\"х12",1,1,{"$f":"'Конвертация цен'!H217","v":{"v":33710,"d":"33710.00"}},{"$f":"H62-H62*Оглавление!$K$18","v":{"v":33710,"d":"33,710.00"}},null,{"v":0,"d":"0.00"}]
[null,"GK 73102","Коллекторный блок с микрометрическими вентилями, термостатическими клапанами и ручными воздухоотводчиками",null,"1\"x3/4\"х2",1,1,{"$f":"'Конвертация цен'!H218","v":{"v":9944,"d":"9944.00"}},{"$f":"H63-H63*Оглавление!$K$18","v":{"v":9944,"d":"9,944.00"}},null,{"v":0,"d":"0.00"}]
[null,"GK 73103",null,null,"1\"x3/4\"х3",1,1,{"$f":"'Конвертация цен'!H219","v":{"v":11713,"d":"11713.00"}},{"$f":"H64-H64*Оглавление!$K$18","v":{"v":11713,"d":"11,713.00"}},null,{"v":0,"d":"0.00"}]
[null,"GK 73104",null,null,"1\"x3/4\"х4",1,1,{"$f":"'Конвертация цен'!H220","v":{"v":13500,"d":"13500.00"}},{"$f":"H65-H65*Оглавление!$K$18","v":{"v":13500,"d":"13,500.00"}},null,{"v":0,"d":"0.00"}]
[null,"GK 73105",null,null,"1\"x3/4\"х5",1,1,{"$f":"'Конвертация цен'!H221","v":{"v":15529,"d":"15529.00"}},{"$f":"H66-H66*Оглавление!$K$18","v":{"v":15529,"d":"15,529.00"}},null,{"v":0,"d":"0.00"}]
[null,"GK 73106",null,null,"1\"x3/4\"х6",1,1,{"$f":"'Конвертация цен'!H222","v":{"v":17428,"d":"17428.00"}},{"$f":"H67-H67*Оглавление!$K$18","v":{"v":17428,"d":"17,428.00"}},null,{"v":0,"d":"0.00"}]
[null,"GK 73107",null,null,"1\"x3/4\"х7",1,1,{"$f":"'Конвертация цен'!H223","v":{"v":19770,"d":"19770.00"}},{"$f":"H68-H68*Оглавление!$K$18","v":{"v":19770,"d":"19,770.00"}},null,{"v":0,"d":"0.00"}]
[null,"GK 73108",null,null,"1\"x3/4\"х8",1,1,{"$f":"'Конвертация цен'!H224","v":{"v":21892,"d":"21892.00"}},{"$f":"H69-H69*Оглавление!$K$18","v":{"v":21892,"d":"21,892.00"}},null,{"v":0,"d":"0.00"}]
[null,"GK 73109",null,null,"1\"x3/4\"х9",1,1,{"$f":"'Конвертация цен'!H225","v":{"v":23750,"d":"23750.00"}},{"$f":"H70-H70*Оглавление!$K$18","v":{"v":23750,"d":"23,750.00"}},null,{"v":0,"d":"0.00"}]
[null,"GK 73110",null,null,"1\"x3/4\"х10",1,1,{"$f":"'Конвертация цен'!H226","v":{"v":25843,"d":"25843.00"}},{"$f":"H71-H71*Оглавление!$K$18","v":{"v":25843,"d":"25,843.00"}},null,{"v":0,"d":"0.00"}]
[null,"GK 73111",null,null,"1\"x3/4\"х11",1,1,{"$f":"'Конвертация цен'!H227","v":{"v":27680,"d":"27680.00"}},{"$f":"H72-H72*Оглавление!$K$18","v":{"v":27680,"d":"27,680.00"}},null,{"v":0,"d":"0.00"}]
[null,"GK 73112",null,null,"1\"x3/4\"х12",1,1,{"$f":"'Конвертация цен'!H228","v":{"v":29489,"d":"29489.00"}},{"$f":"H73-H73*Оглавление!$K$18","v":{"v":29489,"d":"29,489.00"}},null,{"v":0,"d":"0.00"}]
[null,"GK 74102","Коллекторный блок с расходомерами, термостатическими клапанами без воздухоотводчиков                                                           ",null,"1\"x3/4\"х2",1,1,{"$f":"'Конвертация цен'!H229","v":{"v":8280,"d":"8280.00"}},{"$f":"H74-H74*Оглавление!$K$18","v":{"v":8280,"d":"8,280.00"}},null,{"v":0,"d":"0.00"}]
[null,"GK 74103",null,null,"1\"x3/4\"х3",1,1,{"$f":"'Конвертация цен'!H230","v":{"v":10464,"d":"10464.00"}},{"$f":"H75-H75*Оглавление!$K$18","v":{"v":10464,"d":"10,464.00"}},null,{"v":0,"d":"0.00"}]
[null,"GK 74104",null,null,"1\"x3/4\"х4",1,1,{"$f":"'Конвертация цен'!H231","v":{"v":12666,"d":"12666.00"}},{"$f":"H76-H76*Оглавление!$K$18","v":{"v":12666,"d":"12,666.00"}},null,{"v":0,"d":"0.00"}]
[null,"GK 74105",null,null,"1\"x3/4\"х5",1,1,{"$f":"'Конвертация цен'!H232","v":{"v":15166,"d":"15166.00"}},{"$f":"H77-H77*Оглавление!$K$18","v":{"v":15166,"d":"15,166.00"}},null,{"v":0,"d":"0.00"}]
[null,"GK 74106",null,null,"1\"x3/4\"х6",1,1,{"$f":"'Конвертация цен'!H233","v":{"v":17376,"d":"17376.00"}},{"$f":"H78-H78*Оглавление!$K$18","v":{"v":17376,"d":"17,376.00"}},null,{"v":0,"d":"0.00"}]
[null,"GK 74107",null,null,"1\"x3/4\"х7",1,1,{"$f":"'Конвертация цен'!H234","v":{"v":20339,"d":"20339.00"}},{"$f":"H79-H79*Оглавление!$K$18","v":{"v":20339,"d":"20,339.00"}},null,{"v":0,"d":"0.00"}]
[null,"GK 74108",null,null,"1\"x3/4\"х8",1,1,{"$f":"'Конвертация цен'!H235","v":{"v":22925,"d":"22925.00"}},{"$f":"H80-H80*Оглавление!$K$18","v":{"v":22925,"d":"22,925.00"}},null,{"v":0,"d":"0.00"}]
[null,"GK 74109",null,null,"1\"x3/4\"х9",1,1,{"$f":"'Конвертация цен'!H236","v":{"v":25263,"d":"25263.00"}},{"$f":"H81-H81*Оглавление!$K$18","v":{"v":25263,"d":"25,263.00"}},null,{"v":0,"d":"0.00"}]
[null,"GK 74110",null,null,"1\"x3/4\"х10",1,1,{"$f":"'Конвертация цен'!H237","v":{"v":27808,"d":"27808.00"}},{"$f":"H82-H82*Оглавление!$K$18","v":{"v":27808,"d":"27,808.00"}},null,{"v":0,"d":"0.00"}]
[null,"GK 74111",null,null,"1\"x3/4\"х11",1,1,{"$f":"'Конвертация цен'!H238","v":{"v":30139,"d":"30139.00"}},{"$f":"H83-H83*Оглавление!$K$18","v":{"v":30139,"d":"30,139.00"}},null,{"v":0,"d":"0.00"}]
[null,"GK 74112",null,null,"1\"x3/4\"х12",1,1,{"$f":"'Конвертация цен'!H239","v":{"v":32426,"d":"32426.00"}},{"$f":"H84-H84*Оглавление!$K$18","v":{"v":32426,"d":"32,426.00"}},null,{"v":0,"d":"0.00"}]
[null,"GK 75102","Коллекторный блок с микрометрическими вентилями, термостатическими клапанами без воздухоотводчиков",null,"1\"x3/4\"х2",1,1,{"$f":"'Конвертация цен'!H240","v":{"v":7401.000000000001,"d":"7401.00"}},{"$f":"H85-H85*Оглавление!$K$18","v":{"v":7401.000000000001,"d":"7,401.00"}},null,{"v":0,"d":"0.00"}]
[null,"GK 75103",null,null,"1\"x3/4\"х3",1,1,{"$f":"'Конвертация цен'!H241","v":{"v":9172,"d":"9172.00"}},{"$f":"H86-H86*Оглавление!$K$18","v":{"v":9172,"d":"9,172.00"}},null,{"v":0,"d":"0.00"}]
[null,"GK 75104",null,null,"1\"x3/4\"х4",1,1,{"$f":"'Конвертация цен'!H242","v":{"v":10956,"d":"10956.00"}},{"$f":"H87-H87*Оглавление!$K$18","v":{"v":10956,"d":"10,956.00"}},null,{"v":0,"d":"0.00"}]
[null,"GK 75105",null,null,"1\"x3/4\"х5",1,1,{"$f":"'Конвертация цен'!H243","v":{"v":12991,"d":"12991.00"}},{"$f":"H88-H88*Оглавление!$K$18","v":{"v":12991,"d":"12,991.00"}},null,{"v":0,"d":"0.00"}]
[null,"GK 75106",null,null,"1\"x3/4\"х6",1,1,{"$f":"'Конвертация цен'!H244","v":{"v":14886.000000000002,"d":"14886.00"}},{"$f":"H89-H89*Оглавление!$K$18","v":{"v":14886.000000000002,"d":"14,886.00"}},null,{"v":0,"d":"0.00"}]
[null,"GK 75107",null,null,"1\"x3/4\"х7",1,1,{"$f":"'Конвертация цен'!H245","v":{"v":17225,"d":"17225.00"}},{"$f":"H90-H90*Оглавление!$K$18","v":{"v":17225,"d":"17,225.00"}},null,{"v":0,"d":"0.00"}]
[null,"GK 75108",null,null,"1\"x3/4\"х8",1,1,{"$f":"'Конвертация цен'!H246","v":{"v":19351,"d":"19351.00"}},{"$f":"H91-H91*Оглавление!$K$18","v":{"v":19351,"d":"19,351.00"}},null,{"v":0,"d":"0.00"}]
[null,"GK 75109",null,null,"1\"x3/4\"х9",1,1,{"$f":"'Конвертация цен'!H247","v":{"v":21611,"d":"21611.00"}},{"$f":"H92-H92*Оглавление!$K$18","v":{"v":21611,"d":"21,611.00"}},null,{"v":0,"d":"0.00"}]
[null,"GK 75110",null,null,"1\"x3/4\"х10",1,1,{"$f":"'Конвертация цен'!H248","v":{"v":23299,"d":"23299.00"}},{"$f":"H93-H93*Оглавление!$K$18","v":{"v":23299,"d":"23,299.00"}},null,{"v":0,"d":"0.00"}]
[null,"GK 75111",null,null,"1\"x3/4\"х11",1,1,{"$f":"'Конвертация цен'!H249","v":{"v":25614.999999999996,"d":"25615.00"}},{"$f":"H94-H94*Оглавление!$K$18","v":{"v":25614.999999999996,"d":"25,615.00"}},null,{"v":0,"d":"0.00"}]
[null,"GK 75112",null,null,"1\"x3/4\"х12",1,1,{"$f":"'Конвертация цен'!H250","v":{"v":28230,"d":"28230.00"}},{"$f":"H95-H95*Оглавление!$K$18","v":{"v":28230,"d":"28,230.00"}},null,{"v":0,"d":"0.00"}]
[]
["КОМПЛЕКТУЮЩИЕ ДЛЯ КОЛЛЕКТОРОВ НАПОЛЬНОГО И РАДИАТОРНОГО ОТПЛЕНИЯ"]
[]
["Фото","Артикул","Наименование товара",null,"Присоединение к ТП","Упаковка, шт.","Коробка, шт.","Цена за шт.","Цена со скидкой, RUB","Кол-во, шт.","Сумма со скидкой, RUB"]
[{"$nulls":7},"RUB"]
[null,"GK 7590","Комплект коллекторных фитингов со сливным краном и ручным воздухоотводчиком",null,"1\"",1,18,{"$f":"'Конвертация цен'!H251","v":3153},{"$f":"H101-H101*Оглавление!$K$17","v":{"v":3153,"d":"3,153.00"}},null,{"v":0,"d":"0.00"}]
[null,"GK 7591","Комплект коллекторных фитингов со сливным краном и автоматическим воздухоотводчиком",null,"1\"",1,15,{"$f":"'Конвертация цен'!H252","v":4111},{"$f":"H102-H102*Оглавление!$K$17","v":{"v":4111,"d":"4,111.00"}},null,{"v":0,"d":"0.00"}]
[null,"GK 79115","Латунный расходомер для коллекторных блоков напольного и радиаторного отопления",null,"1/2\"",1,10,{"$f":"'Конвертация цен'!H253","v":886.9999999999999},{"$f":"H103-H103*Оглавление!$K$17","v":{"v":886.9999999999999,"d":"887.00"}},null,{"v":0,"d":"0.00"}]
[null,"GK 1903N","Электротермическая головка 230В, нормально закрытая ",null,"М30х1,5",1,60,{"$f":"'Конвертация цен'!H254","v":3024},{"$f":"H104-H104*Оглавление!$K$17","v":{"v":3024,"d":"3,024.00"}},null,{"v":0,"d":"0.00"}]
[null,"GK 1904N","Электротермическая головка 24В, нормально закрытая ",null,"М30х1,5",1,60,{"$f":"'Конвертация цен'!H255","v":3168},{"$f":"H105-H105*Оглавление!$K$17","v":{"v":3168,"d":"3,168.00"}},null,{"v":0,"d":"0.00"}]
[null,"GK 71602","Концовка для металлопластиковых труб и труб РЕХ, 3/4\" Евроконус",null,"16*2 x 3/4\"",30,30,{"$f":"'Конвертация цен'!H256","v":290},{"$f":"H106-H106*Оглавление!$K$17","v":{"v":290,"d":"290.00"}},null,{"v":0,"d":"0.00"}]
[null,"GK 72002",null,null,"20*2 x 3/4\"",30,30,{"$f":"'Конвертация цен'!H257","v":442},{"$f":"H107-H107*Оглавление!$K$17","v":{"v":442,"d":"442.00"}},null,{"v":0,"d":"0.00"}]
[null,"GK 79181","Комплект (2 шт) шаровых кранов для коллекторов: с \"американкой\", термометром и отводом для температурного зонда, ручки - красная и синяя \"бабочка\"",null,"1\"",1,10,{"$f":"'Конвертация цен'!H258","v":7219},{"$f":"H108-H108*Оглавление!$K$17","v":{"v":7219,"d":"7,219.00"}},null,{"v":0,"d":"0.00"}]
[null,"GK 7534","Группа безопасности бойлера с прямым сливом, рабочее давление 10 бар, давление настройки предохранительного клапана 7 ± 0,1 бар",null,"3/4\"",1,15,{"$f":"'Конвертация цен'!H259","v":4723},{"$f":"H109-H109*Оглавление!$K$17","v":{"v":4723,"d":"4,723.00"}},null,{"v":0,"d":"0.00"}]

{"sheet":"Клапаны для отоп.приборов","index":6,"n_rows":41,"n_cols":13,"rows_kept":41,"merged":[[3,0,3,8],[4,8,4,10],[6,11,6,12],[7,0,8,0],[7,1,8,1],[7,2,8,4],[7,5,8,5],[7,6,8,6],[7,7,8,7],[7,8,8,8],[7,10,8,10],[7,11,8,11],[7,12,8,12],[9,2,9,4],[10,2,10,4],[11,0,12,0],[11,2,12,4],[13,0,14,0],[13,2,14,4],[15,0,16,0],[15,2,16,4],[17,0,18,0],[17,2,18,4],[19,2,19,4],[20,2,20,4],[21,0,22,0],[21,2,22,4],[23,0,24,0],[23,2,24,4],[25,2,25,4],[29,0,30,0],[29,1,30,1],[29,2,30,4],[29,5,30,5],[29,6,30,6],[29,7,30,7],[29,8,30,8],[29,10,30,10],[29,11,30,11],[29,12,30,12],[31,2,31,4],[32,2,32,4],[36,0,37,0],[36,1,37,1],[36,2,37,4],[36,5,37,5],[36,6,37,6],[36,7,37,7],[36,8,37,8],[36,10,37,10],[36,11,37,11],[36,12,37,12],[38,2,38,4],[39,2,39,4],[40,2,40,4]]}
[]
[]
[]
["Клапаны для отопительных приборов"]
[{"$nulls":8},"На главную страницу"]
["РАДИАТОРНЫЕ УЗЛЫ ПОДКЛЮЧЕНИЯ И КЛАПАНЫ"]
[{"$nulls":10},"Итого:",{"$f":"SUM(M10:M26)+SUM(M32:M33)+SUM(M39:M41)","v":{"v":0,"d":"0.00"}}]
["Фото","Артикул","Наименование товара",null,null,"Размер","Вес, г","Упаковка, шт.","Коробка, шт.","Цена за шт.","Цена со скидкой, RUB","Кол-во, шт.","Сумма со скидкой, RUB"]
[{"$nulls":9},"RUB"]
[null,"GK 7423","Узел нижнего подключения для стальных панельных радиаторов в двухтрубных системах прямой, с ручным управлением",null,null,"3/4\"",291,5,50,{"$f":"'Конвертация цен'!H263","v":{"v":1422,"d":"1422.00"}},{"$f":"J10-J10*Оглавление!$K$19","v":{"v":1422,"d":"1422.00"}},null,{"$f":"L10*K10","v":{"v":0,"d":"0.00"}}]
[null,"GK 7421","Узел нижнего подключения для стальных панельных радиаторов в двухтрубных системах угловой, с ручным управлением",null,null,"3/4\"",323,5,50,{"$f":"'Конвертация цен'!H264","v":{"v":1329,"d":"1329.00"}},{"$f":"J11-J11*Оглавление!$K$19","v":{"v":1329,"d":"1329.00"}},null,{"v":0,"d":"0.00"}]
[null,"GK 7400 12","Клапан запорный прямой",null,null,"1/2\"",178,1,50,{"$f":"'Конвертация цен'!H265","v":{"v":808,"d":"808.00"}},{"$f":"J12-J12*Оглавление!$K$19","v":{"v":808,"d":"808.00"}},null,{"$f":"L12*K12","v":{"v":0,"d":"0.00"}}]
[null,"GK 7400 34",{"$nulls":3},"3/4\"",198,5,50,{"$f":"'Конвертация цен'!H266","v":{"v":1218,"d":"1218.00"}},{"$f":"J13-J13*Оглавление!$K$19","v":{"v":1218,"d":"1218.00"}},null,{"$f":"L13*K13","v":{"v":0,"d":"0.00"}}]
[null,"GK 7200 12","Клапан запорный угловой",null,null,"1/2\"",164,1,50,{"$f":"'Конвертация цен'!H267","v":{"v":696,"d":"696.00"}},{"$f":"J14-J14*Оглавление!$K$19","v":{"v":696,"d":"696.00"}},null,{"$f":"L14*K14","v":{"v":0,"d":"0.00"}}]
[null,"GK 7200 34",{"$nulls":3},"3/4\"",184,5,50,{"$f":"'Конвертация цен'!H268","v":{"v":1105,"d":"1105.00"}},{"$f":"J15-J15*Оглавление!$K$19","v":{"v":1105,"d":"1105.00"}},null,{"$f":"L15*K15","v":{"v":0,"d":"0.00"}}]
[null,"GK 7350 12","Клапан регулирующий прямой",null,null,"1/2\"",255,1,50,{"$f":"'Конвертация цен'!H269","v":{"v":901,"d":"901.00"}},{"$f":"J16-J16*Оглавление!$K$19","v":{"v":901,"d":"901.00"}},null,{"$f":"L16*K16","v":{"v":0,"d":"0.00"}}]
[null,"GK 7350 34",{"$nulls":3},"3/4\"",346,5,50,{"$f":"'Конвертация цен'!H270","v":{"v":1584,"d":"1584.00"}},{"$f":"J17-J17*Оглавление!$K$19","v":{"v":1584,"d":"1584.00"}},null,{"v":0,"d":"0.00"}]
[null,"GK 7150 12","Клапан регулирующий угловой",null,null,"1/2\"",229,1,50,{"$f":"'Конвертация цен'!H271","v":{"v":819,"d":"819.00"}},{"$f":"J18-J18*Оглавление!$K$19","v":{"v":819,"d":"819.00"}},null,{"v":0,"d":"0.00"}]
[null,"GK 7150 34",{"$nulls":3},"3/4\"",337,5,50,{"$f":"'Конвертация цен'!H272","v":{"v":1489,"d":"1489.00"}},{"$f":"J19-J19*Оглавление!$K$19","v":{"v":1489,"d":"1489.00"}},null,{"v":0,"d":"0.00"}]
[null,"GK 7355 12","Клапан регулирующий прямой компактной серии",null,null,"1/2\"",196,5,50,{"$f":"'Конвертация цен'!H273","v":{"v":818,"d":"818.00"}},{"$f":"J20-J20*Оглавление!$K$19","v":{"v":818,"d":"818.00"}},null,{"v":0,"d":"0.00"}]
[null,"GK 7155 12","Клапан регулирующий угловой компактной серии",null,null,"1/2\"",183,10,100,{"$f":"'Конвертация цен'!H274","v":{"v":726,"d":"726.00"}},{"$f":"J21-J21*Оглавление!$K$19","v":{"v":726,"d":"726.00"}},null,{"v":0,"d":"0.00"}]
[null,"GK 7640 12","Клапан терморегулирующий прямой",null,null,"1/2\"",193,1,50,{"$f":"'Конвертация цен'!H275","v":{"v":1145,"d":"1145.00"}},{"$f":"J22-J22*Оглавление!$K$19","v":{"v":1145,"d":"1145.00"}},null,{"v":0,"d":"0.00"}]
[null,"GK 7640 34",{"$nulls":3},"3/4\"",271,5,50,{"$f":"'Конвертация цен'!H276","v":{"v":1407,"d":"1407.00"}},{"$f":"J23-J23*Оглавление!$K$19","v":{"v":1407,"d":"1407.00"}},null,{"v":0,"d":"0.00"}]
[null,"GK 7620 12","Клапан терморегулирующий угловой",null,null,"1/2\"",196,1,50,{"$f":"'Конвертация цен'!H277","v":{"v":1015,"d":"1015.00"}},{"$f":"J24-J24*Оглавление!$K$19","v":{"v":1015,"d":"1015.00"}},null,{"v":0,"d":"0.00"}]
[null,"GK 7620 34",{"$nulls":3},"3/4\"",268,5,50,{"$f":"'Конвертация цен'!H278","v":{"v":1297,"d":"1297.00"}},{"$f":"J25-J25*Оглавление!$K$19","v":{"v":1297,"d":"1297.00"}},null,{"v":0,"d":"0.00"}]
[null,"GK 7625 12","Клапан терморегулирующий   осевой",null,null,"1/2\"",217,1,50,{"$f":"'Конвертация цен'!H279","v":{"v":1315,"d":"1315.00"}},{"$f":"J26-J26*Оглавление!$K$19","v":{"v":1315,"d":"1315.00"}},null,{"v":0,"d":"0.00"}]
[]
["ТЕРМОСТАТИЧЕСКИЕ ГОЛОВКИ"]
[]
["Фото","Артикул","Наименование товара",null,null,"Размер","Вес, г","Упаковка, шт.","Коробка, шт.","Цена за шт.","Цена со скидкой, RUB","Кол-во, шт.","Сумма со скидкой, RUB"]
[{"$nulls":9},"RUB"]
[null,"GK 7824","Термостатическая головка с внутренним жидкостным датчиком, с настройкой против замораживания",null,null,"CLIP-CLAP",130,1,50,{"$f":"'Конвертация цен'!H280","v":{"v":1064,"d":"1064.00"}},{"$f":"J32-J32*Оглавление!$K$19","v":{"v":1064,"d":"1064.00"}},null,{"$f":"L32*K32","v":{"v":0,"d":"0.00"}}]
[null,"GK 7825","Термостатическая головка с внутренним жидкостным датчиком, с настройкой против замораживания",null,null,"M30x1,5",110,1,50,{"$f":"'Конвертация цен'!H281","v":{"v":1200,"d":"1200.00"}},{"$f":"J33-J33*Оглавление!$K$19","v":{"v":1200,"d":"1200.00"}},null,{"v":0,"d":"0.00"}]
[]
["КОМПЛЕКТЫ ДЛЯ ПОДКЛЮЧЕНИЯ ОТОПИТЕЛЬНЫХ ПРИБОРОВ И КОМПЛЕКТУЮЩИЕ"]
[]
["Фото","Артикул","Наименование товара",null,null,"Размер","Вес, г","Упаковка, шт.","Коробка, шт.","Цена за шт.","Цена со скидкой, RUB","Кол-во, шт.","Сумма со скидкой, RUB"]
[{"$nulls":9},"RUB"]
[null,"GK 76407400 12","Комплект для подключения отопительных приборов прямой",null,null,"1/2\"",560,1,18,{"$f":"'Конвертация цен'!H282","v":{"v":3100,"d":"3100.00"}},{"$f":"J39-J39*Оглавление!$K$19","v":{"v":3100,"d":"3100.00"}},null,{"$f":"L39*K39","v":{"v":0,"d":"0.00"}}]
[null,"GK 76207200 12","Комплект для подключения отопительных приборов угловой",null,null,"1/2\"",564,1,18,{"$f":"'Конвертация цен'!H283","v":{"v":3500,"d":"3500.00"}},{"$f":"J40-J40*Оглавление!$K$19","v":{"v":3500,"d":"3500.00"}},null,{"v":0,"d":"0.00"}]
[null,"GK 7081","Переходник для узлов нижнего подключения в радиаторы с внутренней резьбой 1/2''",null,null,"1/2''x3/4''",20,50,500,{"$f":"'Конвертация цен'!H284","v":{"v":213,"d":"213.00"}},{"$f":"J41-J41*Оглавление!$K$19","v":{"v":213,"d":"213.00"}},null,{"$f":"L41*K41","v":{"v":0,"d":"0.00"}}]

{"sheet":"Бойлеры OLD","index":7,"n_rows":70,"n_cols":12,"rows_kept":70,"hidden":true,"merged":[[3,0,3,8],[4,0,4,7],[5,9,5,11],[17,10,17,11],[18,0,19,0],[18,1,19,1],[18,2,19,3],[18,9,19,9],[18,10,19,10],[18,11,19,11],[20,0,24,0],[20,2,20,3],[21,2,21,3],[22,2,22,3],[23,2,23,3],[24,2,24,3],[25,0,28,0],[25,1,28,1],[25,2,28,3],[25,4,28,4],[25,5,28,5],[25,6,28,6],[25,7,28,7],[25,8,28,8],[25,9,28,9],[25,10,28,10],[25,11,28,11],[29,0,30,0],[29,2,29,3],[30,2,30,3],[31,0,33,0],[31,2,31,3],[32,2,32,3],[33,2,33,3],[45,0,46,0],[45,1,46,1],[45,2,46,3],[45,9,46,9],[45,10,46,10],[45,11,46,11],[47,0,52,0],[47,2,47,3],[48,2,48,3],[49,2,49,3],[50,2,50,3],[51,2,51,3],[52,2,52,3],[64,0,65,0],[64,1,65,1],[64,2,65,3],[64,5,64,6],[64,9,65,9],[64,10,65,10],[64,11,65,11],[65,5,65,6],[66,0,69,0],[66,2,66,3],[66,5,66,6],[67,2,67,3],[67,5,67,6],[68,2,68,3],[68,5,68,6],[69,2,69,3],[69,5,69,6]]}
[]
[]
[]
["Бойлеры косвенного нагрева, Накопители горячей воды,"]
["Теплоаккумуляторы (ДО СЕНТЯБРЯ 2024 ГОДА)"]
[{"$nulls":9},"На главную страницу"]
["БОЙЛЕРЫ КОСВЕННОГО НАГРЕВА НАПОЛЬНЫЕ "]
["• Максимальная рабочая температура бойлера: +95⁰C"]
["• Максимальное рабочее давление бойлера: 6 бар"]
["• Бойлеры изготовлены из нержавеющей стали ГОСТ 08Х18Н10 (AISI 304)"]
["• Толщина стали корпуса 1,5 мм для объёма 150-500 л и  3,0 мм для объёма 800-1000 л"]
["• Теплообменник выполнен из гладкой трубы с толщиной стенки 1,5 мм"]
["• Встроенный магниевый анод, для модели TC - магниевый анод не предусмотрен"]
["• Разборная секционная теплоизоляция из пенополистирола 30 мм для модели TC, 50 мм для бойлеров 150-500 л, 60 мм для бойлеров 800-1000 л"]
["• Защитный кожух из ABS-пластика для бойлеров 150-500 л, из ткани для бойлеров 800-1000 л"]
["• Возможность установки ТЭНа с присоединением G1 1/2”, ТЭН поставляется отдельно"]
["• Ревизионный люк диаметром 125 мм"]
[{"$nulls":9},"Итого:",{"$f":"SUM(L21:L34)+SUM(L48:L53)+SUM(L67:L70)+SUM(#REF!)+SUM(#REF!)","v":{"$error":"#REF!"}}]
["Фото","Артикул","Наименование товара",null,"Вместимость бойлера","Площадь теплообменника","Ёмкость теплообменника","Вес","Цена за шт.","Цена со скидкой, RUB","Кол-во, шт.","Сумма со скидкой, RUB"]
[{"$nulls":4},"л","м2","л","кг","RUB"]
[null,"GKB1501N","Бойлер Gekon HWB 150 1HE INOX, 30 кВт",null,150,1.1,7.9,36,{"$f":"'Конвертация цен'!H293","v":{"v":78481,"d":"78481.00"}},{"$f":"I21-I21*Оглавление!$K$20","v":{"v":78481,"d":"78,481.00"}},null,{"$f":"K21*J21","v":{"v":0,"d":"0.00"}}]
[null,"GKB2001N","Бойлер Gekon HWB 200 1HE INOX, 30 кВт",null,200,1.1,7.9,46,{"$f":"'Конвертация цен'!H294","v":{"v":86816,"d":"86816.00"}},{"$f":"I22-I22*Оглавление!$K$20","v":{"v":86816,"d":"86,816.00"}},null,{"$f":"K22*J22","v":{"v":0,"d":"0.00"}}]
[null,"GKB3001N","Бойлер Gekon HWB 300 1HE INOX, 45 кВт",null,300,1.6,11.8,67,{"$f":"'Конвертация цен'!H295","v":{"v":121300,"d":"121300.00"}},{"$f":"I23-I23*Оглавление!$K$20","v":{"v":121300,"d":"121,300.00"}},null,{"v":0,"d":"0.00"}]
[null,"GKB4001N","Бойлер Gekon HWB 400 1HE INOX, 53 кВт",null,400,1.8,12.6,75,{"$f":"'Конвертация цен'!H296","v":{"v":137354,"d":"137354.00"}},{"$f":"I24-I24*Оглавление!$K$20","v":{"v":137354,"d":"137,354.00"}},null,{"v":0,"d":"0.00"}]
[null,"GKB5001N","Бойлер Gekon HWB 500 1HE INOX, 70 кВт",null,500,2.3,14,103,{"$f":"'Конвертация цен'!H297","v":{"v":180930,"d":"180930.00"}},{"$f":"I25-I25*Оглавление!$K$20","v":{"v":180930,"d":"180,930.00"}},null,{"v":0,"d":"0.00"}]
[null,"GKB120TC","Бойлер Gekon HWB 120 1HE TC INOX, 30 кВт            с верхним подключением",null,120,1,7.3,36.5,{"$f":"'Конвертация цен'!H298","v":{"v":83150,"d":"83150.00"}},{"$f":"I26-I26*Оглавление!$K$20","v":{"v":83150,"d":"83,150.00"}},null,{"v":0,"d":"0.00"}]
[]
[]
[]
[null,"GKB300XL","Бойлер Gekon HWB 300 1HE XL INOX, 129 кВт",null,300,4.4,30.9,83,{"$f":"'Конвертация цен'!H299","v":{"v":154392,"d":"154392.00"}},{"$f":"I30-I30*Оглавление!$K$20","v":{"v":154392,"d":"154,392.00"}},null,{"v":0,"d":"0.00"}]
[null,"GKB400XL","Бойлер Gekon HWB 400 1HE XL INOX, 120кВт",null,400,4.1,28.6,86,{"$f":"'Конвертация цен'!H300","v":{"v":161432,"d":"161432.00"}},{"$f":"I31-I31*Оглавление!$K$20","v":{"v":161432,"d":"161,432.00"}},null,{"v":0,"d":"0.00"}]
[null,"GKB2002N","Бойлер Gekon HWB 200 2HE INOX, 15/33 кВт",null,200,"0,5/1,1","3,6/7,9",52,{"$f":"'Конвертация цен'!H301","v":{"v":100570,"d":"100570.00"}},{"$f":"I32-I32*Оглавление!$K$20","v":{"v":100570,"d":"100,570.00"}},null,{"v":0,"d":"0.00"}]
[null,"GKB3002N","Бойлер Gekon HWB 300 2HE INOX, 30/45 кВт",null,300,"1,0/1,6","7,3/11",73,{"$f":"'Конвертация цен'!H302","v":{"v":142417,"d":"142417.00"}},{"$f":"I33-I33*Оглавление!$K$20","v":{"v":142417,"d":"142,417.00"}},null,{"v":0,"d":"0.00"}]
[null,"GKB4002N","Бойлер Gekon HWB 400 2HE INOX, 30/53 кВт",null,400,"1,0/1,8","7,3/11,9",81,{"$f":"'Конвертация цен'!H303","v":{"v":158470,"d":"158470.00"}},{"$f":"I34-I34*Оглавление!$K$20","v":{"v":158470,"d":"158,470.00"}},null,{"v":0,"d":"0.00"}]
[]
["БОЙЛЕРЫ КОСВЕННОГО НАГРЕВА НАСТЕННЫЕ"]
["• Максимальная рабочая температура бойлера: +95⁰C"]
["• Максимальное рабочее давление бойлера: 6 бар"]
["• Бойлеры изготовлены из нержавеющей стали ГОСТ 08Х18Н10 (AISI 304)"]
["• Толщина стали корпуса и теплообменника 1,5 мм"]
["• Встроенный магниевый анод"]
["• Разборная секционная теплоизоляция из пенополистирола 30 мм"]
["• Защитный кожух из ABS-пластика белового цвета"]
["• Возможность установки ТЭНа с присоединением G1 1/2”, ТЭН поставляется отдельно"]
[]
["Фото","Артикул","Наименование товара",null,"Вместимость бойлера","Площадь теплообменника","Ёмкость теплообменника","Вес","Цена за шт.","Цена со скидкой, RUB","Кол-во, шт.","Сумма со скидкой, RUB"]
[{"$nulls":4},"л","м2","л","кг","RUB"]
[null,"GKB80WL","Бойлер Gekon HWB 80 1HE WL INOX, 15,3 кВт с левым подключением",null,80,0.5,3.6,19,{"$f":"'Конвертация цен'!H304","v":{"v":50271,"d":"50271.00"}},{"$f":"I48-I48*Оглавление!$K$20","v":{"v":50271,"d":"50,271.00"}},null,{"$f":"K48*J48","v":{"v":0,"d":"0.00"}}]
[null,"GKB100WL","Бойлер Gekon HWB 100 1HE WL INOX, 15,3 кВт с левым подключением",null,100,0.5,3.6,21,{"$f":"'Конвертация цен'!H305","v":{"v":55500,"d":"55500.00"}},{"$f":"I49-I49*Оглавление!$K$20","v":{"v":55500,"d":"55,500.00"}},null,{"$f":"K49*J49","v":{"v":0,"d":"0.00"}}]
[null,"GKB150WL","Бойлер Gekon HWB 150 1HE WL INOX, 33 кВт с левым подключением",null,150,1.1,7.9,32,{"$f":"'Конвертация цен'!H306","v":{"v":72430,"d":"72430.00"}},{"$f":"I50-I50*Оглавление!$K$20","v":{"v":72430,"d":"72,430.00"}},null,{"$f":"K50*J50","v":{"v":0,"d":"0.00"}}]
[null,"GKB80WR","Бойлер Gekon HWB 80 1HE WL INOX, 15,3 кВт с правым подключением",null,80,0.5,3.6,19,{"$f":"'Конвертация цен'!H307","v":{"v":50271,"d":"50271.00"}},{"$f":"I51-I51*Оглавление!$K$20","v":{"v":50271,"d":"50,271.00"}},null,{"v":0,"d":"0.00"}]
[null,"GKB100WR","Бойлер Gekon HWB 100 1HE WL INOX, 15,3 кВт с правым подключением",null,100,0.5,3.6,21,{"$f":"'Конвертация цен'!H308","v":{"v":55500,"d":"55500.00"}},{"$f":"I52-I52*Оглавление!$K$20","v":{"v":55500,"d":"55,500.00"}},null,{"$f":"K52*J52","v":{"v":0,"d":"0.00"}}]
[null,"GKB150WR","Бойлер Gekon HWB 150 1HE WL INOX, 33 кВт с правым подключением",null,150,1.1,7.9,32,{"$f":"'Конвертация цен'!H309","v":{"v":72430,"d":"72430.00"}},{"$f":"I53-I53*Оглавление!$K$20","v":{"v":72430,"d":"72,430.00"}},null,{"$f":"K53*J53","v":{"v":0,"d":"0.00"}}]
[]
["НАКОПИТЕЛИ ГОРЯЧЕЙ ВОДЫ НАПОЛЬНЫЕ"]
["• Максимальная рабочая температура накопителя: +95⁰C"]
["• Максимальное рабочее давление накопителя: 6 бар"]
["• Накопители изготовлены из нержавеющей стали ГОСТ 08Х18Н10 (AISI 304)"]
["• Толщина стали корпуса 1,5 мм для объёма 150-500 л и  3,0 мм для объёма 800-1000 л"]
["• Встроенный магниевый анод"]
["• Разборная секционная теплоизоляция из пенополистирола 50 мм для накопителей 150-500 л, 60 мм для накопителей 800-1000 л"]
["• Возможность установки ТЭНа с присоединением G1 1/2”, ТЭН поставляется отдельно"]
["• Ревизионный люк диаметром 125 мм"]
[]
["Фото","Артикул","Наименование товара",null,"Вместимость накопителя","Время нагрева воды электроТЭНом 2 кВт/3 кВт - для объёма 150-500 л, \n3 кВт/5 кВт - для объёма  800-1000 л",null,"Вес","Цена за шт.","Цена со скидкой, RUB","Кол-во, шт.","Сумма со скидкой, RUB"]
[{"$nulls":4},"л","ч",null,"кг","RUB"]
[null,"GKB150ZN","Накопитель горячей воды Gekon HWB 150 ZHE INOX",null,150,"3/2",null,25,{"$f":"'Конвертация цен'!H310","v":{"v":58842,"d":"58842.00"}},{"$f":"I67-I67*Оглавление!$K$20","v":{"v":58842,"d":"58,842.00"}},null,{"$f":"K67*J67","v":{"v":0,"d":"0.00"}}]
[null,"GKB200ZN","Накопитель горячей воды Gekon HWB 200 ZHE INOX",null,200,"4/2,7",null,35,{"$f":"'Конвертация цен'!H311","v":{"v":67364,"d":"67364.00"}},{"$f":"I68-I68*Оглавление!$K$20","v":{"v":67364,"d":"67,364.00"}},null,{"$f":"K68*J68","v":{"v":0,"d":"0.00"}}]
[null,"GKB300ZN","Накопитель горячей воды Gekon HWB 300 ZHE INOX",null,300,"6/4",null,56,{"$f":"'Конвертация цен'!H312","v":{"v":93819,"d":"93819.00"}},{"$f":"I69-I69*Оглавление!$K$20","v":{"v":93819,"d":"93,819.00"}},null,{"v":0,"d":"0.00"}]
[null,"GKB400ZN","Накопитель горячей воды Gekon HWB 400 ZHE INOX",null,400,"8,2/5,4",null,64,{"$f":"'Конвертация цен'!H313","v":{"v":107844,"d":"107844.00"}},{"$f":"I70-I70*Оглавление!$K$20","v":{"v":107844,"d":"107,844.00"}},null,{"v":0,"d":"0.00"}]

{"sheet":"Бойлеры","index":8,"n_rows":126,"n_cols":12,"rows_kept":126,"merged":[[3,0,3,8],[4,0,4,7],[5,9,5,11],[17,10,17,11],[18,0,19,0],[18,1,19,1],[18,2,19,3],[18,9,19,9],[18,10,19,10],[18,11,19,11],[20,0,26,0],[20,2,20,3],[21,2,21,3],[22,2,22,3],[23,2,23,3],[24,2,24,3],[25,2,25,3],[26,2,26,3],[27,0,30,0],[27,1,28,1],[27,2,28,3],[27,4,28,4],[27,5,28,5],[27,6,28,6],[27,7,28,7],[27,8,28,8],[27,9,28,9],[27,10,28,10],[27,11,28,11],[29,1,30,1],[29,2,30,3],[29,4,30,4],[29,5,30,5],[29,6,30,6],[29,7,30,7],[29,8,30,8],[29,9,30,9],[29,10,30,10],[29,11,30,11],[31,0,34,0],[31,1,34,1],[31,2,34,3],[31,4,34,4],[31,5,34,5],[31,6,34,6],[31,7,34,7],[31,8,34,8],[31,9,34,9],[31,10,34,10],[31,11,34,11],[35,0,40,0],[35,2,35,3],[36,2,36,3],[37,2,37,3],[38,2,38,3],[39,2,39,3],[40,2,40,3],[41,0,46,0],[41,2,41,3],[42,2,42,3],[43,2,43,3],[44,2,44,3],[45,2,45,3],[46,2,46,3],[58,0,59,0],[58,1,59,1],[58,2,59,3],[58,9,59,9],[58,10,59,10],[58,11,59,11],[60,0,67,0],[60,2,60,3],[61,2,61,3],[62,2,62,3],[63,2,63,3],[64,2,64,3],[65,2,65,3],[66,2,66,3],[67,2,67,3],[68,2,68,3],[80,0,81,0],[80,1,81,1],[80,2,81,3],[80,5,80,6],[80,9,81,9],[80,10,81,10],[80,11,81,11],[81,5,81,6],[82,0,88,0],[82,2,82,3],[82,5,82,6],[83,2,83,3],[83,5,83,6],[84,2,84,3],[84,5,84,6],[85,2,85,3],[85,5,85,6],[86,2,86,3],[86,5,86,6],[87,2,87,3],[87,5,87,6],[88,2,88,3],[88,5,88,6],[99,0,100,0],[99,1,100,1],[99,2,100,3],[99,5,99,6],[99,9,100,9],[99,10,100,10],[99,11,100,11],[100,5,100,6],[101,2,101,3],[101,5,101,6],[111,0,112,0],[111,1,112,1],[111,2,112,3],[111,5,111,6],[111,9,112,9],[111,10,112,10],[111,11,112,11],[112,5,112,6],[113,0,115,0],[113,2,113,3],[113,5,113,6],[114,2,114,3],[114,5,114,6],[115,2,115,3],[115,5,115,6],[116,0,118,0],[116,2,116,3],[116,5,116,6],[117,2,117,3],[117,5,117,6],[118,2,118,3],[118,5,118,6],[122,0,123,0],[122,1,123,1],[122,2,123,3],[122,5,123,5],[122,9,123,9],[122,10,123,10],[122,11,123,11],[124,0,125,0],[124,2,124,3],[125,2,125,3]]}
[]
[]
[]
["Бойлеры косвенного нагрева, Накопители горячей воды,"]
["Теплоаккумуляторы (С СЕНТЯБРЯ 2024 ГОДА)"]
[{"$nulls":9},"На главную страницу"]
["БОЙЛЕРЫ КОСВЕННОГО НАГРЕВА НАПОЛЬНЫЕ "]
["• Максимальная рабочая температура бойлера: +95⁰C"]
["• Максимальное рабочее давление бойлера: 6 бар"]
["• Бойлеры изготовлены из нержавеющей стали ГОСТ 08Х18Н10 (AISI 304)"]
["• Толщина стали корпуса 1,5 мм для объёма 150-500 л и  3,0 мм для объёма 800-1000 л"]
["• Теплообменник выполнен из гладкой трубы с толщиной стенки 1,5 мм"]
["• Встроенный магниевый анод, для модели TC - магниевый анод не предусмотрен"]
["• Разборная секционная теплоизоляция из пенополистирола 30 мм для модели TC, 50 мм для бойлеров 150-500 л, 60 мм для бойлеров 800-1000 л"]
["• Защитный кожух из ABS-пластика для бойлеров 150-500 л, из ткани для бойлеров 800-1000 л и для моделей B01S"]
["• Возможность установки ТЭНа с присоединением G1 1/2”, ТЭН поставляется отдельно"]
["• Ревизионный люк диаметром 125 мм"]
[{"$nulls":9},"Итого:",{"$f":"SUM(L21:L47)+SUM(L61:L69)+SUM(L83:L89)+SUM(L102)+SUM(L114:L119)","v":{"v":0,"d":"0.00"}}]
["Фото","Артикул","Наименование товара",null,"Вместимость бойлера","Площадь теплообменника","Ёмкость теплообменника","Вес","Цена за шт.","Цена со скидкой, RUB","Кол-во, шт.","Сумма со скидкой, RUB"]
[{"$nulls":4},"л","м2","л","кг","RUB"]
[null,"GK1501","Бойлер напольный B01 150 л, с 1-м ТО, 30 кВт, INOX, Gekon",null,150,{"v":1,"d":"1.0"},{"v":8,"d":"8.0"},42,{"$f":"'Конвертация цен'!H317","v":{"v":78481.26018468224,"d":"78481.26"}},{"$f":"I21-I21*Оглавление!$K$20","v":{"v":78481.26018468224,"d":"78,481.26"}},null,{"$f":"K21*J21","v":{"v":0,"d":"0.00"}}]
[null,"GK2001","Бойлер напольный B01 200 л, с 1-м ТО, 30 кВт, INOX, Gekon",null,200,{"v":1,"d":"1.0"},{"v":8,"d":"8.0"},50,{"$f":"'Конвертация цен'!H318","v":{"v":86815.86094513851,"d":"86815.86"}},{"$f":"I22-I22*Оглавление!$K$20","v":{"v":86815.86094513851,"d":"86,815.86"}},null,{"$f":"K22*J22","v":{"v":0,"d":"0.00"}}]
[null,"GK3001","Бойлер напольный B01 300 л, с 1-м ТО, 40 кВт, INOX, Gekon",null,300,1.3,{"v":10,"d":"10.0"},68,{"$f":"'Конвертация цен'!H319","v":{"v":121300.38022813688,"d":"121300.38"}},{"$f":"I23-I23*Оглавление!$K$20","v":{"v":121300.38022813688,"d":"121,300.38"}},null,{"v":0,"d":"0.00"}]
[null,"GK4001","Бойлер напольный B01 400 л, с 1-м ТО, 51 кВт, INOX, Gekon",null,400,1.7,{"v":14,"d":"14.0"},77,{"$f":"'Конвертация цен'!H320","v":{"v":137353.6121673004,"d":"137353.61"}},{"$f":"I24-I24*Оглавление!$K$20","v":{"v":137353.6121673004,"d":"137,353.61"}},null,{"v":0,"d":"0.00"}]
[null,"GK5001","Бойлер напольный B01 500 л, с 1-м ТО, 60 кВт, INOX, Gekon",null,500,{"v":3,"d":"3.0"},{"v":16,"d":"16.0"},103,{"$f":"'Конвертация цен'!H321","v":{"v":180929.92938620315,"d":"180929.93"}},{"$f":"I25-I25*Оглавление!$K$20","v":{"v":180929.92938620315,"d":"180,929.93"}},null,{"v":0,"d":"0.00"}]
[null,"GK8001","Бойлер напольный B01 800 л, с 1-м ТО, 90 кВт, INOX, Gekon",null,800,{"v":3,"d":"3.0"},{"v":24,"d":"24.0"},165,{"$f":"'Конвертация цен'!H322","v":{"v":305535.6855163525,"d":"305535.69"}},{"$f":"I26-I26*Оглавление!$K$20","v":{"v":305535.6855163525,"d":"305,535.69"}},null,{"v":0,"d":"0.00"}]
[null,"GK10001","Бойлер напольный B01 1000 л, с 1-м ТО, 98 кВт, INOX, Gekon",null,1000,3.2,{"v":25,"d":"25.0"},200,{"$f":"'Конвертация цен'!H323","v":{"v":351996.1333977767,"d":"351996.13"}},{"$f":"I27-I27*Оглавление!$K$20","v":{"v":351996.1333977767,"d":"351,996.13"}},null,{"v":0,"d":"0.00"}]
[null,"GK1601S","Бойлер напольный B01S 160 л, с 1-м ТО, 20 кВт, INOX, Gekon",null,160,0.6,{"v":5,"d":"5.0"},31,{"$f":"'Конвертация цен'!H324","v":{"v":61988,"d":"61988.00"}},{"$f":"I28-I28*Оглавление!$K$20","v":{"v":61988,"d":"61,988.00"}},null,{"$f":"K28*J28","v":{"v":0,"d":"0.00"}}]
[]
[null,"GK2101S","Бойлер напольный B01S 200 л, с 1-м ТО, 20 кВт, INOX, Gekon",null,200,0.6,{"v":5,"d":"5.0"},35,{"$f":"'Конвертация цен'!H325","v":{"v":67623,"d":"67623.00"}},{"$f":"I30-I30*Оглавление!$K$20","v":{"v":67623,"d":"67,623.00"}},null,{"$f":"K30*J30","v":{"v":0,"d":"0.00"}}]
[]
[null,"GK1201TC","Бойлер напольный BTC 120 л, с 1-м ТО, 28 кВт, INOX, Gekon",null,120,0.9,{"v":7,"d":"7.0"},39,{"$f":"'Конвертация цен'!H326","v":{"v":83150,"d":"83150.00"}},{"$f":"I32-I32*Оглавление!$K$20","v":{"v":83150,"d":"83,150.00"}},null,{"v":0,"d":"0.00"}]
[]
[]
[]
[null,"GK2001XL","Бойлер напольный BXL 200 л, с 1-м ТО, 60 кВт, INOX, Gekon",null,200,2,{"v":16,"d":"16.0"},62,{"$f":"'Конвертация цен'!H327","v":{"v":109750.00542994287,"d":"109750.01"}},{"$f":"I36-I36*Оглавление!$K$20","v":{"v":109750.00542994287,"d":"109,750.01"}},null,{"v":0,"d":"0.00"}]
[null,"GK3001XL","Бойлер напольный BXL 300 л, с 1-м ТО, 115 кВт, INOX, Gekon",null,300,3.8,{"v":30,"d":"30.0"},93,{"$f":"'Конвертация цен'!H328","v":{"v":154392.17816404128,"d":"154392.18"}},{"$f":"I37-I37*Оглавление!$K$20","v":{"v":154392.17816404128,"d":"154,392.18"}},null,{"v":0,"d":"0.00"}]
[null,"GK4001XL","Бойлер напольный BXL 400 л, с 1-м ТО, 100 кВт, INOX, Gekon",null,400,3.3,{"v":26,"d":"26.0"},93,{"$f":"'Конвертация цен'!H329","v":{"v":161431.83052688756,"d":"161431.83"}},{"$f":"I38-I38*Оглавление!$K$20","v":{"v":161431.83052688756,"d":"161,431.83"}},null,{"v":0,"d":"0.00"}]
[null,"GK5001XL","Бойлер напольный BXL 500 л, с 1-м ТО, 127 кВт, INOX, Gekon",null,500,4.2,{"v":33,"d":"33.0"},122.5,{"$f":"'Конвертация цен'!H330","v":{"v":225560.23083758928,"d":"225560.23"}},{"$f":"I39-I39*Оглавление!$K$20","v":{"v":225560.23083758928,"d":"225,560.23"}},null,{"v":0,"d":"0.00"}]
[null,"GK8001XL","Бойлер напольный BXL 800 л, с 1-м ТО, 120 кВт, INOX, Gekon",null,800,4,{"v":32,"d":"32.0"},179,{"$f":"'Конвертация цен'!H331","v":{"v":325539.981741045,"d":"325539.98"}},{"$f":"I40-I40*Оглавление!$K$20","v":{"v":325539.981741045,"d":"325,539.98"}},null,{"v":0,"d":"0.00"}]
[null,"GK10001XL","Бойлер напольный BXL 1000 л, с 1-м ТО, 150 кВт, INOX, Gekon",null,1000,5,{"v":40,"d":"40.0"},209,{"$f":"'Конвертация цен'!H332","v":{"v":390900.59610117605,"d":"390900.60"}},{"$f":"I41-I41*Оглавление!$K$20","v":{"v":390900.59610117605,"d":"390,900.60"}},null,{"v":0,"d":"0.00"}]
[null,"GK2002","Бойлер напольный B02 200 л, с 2-я ТО, 30/15 кВт, INOX, Gekon",null,200,"1,0/0,5","8,0/4,0",57,{"$f":"'Конвертация цен'!H333","v":{"v":100570.34220532319,"d":"100570.34"}},{"$f":"I42-I42*Оглавление!$K$20","v":{"v":100570.34220532319,"d":"100,570.34"}},null,{"v":0,"d":"0.00"}]
[null,"GK3002","Бойлер напольный B02 300 л, с 2-я ТО, 40/28 кВт, INOX, Gekon",null,300,"1,3/0,9","10,0/7,0",79.5,{"$f":"'Конвертация цен'!H334","v":{"v":142417.16458446498,"d":"142417.16"}},{"$f":"I43-I43*Оглавление!$K$20","v":{"v":142417.16458446498,"d":"142,417.16"}},null,{"v":0,"d":"0.00"}]
[null,"GK4002","Бойлер напольный B02 400 л, с 2-я ТО, 51/23 кВт, INOX, Gekon",null,400,"1,7/0,8","14,0/6,0",82,{"$f":"'Конвертация цен'!H335","v":{"v":158470.39652362847,"d":"158470.40"}},{"$f":"I44-I44*Оглавление!$K$20","v":{"v":158470.39652362847,"d":"158,470.40"}},null,{"v":0,"d":"0.00"}]
[null,"GK5002","Бойлер напольный B02 500 л, с 2-я ТО, 60/23 кВт, INOX, Gekon",null,500,"2,0/0,8","16,0/6,0",112,{"$f":"'Конвертация цен'!H336","v":{"v":206707.70877944323,"d":"206707.71"}},{"$f":"I45-I45*Оглавление!$K$20","v":{"v":206707.70877944323,"d":"206,707.71"}},null,{"v":0,"d":"0.00"}]
[null,"GK8002","Бойлер напольный B02 800 л, с 2-я ТО, 90/28 кВт, INOX, Gekon",null,800,"3,0/0,9","24,0/7,0",180,{"$f":"'Конвертация цен'!H337","v":{"v":324936.36217174155,"d":"324936.36"}},{"$f":"I46-I46*Оглавление!$K$20","v":{"v":324936.36217174155,"d":"324,936.36"}},null,{"v":0,"d":"0.00"}]
[null,"GK10002","Бойлер напольный B02 1000 л, с 2-я ТО, 98/45 кВт, INOX, Gekon",null,1000,"3,2/1,5","25,0/12,0",200,{"$f":"'Конвертация цен'!H338","v":{"v":371394.66194081947,"d":"371394.66"}},{"$f":"I47-I47*Оглавление!$K$20","v":{"v":371394.66194081947,"d":"371,394.66"}},null,{"v":0,"d":"0.00"}]
[]
["БОЙЛЕРЫ КОСВЕННОГО НАГРЕВА НАСТЕННЫЕ"]
["• Максимальная рабочая температура бойлера: +95⁰C"]
["• Максимальное рабочее давление бойлера: 6 бар"]
["• Бойлеры изготовлены из нержавеющей стали ГОСТ 08Х18Н10 (AISI 304)"]
["• Толщина стали корпуса и теплообменника 1,5 мм"]
["• Встроенный магниевый анод"]
["• Разборная секционная теплоизоляция из пенополистирола 30 мм"]
["• Защитный кожух из ABS-пластика белового цвета"]
["• Возможность установки ТЭНа с присоединением G1 1/2”, ТЭН поставляется отдельно"]
[]
["Фото","Артикул","Наименование товара",null,"Вместимость бойлера","Площадь теплообменника","Ёмкость теплообменника","Вес","Цена за шт.","Цена со скидкой, RUB","Кол-во, шт.","Сумма со скидкой, RUB"]
[{"$nulls":4},"л","м2","л","кг","RUB"]
[null,"GK801WL","Бойлер настенный BW 80 л, с 1-м ТО, 15 кВт, подключение слева, INOX, Gekon",null,80,0.5,{"v":4,"d":"4.0"},24,{"$f":"'Конвертация цен'!H339","v":{"v":50270.505160239,"d":"50270.51"}},{"$f":"I61-I61*Оглавление!$K$20","v":{"v":50270.505160239,"d":"50,270.51"}},null,{"$f":"K61*J61","v":{"v":0,"d":"0.00"}}]
[null,"GK1001WL","Бойлер настенный BW 100 л, с 1-м ТО, 15 кВт, подключение слева, INOX, Gekon",null,100,0.5,{"v":4,"d":"4.0"},26,{"$f":"'Конвертация цен'!H340","v":{"v":55500.27159152635,"d":"55500.27"}},{"$f":"I62-I62*Оглавление!$K$20","v":{"v":55500.27159152635,"d":"55,500.27"}},null,{"$f":"K62*J62","v":{"v":0,"d":"0.00"}}]
[null,"GK1501WL","Бойлер настенный BW 150 л, с 1-м ТО, 30 кВт, подключение слева, INOX, Gekon",null,150,1,{"v":8,"d":"8.0"},37,{"$f":"'Конвертация цен'!H341","v":{"v":72430.2009777295,"d":"72430.20"}},{"$f":"I63-I63*Оглавление!$K$20","v":{"v":72430.2009777295,"d":"72,430.20"}},null,{"$f":"K63*J63","v":{"v":0,"d":"0.00"}}]
[null,"GK2001WL","Бойлер настенный BW 200 л, с 1-м ТО, 30 кВт, подключение слева, INOX, Gekon",null,200,1,{"v":8,"d":"8.0"},37,{"$f":"'Конвертация цен'!H342","v":{"v":80765,"d":"80765.00"}},{"$f":"I64-I64*Оглавление!$K$20","v":{"v":80765,"d":"80,765.00"}},null,{"v":0,"d":"0.00"}]
[null,"GK801WR","Бойлер настенный BW 80 л, с 1-м ТО, 15 кВт, подключение справа, INOX, Gekon",null,80,0.5,{"v":4,"d":"4.0"},24,{"$f":"'Конвертация цен'!H343","v":{"v":50270.505160239,"d":"50270.51"}},{"$f":"I65-I65*Оглавление!$K$20","v":{"v":50270.505160239,"d":"50,270.51"}},null,{"v":0,"d":"0.00"}]
[null,"GK1001WR","Бойлер настенный BW 100 л, с 1-м ТО, 15 кВт, подключение справа, INOX, Gekon",null,100,0.5,{"v":4,"d":"4.0"},26,{"$f":"'Конвертация цен'!H344","v":{"v":55500.27159152635,"d":"55500.27"}},{"$f":"I66-I66*Оглавление!$K$20","v":{"v":55500.27159152635,"d":"55,500.27"}},null,{"$f":"K66*J66","v":{"v":0,"d":"0.00"}}]
[null,"GK1501WR","Бойлер настенный BW 150 л, с 1-м ТО, 30 кВт, подключение справа, INOX, Gekon",null,150,1,{"v":8,"d":"8.0"},37,{"$f":"'Конвертация цен'!H345","v":{"v":72430.2009777295,"d":"72430.20"}},{"$f":"I67-I67*Оглавление!$K$20","v":{"v":72430.2009777295,"d":"72,430.20"}},null,{"$f":"K67*J67","v":{"v":0,"d":"0.00"}}]
[null,"GK2001WR","Бойлер настенный BW 200 л, с 1-м ТО, 30 кВт, подключение справа, INOX, Gekon",null,200,1,{"v":8,"d":"8.0"},37,{"$f":"'Конвертация цен'!H346","v":{"v":80765,"d":"80765.00"}},{"$f":"I68-I68*Оглавление!$K$20","v":{"v":80765,"d":"80,765.00"}},null,{"$f":"K68*J68","v":{"v":0,"d":"0.00"}}]
[null,"GK1201WB","Бойлер настенный BW 120 л, с 1-м ТО, 28 кВт, подключение нижнее, INOX, Gekon",null,120,0.9,{"v":7,"d":"7.0"},39,{"$f":"'Конвертация цен'!H347","v":{"v":78500,"d":"78500.00"}},{"$f":"I69-I69*Оглавление!$K$20","v":{"v":78500,"d":"78,500.00"}},null,{"$f":"K69*J69","v":{"v":0,"d":"0.00"}}]
[]
["НАКОПИТЕЛИ ГОРЯЧЕЙ ВОДЫ НАПОЛЬНЫЕ"]
["• Максимальная рабочая температура накопителя: +95⁰C"]
["• Максимальное рабочее давление накопителя: 6 бар"]
["• Накопители изготовлены из нержавеющей стали ГОСТ 08Х18Н10 (AISI 304)"]
["• Толщина стали корпуса 1,5 мм для объёма 150-500 л и  3,0 мм для объёма 800-1000 л"]
["• Встроенный магниевый анод"]
["• Разборная секционная теплоизоляция из пенополистирола 50 мм для накопителей 150-500 л, 60 мм для накопителей 800-1000 л"]
["• Возможность установки ТЭНа с присоединением G1 1/2”, ТЭН поставляется отдельно"]
["• Ревизионный люк диаметром 125 мм"]
[]
["Фото","Артикул","Наименование товара",null,"Вместимость накопителя","Время нагрева воды электроТЭНом 2 кВт/3 кВт - для объёма 150-500 л, \n3 кВт/5 кВт - для объёма  800-1000 л",null,"Вес","Цена за шт.","Цена со скидкой, RUB","Кол-во, шт.","Сумма со скидкой, RUB"]
[{"$nulls":4},"л","ч",null,"кг","RUB"]
[null,"GK150","Накопитель горячей воды напольный BT 150 л, INOX, Gekon",null,150,"3/2",null,31,{"$f":"'Конвертация цен'!H348","v":58841.93},{"$f":"I83-I83*Оглавление!$K$20","v":{"v":58841.93,"d":"58,841.93"}},null,{"$f":"K83*J83","v":{"v":0,"d":"0.00"}}]
[null,"GK200","Накопитель горячей воды напольный BT 200 л, INOX, Gekon",null,200,"4/2,7",null,39,{"$f":"'Конвертация цен'!H349","v":{"v":67364.47582835416,"d":"67364.48"}},{"$f":"I84-I84*Оглавление!$K$20","v":{"v":67364.47582835416,"d":"67,364.48"}},null,{"$f":"K84*J84","v":{"v":0,"d":"0.00"}}]
[null,"GK300","Накопитель горячей воды напольный BT 300 л, INOX, Gekon",null,300,"6/4",null,52,{"$f":"'Конвертация цен'!H350","v":{"v":93818.57686040195,"d":"93818.58"}},{"$f":"I85-I85*Оглавление!$K$20","v":{"v":93818.57686040195,"d":"93,818.58"}},null,{"v":0,"d":"0.00"}]
[null,"GK400","Накопитель горячей воды напольный BT 400 л, INOX, Gekon",null,400,"8,2/5,4",null,52,{"$f":"'Конвертация цен'!H351","v":{"v":107843.56328082563,"d":"107843.56"}},{"$f":"I86-I86*Оглавление!$K$20","v":{"v":107843.56328082563,"d":"107,843.56"}},null,{"v":0,"d":"0.00"}]
[null,"GK500","Накопитель горячей воды напольный BT 500 л, INOX, Gekon",null,500,"10,2/6,8",null,78,{"$f":"'Конвертация цен'!H352","v":{"v":149364.02569593146,"d":"149364.03"}},{"$f":"I87-I87*Оглавление!$K$20","v":{"v":149364.02569593146,"d":"149,364.03"}},null,{"v":0,"d":"0.00"}]
[null,"GK800","Накопитель горячей воды напольный BT 800 л, INOX, Gekon",null,800,"11/7",null,130,{"$f":"'Конвертация цен'!H353","v":{"v":242432.74729930097,"d":"242432.75"}},{"$f":"I88-I88*Оглавление!$K$20","v":{"v":242432.74729930097,"d":"242,432.75"}},null,{"v":0,"d":"0.00"}]
[null,"GK1000","Накопитель горячей воды напольный BT 1000 л, INOX, Gekon",null,1000,"13,5/8",null,143,{"$f":"'Конвертация цен'!H354","v":{"v":279095.7041179461,"d":"279095.70"}},{"$f":"I89-I89*Оглавление!$K$20","v":{"v":279095.7041179461,"d":"279,095.70"}},null,{"v":0,"d":"0.00"}]
[]
["НАКОПИТЕЛИ ГОРЯЧЕЙ ВОДЫ НАПОЛЬНЫЕ"]
["• Максимальная рабочая температура накопителя: +95⁰C"]
["• Максимальное рабочее давление накопителя: 6 бар"]
["• Накопители изготовлены из нержавеющей стали ГОСТ 08Х18Н10 (AISI 304)"]
["• Толщина стали корпуса 1,5 мм "]
["• Встроенный магниевый анод"]
["• Разборная секционная теплоизоляция из пенополистирола 30 мм "]
["• В составе накопителя установлен циркуляционный насос 20-4 (130) с термостатом"]
[]
["Фото","Артикул","Наименование товара",null,"Вместимость накопителя","Время нагрева воды электроТЭНом 2 кВт/3 кВт - для объёма 100 л",null,"Вес","Цена за шт.","Цена со скидкой, RUB","Кол-во, шт.","Сумма со скидкой, RUB"]
[{"$nulls":4},"л","ч",null,"кг","RUB"]
[null,"GK100P","Накопитель горячей воды напольный BP 100 л, с насосом ГВС, INOX, Gekon",null,100,"2/1,5",null,36.5,{"$f":"'Конвертация цен'!H355","v":{"v":61539.9471437284,"d":"61539.95"}},{"$f":"I102-I102*Оглавление!$K$20","v":{"v":61539.9471437284,"d":"61,539.95"}},null,{"$f":"K102*J102","v":{"v":0,"d":"0.00"}}]
[]
["ТЕПЛОВЫЕ ВОДЯНЫЕ АККУМУЛЯТОРЫ"]
["• Максимальная рабочая температура бака: +95⁰C"]
["• Максимальное рабочее давление: 6 бар"]
["• Толщина стенки бака 3 мм для объёма 500 л и  4 мм для объёма 800-1000 л"]
["• Разборная секционная теплоизоляция из пенополистирола 50 мм для баков 500 л, 60 мм для баков 800-1000 л"]
["• Защитная тканевая оболочка чёрного цвета"]
["• Возможность установки ТЭНа с присоединением G2”, ТЭН поставляется отдельно"]
[]
["Фото","Артикул","Наименование товара",null,"Вместимость накопителя","Время нагрева воды электроТЭНом 2 кВт/3 кВт - для объёма 150-500 л, \n3 кВт/5 кВт - для объёма  800-1000 л",null,"Вес","Цена за шт.","Цена со скидкой, RUB","Кол-во, шт.","Сумма со скидкой, RUB"]
[{"$nulls":4},"л","ч",null,"кг","RUB"]
[null,"GK500BS","Теплоаккумулятор Buffer S 500 л, одностороннее расположение патрубков, Gekon",null,500,"10,2/6,8",null,102,{"$f":"'Конвертация цен'!H356","v":{"v":63530.906990179086,"d":"63530.91"}},{"$f":"I114-I114*Оглавление!$K$20","v":{"v":63530.906990179086,"d":"63,530.91"}},null,{"$f":"K114*J114","v":{"v":0,"d":"0.00"}}]
[null,"GK800BS","Теплоаккумулятор Buffer S 800 л, одностороннее расположение патрубков, Gekon",null,800,"11/7",null,173,{"$f":"'Конвертация цен'!H357","v":{"v":85370.30618139803,"d":"85370.31"}},{"$f":"I115-I115*Оглавление!$K$20","v":{"v":85370.30618139803,"d":"85,370.31"}},null,{"$f":"K115*J115","v":{"v":0,"d":"0.00"}}]
[null,"GK1000BS","Теплоаккумулятор Buffer S 1000 л, одностороннее расположение патрубков, Gekon",null,1000,"13,5/8",null,200,{"$f":"'Конвертация цен'!H358","v":{"v":96481.80242634314,"d":"96481.80"}},{"$f":"I116-I116*Оглавление!$K$20","v":{"v":96481.80242634314,"d":"96,481.80"}},null,{"v":0,"d":"0.00"}]
[null,"GK500BA","Теплоаккумулятор Buffer A 500 л, расположение патрубков под углом 90 градусов, Gekon",null,500,"10,2/6,8",null,102,{"$f":"'Конвертация цен'!H359","v":{"v":63530.906990179086,"d":"63530.91"}},{"$f":"I117-I117*Оглавление!$K$20","v":{"v":63530.906990179086,"d":"63,530.91"}},null,{"v":0,"d":"0.00"}]
[null,"GK800BA","Теплоаккумулятор Buffer A 800 л, расположение патрубков под углом 90 градусов, Gekon",null,800,"11/7",null,173,{"$f":"'Конвертация цен'!H360","v":{"v":85370.30618139803,"d":"85370.31"}},{"$f":"I118-I118*Оглавление!$K$20","v":{"v":85370.30618139803,"d":"85,370.31"}},null,{"v":0,"d":"0.00"}]
[null,"GK1000BA","Теплоаккумулятор Buffer A 1000 л, расположение патрубков под углом 90 градусов, Gekon",null,1000,"13,5/8",null,200,{"$f":"'Конвертация цен'!H361","v":{"v":96481.80242634314,"d":"96481.80"}},{"$f":"I119-I119*Оглавление!$K$20","v":{"v":96481.80242634314,"d":"96,481.80"}},null,{"v":0,"d":"0.00"}]
[]
["ДОПОЛНИТЕЛЬНОЕ ОБОРУДОВАНИЕ ДЛЯ БОЙЛЕРОВ, НАГРЕВАТЕЛЕЙ И ТЕПЛОАККУМУЛЯТОРОВ"]
[]
["Фото","Артикул","Наименование товара",null,"Диаметр","Присоединение","Длина","Вес","Цена за шт.","Цена со скидкой, RUB","Кол-во, шт.","Сумма со скидкой, RUB"]
[{"$nulls":4},"мм",null,"мм","кг","RUB"]
[null,"GKMA8D2140","Анод магниевый L=400 мм, D21 мм,  М8х10 ",null,21,"М8х10",400,{"v":0.3,"d":"0.30"},{"$f":"'Конвертация цен'!H362","v":{"v":850,"d":"850.00"}},{"$f":"I125-I125*Оглавление!$K$20","v":{"v":850,"d":"850.00"}},null,{"$f":"K125*J125","v":{"v":0,"d":"0.00"}}]
[null,"GKMA8D2145","Анод магниевый L=450 мм, D21 мм,  М8х10 ",null,21,"М8х11",450,0.34,{"$f":"'Конвертация цен'!H363","v":{"v":900,"d":"900.00"}},{"$f":"I126-I126*Оглавление!$K$20","v":{"v":900,"d":"900.00"}},null,{"$f":"K126*J126","v":{"v":0,"d":"0.00"}}]

{"sheet":"Мембранные баки","index":9,"n_rows":251,"n_cols":13,"rows_kept":251,"merged":[[3,0,3,9],[9,10,9,12],[13,11,13,12],[14,0,15,0],[14,1,15,1],[14,2,15,3],[14,10,15,10],[14,11,15,11],[14,12,15,12],[16,0,26,0],[16,2,16,3],[17,2,17,3],[18,2,18,3],[19,2,19,3],[20,2,20,3],[21,2,21,3],[22,2,22,3],[23,2,23,3],[24,2,24,3],[25,2,25,3],[26,2,26,3],[27,0,36,0],[27,2,27,3],[28,2,28,3],[29,2,29,3],[30,2,30,3],[31,2,31,3],[32,2,32,3],[33,2,33,3],[34,2,34,3],[35,2,35,3],[36,2,36,3],[37,0,45,0],[37,2,37,3],[38,2,38,3],[39,2,39,3],[40,2,40,3],[41,2,41,3],[42,2,42,3],[43,2,43,3],[44,2,44,3],[45,2,45,3],[46,0,69,0],[46,2,46,3],[47,2,47,3],[48,2,48,3],[49,2,49,3],[50,2,50,3],[51,2,51,3],[52,2,52,3],[53,2,53,3],[54,2,54,3],[55,2,55,3],[56,2,56,3],[57,2,57,3],[58,2,58,3],[59,2,59,3],[60,2,60,3],[61,2,61,3],[62,2,62,3],[63,2,63,3],[64,2,64,3],[65,2,65,3],[66,2,66,3],[67,2,67,3],[68,2,68,3],[69,2,69,3],[80,0,81,0],[80,1,81,1],[80,2,81,3],[80,10,81,10],[80,11,81,11],[80,12,81,12],[82,0,93,0],[82,2,82,3],[83,2,83,3],[84,2,84,3],[85,2,85,3],[86,2,86,3],[87,2,87,3],[88,2,88,3],[89,2,89,3],[90,2,90,3],[91,2,91,3],[92,2,92,3],[93,2,93,3],[94,0,107,0],[94,2,94,3],[95,2,95,3],[96,2,96,3],[97,2,97,3],[98,2,98,3],[99,2,99,3],[100,2,100,3],[101,2,101,3],[102,2,102,3],[103,2,103,3],[104,2,104,3],[105,2,105,3],[106,2,106,3],[107,2,107,3],[108,0,116,0],[108,2,108,3],[109,2,109,3],[110,2,110,3],[111,2,111,3],[112,2,112,3],[113,2,113,3],[114,2,114,3],[115,2,115,3],[116,2,116,3],[117,0,145,0],[117,2,117,3],[118,2,118,3],[119,2,119,3],[120,2,120,3],[121,2,121,3],[122,2,122,3],[123,2,123,3],[124,2,124,3],[125,2,125,3],[126,2,126,3],[127,2,127,3],[128,2,128,3],[129,2,129,3],[130,2,130,3],[131,2,131,3],[132,2,132,3],[133,2,133,3],[134,2,134,3],[135,2,135,3],[136,2,136,3],[137,2,137,3],[138,2,138,3],[139,2,139,3],[140,2,140,3],[141,2,141,3],[142,2,142,3],[143,2,143,3],[144,2,144,3],[145,2,145,3],[156,0,157,0],[156,1,157,1],[156,2,157,3],[156,10,157,10],[156,11,157,11],[156,12,157,12],[158,0,171,0],[158,2,158,3],[159,2,159,3],[160,2,160,3],[161,2,161,3],[162,2,162,3],[163,2,163,3],[164,2,164,3],[165,2,165,3],[166,2,166,3],[167,2,167,3],[168,2,168,3],[169,2,169,3],[170,2,170,3],[171,2,171,3],[182,0,183,0],[182,1,183,1],[182,2,183,3],[182,10,183,10],[182,11,183,11],[182,12,183,12],[184,0,188,0],[184,2,184,3],[185,2,185,3],[186,2,186,3],[187,2,187,3],[188,2,188,3],[189,0,192,0],[189,2,189,3],[190,2,190,3],[191,2,191,3],[192,2,192,3],[203,0,204,0],[203,1,204,1],[203,2,204,3],[203,10,204,10],[203,11,204,11],[203,12,204,12],[205,0,209,0],[205,2,205,3],[206,2,206,3],[207,2,207,3],[208,2,208,3],[209,2,209,3],[219,0,220,0],[219,1,220,1],[219,2,220,3],[219,10,220,10],[219,11,220,11],[219,12,220,12],[221,0,225,0],[221,2,221,3],[222,2,222,3],[223,2,223,3],[224,2,224,3],[225,2,225,3],[229,0,230,0],[229,1,230,1],[229,2,230,8],[229,10,230,10],[229,11,230,11],[229,12,230,12],[231,2,231,8],[232,2,232,8],[236,0,237,0],[236,1,237,1],[236,2,237,8],[236,10,237,10],[236,11,237,11],[236,12,237,12],[238,0,250,0],[238,2,238,8],[239,2,239,8],[240,2,240,8],[241,2,241,8],[242,2,242,8],[243,2,243,8],[244,2,244,8],[245,2,245,8],[246,2,246,8],[247,2,247,8],[248,2,248,8],[249,2,249,8],[250,2,250,8]]}
[]
[]
[]
["Мембранные расширительные баки"]
[]
["ВЕРТИКАЛЬНЫЕ МЕМБРАННЫЕ РАСШИРИТЕЛЬНЫЕ БАКИ СЕРИИ WRV ДЛЯ СИСТЕМ ОТОПЛЕНИЯ ЗАКРЫТОГО ТИПА"]
["• Диапазон рабочих температур теплоносителя: от -10⁰C до +80⁰C (кратковременно до +99⁰C)"]
["• Тип теплоносителя: вода или водные растворы гликоля с концентрацие до 50%"]
["• Материал корпуса и контрфланца: сталь углеродистая с эпоксиполиэфирным покрытием, цвет красный RAL 3002"]
["• Тип мембраны: заменяемая, материал мембраны: EPDM",{"$nulls":9},"На главную страницу"]
["• Материал ниппеля: латунь"]
["• Тип исполнения: вертикальный"]
["• Размер держателя мембраны у баков 200- 4000 л 3/4\"(НР)x1/2\"(ВР); Размер держателя мембраны у баков 5000- 10000 л 1 1/4\"(ВР)"]
[{"$nulls":10},"Итого:",{"$f":"SUM(M17:M69,M83:M146,M159:M172,M185:M193,M206:M210,M222:M226,M232:M233)","v":{"v":0,"d":"0.00"}}]
["Фото","Артикул","Наименование товара",null,"Объём бака","Pmax","P     преднастройки","Присоединение к системе","Вес","Цена за шт.","Цена со скидкой, RUB","Кол-во, шт.","Сумма со скидкой, RUB"]
[{"$nulls":4},"л","бар","бар","G или DN","кг","RUB"]
[null,"GKB0140029","Бак мембранный для отопления Gekon WRV8",null,8,{"v":5,"d":"5.0"},1.5,"3/4\" (НР)",1.6,{"$f":"'Конвертация цен'!H367","v":2454},{"$f":"J17-J17*Оглавление!$K$21","v":{"v":2454,"d":"2,454.00"}},null,{"$f":"L17*K17","v":{"v":0,"d":"0.00"}}]
[null,"GKB2140200","Бак мембранный для отопления Gekon WRV8 (16 бар)",null,8,{"v":16,"d":"16.0"},{"v":4,"d":"4.0"},"1\" (НР)",7,{"$f":"'Конвертация цен'!H368","v":{"v":11589.64453125,"d":"11590"}},{"$f":"J18-J18*Оглавление!$K$21","v":{"v":11589.64453125,"d":"11,589.64"}},null,{"$f":"L18*K18","v":{"v":0,"d":"0.00"}}]
[null,"GKB2140300","Бак мембранный для отопления Gekon WRV8 (25 бар)",null,8,{"v":25,"d":"25.0"},{"v":4,"d":"4.0"},"1\" (НР)",11,{"$f":"'Конвертация цен'!H369","v":{"v":33682.40441894531,"d":"33682"}},{"$f":"J19-J19*Оглавление!$K$21","v":{"v":33682.40441894531,"d":"33,682.40"}},null,{"v":0,"d":"0.00"}]
[null,"GKB0140049","Бак мембранный для отопления Gekon WRV12",null,12,{"v":5,"d":"5.0"},1.5,"3/4\" (НР)",2.05,{"$f":"'Конвертация цен'!H370","v":2675},{"$f":"J20-J20*Оглавление!$K$21","v":{"v":2675,"d":"2,675.00"}},null,{"v":0,"d":"0.00"}]
[null,"GKB2140302","Бак мембранный для отопления Gekon WRV12 (25 бар)",null,12,{"v":25,"d":"25.0"},{"v":4,"d":"4.0"},"1\" (НР)",12,{"$f":"'Конвертация цен'!H371","v":{"v":33682.40441894531,"d":"33682"}},{"$f":"J21-J21*Оглавление!$K$21","v":{"v":33682.40441894531,"d":"33,682.40"}},null,{"v":0,"d":"0.00"}]
[null,"GKB0140059","Бак мембранный для отопления Gekon WRV18",null,18,{"v":5,"d":"5.0"},1.5,"3/4\" (НР)",2.8,{"$f":"'Конвертация цен'!H372","v":2925},{"$f":"J22-J22*Оглавление!$K$21","v":{"v":2925,"d":"2,925.00"}},null,{"v":0,"d":"0.00"}]
[null,"GKB2140304","Бак мембранный для отопления Gekon WRV18 (25 бар)",null,18,{"v":25,"d":"25.0"},{"v":4,"d":"4.0"},"1\" (НР)",13,{"$f":"'Конвертация цен'!H373","v":{"v":46086.94583129883,"d":"46087"}},{"$f":"J23-J23*Оглавление!$K$21","v":{"v":46086.94583129883,"d":"46,086.95"}},null,{"v":0,"d":"0.00"}]
[null,"GKB0140069","Бак мембранный для отопления Gekon WRV24",null,24,{"v":5,"d":"5.0"},1.5,"3/4\" (НР)",4.25,{"$f":"'Конвертация цен'!H374","v":3153},{"$f":"J24-J24*Оглавление!$K$21","v":{"v":3153,"d":"3,153.00"}},null,{"v":0,"d":"0.00"}]
[null,"GKB2140206","Бак мембранный для отопления Gekon WRV24 (16 бар)",null,24,{"v":16,"d":"16.0"},{"v":4,"d":"4.0"},"1\" (НР)",8,{"$f":"'Конвертация цен'!H375","v":{"v":15935.76123046875,"d":"15936"}},{"$f":"J25-J25*Оглавление!$K$21","v":{"v":15935.76123046875,"d":"15,935.76"}},null,{"v":0,"d":"0.00"}]
[null,"GKB2140306","Бак мембранный для отопления Gekon WRV24 (25 бар)",null,24,{"v":25,"d":"25.0"},{"v":4,"d":"4.0"},"1\" (НР)",13,{"$f":"'Конвертация цен'!H376","v":{"v":46086.94583129883,"d":"46087"}},{"$f":"J26-J26*Оглавление!$K$21","v":{"v":46086.94583129883,"d":"46,086.95"}},null,{"v":0,"d":"0.00"}]
[null,"GKB0140080","Бак мембранный для отопления Gekon WRV35",null,35,{"v":5,"d":"5.0"},1.5,"3/4\" (НР)",5.95,{"$f":"'Конвертация цен'!H377","v":5388},{"$f":"J27-J27*Оглавление!$K$21","v":{"v":5388,"d":"5,388.00"}},null,{"v":0,"d":"0.00"}]
[null,"GKB0140100","Бак мембранный для отопления Gekon WRV50",null,50,{"v":5,"d":"5.0"},1.5,"3/4\" (НР)",7.75,{"$f":"'Конвертация цен'!H378","v":6634},{"$f":"J28-J28*Оглавление!$K$21","v":{"v":6634,"d":"6,634.00"}},null,{"$f":"L28*K28","v":{"v":0,"d":"0.00"}}]
[null,"GKB2140208","Бак мембранный для отопления Gekon WRV50 (16 бар)",null,50,{"v":16,"d":"16.0"},{"v":4,"d":"4.0"},"1\" (НР)",16,{"$f":"'Конвертация цен'!H379","v":{"v":32143.154754638672,"d":"32143"}},{"$f":"J29-J29*Оглавление!$K$21","v":{"v":32143.154754638672,"d":"32,143.15"}},null,{"$f":"L29*K29","v":{"v":0,"d":"0.00"}}]
[null,"GKB0140120","Бак мембранный для отопления Gekon WRV80",null,80,{"v":5,"d":"5.0"},1.5,"3/4\" (НР)",11.15,{"$f":"'Конвертация цен'!H380","v":9228},{"$f":"J30-J30*Оглавление!$K$21","v":{"v":9228,"d":"9,228.00"}},null,{"v":0,"d":"0.00"}]
[null,"GKB2140212","Бак мембранный для отопления Gekon WRV80 (16 бар)",null,80,{"v":16,"d":"16.0"},{"v":4,"d":"4.0"},"1\" (НР)",26,{"$f":"'Конвертация цен'!H381","v":{"v":50070.886138916016,"d":"50071"}},{"$f":"J31-J31*Оглавление!$K$21","v":{"v":50070.886138916016,"d":"50,070.89"}},null,{"v":0,"d":"0.00"}]
[null,"GKB0140140","Бак мембранный для отопления Gekon WRV100",null,100,{"v":5,"d":"5.0"},1.5,"1\" (НР)",13.25,{"$f":"'Конвертация цен'!H382","v":13263},{"$f":"J32-J32*Оглавление!$K$21","v":{"v":13263,"d":"13,263.00"}},null,{"v":0,"d":"0.00"}]
[null,"GKB2140214","Бак мембранный для отопления Gekon WRV100 (16 бар)",null,100,{"v":16,"d":"16.0"},{"v":4,"d":"4.0"},"1\" (НР)",47,{"$f":"'Конвертация цен'!H383","v":{"v":53783.19415283203,"d":"53783"}},{"$f":"J33-J33*Оглавление!$K$21","v":{"v":53783.19415283203,"d":"53,783.19"}},null,{"v":0,"d":"0.00"}]
[null,"GKB2140314","Бак мембранный для отопления Gekon WRV100 (25 бар)",null,100,{"v":25,"d":"25.0"},{"v":4,"d":"4.0"},"1\" (НР)",51,{"$f":"'Конвертация цен'!H384","v":{"v":124317.04641723633,"d":"124317"}},{"$f":"J34-J34*Оглавление!$K$21","v":{"v":124317.04641723633,"d":"124,317.05"}},null,{"v":0,"d":"0.00"}]
[null,"GKB0140160","Бак мембранный для отопления Gekon WRV150",null,150,{"v":5,"d":"5.0"},1.5,"1\" (НР)",17.2,{"$f":"'Конвертация цен'!H385","v":20092},{"$f":"J35-J35*Оглавление!$K$21","v":{"v":20092,"d":"20,092.00"}},null,{"v":0,"d":"0.00"}]
[null,"GKB2140216","Бак мембранный для отопления Gekon WRV150 (16 бар)",null,150,{"v":16,"d":"16.0"},{"v":4,"d":"4.0"},"1\" (НР)",47,{"$f":"'Конвертация цен'!H386","v":{"v":61388.898376464844,"d":"61389"}},{"$f":"J36-J36*Оглавление!$K$21","v":{"v":61388.898376464844,"d":"61,388.90"}},null,{"v":0,"d":"0.00"}]
[null,"GKB2140316","Бак мембранный для отопления Gekon WRV150 (25 бар)",null,150,{"v":25,"d":"25.0"},{"v":4,"d":"4.0"},"1\" (НР)",45,{"$f":"'Конвертация цен'!H387","v":{"v":199106.47128295898,"d":"199106"}},{"$f":"J37-J37*Оглавление!$K$21","v":{"v":199106.47128295898,"d":"199,106.47"}},null,{"v":0,"d":"0.00"}]
[null,"GKB0140180","Бак мембранный для отопления Gekon WRV200",null,200,{"v":10,"d":"10.0"},1.5,"1 1/4\" (НР)",32.4,{"$f":"'Конвертация цен'!H388","v":34459},{"$f":"J38-J38*Оглавление!$K$21","v":{"v":34459,"d":"34,459.00"}},null,{"v":0,"d":"0.00"}]
[null,"GKB2140218","Бак мембранный для отопления Gekon WRV200 (16 бар)",null,200,{"v":16,"d":"16.0"},{"v":4,"d":"4.0"},"1 1/4\" (НР)",50,{"$f":"'Конвертация цен'!H389","v":{"v":114719.37203979492,"d":"114719"}},{"$f":"J39-J39*Оглавление!$K$21","v":{"v":114719.37203979492,"d":"114,719.37"}},null,{"$f":"L39*K39","v":{"v":0,"d":"0.00"}}]
[null,"GKB2140318","Бак мембранный для отопления Gekon WRV200 (25 бар)",null,200,{"v":25,"d":"25.0"},{"v":4,"d":"4.0"},"1 1/4\" (НР)",100,{"$f":"'Конвертация цен'!H390","v":{"v":259046.66409301758,"d":"259047"}},{"$f":"J40-J40*Оглавление!$K$21","v":{"v":259046.66409301758,"d":"259,046.66"}},null,{"v":0,"d":"0.00"}]
[null,"GKB0140190","Бак мембранный для отопления Gekon WRV300",null,300,{"v":10,"d":"10.0"},1.5,"1 1/4\" (НР)",40.3,{"$f":"'Конвертация цен'!H391","v":{"v":38272.395833333336,"d":"38272"}},{"$f":"J41-J41*Оглавление!$K$21","v":{"v":38272.395833333336,"d":"38,272.40"}},null,{"v":0,"d":"0.00"}]
[null,"GKB2140220","Бак мембранный для отопления Gekon WRV300 (16 бар)",null,300,{"v":16,"d":"16.0"},{"v":4,"d":"4.0"},"1 1/4\" (НР)",60,{"$f":"'Конвертация цен'!H392","v":{"v":135453.97045898438,"d":"135454"}},{"$f":"J42-J42*Оглавление!$K$21","v":{"v":135453.97045898438,"d":"135,453.97"}},null,{"v":0,"d":"0.00"}]
[null,"GKB2140320","Бак мембранный для отопления Gekon WRV300 (25 бар)",null,300,{"v":25,"d":"25.0"},{"v":4,"d":"4.0"},"1 1/4\" (НР)",110,{"$f":"'Конвертация цен'!H393","v":{"v":330214.3250427246,"d":"330214"}},{"$f":"J43-J43*Оглавление!$K$21","v":{"v":330214.3250427246,"d":"330,214.33"}},null,{"v":0,"d":"0.00"}]
[null,"GKB0140200","Бак мембранный для отопления Gekon WRV500",null,500,{"v":10,"d":"10.0"},1.5,"1 1/4\" (НР)",55.5,{"$f":"'Конвертация цен'!H394","v":68759},{"$f":"J44-J44*Оглавление!$K$21","v":{"v":68759,"d":"68,759.00"}},null,{"v":0,"d":"0.00"}]
[null,"GKB2140222","Бак мембранный для отопления Gekon WRV500 (16 бар)",null,500,{"v":16,"d":"16.0"},{"v":4,"d":"4.0"},"1 1/4\" (НР)",91,{"$f":"'Конвертация цен'!H395","v":{"v":185162.68020629883,"d":"185163"}},{"$f":"J45-J45*Оглавление!$K$21","v":{"v":185162.68020629883,"d":"185,162.68"}},null,{"v":0,"d":"0.00"}]
[null,"GKB2140322","Бак мембранный для отопления Gekon WRV500 (25 бар)",null,500,{"v":25,"d":"25.0"},{"v":4,"d":"4.0"},"1 1/4\" (НР)",141,{"$f":"'Конвертация цен'!H396","v":{"v":448374.3728027344,"d":"448374"}},{"$f":"J46-J46*Оглавление!$K$21","v":{"v":448374.3728027344,"d":"448,374.37"}},null,{"v":0,"d":"0.00"}]
[null,"GKB0140210","Бак мембранный для отопления Gekon WRV750",null,750,{"v":10,"d":"10.0"},{"v":4,"d":"4.0"},"1 1/4\" (НР)",130,{"$f":"'Конвертация цен'!H397","v":{"v":151772.25,"d":"151772"}},{"$f":"J47-J47*Оглавление!$K$21","v":{"v":151772.25,"d":"151,772.25"}},null,{"v":0,"d":"0.00"}]
[null,"GKB2140224","Бак мембранный для отопления Gekon WRV750 (16 бар)",null,750,{"v":16,"d":"16.0"},{"v":4,"d":"4.0"},"2\" (ВР)",211,{"$f":"'Конвертация цен'!H398","v":{"v":379923.03479003906,"d":"379923"}},{"$f":"J48-J48*Оглавление!$K$21","v":{"v":379923.03479003906,"d":"379,923.03"}},null,{"v":0,"d":"0.00"}]
[null,"GKB0140220","Бак мембранный для отопления Gekon WRV1000",null,1000,{"v":10,"d":"10.0"},{"v":4,"d":"4.0"},"2\" (ВР)",165,{"$f":"'Конвертация цен'!H399","v":209000},{"$f":"J49-J49*Оглавление!$K$21","v":{"v":209000,"d":"209,000.00"}},null,{"v":0,"d":"0.00"}]
[null,"GKB2140226","Бак мембранный для отопления Gekon WRV1000 (16 бар)",null,1000,{"v":16,"d":"16.0"},{"v":4,"d":"4.0"},"2\" (ВР)",245,{"$f":"'Конвертация цен'!H400","v":{"v":478072.8369140625,"d":"478073"}},{"$f":"J50-J50*Оглавление!$K$21","v":{"v":478072.8369140625,"d":"478,072.84"}},null,{"v":0,"d":"0.00"}]
[null,"GKB2140326","Бак мембранный для отопления Gekon WRV1000(25 бар)",null,1000,{"v":25,"d":"25.0"},{"v":4,"d":"4.0"},"2\" (ВР)",295,{"$f":"'Конвертация цен'!H401","v":{"v":783749.7114257812,"d":"783750"}},{"$f":"J51-J51*Оглавление!$K$21","v":{"v":783749.7114257812,"d":"783,749.71"}},null,{"$f":"L51*K51","v":{"v":0,"d":"0.00"}}]
[null,"GKB1140312","Бак мембранный для отопления Gekon WRV1500",null,1500,{"v":10,"d":"10.0"},{"v":4,"d":"4.0"},"2\" (ВР)",240,{"$f":"'Конвертация цен'!H402","v":{"v":676222.340425532,"d":"676222"}},{"$f":"J52-J52*Оглавление!$K$21","v":{"v":676222.340425532,"d":"676,222.34"}},null,{"v":0,"d":"0.00"}]
[null,"GKB2140228","Бак мембранный для отопления Gekon WRV1500 (16 бар)",null,1500,{"v":16,"d":"16.0"},{"v":4,"d":"4.0"},"2\" (ВР)",371,{"$f":"'Конвертация цен'!H403","v":{"v":654000.0191345215,"d":"654000"}},{"$f":"J53-J53*Оглавление!$K$21","v":{"v":654000.0191345215,"d":"654,000.02"}},null,{"v":0,"d":"0.00"}]
[null,"GKB2140328","Бак мембранный для отопления Gekon WRV1500(25 бар)",null,1500,{"v":25,"d":"25.0"},{"v":4,"d":"4.0"},"2\" (ВР)",421,{"$f":"'Конвертация цен'!H404","v":{"v":1003771.8693237305,"d":"1003772"}},{"$f":"J54-J54*Оглавление!$K$21","v":{"v":1003771.8693237305,"d":"1,003,771.87"}},null,{"v":0,"d":"0.00"}]
[null,"GKB1140315","Бак мембранный для отопления Gekon WRV2000",null,2000,{"v":10,"d":"10.0"},{"v":4,"d":"4.0"},"2\" (ВР)",375,{"$f":"'Конвертация цен'!H405","v":855079},{"$f":"J55-J55*Оглавление!$K$21","v":{"v":855079,"d":"855,079.00"}},null,{"v":0,"d":"0.00"}]
[null,"GKB2140230","Бак мембранный для отопления Gekon WRV2000 (16 бар)",null,2000,{"v":16,"d":"16.0"},{"v":4,"d":"4.0"},"2\" (ВР)",498,{"$f":"'Конвертация цен'!H406","v":{"v":1020160.3510437012,"d":"1020160"}},{"$f":"J56-J56*Оглавление!$K$21","v":{"v":1020160.3510437012,"d":"1,020,160.35"}},null,{"v":0,"d":"0.00"}]
[null,"GKB2140330","Бак мембранный для отопления Gekon WRV2000 (25 бар)",null,2000,{"v":25,"d":"25.0"},{"v":4,"d":"4.0"},"2\" (ВР)",548,{"$f":"'Конвертация цен'!H407","v":{"v":1575376.7593688965,"d":"1575377"}},{"$f":"J57-J57*Оглавление!$K$21","v":{"v":1575376.7593688965,"d":"1,575,376.76"}},null,{"v":0,"d":"0.00"}]
[null,"GKB2140104","Бак мембранный для отопления Gekon WRV2500",null,2500,{"v":10,"d":"10.0"},{"v":4,"d":"4.0"},"2\" (ВР)",307,{"$f":"'Конвертация цен'!H408","v":841592},{"$f":"J58-J58*Оглавление!$K$21","v":{"v":841592,"d":"841,592.00"}},null,{"v":0,"d":"0.00"}]
[null,"GKB1140320","Бак мембранный для отопления Gekon WRV3000",null,3000,{"v":10,"d":"10.0"},{"v":4,"d":"4.0"},"2 1/2\" (ВР)",550,{"$f":"'Конвертация цен'!H409","v":1024715},{"$f":"J59-J59*Оглавление!$K$21","v":{"v":1024715,"d":"1,024,715.00"}},null,{"v":0,"d":"0.00"}]
[null,"GKB2140234","Бак мембранный для отопления Gekon WRV3000 (16 бар)",null,3000,{"v":16,"d":"16.0"},{"v":4,"d":"4.0"},"2 1/2\" (ВР)",750,{"$f":"'Конвертация цен'!H410","v":{"v":1375093.2148132324,"d":"1375093"}},{"$f":"J60-J60*Оглавление!$K$21","v":{"v":1375093.2148132324,"d":"1,375,093.21"}},null,{"v":0,"d":"0.00"}]
[null,"GKB2140332","Бак мембранный для отопления Gekon WRV3000 (25 бар)",null,3000,{"v":25,"d":"25.0"},{"v":4,"d":"4.0"},"2 1/2\" (ВР)",800,{"$f":"'Конвертация цен'!H411","v":{"v":2079435.752380371,"d":"2079436"}},{"$f":"J61-J61*Оглавление!$K$21","v":{"v":2079435.752380371,"d":"2,079,435.75"}},null,{"v":0,"d":"0.00"}]
[null,"GKB2140108","Бак мембранный для отопления Gekon WRV4000",null,4000,{"v":10,"d":"10.0"},{"v":4,"d":"4.0"},"3\" (ВР)",655,{"$f":"'Конвертация цен'!H412","v":{"v":1692178.6456604004,"d":"1692179"}},{"$f":"J62-J62*Оглавление!$K$21","v":{"v":1692178.6456604004,"d":"1,692,178.65"}},null,{"v":0,"d":"0.00"}]
[null,"GKB2140236","Бак мембранный для отопления Gekon WRV4000 (16 бар)",null,4000,{"v":16,"d":"16.0"},{"v":4,"d":"4.0"},"3\" (ВР)",1003,{"$f":"'Конвертация цен'!H413","v":{"v":2164094.4839172363,"d":"2164094"}},{"$f":"J63-J63*Оглавление!$K$21","v":{"v":2164094.4839172363,"d":"2,164,094.48"}},null,{"v":0,"d":"0.00"}]
[null,"GKB1140330","Бак мембранный для отопления Gekon WRV5000",null,5000,{"v":10,"d":"10.0"},{"v":4,"d":"4.0"},"3\" (ВР)",830,{"$f":"'Конвертация цен'!H414","v":{"v":2299548.4543762207,"d":"2299548"}},{"$f":"J64-J64*Оглавление!$K$21","v":{"v":2299548.4543762207,"d":"2,299,548.45"}},null,{"v":0,"d":"0.00"}]
[null,"GKB2140238","Бак мембранный для отопления Gekon WRV5000 (16 бар)",null,5000,{"v":16,"d":"16.0"},{"v":4,"d":"4.0"},"3\" (ВР)",1139,{"$f":"'Конвертация цен'!H415","v":{"v":2766665.455444336,"d":"2766665"}},{"$f":"J65-J65*Оглавление!$K$21","v":{"v":2766665.455444336,"d":"2,766,665.46"}},null,{"v":0,"d":"0.00"}]
[null,"GKB2140112","Бак мембранный для отопления Gekon WRV8000",null,8000,{"v":10,"d":"10.0"},{"v":4,"d":"4.0"},"4\" (ВР)",1470,{"$f":"'Конвертация цен'!H416","v":{"v":4174716.7218933105,"d":"4174717"}},{"$f":"J66-J66*Оглавление!$K$21","v":{"v":4174716.7218933105,"d":"4,174,716.72"}},null,{"v":0,"d":"0.00"}]
[null,"GKB2140240","Бак мембранный для отопления Gekon WRV8000 (16 бар)",null,8000,{"v":16,"d":"16.0"},{"v":4,"d":"4.0"},"4\" (ВР)",1637,{"$f":"'Конвертация цен'!H417","v":{"v":6163608.376373291,"d":"6163608"}},{"$f":"J67-J67*Оглавление!$K$21","v":{"v":6163608.376373291,"d":"6,163,608.38"}},null,{"v":0,"d":"0.00"}]
[null,"GKB2140340","Бак мембранный для отопления Gekon WRV8000 (25 бар)",null,8000,{"v":25,"d":"25.0"},{"v":4,"d":"4.0"},"4\" (ВР)",1687,{"$f":"'Конвертация цен'!H418","v":{"v":7244252.184814453,"d":"7244252"}},{"$f":"J68-J68*Оглавление!$K$21","v":{"v":7244252.184814453,"d":"7,244,252.18"}},null,{"v":0,"d":"0.00"}]
[null,"GKB2140114","Бак мембранный для отопления Gekon WRV10000",null,10000,{"v":10,"d":"10.0"},{"v":4,"d":"4.0"},"DN 100",1920,{"$f":"'Конвертация цен'!H419","v":{"v":4909119.899963379,"d":"4909120"}},{"$f":"J69-J69*Оглавление!$K$21","v":{"v":4909119.899963379,"d":"4,909,119.90"}},null,{"v":0,"d":"0.00"}]
[null,"GKB2140242","Бак мембранный для отопления Gekon WRV 10000 (16 бар)",null,10000,{"v":16,"d":"16.0"},{"v":4,"d":"4.0"},"DN 100",2500,{"$f":"'Конвертация цен'!H420","v":"по запросу"},{"$f":"J70","v":"по запросу"},null,"по запросу"]
[]
["ВЕРТИКАЛЬНЫЕ МЕМБРАННЫЕ РАСШИРИТЕЛЬНЫЕ БАКИ СЕРИИ WAV ДЛЯ СИСТЕМ ВОДОСНАБЖЕНИЯ"]
["• Диапазон рабочих температур теплоносителя: от -10⁰C до +80⁰C (кратковременно до +99⁰C)"]
["• Тип теплоносителя: вода или водные растворы гликоля с концентрацие до 50%"]
["• Материал корпуса и контрфланца: сталь углеродистая с эпоксиполиэфирным покрытием, цвет синий RAL 5015"]
["• Тип мембраны: заменяемая, материал мембраны: EPDM"]
["• Материал ниппеля: латунь"]
["• Тип исполнения: вертикальный"]
["• Размер держателя мембраны у баков 200- 4000 л 3/4\"(НР)x1/2\"(ВР); Размер держателя мембраны у баков 5000- 10000 л 1 1/4\"(ВР)"]
[]
["Фото","Артикул","Наименование товара",null,"Объём бака","Pmax","P     преднастройки","Присоединение к системе","Вес","Цена за шт.","Цена со скидкой, RUB","Кол-во, шт.","Сумма со скидкой, RUB"]
[{"$nulls":4},"л","бар","бар","G или DN","кг","RUB"]
[null,"GKB0141029","Бак мембранный для водоснабжения Gekon WAV8",null,8,{"v":10,"d":"10.0"},1.5,"3/4\" (НР)",{"v":1.61,"d":"1.6"},{"$f":"'Конвертация цен'!H421","v":{"v":2409,"d":"2409.00"}},{"$f":"J83-J83*Оглавление!$K$21","v":{"v":2409,"d":"2,409.00"}},null,{"$f":"L83*K83","v":{"v":0,"d":"0.00"}}]
[null,"GKB2140250","Бак мембранный для водоснабжения Gekon WAV8 (16 бар)",null,8,{"v":16,"d":"16.0"},{"v":4,"d":"4.0"},"1\" (НР)",7.3,{"$f":"'Конвертация цен'!H422","v":{"v":11589.64453125,"d":"11589.64"}},{"$f":"J84-J84*Оглавление!$K$21","v":{"v":11589.64453125,"d":"11,589.64"}},null,{"$f":"L84*K84","v":{"v":0,"d":"0.00"}}]
[null,"GKB2140350","Бак мембранный для водоснабжения Gekon WAV8 (25 бар)",null,8,{"v":25,"d":"25.0"},{"v":4,"d":"4.0"},"1\" (НР)",11.3,{"$f":"'Конвертация цен'!H423","v":{"v":33682.40441894531,"d":"33682.40"}},{"$f":"J85-J85*Оглавление!$K$21","v":{"v":33682.40441894531,"d":"33,682.40"}},null,{"v":0,"d":"0.00"}]
[null,"GKB0141039","Бак мембранный для водоснабжения Gekon WAV12",null,12,{"v":10,"d":"10.0"},1.5,"3/4\" (НР)",{"v":2.05,"d":"2.1"},{"$f":"'Конвертация цен'!H424","v":{"v":2621,"d":"2621.00"}},{"$f":"J86-J86*Оглавление!$K$21","v":{"v":2621,"d":"2,621.00"}},null,{"v":0,"d":"0.00"}]
[null,"GKB2140252","Бак мембранный для водоснабжения GekonWAV12 (16 бар)",null,12,{"v":16,"d":"16.0"},{"v":4,"d":"4.0"},"1\" (НР)",7.9,{"$f":"'Конвертация цен'!H425","v":{"v":11589.64453125,"d":"11589.64"}},{"$f":"J87-J87*Оглавление!$K$21","v":{"v":11589.64453125,"d":"11,589.64"}},null,{"v":0,"d":"0.00"}]
[null,"GKB2140352","Бак мембранный для водоснабжения Gekon WAV12 (25 бар)",null,12,{"v":25,"d":"25.0"},{"v":4,"d":"4.0"},"1\" (НР)",12.05,{"$f":"'Конвертация цен'!H426","v":{"v":33682.40441894531,"d":"33682.40"}},{"$f":"J88-J88*Оглавление!$K$21","v":{"v":33682.40441894531,"d":"33,682.40"}},null,{"v":0,"d":"0.00"}]
[null,"GKB0141049","Бак мембранный для водоснабжения Gekon WAV18",null,18,{"v":10,"d":"10.0"},1.5,"3/4\" (НР)",2.8,{"$f":"'Конвертация цен'!H427","v":{"v":3156,"d":"3156.00"}},{"$f":"J89-J89*Оглавление!$K$21","v":{"v":3156,"d":"3,156.00"}},null,{"v":0,"d":"0.00"}]
[null,"GKB2140354","Бак мембранный для водоснабжения Gekon WAV18 (25 бар)",null,18,{"v":25,"d":"25.0"},{"v":4,"d":"4.0"},"1\" (НР)",12.5,{"$f":"'Конвертация цен'!H428","v":{"v":46086.94583129883,"d":"46086.95"}},{"$f":"J90-J90*Оглавление!$K$21","v":{"v":46086.94583129883,"d":"46,086.95"}},null,{"v":0,"d":"0.00"}]
[null,"GKB0141069","Бак мембранный для водоснабжения Gekon WAV24",null,24,{"v":10,"d":"10.0"},1.5,"3/4\" (НР)",{"v":4.25,"d":"4.3"},{"$f":"'Конвертация цен'!H429","v":{"v":3289,"d":"3289.00"}},{"$f":"J91-J91*Оглавление!$K$21","v":{"v":3289,"d":"3,289.00"}},null,{"v":0,"d":"0.00"}]
[null,"GKB2140256","Бак мембранный для водоснабжения Gekon WAV24 (16 бар)",null,24,{"v":16,"d":"16.0"},{"v":4,"d":"4.0"},"1\" (НР)",8.3,{"$f":"'Конвертация цен'!H430","v":{"v":15935.76123046875,"d":"15935.76"}},{"$f":"J92-J92*Оглавление!$K$21","v":{"v":15935.76123046875,"d":"15,935.76"}},null,{"v":0,"d":"0.00"}]
[null,"GKB2140356","Бак мембранный для водоснабжения Gekon WAV 24 (25 бар)",null,24,{"v":25,"d":"25.0"},{"v":4,"d":"4.0"},"1\" (НР)",12.8,{"$f":"'Конвертация цен'!H431","v":{"v":46086.94583129883,"d":"46086.95"}},{"$f":"J93-J93*Оглавление!$K$21","v":{"v":46086.94583129883,"d":"46,086.95"}},null,{"v":0,"d":"0.00"}]
[null,"GKB0141080","Бак мембранный для водоснабжения Gekon WAV35",null,35,{"v":10,"d":"10.0"},1.5,"3/4\" (НР)",{"v":5.95,"d":"6"},{"$f":"'Конвертация цен'!H432","v":{"v":5449,"d":"5449.00"}},{"$f":"J94-J94*Оглавление!$K$21","v":{"v":5449,"d":"5,449.00"}},null,{"v":0,"d":"0.00"}]
[null,"GKB0141100","Бак мембранный для водоснабжения Gekon WAV50",null,50,{"v":10,"d":"10.0"},1.5,"1\" (НР)",9.2,{"$f":"'Конвертация цен'!H433","v":{"v":9035,"d":"9035.00"}},{"$f":"J95-J95*Оглавление!$K$21","v":{"v":9035,"d":"9,035.00"}},null,{"v":0,"d":"0.00"}]
[null,"GKB2140260","Бак мембранный для водоснабжения Gekon WAV50 (16 бар)",null,50,{"v":16,"d":"16.0"},{"v":4,"d":"4.0"},"1\" (НР)",16.4,{"$f":"'Конвертация цен'!H434","v":{"v":32143.154754638672,"d":"32143.15"}},{"$f":"J96-J96*Оглавление!$K$21","v":{"v":32143.154754638672,"d":"32,143.15"}},null,{"v":0,"d":"0.00"}]
[null,"GKB2140358","Бак мембранный для водоснабжения Gekon WAV 50 (25 бар)",null,50,{"v":25,"d":"25.0"},{"v":4,"d":"4.0"},"1\" (НР)",34.1,{"$f":"'Конвертация цен'!H435","v":{"v":68179.70571899414,"d":"68179.71"}},{"$f":"J97-J97*Оглавление!$K$21","v":{"v":68179.70571899414,"d":"68,179.71"}},null,{"v":0,"d":"0.00"}]
[null,"GKB2140262","Бак мембранный для водоснабжения Gekon WAV60 (16 бар)",null,60,{"v":16,"d":"16.0"},{"v":4,"d":"4.0"},"1\" (НР)",18.1,{"$f":"'Конвертация цен'!H436","v":{"v":35674.374572753906,"d":"35674.37"}},{"$f":"J98-J98*Оглавление!$K$21","v":{"v":35674.374572753906,"d":"35,674.37"}},null,{"v":0,"d":"0.00"}]
[null,"GKB2140359","Бак мембранный для водоснабжения Gekon WAV60 (25 бар)",null,60,{"v":25,"d":"25.0"},{"v":4,"d":"4.0"},"1\" (НР)",42,{"$f":"'Конвертация цен'!H437","v":{"v":76871.93911743164,"d":"76871.94"}},{"$f":"J99-J99*Оглавление!$K$21","v":{"v":76871.93911743164,"d":"76,871.94"}},null,{"v":0,"d":"0.00"}]
[null,"GKB0141120","Бак мембранный для водоснабжения Gekon WAV80",null,80,{"v":10,"d":"10.0"},1.5,"1\" (НР)",11.6,{"$f":"'Конвертация цен'!H438","v":{"v":11962,"d":"11962.00"}},{"$f":"J100-J100*Оглавление!$K$21","v":{"v":11962,"d":"11,962.00"}},null,{"v":0,"d":"0.00"}]
[null,"GKB2140264","Бак мембранный для водоснабжения Gekon WAV80 (16 бар)",null,80,{"v":16,"d":"16.0"},{"v":4,"d":"4.0"},"1\" (НР)",25.86,{"$f":"'Конвертация цен'!H439","v":{"v":50070.886138916016,"d":"50070.89"}},{"$f":"J101-J101*Оглавление!$K$21","v":{"v":50070.886138916016,"d":"50,070.89"}},null,{"v":0,"d":"0.00"}]
[null,"GKB2140360","Бак мембранный для водоснабжения Gekon WAV 80 (25 бар)",null,80,{"v":25,"d":"25.0"},{"v":4,"d":"4.0"},"1\" (НР)",45,{"$f":"'Конвертация цен'!H440","v":{"v":122415.62036132813,"d":"122415.62"}},{"$f":"J102-J102*Оглавление!$K$21","v":{"v":122415.62036132813,"d":"122,415.62"}},null,{"v":0,"d":"0.00"}]
[null,"GKB0141140","Бак мембранный для водоснабжения Gekon WAV100",null,100,{"v":10,"d":"10.0"},1.5,"1\" (НР)",15.1,{"$f":"'Конвертация цен'!H441","v":{"v":16797,"d":"16797.00"}},{"$f":"J103-J103*Оглавление!$K$21","v":{"v":16797,"d":"16,797.00"}},null,{"v":0,"d":"0.00"}]
[null,"GKB2140266","Бак мембранный для водоснабжения Gekon WAV100 (16 бар)",null,100,{"v":16,"d":"16.0"},{"v":4,"d":"4.0"},"1\" (НР)",47.3,{"$f":"'Конвертация цен'!H442","v":{"v":53783.19415283203,"d":"53783.19"}},{"$f":"J104-J104*Оглавление!$K$21","v":{"v":53783.19415283203,"d":"53,783.19"}},null,{"v":0,"d":"0.00"}]
[null,"GKB2140362","Бак мембранный для водоснабжения Gekon WAV100 (25 бар)",null,100,{"v":25,"d":"25.0"},{"v":4,"d":"4.0"},"1\" (НР)",67.3,{"$f":"'Конвертация цен'!H443","v":{"v":124317.04641723633,"d":"124317.05"}},{"$f":"J105-J105*Оглавление!$K$21","v":{"v":124317.04641723633,"d":"124,317.05"}},null,{"v":0,"d":"0.00"}]
[null,"GKB0141160","Бак мембранный для водоснабжения Gekon WAV150",null,150,{"v":10,"d":"10.0"},1.5,"1\" (НР)",18.4,{"$f":"'Конвертация цен'!H444","v":{"v":20357,"d":"20357.00"}},{"$f":"J106-J106*Оглавление!$K$21","v":{"v":20357,"d":"20,357.00"}},null,{"v":0,"d":"0.00"}]
[null,"GKB2140268","Бак мембранный для водоснабжения Gekon WAV150 (16 бар)",null,150,{"v":16,"d":"16.0"},{"v":4,"d":"4.0"},"1\" (НР)",49,{"$f":"'Конвертация цен'!H445","v":{"v":61388.898376464844,"d":"61388.90"}},{"$f":"J107-J107*Оглавление!$K$21","v":{"v":61388.898376464844,"d":"61,388.90"}},null,{"v":0,"d":"0.00"}]
[null,"GKB2140366","Бак мембранный для водоснабжения Gekon WAV150 (25 бар)",null,150,{"v":25,"d":"25.0"},{"v":4,"d":"4.0"},"1\" (НР)",69,{"$f":"'Конвертация цен'!H446","v":{"v":199106.47128295898,"d":"199106.47"}},{"$f":"J108-J108*Оглавление!$K$21","v":{"v":199106.47128295898,"d":"199,106.47"}},null,{"v":0,"d":"0.00"}]
[null,"GKB0141510","Бак мембранный для водоснабжения Gekon WAV200",null,200,{"v":10,"d":"10.0"},1.5,"1 1/4\" (НР)",32.4,{"$f":"'Конвертация цен'!H447","v":{"v":39093,"d":"39093.00"}},{"$f":"J109-J109*Оглавление!$K$21","v":{"v":39093,"d":"39,093.00"}},null,{"v":0,"d":"0.00"}]
[null,"GKB2140270","Бак мембранный для водоснабжения Gekon WAV200 (16 бар)",null,200,{"v":16,"d":"16.0"},{"v":4,"d":"4.0"},"1 1/4\" (НР)",50.3,{"$f":"'Конвертация цен'!H448","v":{"v":114719.37203979492,"d":"114719.37"}},{"$f":"J110-J110*Оглавление!$K$21","v":{"v":114719.37203979492,"d":"114,719.37"}},null,{"v":0,"d":"0.00"}]
[null,"GKB2140368","Бак мембранный для водоснабжения GekonWAV 200 (25 бар)",null,200,{"v":25,"d":"25.0"},{"v":4,"d":"4.0"},"1 1/4\" (НР)",70.3,{"$f":"'Конвертация цен'!H449","v":{"v":259046.66409301758,"d":"259046.66"}},{"$f":"J111-J111*Оглавление!$K$21","v":{"v":259046.66409301758,"d":"259,046.66"}},null,{"v":0,"d":"0.00"}]
[null,"GKB0141515","Бак мембранный для водоснабжения Gekon WAV300",null,300,{"v":10,"d":"10.0"},1.5,"1 1/4\" (НР)",40.3,{"$f":"'Конвертация цен'!H450","v":{"v":42400,"d":"42400.00"}},{"$f":"J112-J112*Оглавление!$K$21","v":{"v":42400,"d":"42,400.00"}},null,{"v":0,"d":"0.00"}]
[null,"GKB2140272","Бак мембранный для водоснабжения Gekon WAV300 (16 бар)",null,300,{"v":16,"d":"16.0"},{"v":4,"d":"4.0"},"1 1/4\" (НР)",60.4,{"$f":"'Конвертация цен'!H451","v":{"v":135453.97045898438,"d":"135453.97"}},{"$f":"J113-J113*Оглавление!$K$21","v":{"v":135453.97045898438,"d":"135,453.97"}},null,{"v":0,"d":"0.00"}]
[null,"GKB2140370","Бак мембранный для водоснабжения Gekon WAV 300 (25 бар)",null,300,{"v":25,"d":"25.0"},{"v":4,"d":"4.0"},"1 1/4\" (НР)",80.4,{"$f":"'Конвертация цен'!H452","v":{"v":330214.3250427246,"d":"330214.33"}},{"$f":"J114-J114*Оглавление!$K$21","v":{"v":330214.3250427246,"d":"330,214.33"}},null,{"v":0,"d":"0.00"}]
[null,"GKB0141520","Бак мембранный для водоснабжения Gekon WAV500",null,500,{"v":10,"d":"10.0"},1.5,"1 1/4\" (НР)",55.5,{"$f":"'Конвертация цен'!H453","v":{"v":65924,"d":"65924.00"}},{"$f":"J115-J115*Оглавление!$K$21","v":{"v":65924,"d":"65,924.00"}},null,{"v":0,"d":"0.00"}]
[null,"GKB2140274","Бак мембранный для водоснабжения Gekon WAV500 (16 бар)",null,500,{"v":16,"d":"16.0"},{"v":4,"d":"4.0"},"1 1/4\" (НР)",91.2,{"$f":"'Конвертация цен'!H454","v":{"v":185162.68020629883,"d":"185162.68"}},{"$f":"J116-J116*Оглавление!$K$21","v":{"v":185162.68020629883,"d":"185,162.68"}},null,{"v":0,"d":"0.00"}]
[null,"GKB2140372","Бак мембранный для водоснабжения Gekon WAV 500 (25 бар)",null,500,{"v":25,"d":"25.0"},{"v":4,"d":"4.0"},"1 1/4\" (НР)",111.2,{"$f":"'Конвертация цен'!H455","v":{"v":448374.3728027344,"d":"448374.37"}},{"$f":"J117-J117*Оглавление!$K$21","v":{"v":448374.3728027344,"d":"448,374.37"}},null,{"v":0,"d":"0.00"}]
[null,"GKB1140300","Бак мембранный для водоснабжения Gekon WAV750",null,750,{"v":10,"d":"10.0"},{"v":4,"d":"4.0"},"1 1/4\" (НР)",130,{"$f":"'Конвертация цен'!H456","v":{"v":170867,"d":"170867.00"}},{"$f":"J118-J118*Оглавление!$K$21","v":{"v":170867,"d":"170,867.00"}},null,{"v":0,"d":"0.00"}]
[null,"GKB2140276","Бак мембранный для водоснабжения Gekon WAV750 (16 бар)",null,750,{"v":16,"d":"16.0"},{"v":4,"d":"4.0"},"2\" (ВР)",211,{"$f":"'Конвертация цен'!H457","v":{"v":379923.03479003906,"d":"379923.03"}},{"$f":"J119-J119*Оглавление!$K$21","v":{"v":379923.03479003906,"d":"379,923.03"}},null,{"v":0,"d":"0.00"}]
[null,"GKB2140374","Бак мембранный для водоснабжения Gekon WAV750 (25 бар)",null,750,{"v":25,"d":"25.0"},{"v":4,"d":"4.0"},"2\" (ВР)",231,{"$f":"'Конвертация цен'!H458","v":{"v":640508.9485473633,"d":"640508.95"}},{"$f":"J120-J120*Оглавление!$K$21","v":{"v":640508.9485473633,"d":"640,508.95"}},null,{"v":0,"d":"0.00"}]
[null,"GKB1140302","Бак мембранный для водоснабжения Gekon WAV1000",null,1000,{"v":10,"d":"10.0"},{"v":4,"d":"4.0"},"2\" (ВР)",165,{"$f":"'Конвертация цен'!H459","v":{"v":291510.6382978724,"d":"291510.64"}},{"$f":"J121-J121*Оглавление!$K$21","v":{"v":291510.6382978724,"d":"291,510.64"}},null,{"v":0,"d":"0.00"}]
[null,"GKB2140278","Бак мембранный для водоснабжения GekonWAV1000 (16 бар)",null,1000,{"v":16,"d":"16.0"},{"v":4,"d":"4.0"},"2\" (ВР)",245,{"$f":"'Конвертация цен'!H460","v":{"v":478072.8369140625,"d":"478072.84"}},{"$f":"J122-J122*Оглавление!$K$21","v":{"v":478072.8369140625,"d":"478,072.84"}},null,{"v":0,"d":"0.00"}]
[null,"GKB2140376","Бак мембранный для водоснабжения Gekon WAV 1000 (25 бар)",null,1000,{"v":25,"d":"25.0"},{"v":4,"d":"4.0"},"2\" (ВР)",265,{"$f":"'Конвертация цен'!H461","v":{"v":783749.7114257812,"d":"783749.71"}},{"$f":"J123-J123*Оглавление!$K$21","v":{"v":783749.7114257812,"d":"783,749.71"}},null,{"v":0,"d":"0.00"}]
[null,"GKB2140120","Бак мембранный для водоснабжения Gekon WAV1500",null,1500,{"v":10,"d":"10.0"},{"v":4,"d":"4.0"},"2\" (ВР)",257,{"$f":"'Конвертация цен'!H462","v":{"v":676222.340425532,"d":"676222.34"}},{"$f":"J124-J124*Оглавление!$K$21","v":{"v":676222.340425532,"d":"676,222.34"}},null,{"v":0,"d":"0.00"}]
[null,"GKB2140280","Бак мембранный для водоснабжения Gekon WAV1500 (16 бар)",null,1500,{"v":16,"d":"16.0"},{"v":4,"d":"4.0"},"2\" (ВР)",390,{"$f":"'Конвертация цен'!H463","v":{"v":654000.0191345215,"d":"654000.02"}},{"$f":"J125-J125*Оглавление!$K$21","v":{"v":654000.0191345215,"d":"654,000.02"}},null,{"v":0,"d":"0.00"}]
[null,"GKB2140378","Бак мембранный для водоснабжения Gekon WAV1500 (25 бар)",null,1500,{"v":25,"d":"25.0"},{"v":4,"d":"4.0"},"2\" (ВР)",410,{"$f":"'Конвертация цен'!H464","v":{"v":1003771.8693237305,"d":"1003771.87"}},{"$f":"J126-J126*Оглавление!$K$21","v":{"v":1003771.8693237305,"d":"1,003,771.87"}},null,{"v":0,"d":"0.00"}]
[null,"GKB2140122","Бак мембранный для водоснабжения Gekon WAV2000",null,2000,{"v":10,"d":"10.0"},{"v":4,"d":"4.0"},"2\" (ВР)",375,{"$f":"'Конвертация цен'!H465","v":{"v":855079,"d":"855079.00"}},{"$f":"J127-J127*Оглавление!$K$21","v":{"v":855079,"d":"855,079.00"}},null,{"v":0,"d":"0.00"}]
[null,"GKB2140282","Бак мембранный для водоснабжения Gekon WAV2000 (16 бар)",null,2000,{"v":16,"d":"16.0"},{"v":4,"d":"4.0"},"2\" (ВР)",535,{"$f":"'Конвертация цен'!H466","v":{"v":1020160.3510437012,"d":"1020160.35"}},{"$f":"J128-J128*Оглавление!$K$21","v":{"v":1020160.3510437012,"d":"1,020,160.35"}},null,{"v":0,"d":"0.00"}]
[null,"GKB2140380","Бак мембранный для водоснабжения Gekon WAV 2000 (25 бар)",null,2000,{"v":25,"d":"25.0"},{"v":4,"d":"4.0"},"2\" (ВР)",555,{"$f":"'Конвертация цен'!H467","v":{"v":1575376.7593688965,"d":"1575376.76"}},{"$f":"J129-J129*Оглавление!$K$21","v":{"v":1575376.7593688965,"d":"1,575,376.76"}},null,{"v":0,"d":"0.00"}]
[null,"GKB2140124","Бак мембранный для водоснабжения Gekon WAV2500",null,2500,{"v":10,"d":"10.0"},{"v":4,"d":"4.0"},"2\" (ВР)",307,{"$f":"'Конвертация цен'!H468","v":{"v":1049994.170212766,"d":"1049994.17"}},{"$f":"J130-J130*Оглавление!$K$21","v":{"v":1049994.170212766,"d":"1,049,994.17"}},null,{"v":0,"d":"0.00"}]
[null,"GKB2140382","Бак мембранный для водоснабжения Gekon WAV2500 (25 бар)",null,2500,{"v":25,"d":"25.0"},{"v":4,"d":"4.0"},"2\" (ВР)",720,{"$f":"'Конвертация цен'!H469","v":{"v":1782994.3758544922,"d":"1782994.38"}},{"$f":"J131-J131*Оглавление!$K$21","v":{"v":1782994.3758544922,"d":"1,782,994.38"}},null,{"v":0,"d":"0.00"}]
[null,"GKB2140126","Бак мембранный для водоснабжения Gekon WAV3000",null,3000,{"v":10,"d":"10.0"},{"v":4,"d":"4.0"},"2 1/2\" (ВР)",750,{"$f":"'Конвертация цен'!H470","v":{"v":1278464.6382978724,"d":"1278464.64"}},{"$f":"J132-J132*Оглавление!$K$21","v":{"v":1278464.6382978724,"d":"1,278,464.64"}},null,{"v":0,"d":"0.00"}]
[null,"GKB2140286","Бак мембранный для водоснабжения Gekon WAV3000 (16 бар)",null,3000,{"v":16,"d":"16.0"},{"v":4,"d":"4.0"},"2 1/2\" (ВР)",825,{"$f":"'Конвертация цен'!H471","v":{"v":1375093.2148132324,"d":"1375093.21"}},{"$f":"J133-J133*Оглавление!$K$21","v":{"v":1375093.2148132324,"d":"1,375,093.21"}},null,{"v":0,"d":"0.00"}]
[null,"GKB2140384","Бак мембранный для водоснабжения Gekon WAV3000 (25 бар)",null,3000,{"v":25,"d":"25.0"},{"v":4,"d":"4.0"},"2 1/2\" (ВР)",845,{"$f":"'Конвертация цен'!H472","v":{"v":2079435.752380371,"d":"2079435.75"}},{"$f":"J134-J134*Оглавление!$K$21","v":{"v":2079435.752380371,"d":"2,079,435.75"}},null,{"v":0,"d":"0.00"}]
[null,"GKB2140128","Бак мембранный для водоснабжения Gekon WAV4000",null,4000,{"v":10,"d":"10.0"},{"v":4,"d":"4.0"},"3\" (ВР)",{"v":1003.1,"d":"1003"},{"$f":"'Конвертация цен'!H473","v":{"v":1692178.6456604004,"d":"1692178.65"}},{"$f":"J135-J135*Оглавление!$K$21","v":{"v":1692178.6456604004,"d":"1,692,178.65"}},null,{"$f":"L135*K135","v":{"v":0,"d":"0.00"}}]
[null,"GKB2140288","Бак мембранный для водоснабжения Gekon WAV4000 (16 бар)",null,4000,{"v":16,"d":"16.0"},{"v":4,"d":"4.0"},"3\" (ВР)",{"v":1003.1,"d":"1003"},{"$f":"'Конвертация цен'!H474","v":{"v":2164094.4839172363,"d":"2164094.48"}},{"$f":"J136-J136*Оглавление!$K$21","v":{"v":2164094.4839172363,"d":"2,164,094.48"}},null,{"v":0,"d":"0.00"}]
[null,"GKB2140386","Бак мембранный для водоснабжения Gekon WAV4000 (25 бар)",null,4000,{"v":25,"d":"25.0"},{"v":4,"d":"4.0"},"3\" (ВР)",{"v":1023.06,"d":"1023"},{"$f":"'Конвертация цен'!H475","v":{"v":2908276.424560547,"d":"2908276.42"}},{"$f":"J137-J137*Оглавление!$K$21","v":{"v":2908276.424560547,"d":"2,908,276.42"}},null,{"v":0,"d":"0.00"}]
[null,"GKB2140130","Бак мембранный для водоснабжения Gekon WAV5000",null,5000,{"v":10,"d":"10.0"},{"v":4,"d":"4.0"},"3\" (ВР)",1139,{"$f":"'Конвертация цен'!H476","v":{"v":2299548.4543762207,"d":"2299548.45"}},{"$f":"J138-J138*Оглавление!$K$21","v":{"v":2299548.4543762207,"d":"2,299,548.45"}},null,{"v":0,"d":"0.00"}]
[null,"GKB2140290","Бак мембранный для водоснабжения Gekon WAV5000 (16 бар)",null,5000,{"v":16,"d":"16.0"},{"v":4,"d":"4.0"},"3\" (ВР)",1139,{"$f":"'Конвертация цен'!H477","v":{"v":2766665.455444336,"d":"2766665.46"}},{"$f":"J139-J139*Оглавление!$K$21","v":{"v":2766665.455444336,"d":"2,766,665.46"}},null,{"v":0,"d":"0.00"}]
[null,"GKB2140388","Бак мембранный для водоснабжения Gekon WAV5000 (25 бар)",null,5000,{"v":25,"d":"25.0"},{"v":4,"d":"4.0"},"3\" (ВР)",1159,{"$f":"'Конвертация цен'!H478","v":{"v":3647659.5280151367,"d":"3647659.53"}},{"$f":"J140-J140*Оглавление!$K$21","v":{"v":3647659.5280151367,"d":"3,647,659.53"}},null,{"v":0,"d":"0.00"}]
[null,"GKB2140132","Бак мембранный для водоснабжения Gekon WAV8000",null,8000,{"v":10,"d":"10.0"},{"v":4,"d":"4.0"},"3\" (ВР)",1470,{"$f":"'Конвертация цен'!H479","v":{"v":4174716.7218933105,"d":"4174716.72"}},{"$f":"J141-J141*Оглавление!$K$21","v":{"v":4174716.7218933105,"d":"4,174,716.72"}},null,{"v":0,"d":"0.00"}]
[null,"GKB2140292","Бак мембранный для водоснабжения Gekon WAV 8000 (16 бар)",null,8000,{"v":16,"d":"16.0"},{"v":4,"d":"4.0"},"3\" (ВР)",1637,{"$f":"'Конвертация цен'!H480","v":{"v":6163608.376373291,"d":"6163608.38"}},{"$f":"J142-J142*Оглавление!$K$21","v":{"v":6163608.376373291,"d":"6,163,608.38"}},null,{"v":0,"d":"0.00"}]
[null,"GKB2140390","Бак мембранный для водоснабжения Gekon WAV8000 (25 бар)",null,8000,{"v":25,"d":"25.0"},{"v":4,"d":"4.0"},"3\" (ВР)",1657,{"$f":"'Конвертация цен'!H481","v":{"v":7244252.184814453,"d":"7244252.18"}},{"$f":"J143-J143*Оглавление!$K$21","v":{"v":7244252.184814453,"d":"7,244,252.18"}},null,{"v":0,"d":"0.00"}]
[null,"GKB2140134","Бак мембранный для водоснабжения Gekon WAV10000",null,10000,{"v":10,"d":"10.0"},{"v":4,"d":"4.0"},"4\" (ВР)",1920,{"$f":"'Конвертация цен'!H482","v":{"v":4909119.899963379,"d":"4909119.90"}},{"$f":"J144-J144*Оглавление!$K$21","v":{"v":4909119.899963379,"d":"4,909,119.90"}},null,{"v":0,"d":"0.00"}]
[null,"GKB2140294","Бак мембранный для водоснабжения Gekon WAV 10000 (16 бар)",null,10000,{"v":16,"d":"16.0"},{"v":4,"d":"4.0"},"4\" (ВР)",2500,{"$f":"'Конвертация цен'!H483","v":{"v":7150629.587585449,"d":"7150629.59"}},{"$f":"J145-J145*Оглавление!$K$21","v":{"v":7150629.587585449,"d":"7,150,629.59"}},null,{"v":0,"d":"0.00"}]
[null,"GKB2140392","Бак мембранный для водоснабжения Gekon WAV10000 (25 бар)",null,10000,{"v":25,"d":"25.0"},{"v":4,"d":"4.0"},"4\" (ВР)",2520,{"$f":"'Конвертация цен'!H484","v":{"v":8693048.295318604,"d":"8693048.30"}},{"$f":"J146-J146*Оглавление!$K$21","v":{"v":8693048.295318604,"d":"8,693,048.30"}},null,{"v":0,"d":"0.00"}]
[]
["ГОРИЗОНТАЛЬНЫЕ МЕМБРАННЫЕ РАСШИРИТЕЛЬНЫЕ БАКИ СЕРИИ WAO ДЛЯ СИСТЕМ ВОДОСНАБЖЕНИЯ"]
["• Диапазон рабочих температур теплоносителя: от -10⁰C до +80⁰C (кратковременно до +99⁰C)"]
["• Тип теплоносителя: вода или водные растворы гликоля с концентрацие до 50%"]
["• Материал корпуса и контрфланца: сталь углеродистая с эпоксиполиэфирным покрытием, цвет синий RAL 5015"]
["• Тип мембраны: заменяемая, материал мембраны: EPDM"]
["• Материал ниппеля: латунь"]
["• Тип исполнения: горизонтальный"]
["• Размер держателя мембраны 3/4\"(НР)x1/2\"(ВР)"]
[]
["Фото","Артикул","Наименование товара",null,"Объём бака","Pmax","P     преднастройки","Присоединение к системе","Вес","Цена за шт.","Цена со скидкой, RUB","Кол-во, шт.","Сумма со скидкой, RUB"]
[{"$nulls":4},"л","бар","бар","G или DN","кг","RUB"]
[null,"GKB0140949","Бак мембранный для водоснабжения горизонтальный Gekon WAO19",null,19,{"v":10,"d":"10.0"},1.5,"1\" (НР)",5.2,{"$f":"'Конвертация цен'!H485","v":{"v":3106,"d":"3106.00"}},{"$f":"J159-J159*Оглавление!$K$21","v":{"v":3106,"d":"3,106.00"}},null,{"$f":"L159*K159","v":{"v":0,"d":"0.00"}}]
[null,"GKB0140959","Бак мембранный для водоснабжения горизонтальный Gekon WAO24",null,24,{"v":10,"d":"10.0"},1.5,"1\" (НР)",5.6,{"$f":"'Конвертация цен'!H486","v":{"v":3350,"d":"3350.00"}},{"$f":"J160-J160*Оглавление!$K$21","v":{"v":3350,"d":"3,350.00"}},null,{"$f":"L160*K160","v":{"v":0,"d":"0.00"}}]
[null,"GKB2140400","Бак мембранный для водоснабжения горизонтальный Gekon WAO24 (16 бар)",null,24,{"v":16,"d":"16.0"},4,"1\" (НР)",8.3,{"$f":"'Конвертация цен'!H487","v":{"v":15935.76123046875,"d":"15935.76"}},{"$f":"J161-J161*Оглавление!$K$21","v":{"v":15935.76123046875,"d":"15,935.76"}},null,{"v":0,"d":"0.00"}]
[null,"GKB2140500","Бак мембранный для водоснабжения горизонтальный Gekon WAO24 (25 бар)",null,24,{"v":25,"d":"25.0"},4,"1\" (НР)",27.3,{"$f":"'Конвертация цен'!H488","v":{"v":46086.94583129883,"d":"46086.95"}},{"$f":"J162-J162*Оглавление!$K$21","v":{"v":46086.94583129883,"d":"46,086.95"}},null,{"v":0,"d":"0.00"}]
[null,"GKB0140970","Бак мембранный для водоснабжения горизонтальный Gekon WAO50",null,50,{"v":10,"d":"10.0"},1.5,"1\" (НР)",9.4,{"$f":"'Конвертация цен'!H489","v":{"v":9704,"d":"9704.00"}},{"$f":"J163-J163*Оглавление!$K$21","v":{"v":9704,"d":"9,704.00"}},null,{"v":0,"d":"0.00"}]
[null,"GKB2140402","Бак мембранный для водоснабжения горизонтальный Gekon WAO50 (16 бар)",null,50,{"v":16,"d":"16.0"},4,"1\" (НР)",15.1,{"$f":"'Конвертация цен'!H490","v":{"v":32143.154754638672,"d":"32143.15"}},{"$f":"J164-J164*Оглавление!$K$21","v":{"v":32143.154754638672,"d":"32,143.15"}},null,{"v":0,"d":"0.00"}]
[null,"GKB2140502","Бак мембранный для водоснабжения горизонтальный Gekon WAO50 (25 бар)",null,50,{"v":25,"d":"25.0"},4,"1\" (НР)",34.1,{"$f":"'Конвертация цен'!H491","v":{"v":68179.70571899414,"d":"68179.71"}},{"$f":"J165-J165*Оглавление!$K$21","v":{"v":68179.70571899414,"d":"68,179.71"}},null,{"v":0,"d":"0.00"}]
[null,"GKB0140990","Бак мембранный для водоснабжения горизонтальный Gekon WAO80",null,80,{"v":10,"d":"10.0"},1.5,"1\" (НР)","13,7,",{"$f":"'Конвертация цен'!H492","v":{"v":12189,"d":"12189.00"}},{"$f":"J166-J166*Оглавление!$K$21","v":{"v":12189,"d":"12,189.00"}},null,{"v":0,"d":"0.00"}]
[null,"GKB2140404","Бак мембранный для водоснабжения горизонтальный Gekon WAO80 (16 бар)",null,80,{"v":16,"d":"16.0"},4,"1\" (НР)",{"v":25.86,"d":"25.9"},{"$f":"'Конвертация цен'!H493","v":{"v":50070.886138916016,"d":"50070.89"}},{"$f":"J167-J167*Оглавление!$K$21","v":{"v":50070.886138916016,"d":"50,070.89"}},null,{"v":0,"d":"0.00"}]
[null,"GKB2140504","Бак мембранный для водоснабжения горизонтальный Gekon WAO80 ( 25 бар)",null,80,{"v":25,"d":"25.0"},4,"1\" (НР)",{"v":45,"d":"45.0"},{"$f":"'Конвертация цен'!H494","v":{"v":122415.62036132813,"d":"122415.62"}},{"$f":"J168-J168*Оглавление!$K$21","v":{"v":122415.62036132813,"d":"122,415.62"}},null,{"v":0,"d":"0.00"}]
[null,"GKB0140995","Бак мембранный для водоснабжения горизонтальный Gekon WAO100",null,100,{"v":10,"d":"10.0"},1.5,"1\" (НР)",16.3,{"$f":"'Конвертация цен'!H495","v":{"v":16560,"d":"16560.00"}},{"$f":"J169-J169*Оглавление!$K$21","v":{"v":16560,"d":"16,560.00"}},null,{"v":0,"d":"0.00"}]
[null,"GKB2140406","Бак мембранный для водоснабжения горизонтальный Gekon WAO100 (16 бар)",null,100,{"v":16,"d":"16.0"},4,"1\" (НР)",47.3,{"$f":"'Конвертация цен'!H496","v":{"v":53783.19415283203,"d":"53783.19"}},{"$f":"J170-J170*Оглавление!$K$21","v":{"v":53783.19415283203,"d":"53,783.19"}},null,{"v":0,"d":"0.00"}]
[null,"GKB2140506","Бак мембранный для водоснабжения горизонтальный Gekon WAO100 (25 бар)",null,100,{"v":25,"d":"25.0"},4,"1\" (НР)",{"v":51,"d":"51.0"},{"$f":"'Конвертация цен'!H497","v":{"v":124317.04641723633,"d":"124317.05"}},{"$f":"J171-J171*Оглавление!$K$21","v":{"v":124317.04641723633,"d":"124,317.05"}},null,{"v":0,"d":"0.00"}]
[null,"GKB0140997","Бак мембранный для водоснабжения горизонтальный Gekon WAO150",null,150,{"v":10,"d":"10.0"},1.5,"1\" (НР)",21.5,{"$f":"'Конвертация цен'!H498","v":{"v":26412,"d":"26412.00"}},{"$f":"J172-J172*Оглавление!$K$21","v":{"v":26412,"d":"26,412.00"}},null,{"v":0,"d":"0.00"}]
[]
["ВЕРТИКАЛЬНЫЕ МЕМБРАННЫЕ РАСШИРИТЕЛЬНЫЕ БАКИ СЕРИИ WAV ДЛЯ СИСТЕМ ВОДОСНАБЖЕНИЯ С КОНТРФЛАНЦЕМ ИЗ НЕРЖАВЕЮЩЕЙ СТАЛИ"]
["• Диапазон рабочих температур теплоносителя: от -10⁰C до +80⁰C (кратковременно до +99⁰C)"]
["• Тип теплоносителя: вода или водные растворы гликоля с концентрацие до 50%"]
["• Материал корпуса: сталь углеродистая с эпоксиполиэфирным покрытием, цвет синий RAL 5015; Материал контрфланца: нержавеющая сталь"]
["• Тип мембраны: заменяемая, материал мембраны: EPDM"]
["• Материал ниппеля: латунь"]
["• Тип исполнения: вертикальный"]
["• Размер держателя мембраны у баков 80- 4000 л 3/4\"(НР)x1/2\"(ВР)"]
[]
["Фото","Артикул","Наименование товара",null,"Объём бака","Pmax","P     преднастройки","Присоединение к системе","Вес","Цена за шт.","Цена со скидкой, RUB","Кол-во, шт.","Сумма со скидкой, RUB"]
[{"$nulls":4},"л","бар","бар","G или DN","кг","RUB"]
[null,"GKB1140232","Бак мембранный для водоснабжения Gekon WAV8 с контрфланцем из нерж.стали",null,8,10,1.5,"3/4\" (НР)",1.61,{"$f":"'Конвертация цен'!H499","v":{"v":3151,"d":"3151.00"}},{"$f":"J185-J185*Оглавление!$K$21","v":{"v":3151,"d":"3,151.00"}},null,{"$f":"L185*K185","v":{"v":0,"d":"0.00"}}]
[null,"GKB1140234","Бак мембранный для водоснабжения Gekon WAV12 с контрфланцем из нерж.стали",null,12,10,1.5,"3/4\" (НР)",2.05,{"$f":"'Конвертация цен'!H500","v":{"v":3428,"d":"3428.00"}},{"$f":"J186-J186*Оглавление!$K$21","v":{"v":3428,"d":"3,428.00"}},null,{"$f":"L186*K186","v":{"v":0,"d":"0.00"}}]
[null,"GKB1140236","Бак мембранный для водоснабжения Gekon WAV18 с контрфланцем из нерж.стали",null,18,10,1.5,"3/4\" (НР)",2.8,{"$f":"'Конвертация цен'!H501","v":{"v":4128,"d":"4128.00"}},{"$f":"J187-J187*Оглавление!$K$21","v":{"v":4128,"d":"4,128.00"}},null,{"v":0,"d":"0.00"}]
[null,"GKB1140238","Бак мембранный для водоснабжения Gekon WAV24 с контрфланцем из нерж.стали",null,24,10,1.5,"3/4\" (НР)",4.25,{"$f":"'Конвертация цен'!H502","v":{"v":4357,"d":"4357.00"}},{"$f":"J188-J188*Оглавление!$K$21","v":{"v":4357,"d":"4,357.00"}},null,{"v":0,"d":"0.00"}]
[null,"GKB1140240","Бак мембранный для водоснабжения Gekon WAV35 с контрфланцем из нерж.стали",null,35,10,1.5,"3/4\" (НР)",5.95,{"$f":"'Конвертация цен'!H503","v":{"v":6915,"d":"6915.00"}},{"$f":"J189-J189*Оглавление!$K$21","v":{"v":6915,"d":"6,915.00"}},null,{"v":0,"d":"0.00"}]
[null,"GKB1140242","Бак мембранный для водоснабжения Gekon WAV50 с контрфланцем из нерж.стали",null,50,10,1.5,"1\" (НР)",9.2,{"$f":"'Конвертация цен'!H504","v":{"v":12030,"d":"12030.00"}},{"$f":"J190-J190*Оглавление!$K$21","v":{"v":12030,"d":"12,030.00"}},null,{"v":0,"d":"0.00"}]
[null,"GKB1140244","Бак мембранный для водоснабжения Gekon WAV80 с контрфланцем из нерж.стали",null,80,10,1.5,"1\" (НР)",11.6,{"$f":"'Конвертация цен'!H505","v":{"v":15926,"d":"15926.00"}},{"$f":"J191-J191*Оглавление!$K$21","v":{"v":15926,"d":"15,926.00"}},null,{"v":0,"d":"0.00"}]
[null,"GKB1140246","Бак мембранный для водоснабжения Gekon WAV100 с контрфланцем из нерж.стали",null,100,10,1.5,"1\" (НР)",15.1,{"$f":"'Конвертация цен'!H506","v":{"v":21324,"d":"21324.00"}},{"$f":"J192-J192*Оглавление!$K$21","v":{"v":21324,"d":"21,324.00"}},null,{"v":0,"d":"0.00"}]
[null,"GKB1140248","Бак мембранный для водоснабжения Gekon WAV150 с контрфланцем из нерж.стали",null,150,10,1.5,"1\" (НР)",18.4,{"$f":"'Конвертация цен'!H507","v":{"v":25840,"d":"25840.00"}},{"$f":"J193-J193*Оглавление!$K$21","v":{"v":25840,"d":"25,840.00"}},null,{"v":0,"d":"0.00"}]
[]
["ГОРИЗОНТАЛЬНЫЕ МЕМБРАННЫЕ РАСШИРИТЕЛЬНЫЕ БАКИ СЕРИИ WAO ДЛЯ СИСТЕМ ВОДОСНАБЖЕНИЯ С КОНТРФЛАНЦЕМ ИЗ НЕРЖАВЕЮЩЕЙ СТАЛИ"]
["• Диапазон рабочих температур теплоносителя: от -10⁰C до +80⁰C (кратковременно до +99⁰C)"]
["• Тип теплоносителя: вода или водные растворы гликоля с концентрацие до 50%"]
["• Материал корпуса: сталь углеродистая с эпоксиполиэфирным покрытием, цвет синий RAL 5015; Материал контрфланца: нержавеющая сталь"]
["• Тип мембраны: заменяемая, материал мембраны: EPDM"]
["• Материал ниппеля: латунь"]
["• Тип исполнения: горизонтальный"]
["• Размер держателя мембраны у баков 80- 4000 л 3/4\"(НР)x1/2\"(ВР)"]
[]
["Фото","Артикул","Наименование товара",null,"Объём бака","Pmax","P     преднастройки","Присоединение к системе","Вес","Цена за шт.","Цена со скидкой, RUB","Кол-во, шт.","Сумма со скидкой, RUB"]
[{"$nulls":4},"л","бар","бар","G или DN","кг","RUB"]
[null,"GKB0140410","Бак мембранный для водоснабжения гор-й Gekon WAO24 ",null,24,10,1.5,"1\" (НР)",4.4,{"$f":"'Конвертация цен'!H508","v":{"v":4391,"d":"4391.00"}},{"$f":"J206-J206*Оглавление!$K$21","v":{"v":4391,"d":"4,391.00"}},null,{"$f":"L206*K206","v":{"v":0,"d":"0.00"}}]
[null,"GKB0140420","Бак мембранный для водоснабжения гор-й Gekon WAO50 с контрфланцем из нерж.стали",null,50,10,1.5,"1\" (НР)",9.4,{"$f":"'Конвертация цен'!H509","v":{"v":12282,"d":"12282.00"}},{"$f":"J207-J207*Оглавление!$K$21","v":{"v":12282,"d":"12,282.00"}},null,{"$f":"L207*K207","v":{"v":0,"d":"0.00"}}]
[null,"GKB1140250","Бак мембранный для водоснабжения гор-й Gekon WAO80 с контрфланцем из нерж.стали",null,80,10,1.5,"1\" (НР)",13.7,{"$f":"'Конвертация цен'!H510","v":{"v":15644,"d":"15644.00"}},{"$f":"J208-J208*Оглавление!$K$21","v":{"v":15644,"d":"15,644.00"}},null,{"v":0,"d":"0.00"}]
[null,"GKB1140252","Бак мембранный для водоснабжения гор-й Gekon WAO100 с контрфланцем из нерж.стали",null,100,10,1.5,"1\" (НР)",16.3,{"$f":"'Конвертация цен'!H511","v":{"v":21255,"d":"21255.00"}},{"$f":"J209-J209*Оглавление!$K$21","v":{"v":21255,"d":"21,255.00"}},null,{"v":0,"d":"0.00"}]
[null,"GKB1140254","Бак мембранный для водоснабжения горй Gekon WAO150 с контрфланцем из нерж.стали",null,150,10,1.5,"1\" (НР)",21.5,{"$f":"'Конвертация цен'!H512","v":{"v":32318,"d":"32318.00"}},{"$f":"J210-J210*Оглавление!$K$21","v":{"v":32318,"d":"32,318.00"}},null,{"v":0,"d":"0.00"}]
[]
["ВЕРТИКАЛЬНЫЕ МЕМБРАННЫЕ РАСШИРИТЕЛЬНЫЕ БАКИ СЕРИИ WDV ДЛЯ ГВС И ГЕЛИОСИСТЕМ"]
["• Диапазон рабочих температур теплоносителя: от -10⁰C до +80⁰C (кратковременно до +99⁰C)"]
["• Тип теплоносителя: вода или водные растворы гликоля с концентрацие до 50%"]
["• Материал корпуса: сталь углеродистая с эпоксиполиэфирным покрытием, цвет синий RAL 9016; Материал контрфланца: нержавеющая сталь"]
["• Тип мембраны: заменяемая, материал мембраны: EPDM"]
["• Материал ниппеля: латунь"]
["• Тип исполнения: вертикальный"]
[]
["Фото","Артикул","Наименование товара",null,"Объём бака","Pmax","P     преднастройки","Присоединение к системе","Вес","Цена за шт.","Цена со скидкой, RUB","Кол-во, шт.","Сумма со скидкой, RUB"]
[{"$nulls":4},"л","бар","бар","G или DN","кг","RUB"]
[null,"GKB0140350","Бак мембранный для ГВС и гелиосистем Gekon WDV 8 с контрфланцем из нерж.стали",null,8,12,1.5,"3/4\" (НР)",1.7,{"$f":"'Конвертация цен'!H513","v":{"v":3680,"d":"3680.00"}},{"$f":"J222-J222*Оглавление!$K$21","v":{"v":3680,"d":"3,680.00"}},null,{"$f":"L222*K222","v":{"v":0,"d":"0.00"}}]
[null,"GKB0140360","Бак мембранный для ГВС и гелиосистем Gekon WDV 12 с контрфланцем из нерж.стали",null,12,12,1.5,"3/4\" (НР)",2.1,{"$f":"'Конвертация цен'!H514","v":{"v":4324,"d":"4324.00"}},{"$f":"J223-J223*Оглавление!$K$21","v":{"v":4324,"d":"4,324.00"}},null,{"$f":"L223*K223","v":{"v":0,"d":"0.00"}}]
[null,"GKB0140370","Бак мембранный для ГВС и гелиосистем Gekon WDV 18 с контрфланцем из нерж.стали",null,18,12,1.5,"3/4\" (НР)",2.9,{"$f":"'Конвертация цен'!H515","v":{"v":5157,"d":"5157.00"}},{"$f":"J224-J224*Оглавление!$K$21","v":{"v":5157,"d":"5,157.00"}},null,{"v":0,"d":"0.00"}]
[null,"GKB0140380","Бак мембранный для ГВС и гелиосистем Gekon WDV 24 с контрфланцем из нерж.стали",null,24,12,1.5,"3/4\" (НР)",4.4,{"$f":"'Конвертация цен'!H516","v":{"v":5610,"d":"5610.00"}},{"$f":"J225-J225*Оглавление!$K$21","v":{"v":5610,"d":"5,610.00"}},null,{"v":0,"d":"0.00"}]
[null,"GKB0140390","Бак мембранный для ГВС и гелиосистем Gekon WDV 35 с контрфланцем из нерж.стали",null,35,12,1.5,"3/4\" (НР)",6.3,{"$f":"'Конвертация цен'!H517","v":{"v":8119,"d":"8119.00"}},{"$f":"J226-J226*Оглавление!$K$21","v":{"v":8119,"d":"8,119.00"}},null,{"v":0,"d":"0.00"}]
[]
["ПРИНАДЛЕЖНОСТИ ДЛЯ МЕМБРАННЫХ БАКОВ"]
[]
["Фото","Артикул","Наименование товара",{"$nulls":6},"Цена за шт.","Цена со скидкой, RUB","Кол-во, шт.","Сумма со скидкой, RUB"]
[{"$nulls":9},"RUB"]
[null,"GKB0143010","Комплект крепления для мембранных баков 8-35 л",{"$nulls":6},{"$f":"'Конвертация цен'!H518","v":{"v":1229,"d":"1229.00"}},{"$f":"J232-J232*Оглавление!$K$21","v":{"v":1229,"d":"1,229.00"}},null,{"$f":"L232*K232","v":{"v":0,"d":"0.00"}}]
[null,"GKBQRVG34","Клапан быстроразъемный для расширительного бака 3/4\"",{"$nulls":6},{"$f":"'Конвертация цен'!H519","v":{"v":970,"d":"970.00"}},{"$f":"J233-J233*Оглавление!$K$21","v":{"v":970,"d":"970.00"}},null,{"$f":"L233*K233","v":{"v":0,"d":"0.00"}}]
[]
["ЗАПАСНЫЕ ЧАСТИ ДЛЯ МЕМБРАННЫХ БАКОВ"]
[]
["Фото","Артикул","Наименование товара",{"$nulls":6},"Цена за шт.","Цена со скидкой, RUB","Кол-во, шт.","Сумма со скидкой, RUB"]
[{"$nulls":9},"RUB"]
[null,"999ME001","Мембрана для баков 8, 12 л. с горловиной диаметром 51,5 мм (для WAV, WRV, WDV)",{"$nulls":6},{"$f":"'Конвертация цен'!H520","v":{"v":1267.6173706054688,"d":"1267.62"}},{"$f":"J239-J239*Оглавление!$K$21","v":{"v":1267.6173706054688,"d":"1,267.62"}},null,{"$f":"K239","v":{"v":1267.6173706054688,"d":"1,267.62"}}]
[null,"999ME016","Мембрана для баков 18, 24 л. с горловиной диаметром 51,5 мм (для WAV, WRV, WDV)",{"$nulls":6},{"$f":"'Конвертация цен'!H521","v":{"v":1720.3378601074219,"d":"1720.34"}},{"$f":"J240-J240*Оглавление!$K$21","v":{"v":1720.3378601074219,"d":"1,720.34"}},null,{"$f":"K240","v":{"v":1720.3378601074219,"d":"1,720.34"}}]
[null,"999ME070","Мембрана для баков 24 л. с горловиной диаметром 89 мм (для WAO)",{"$nulls":6},{"$f":"'Конвертация цен'!H522","v":{"v":1901.4260559082031,"d":"1901.43"}},{"$f":"J241-J241*Оглавление!$K$21","v":{"v":1901.4260559082031,"d":"1,901.43"}},null,{"v":1901.4260559082031,"d":"1,901.43"}]
[null,"999ME055","Мембрана для баков 35, 50 л. с горловиной диаметром 89 мм (для WAV, WRV, WAO)",{"$nulls":6},{"$f":"'Конвертация цен'!H523","v":{"v":3802.8521118164063,"d":"3802.85"}},{"$f":"J242-J242*Оглавление!$K$21","v":{"v":3802.8521118164063,"d":"3,802.85"}},null,{"v":3802.8521118164063,"d":"3,802.85"}]
[null,"999ME090","Мембрана для баков 80, 100 л. с горловиной диаметром 89 мм (для WRV)",{"$nulls":6},{"$f":"'Конвертация цен'!H524","v":{"v":7424.616027832031,"d":"7424.62"}},{"$f":"J243-J243*Оглавление!$K$21","v":{"v":7424.616027832031,"d":"7,424.62"}},null,{"v":7424.616027832031,"d":"7,424.62"}]
[null,"999ME089","Мембрана (проходная) для баков 80, 100 л. с горловиной диаметром 89 мм (для WAV, WAO)",{"$nulls":6},{"$f":"'Конвертация цен'!H525","v":{"v":7424.616027832031,"d":"7424.62"}},{"$f":"J244-J244*Оглавление!$K$21","v":{"v":7424.616027832031,"d":"7,424.62"}},null,{"v":7424.616027832031,"d":"7,424.62"}]
[null,"999ME201","Мембрана (проходная) для баков 150 л. с горловиной диаметром 89 мм (для WAV, WAO)",{"$nulls":6},{"$f":"'Конвертация цен'!H526","v":{"v":19466.981048583984,"d":"19466.98"}},{"$f":"J245-J245*Оглавление!$K$21","v":{"v":19466.981048583984,"d":"19,466.98"}},null,{"v":19466.981048583984,"d":"19,466.98"}]
[null,"999ME200","Мембрана для баков 150 л. с горловиной диаметром 89 мм (для WRV)",{"$nulls":6},{"$f":"'Конвертация цен'!H527","v":{"v":19466.981048583984,"d":"19466.98"}},{"$f":"J246-J246*Оглавление!$K$21","v":{"v":19466.981048583984,"d":"19,466.98"}},null,{"v":19466.981048583984,"d":"19,466.98"}]
[null,"999ME120","Мембрана для баков 200 л. (для WAV, WRV)",{"$nulls":6},{"$f":"'Конвертация цен'!H528","v":{"v":23813.097747802734,"d":"23813.10"}},{"$f":"J247-J247*Оглавление!$K$21","v":{"v":23813.097747802734,"d":"23,813.10"}},null,{"v":23813.097747802734,"d":"23,813.10"}]
[null,"999ME700","Мембрана для баков 300 л. (для WAV, WRV)",{"$nulls":6},{"$f":"'Конвертация цен'!H529","v":{"v":36760.903747558594,"d":"36760.90"}},{"$f":"J248-J248*Оглавление!$K$21","v":{"v":36760.903747558594,"d":"36,760.90"}},null,{"v":36760.903747558594,"d":"36,760.90"}]
[null,"999ME750","Мембрана для баков 500 л. (для WAV, WRV)",{"$nulls":6},{"$f":"'Конвертация цен'!H530","v":{"v":56408.97299194336,"d":"56408.97"}},{"$f":"J249-J249*Оглавление!$K$21","v":{"v":56408.97299194336,"d":"56,408.97"}},null,{"v":56408.97299194336,"d":"56,408.97"}]
[null,"FOA0244","Мембрана для водоснабжения, 750 л. (для WAV, WRV)",{"$nulls":6},{"$f":"'Конвертация цен'!H531","v":{"v":67726.98522949219,"d":"67726.99"}},{"$f":"J250-J250*Оглавление!$K$21","v":{"v":67726.98522949219,"d":"67,726.99"}},null,{"v":67726.98522949219,"d":"67,726.99"}]
[null,"FOA0245","Мембрана для водоснабжения, 1000 л. (для WAV, WRV)",{"$nulls":6},{"$f":"'Конвертация цен'!H532","v":{"v":90272.46560668945,"d":"90272.47"}},{"$f":"J251-J251*Оглавление!$K$21","v":{"v":90272.46560668945,"d":"90,272.47"}},null,{"v":90272.46560668945,"d":"90,272.47"}]

{"sheet":"Дымоходы","index":10,"n_rows":126,"n_cols":11,"rows_kept":126,"merged":[[3,0,3,7],[6,8,6,10],[8,9,8,10],[9,0,10,0],[9,1,10,1],[9,2,10,3],[9,8,10,8],[9,9,10,9],[9,10,10,10],[9,13,9,36],[11,0,14,0],[11,2,11,3],[12,2,12,3],[13,2,13,3],[14,2,14,3],[15,0,16,0],[15,2,15,3],[16,2,16,3],[17,0,32,0],[17,2,17,3],[18,2,18,3],[19,2,19,3],[20,2,20,3],[21,2,21,3],[22,2,22,3],[23,2,23,3],[24,2,24,3],[25,2,25,3],[26,2,26,3],[27,2,27,3],[28,2,28,3],[29,2,29,3],[30,2,30,3],[31,2,31,3],[32,2,32,3],[33,0,34,0],[33,2,33,3],[34,2,34,3],[35,0,37,0],[35,2,35,3],[36,2,36,3],[37,2,37,3],[38,2,38,3],[39,0,40,0],[39,2,39,3],[40,2,40,3],[41,0,42,0],[41,2,41,3],[42,2,42,3],[43,2,43,3],[44,2,44,3],[45,2,45,3],[46,2,46,3],[48,0,49,0],[48,1,49,1],[48,2,49,3],[48,8,49,8],[48,9,49,9],[48,10,49,10],[48,13,48,36],[50,0,52,0],[50,2,50,3],[51,2,51,3],[52,2,52,3],[53,0,55,0],[53,2,53,3],[54,2,54,3],[55,2,55,3],[56,2,56,3],[63,0,64,0],[63,1,64,1],[63,2,64,3],[63,8,64,8],[63,9,64,9],[63,10,64,10],[65,0,72,0],[65,2,65,3],[66,2,66,3],[67,2,67,3],[68,2,68,3],[69,2,69,3],[70,2,70,3],[71,2,71,3],[72,2,72,3],[73,2,73,3],[74,2,74,3],[75,2,75,3],[76,2,76,3],[78,0,79,0],[78,1,79,1],[78,2,79,3],[78,8,79,8],[78,9,79,9],[78,10,79,10],[78,13,78,36],[80,2,80,3],[81,2,81,3],[87,0,88,0],[87,1,88,1],[87,2,88,3],[87,8,88,8],[87,9,88,9],[87,10,88,10],[89,0,90,0],[89,2,89,3],[90,2,90,3],[91,0,97,0],[91,2,91,3],[92,2,92,3],[93,2,93,3],[94,2,94,3],[95,2,95,3],[96,2,96,3],[97,2,97,3],[98,2,98,3],[99,2,99,3],[101,0,102,0],[101,1,102,1],[101,2,102,3],[101,8,102,8],[101,9,102,9],[101,10,102,10],[103,0,105,0],[103,2,103,3],[104,2,104,3],[105,2,105,3],[106,0,108,0],[106,2,106,3],[107,2,107,3],[108,2,108,3],[112,0,113,0],[112,1,113,1],[112,2,113,3],[112,4,112,5],[112,8,113,8],[112,9,113,9],[112,10,113,10],[113,4,113,5],[114,2,114,3],[114,4,114,5],[115,0,118,0],[115,2,115,3],[115,4,115,5],[116,2,116,3],[116,4,116,5],[117,2,117,3],[117,4,117,5],[118,2,118,3],[118,4,118,5],[119,0,120,0],[119,2,119,3],[119,4,119,5],[120,2,120,3],[120,4,120,5],[121,0,123,0],[121,2,121,3],[121,4,121,5],[122,2,122,3],[122,4,122,5],[123,2,123,3],[123,4,123,5],[124,2,124,3],[124,4,124,5],[125,2,125,3],[125,4,125,5]]}
[]
[]
[]
["Дымоходы"]
[]
["ДЫМОХОДЫ КОАКСИАЛЬНЫЕ ДЛЯ КЛАССИЧЕСКИХ КОТЛОВ"]
["• Универсальные комплекты Ø60/100 и Ø80/125 мм",{"$nulls":7},"На главную страницу"]
["• Основные элементы изготовлены из АЛЮМИНИЯ, АЛЮМИНИЯ С ОЦИНКОВАННОЙ СТАЛИ или СТАЛИ"]
[{"$nulls":8},"Итого:",{"$f":"SUM(K12:K47)+SUM(K51:K57)+SUM(K66:K77)+SUM(K81:K82)","v":{"v":0,"d":"0.00"}}]
["Фото","Артикул","Наименование товара",null,"Диаметр","Длина","Вес","Цена за шт.","Цена со скидкой, RUB","Кол-во, шт.","Сумма со скидкой, RUB"]
[{"$nulls":4},"мм","м","кг","RUB"]
[null,"GKD K60100L1ALPA","Универсальный комплект Gekon Ø60/100 мм L=1,0 м (хомут, фланец, проставка 60 мм), Алюминий, система Антилед",null,"60/100",{"v":1,"d":"1.0"},1.8,{"$f":"'Конвертация цен'!H536","v":{"v":3752.1388413590807,"d":"3752.14"}},{"$f":"H12-H12*Оглавление!$K$22","v":{"v":3752.1388413590807,"d":"3,752.14"}},null,{"$f":"J12*I12","v":{"v":0,"d":"0.00"}}]
[null,"GKD K60100L1GSPA","Универсальный комплект Gekon Ø60/100 мм       L=1,0 м (хомут, фланец, проставка 60 мм), Алюминий и Оц.сталь, система Антилёд",null,"60/100",{"v":1,"d":"1.0"},1.7,{"$f":"'Конвертация цен'!H537","v":{"v":3497.9222683940357,"d":"3497.92"}},{"$f":"H13-H13*Оглавление!$K$22","v":{"v":3497.9222683940357,"d":"3,497.92"}},null,{"$f":"J13*I13","v":{"v":0,"d":"0.00"}}]
[null,"GKD K60100L3ALPA","Универсальный комплект Gekon Ø60/100 мм L=1,35 м (хомут, фланец, проставка 60 мм), Алюминий, система Антилед",null,"60/100",1.35,2.4,{"$f":"'Конвертация цен'!H538","v":{"v":4179.907113175263,"d":"4179.91"}},{"$f":"H14-H14*Оглавление!$K$22","v":{"v":4179.907113175263,"d":"4,179.91"}},null,{"v":0,"d":"0.00"}]
[null,"GKD K60100L3GSPA","Универсальный комплект Gekon Ø60/100 мм, L=1,35 м (хомут, фланец, проставка 60 мм), Алюминий и Оц.сталь, система Антилёд",null,"60/100",1.35,2.3,{"$f":"'Конвертация цен'!H539","v":{"v":3849.9144463456364,"d":"3849.91"}},{"$f":"H15-H15*Оглавление!$K$22","v":{"v":3849.9144463456364,"d":"3,849.91"}},null,{"v":0,"d":"0.00"}]
[null,"GKD 60100L1000GS","Труба выпускная с наконечником Gekon Ø60/100 мм, L=1190 мм, Алюминий и Оц.сталь, система Антилёд",null,"60/100",1.19,1.9,{"$f":"'Конвертация цен'!H540","v":{"v":2309.9486678073818,"d":"2309.95"}},{"$f":"H16-H16*Оглавление!$K$22","v":{"v":2309.9486678073818,"d":"2,309.95"}},null,{"$f":"J16*I16","v":{"v":0,"d":"0.00"}}]
[null,"GKD 80125L1000GS","Труба выпускная с наконечником Gekon Ø80/125 мм, L=1000 мм, Алюминий и Оц.сталь, система Антилед",null,"80/125",{"v":1,"d":"1.0"},3.1,{"$f":"'Конвертация цен'!H541","v":{"v":3629.919335125886,"d":"3629.92"}},{"$f":"H17-H17*Оглавление!$K$22","v":{"v":3629.919335125886,"d":"3,629.92"}},null,{"v":0,"d":"0.00"}]
[null,"GKD 60100L025AL","Удлинение дымохода Gekon Ø60/100 мм, L=250 мм, Алюминий",null,"60/100",0.25,{"v":0.44,"d":"0.4"},{"$f":"'Конвертация цен'!H542","v":{"v":857.9809337570276,"d":"857.98"}},{"$f":"H18-H18*Оглавление!$K$22","v":{"v":857.9809337570276,"d":"857.98"}},null,{"v":0,"d":"0.00"}]
[null,"GKD 60100L025","Удлинение дымохода Gekon Ø60/100 мм, L=250 мм, Алюминий и Оц.сталь",null,"60/100",0.25,0.4,{"$f":"'Конвертация цен'!H543","v":{"v":716.2063065265216,"d":"716.21"}},{"$f":"H19-H19*Оглавление!$K$22","v":{"v":716.2063065265216,"d":"716.21"}},null,{"v":0,"d":"0.00"}]
[null,"GKD 80L025AL","Удлинение дымохода Gekon Ø80 мм, L=250 мм, Алюминий",null,80,0.25,0.2,{"$f":"'Конвертация цен'!H544","v":{"v":474.2116841847959,"d":"474.21"}},{"$f":"H20-H20*Оглавление!$K$22","v":{"v":474.2116841847959,"d":"474.21"}},null,{"$f":"J20*I20","v":{"v":0,"d":"0.00"}}]
[null,"GKD 80125L025","Удлинение дымохода Gekon Ø80/125 мм, L=250 мм, Алюминий и Оц.сталь",null,"80/125",0.25,0.7,{"$f":"'Конвертация цен'!H545","v":{"v":1737.9613786360303,"d":"1737.96"}},{"$f":"H21-H21*Оглавление!$K$22","v":{"v":1737.9613786360303,"d":"1,737.96"}},null,{"v":0,"d":"0.00"}]
[null,"GKD 60100L050AL","Удлинение дымохода Gekon Ø60/100 мм, L=500 мм, Алюминий",null,"60/100",0.5,{"v":0.98,"d":"1.0"},{"$f":"'Конвертация цен'!H546","v":{"v":1473.9672451723295,"d":"1473.97"}},{"$f":"H22-H22*Оглавление!$K$22","v":{"v":1473.9672451723295,"d":"1,473.97"}},null,{"v":0,"d":"0.00"}]
[null,"GKD 60100L050","Удлинение дымохода Gekon Ø60/100 мм, L=500 мм, Алюминий и Оц.сталь",null,"60/100",0.5,0.9,{"$f":"'Конвертация цен'!H547","v":{"v":1033.9770227328281,"d":"1033.98"}},{"$f":"H23-H23*Оглавление!$K$22","v":{"v":1033.9770227328281,"d":"1,033.98"}},null,{"v":0,"d":"0.00"}]
[null,"GKD 80L050AL","Удлинение дымохода Gekon Ø80 мм, L=500 мм, Алюминий",null,80,0.5,0.4,{"$f":"'Конвертация цен'!H548","v":{"v":725.9838670251772,"d":"725.98"}},{"$f":"H24-H24*Оглавление!$K$22","v":{"v":725.9838670251772,"d":"725.98"}},null,{"v":0,"d":"0.00"}]
[null,"GKD 80125L050","Удлинение дымохода Gekon Ø80/125 мм, L=500 мм, Алюминий и Оц.сталь",null,"80/125",0.5,1.6,{"$f":"'Конвертация цен'!H549","v":{"v":2397.9467122952824,"d":"2397.95"}},{"$f":"H25-H25*Оглавление!$K$22","v":{"v":2397.9467122952824,"d":"2,397.95"}},null,{"v":0,"d":"0.00"}]
[null,"GKD 60100L100AL","Удлинение дымохода Gekon Ø60/100 мм, L=1000 мм, Алюминий",null,"60/100",{"v":1,"d":"1.0"},{"v":1.74,"d":"1.7"},{"$f":"'Конвертация цен'!H550","v":{"v":2463.9452456612075,"d":"2463.95"}},{"$f":"H26-H26*Оглавление!$K$22","v":{"v":2463.9452456612075,"d":"2,463.95"}},null,{"v":0,"d":"0.00"}]
[null,"GKD 60100L100","Удлинение дымохода Gekon Ø60/100 мм, L=1000 мм, Алюминий и Оц.сталь",null,"60/100",{"v":1,"d":"1.0"},1.7,{"$f":"'Конвертация цен'!H551","v":{"v":1737.9613786360303,"d":"1737.96"}},{"$f":"H27-H27*Оглавление!$K$22","v":{"v":1737.9613786360303,"d":"1,737.96"}},null,{"v":0,"d":"0.00"}]
[null,"GKD 80L100AL","Удлинение дымохода Gekon Ø80 мм, L=1000 мм, Алюминий",null,80,{"v":1,"d":"1.0"},0.7,{"$f":"'Конвертация цен'!H552","v":{"v":1275.9716450745539,"d":"1275.97"}},{"$f":"H28-H28*Оглавление!$K$22","v":{"v":1275.9716450745539,"d":"1,275.97"}},null,{"v":0,"d":"0.00"}]
[null,"GKD 80125L100","Удлинение дымохода Gekon Ø80/125 мм, L=1000 мм, Алюминий и Оц.сталь",null,"80/125",{"v":1,"d":"1.0"},3.2,{"$f":"'Конвертация цен'!H553","v":{"v":3959.912001955512,"d":"3959.91"}},{"$f":"H29-H29*Оглавление!$K$22","v":{"v":3959.912001955512,"d":"3,959.91"}},null,{"v":0,"d":"0.00"}]
[null,"GKD 60100L150AL","Удлинение дымохода Gekon Ø60/100 мм, L=1500 мм, Алюминий",null,"60/100",1.5,{"v":2.94,"d":"2.9"},{"$f":"'Конвертация цен'!H554","v":{"v":3686.1403079931556,"d":"3686.14"}},{"$f":"H30-H30*Оглавление!$K$22","v":{"v":3686.1403079931556,"d":"3,686.14"}},null,{"v":0,"d":"0.00"}]
[null,"GKD 80L150AL","Удлинение дымохода Gekon Ø80 мм, L=1500 мм, Алюминий",null,80,1.5,1.1,{"$f":"'Конвертация цен'!H555","v":{"v":2045.9545343436812,"d":"2045.95"}},{"$f":"H31-H31*Оглавление!$K$22","v":{"v":2045.9545343436812,"d":"2,045.95"}},null,{"v":0,"d":"0.00"}]
[null,"GKD 60100L200AL","Удлинение дымохода Gekon Ø60/100 мм, L=2000 мм, Алюминий",null,"60/100",{"v":2,"d":"2.0"},{"v":3.92,"d":"3.9"},{"$f":"'Конвертация цен'!H556","v":{"v":4773.89391346859,"d":"4773.89"}},{"$f":"H32-H32*Оглавление!$K$22","v":{"v":4773.89391346859,"d":"4,773.89"}},null,{"v":0,"d":"0.00"}]
[null,"GKD 80L200AL","Удлинение дымохода Gekon Ø80 мм, L=2000 мм, Алюминий",null,80,{"v":2,"d":"2.0"},1.5,{"$f":"'Конвертация цен'!H557","v":{"v":2661.940845758983,"d":"2661.94"}},{"$f":"H33-H33*Оглавление!$K$22","v":{"v":2661.940845758983,"d":"2,661.94"}},null,{"v":0,"d":"0.00"}]
[null,"GKD 60100VDAG","Дымоход вертикальный Gekon Ø60/100 мм, L=1000 мм, черный, Алюминий и Оц.сталь",null,"60/100",1,{"v":3,"d":"3.0"},{"$f":"'Конвертация цен'!H565","v":{"v":6313.859692006844,"d":"6313.86"}},{"$f":"H34-H34*Оглавление!$K$22","v":{"v":6313.859692006844,"d":"6,313.86"}},null,{"v":0,"d":"0.00"}]
[null,"GKD 80125VD","Дымоход вертикальный Gekon Ø80/125 мм, L=1000 мм, черный, Алюминий и сталь",null,"80/125",1,1.7,{"$f":"'Конвертация цен'!H566","v":{"v":10119.77511610853,"d":"10119.78"}},{"$f":"H35-H35*Оглавление!$K$22","v":{"v":10119.77511610853,"d":"10,119.78"}},null,{"v":0,"d":"0.00"}]
[null,"GKD 60100VNPG","Наконечник для вертикального дымохода Gekon Ø60/100 мм, черный, Полиамид и Оц.сталь",null,"60/100",0.43,{"v":1,"d":"1.0"},{"$f":"'Конвертация цен'!H567","v":{"v":3893.9134685895865,"d":"3893.91"}},{"$f":"H36-H36*Оглавление!$K$22","v":{"v":3893.9134685895865,"d":"3,893.91"}},null,{"v":0,"d":"0.00"}]
[null,"GKD 80125VN","Наконечник для вертикального дымохода Gekon Ø80/125 мм, черный, Алюминий и Сталь",null,"80/125",0.43,1.3,{"$f":"'Конвертация цен'!H568","v":{"v":7325.837203617697,"d":"7325.84"}},{"$f":"H37-H37*Оглавление!$K$22","v":{"v":7325.837203617697,"d":"7,325.84"}},null,{"v":0,"d":"0.00"}]
[null,"GKD 80VERTN","Наконечник для вертикального дымохода Gekon Ø80 мм, черный, Оц.cталь",null,80,0.43,0.4,{"$f":"'Конвертация цен'!H569","v":{"v":923.9794671229528,"d":"923.98"}},{"$f":"H38-H38*Оглавление!$K$22","v":{"v":923.9794671229528,"d":"923.98"}},null,{"$f":"J38*I38","v":{"v":0,"d":"0.00"}}]
[null,"GKD 60100M01AL","Муфта Gekon Ø60/100 мм, L=100 мм, Алюминий",null,"60/100",0.1,0.4,{"$f":"'Конвертация цен'!H570","v":{"v":1143.9745783427034,"d":"1143.97"}},{"$f":"H39-H39*Оглавление!$K$22","v":{"v":1143.9745783427034,"d":"1,143.97"}},null,{"$f":"J39*I39","v":{"v":0,"d":"0.00"}}]
[null,"GKD 60100KOAL","Конденсатоотводчик Gekon Ø60/100 мм, L=155 мм, Алюминий",null,"60/100",0.155,0.3,{"$f":"'Конвертация цен'!H571","v":{"v":1957.956489855781,"d":"1957.96"}},{"$f":"H40-H40*Оглавление!$K$22","v":{"v":1957.956489855781,"d":"1,957.96"}},null,{"$f":"J40*I40","v":{"v":0,"d":"0.00"}}]
[null,"GKD 80OTVAL","Конденсатоотводчик Gekon Ø80 мм, L=120 мм, Алюминий",null,80,0.12,0.2,{"$f":"'Конвертация цен'!H572","v":{"v":1429.9682229283792,"d":"1429.97"}},{"$f":"H41-H41*Оглавление!$K$22","v":{"v":1429.9682229283792,"d":"1,429.97"}},null,{"$f":"J41*I41","v":{"v":0,"d":"0.00"}}]
[null,"GKD 80125P01AL","Переходник Gekon Ø60/100х80/125 мм, папа-мама, Алюминий",null,"60/100*80/125",0.3,0.2,{"$f":"'Конвертация цен'!H573","v":{"v":2419.9462234172574,"d":"2419.95"}},{"$f":"H42-H42*Оглавление!$K$22","v":{"v":2419.9462234172574,"d":"2,419.95"}},null,{"$f":"J42*I42","v":{"v":0,"d":"0.00"}}]
[null,"GKD 6080AL","Переход Gekon Ø60-80 мм, L=100 мм, Алюминий",null,"60*80",0.1,0.1,{"$f":"'Конвертация цен'!H574","v":{"v":835.9814226350525,"d":"835.98"}},{"$f":"H43-H43*Оглавление!$K$22","v":{"v":835.9814226350525,"d":"835.98"}},null,{"$f":"J43*I43","v":{"v":0,"d":"0.00"}}]
[null,"GKD 80VZWAL","Решётка воздухозабора Gekon Ø80 мм, белый окрас, Алюминий и Сталь",null,80,0.03,0.1,{"$f":"'Конвертация цен'!H575","v":{"v":461.9897335614764,"d":"461.99"}},{"$f":"H44-H44*Оглавление!$K$22","v":{"v":461.9897335614764,"d":"461.99"}},null,{"$f":"J44*I44","v":{"v":0,"d":"0.00"}}]
[null,"GKD 80VOWN","Решётка газоотвода Gekon Ø80 мм, белый окрас, Нержавеющая сталь",null,80,0.07,0.1,{"$f":"'Конвертация цен'!H576","v":{"v":857.9809337570276,"d":"857.98"}},{"$f":"H45-H45*Оглавление!$K$22","v":{"v":857.9809337570276,"d":"857.98"}},null,{"v":0,"d":"0.00"}]
[null,"GKD 60100/80","Комплект дымохода, адаптер Gekon Ø60/100х80/80 мм (хомут, фланец, проставка 60 мм), Алюминий",null,"60/100*80/80",0.3,0.8,{"$f":"'Конвертация цен'!H577","v":{"v":2925.934979222684,"d":"2925.93"}},{"$f":"H46-H46*Оглавление!$K$22","v":{"v":2925.934979222684,"d":"2,925.93"}},null,{"$f":"J46*I46","v":{"v":0,"d":"0.00"}}]
[null,"GKD 60100ASTRAL","Адаптер стартовый вертикальный Gekon Ø60/100 мм, L=150 мм, Алюминий",null,"60/100",0.15,0.6,{"$f":"'Конвертация цен'!H578","v":{"v":1627.9638230261548,"d":"1627.96"}},{"$f":"H47-H47*Оглавление!$K$22","v":{"v":1627.9638230261548,"d":"1,627.96"}},null,{"$f":"J47*I47","v":{"v":0,"d":"0.00"}}]
[]
["Фото","Артикул","Наименование товара",null,"Диаметр","Угол","Вес","Цена за шт.","Цена со скидкой, RUB","Кол-во, шт.","Сумма со скидкой, RUB"]
[{"$nulls":4},"мм","⁰ (градус)","кг","RUB"]
[null,"GKD 60100K45AL","Колено Gekon Ø60/100 мм, угол 45 гр., Алюминий",null,"60/100",45,0.4,{"$f":"'Конвертация цен'!H558","v":{"v":1517.9662674162796,"d":"1517.97"}},{"$f":"H51-H51*Оглавление!$K$22","v":{"v":1517.9662674162796,"d":"1,517.97"}},null,{"v":0,"d":"0.00"}]
[null,"GKD 80K45AL","Колено Gekon Ø80 мм, угол 45 гр., Алюминий",null,80,45,0.2,{"$f":"'Конвертация цен'!H559","v":{"v":1077.9760449767782,"d":"1077.98"}},{"$f":"H52-H52*Оглавление!$K$22","v":{"v":1077.9760449767782,"d":"1,077.98"}},null,{"$f":"J52*I52","v":{"v":0,"d":"0.00"}}]
[null,"GKD 80125K45AL","Колено Gekon Ø80/125 мм, угол 45 гр., Алюминий",null,"80/125",45,0.7,{"$f":"'Конвертация цен'!H560","v":{"v":4619.8973356147635,"d":"4619.90"}},{"$f":"H53-H53*Оглавление!$K$22","v":{"v":4619.8973356147635,"d":"4,619.90"}},null,{"v":0,"d":"0.00"}]
[null,"GKD 60100K90AL","Колено Gekon Ø60/100 мм, угол 90 гр., Алюминий",null,"60/100",90,0.6,{"$f":"'Конвертация цен'!H561","v":{"v":1451.9677340503545,"d":"1451.97"}},{"$f":"H54-H54*Оглавление!$K$22","v":{"v":1451.9677340503545,"d":"1,451.97"}},null,{"v":0,"d":"0.00"}]
[null,"GKD 80K90AL","Колено Gekon Ø80 мм, угол 90 гр., Алюминий",null,80,90,0.3,{"$f":"'Конвертация цен'!H562","v":{"v":835.9814226350525,"d":"835.98"}},{"$f":"H55-H55*Оглавление!$K$22","v":{"v":835.9814226350525,"d":"835.98"}},null,{"v":0,"d":"0.00"}]
[null,"GKD 80125K90AL","Колено Gekon Ø80/125 мм, угол 90 гр., Алюминий",null,"80/125",90,{"v":1,"d":"1.0"},{"$f":"'Конвертация цен'!H563","v":{"v":4619.8973356147635,"d":"4619.90"}},{"$f":"H56-H56*Оглавление!$K$22","v":{"v":4619.8973356147635,"d":"4,619.90"}},null,{"v":0,"d":"0.00"}]
[null,"GKD 60100KSTRAL","Колено стартовое Gekon Ø60/100 мм, угол 90 гр., Алюминий",null,"60/100",90,0.8,{"$f":"'Конвертация цен'!H564","v":{"v":1913.9574676118307,"d":"1913.96"}},{"$f":"H57-H57*Оглавление!$K$22","v":{"v":1913.9574676118307,"d":"1,913.96"}},null,{"v":0,"d":"0.00"}]
[]
["ДЫМОХОДЫ КОАКСИАЛЬНЫЕ ДЛЯ КЛАССИЧЕСКИХ КОТЛОВ УТЕПЛЁННЫЕ"]
["• Универсальные комплекты Ø80 мм"]
["• Основные элементы изготовлены из АЛЮМИНИЯ, АЛЮМИНИЯ С ОЦИНКОВАННОЙ СТАЛИ или СТАЛИ"]
["• Утеплитель из минеральной ваты толщиной 10 мм"]
[]
["Фото","Артикул","Наименование товара",null,"Диаметр","Длина","Вес","Цена за шт.","Цена со скидкой, RUB","Кол-во, шт.","Сумма со скидкой, RUB"]
[{"$nulls":4},"мм","м","кг","RUB"]
[null,"GKD 80100025TAL","Удлинение дымохода утепленное Gekon Ø80 мм, δут=10 мм, L=250 мм, Алюминий",null,80,0.25,0.5,{"$f":"'Конвертация цен'!H579","v":{"v":1957.956489855781,"d":"1957.96"}},{"$f":"H66-H66*Оглавление!$K$22","v":{"v":1957.956489855781,"d":"1,957.96"}},null,{"$f":"J66*I66","v":{"v":0,"d":"0.00"}}]
[null,"GKD 80100025T","Удлинение дымохода утепленное Gekon Ø80 мм, δут=10 мм, L=250 мм, Алюминий и Оц.сталь",null,80,0.25,0.4,{"$f":"'Конвертация цен'!H580","v":{"v":1671.962845270105,"d":"1671.96"}},{"$f":"H67-H67*Оглавление!$K$22","v":{"v":1671.962845270105,"d":"1,671.96"}},null,{"$f":"J67*I67","v":{"v":0,"d":"0.00"}}]
[null,"GKD 80100050TAL","Удлинение дымохода утепленное Gekon Ø80 мм, δут=10 мм, L=500 мм, Алюминий",null,80,0.5,1.1,{"$f":"'Конвертация цен'!H581","v":{"v":2485.9447567831826,"d":"2485.94"}},{"$f":"H68-H68*Оглавление!$K$22","v":{"v":2485.9447567831826,"d":"2,485.94"}},null,{"$f":"J68*I68","v":{"v":0,"d":"0.00"}}]
[null,"GKD 80100050T","Удлинение дымохода утепленное Gekon Ø80 мм, δут=10 мм, L=500 мм, Алюминий и Оц.сталь",null,80,0.5,{"v":1,"d":"1.0"},{"$f":"'Конвертация цен'!H582","v":{"v":2375.9472011733073,"d":"2375.95"}},{"$f":"H69-H69*Оглавление!$K$22","v":{"v":2375.9472011733073,"d":"2,375.95"}},null,{"v":0,"d":"0.00"}]
[null,"GKD 80100100TAL","Удлинение дымохода утепленное Gekon Ø80 мм, δут=10 мм, L=1000 мм, Алюминий",null,80,1,2.2,{"$f":"'Конвертация цен'!H583","v":{"v":4135.9080909313125,"d":"4135.91"}},{"$f":"H70-H70*Оглавление!$K$22","v":{"v":4135.9080909313125,"d":"4,135.91"}},null,{"$f":"J70*I70","v":{"v":0,"d":"0.00"}}]
[null,"GKD 80100100T","Удлинение дымохода утепленное Gekon Ø80 мм, δут=10 мм, L=1000 мм, Ал/Оц.Ст.",null,80,1,{"v":2,"d":"2.0"},{"$f":"'Конвертация цен'!H584","v":{"v":3959.912001955512,"d":"3959.91"}},{"$f":"H71-H71*Оглавление!$K$22","v":{"v":3959.912001955512,"d":"3,959.91"}},null,{"v":0,"d":"0.00"}]
[null,"GKD 80100150TAL","Удлинение дымохода утепленное Gekon Ø80 мм, δут=10 мм, L=1500 мм, Алюминий",null,80,{"v":1.5,"d":"2"},3.3,{"$f":"'Конвертация цен'!H585","v":{"v":5939.868002933268,"d":"5939.87"}},{"$f":"H72-H72*Оглавление!$K$22","v":{"v":5939.868002933268,"d":"5,939.87"}},null,{"v":0,"d":"0.00"}]
[null,"GKD 80100200TAL","Удлинение дымохода утепленное Gekon Ø80 мм, δут=10 мм, L=2000 мм, Алюминий",null,80,2,4.4,{"$f":"'Конвертация цен'!H586","v":{"v":7149.841114641897,"d":"7149.84"}},{"$f":"H73-H73*Оглавление!$K$22","v":{"v":7149.841114641897,"d":"7,149.84"}},null,{"v":0,"d":"0.00"}]
[null,"GKD 80100VDAL","Дымоход вертикальный утеплённый Gekon Ø80 мм, δут=10 мм, L=1000 мм, черный, Алюминий",null,80,1,2.2,{"$f":"'Конвертация цен'!H587","v":{"v":10119.77511610853,"d":"10119.78"}},{"$f":"H74-H74*Оглавление!$K$22","v":{"v":10119.77511610853,"d":"10,119.78"}},null,{"v":0,"d":"0.00"}]
[null,"GKD 80100VNAS","Наконечник для вертикального утеплённого дымохода Gekon Ø80 мм, δут=10 мм, черный, Алюминий и Сталь",null,80,1,0.5,{"$f":"'Конвертация цен'!H588","v":{"v":2111.9530677096063,"d":"2111.95"}},{"$f":"H75-H75*Оглавление!$K$22","v":{"v":2111.9530677096063,"d":"2,111.95"}},null,{"v":0,"d":"0.00"}]
[null,"GKD 80VZBAL","Решётка воздухозабора для утеплённого дымохода Gekon Ø80 мм, δут=10 мм, черный, Алюминий",null,80,0.03,0.2,{"$f":"'Конвертация цен'!H589","v":{"v":1385.969200684429,"d":"1385.97"}},{"$f":"H76-H76*Оглавление!$K$22","v":{"v":1385.969200684429,"d":"1,385.97"}},null,{"$f":"J76*I76","v":{"v":0,"d":"0.00"}}]
[null,"GKD 80VOBN","Решётка газоотвода для утепл-го дымохода Gekon Ø80 мм, δут=10 мм, черный окрас, Алюминий и Сталь",null,80,0.07,0.3,{"$f":"'Конвертация цен'!H590","v":{"v":1957.956489855781,"d":"1957.96"}},{"$f":"H77-H77*Оглавление!$K$22","v":{"v":1957.956489855781,"d":"1,957.96"}},null,{"v":0,"d":"0.00"}]
[]
["Фото","Артикул","Наименование товара",null,"Диаметр","Угол","Вес","Цена за шт.","Цена со скидкой, RUB","Кол-во, шт.","Сумма со скидкой, RUB"]
[{"$nulls":4},"мм","⁰ (градус)","кг","RUB"]
[null,"GKD 80100K45T","Колено утепленное Gekon Ø80, δут=10 мм, угол 45 гр., Алюминий",null,80,45,0.7,{"$f":"'Конвертация цен'!H591","v":{"v":3959.912001955512,"d":"3959.91"}},{"$f":"H81-H81*Оглавление!$K$22","v":{"v":3959.912001955512,"d":"3,959.91"}},null,{"$f":"I81*J81","v":{"v":0,"d":"0.00"}}]
[null,"GKD 80100K90T","Колено утепленное Gekon Ø80, δут=10 мм, угол 90 гр., Алюминий",null,80,90,0.7,{"$f":"'Конвертация цен'!H592","v":{"v":3959.912001955512,"d":"3959.91"}},{"$f":"H82-H82*Оглавление!$K$22","v":{"v":3959.912001955512,"d":"3,959.91"}},null,{"$f":"I82*J82","v":{"v":0,"d":"0.00"}}]
[]
["ДЫМОХОДЫ КОАКСИАЛЬНЫЕ ДЛЯ КОНДЕНСАЦИОННЫХ КОТЛОВ"]
["• Универсальные комплекты Ø60/100 и Ø80/125 мм"]
["• Основные элементы изготовлены из PP-R(ПОЛИПРОПИЛЕНА), АЛЮМИНИЯ, АЛЮМИНИЯ и ОЦИНКОВАННОЙ СТАЛИ или СТАЛИ"]
[]
["Фото","Артикул","Наименование товара",null,"Диаметр","Длина","Вес","Цена за шт.","Цена со скидкой, RUB","Кол-во, шт.","Сумма со скидкой, RUB"]
[{"$nulls":4},"мм","м","кг","RUB"]
[null,"GKD 015100PAL","Универсальный комплект конденсационный Gekon Ø60/100 мм, L=1000 мм, PP-R и Алюминий, система Антилёд",null,"60/100",1,1.9,{"$f":"'Конвертация цен'!H593","v":{"v":6027.866047421168,"d":"6027.87"}},{"$f":"H90-H90*Оглавление!$K$22","v":{"v":6027.866047421168,"d":"6,027.87"}},null,{"$f":"I90*J90","v":{"v":0,"d":"0.00"}}]
[null,"GKD 016100PAL","Универсальный комплект конденсационный Gekon Ø80/125 мм, L=1240 мм, PP-R и Сталь, система Антилёд",null,"80/125",1.24,2.8,{"$f":"'Конвертация цен'!H594","v":{"v":9371.791737961377,"d":"9371.79"}},{"$f":"H91-H91*Оглавление!$K$22","v":{"v":9371.791737961377,"d":"9,371.79"}},null,{"$f":"I91*J91","v":{"v":0,"d":"0.00"}}]
[null,"GKD 80125025PAL","Удлинитель конденсационный Gekon Ø80/125 мм, L=250 мм, PP-R и Оц.сталь",null,"80/125",0.25,0.7,{"$f":"'Конвертация цен'!H595","v":{"v":2199.9511121975065,"d":"2199.95"}},{"$f":"H92-H92*Оглавление!$K$22","v":{"v":2199.9511121975065,"d":"2,199.95"}},null,{"$f":"I92*J92","v":{"v":0,"d":"0.00"}}]
[null,"GKD 6010005PAL","Удлинитель конденсационный Gekon Ø60/100 мм, L=500 мм, PP-R и Оц.сталь",null,"60/100",0.5,{"v":1,"d":"1.0"},{"$f":"'Конвертация цен'!H596","v":{"v":3233.9281349303346,"d":"3233.93"}},{"$f":"H93-H93*Оглавление!$K$22","v":{"v":3233.9281349303346,"d":"3,233.93"}},null,{"v":0,"d":"0.00"}]
[null,"GKD 8012505PAL","Удлинитель конденсационный Gekon Ø80/125 мм, L=500 мм, PP-R и Оц.сталь",null,"80/125",0.5,1.6,{"$f":"'Конвертация цен'!H597","v":{"v":3629.919335125886,"d":"3629.92"}},{"$f":"H94-H94*Оглавление!$K$22","v":{"v":3629.919335125886,"d":"3,629.92"}},null,{"v":0,"d":"0.00"}]
[null,"GKD 80005PAL","Удлинитель конденсационный Gekon Ø80 мм, L=500 мм, PP-R",null,80,0.5,0.4,{"$f":"'Конвертация цен'!H598","v":{"v":1693.9623563920802,"d":"1693.96"}},{"$f":"H95-H95*Оглавление!$K$22","v":{"v":1693.9623563920802,"d":"1,693.96"}},null,{"$f":"I95*J95","v":{"v":0,"d":"0.00"}}]
[null,"GKD 601001PAL","Удлинитель конденсационный Gekon Ø60/100 мм, L=1000 мм, PP-R и Оц.сталь.",null,"60/100",1,1.7,{"$f":"'Конвертация цен'!H599","v":{"v":5103.886580298215,"d":"5103.89"}},{"$f":"H96-H96*Оглавление!$K$22","v":{"v":5103.886580298215,"d":"5,103.89"}},null,{"v":0,"d":"0.00"}]
[null,"GKD 801251PAL","Удлинитель конденсационный Gekon Ø80/125 мм, L=1000 мм, PP-R и Оц.сталь",null,"80/125",1,3.2,{"$f":"'Конвертация цен'!H600","v":{"v":5235.883647030066,"d":"5235.88"}},{"$f":"H97-H97*Оглавление!$K$22","v":{"v":5235.883647030066,"d":"5,235.88"}},null,{"v":0,"d":"0.00"}]
[null,"GKD 8001PAL","Удлинитель конденсационный Gekon Ø80 мм, L=1000 мм, PP-R",null,80,1,0.6,{"$f":"'Конвертация цен'!H601","v":{"v":2397.9467122952824,"d":"2397.95"}},{"$f":"H98-H98*Оглавление!$K$22","v":{"v":2397.9467122952824,"d":"2,397.95"}},null,{"$f":"I98*J98","v":{"v":0,"d":"0.00"}}]
[null,"GKD 806104PAL","Комплект дымохода, адаптер конденсационный Gekon 60-100х2/80 мм, PP-R/Алюминий",null,"60/100*80/80",0.3,0.6,{"$f":"'Конвертация цен'!H602","v":{"v":5719.872891713517,"d":"5719.87"}},{"$f":"H99-H99*Оглавление!$K$22","v":{"v":5719.872891713517,"d":"5,719.87"}},null,{"$f":"I99*J99","v":{"v":0,"d":"0.00"}}]
[null,"GKD 6080PAL","Адаптер переход конденсационный Gekon 60-80 мм, PP-R",null,"60-80",0.1,0.2,{"$f":"'Конвертация цен'!H603","v":{"v":1715.9618675140553,"d":"1715.96"}},{"$f":"H100-H100*Оглавление!$K$22","v":{"v":1715.9618675140553,"d":"1,715.96"}},null,{"v":0,"d":"0.00"}]
[]
["Фото","Артикул","Наименование товара",null,"Диаметр","Угол","Вес","Цена за шт.","Цена со скидкой, RUB","Кол-во, шт.","Сумма со скидкой, RUB"]
[{"$nulls":4},"мм","⁰ (градус)","кг","RUB"]
[null,"GKD 60100045PAL","Колено конденсационное Gekon 60/100 мм, угол 45 гр., PP-R/Сталь",null,"60/100",45,0.5,{"$f":"'Конвертация цен'!H604","v":{"v":2529.9437790271327,"d":"2529.94"}},{"$f":"H104-H104*Оглавление!$K$22","v":{"v":2529.9437790271327,"d":"2,529.94"}},null,{"$f":"I104*J104","v":{"v":0,"d":"0.00"}}]
[null,"GKD 80125045PAL","Колено конденсационное Gekon 80/125 мм, угол 45 гр., PP-R/Сталь",null,"80/125",45,0.6,{"$f":"'Конвертация цен'!H605","v":{"v":4795.893424590565,"d":"4795.89"}},{"$f":"H105-H105*Оглавление!$K$22","v":{"v":4795.893424590565,"d":"4,795.89"}},null,{"$f":"I105*J105","v":{"v":0,"d":"0.00"}}]
[null,"GKD 80045PAL","Колено конденсационное Gekon 80 мм, угол 45 гр., PP-R",null,80,45,0.2,{"$f":"'Конвертация цен'!H606","v":{"v":1605.9643119041798,"d":"1605.96"}},{"$f":"H106-H106*Оглавление!$K$22","v":{"v":1605.9643119041798,"d":"1,605.96"}},null,{"v":0,"d":"0.00"}]
[null,"GKD 60100090PAL","Колено конденсационное Gekon 60/100 мм, угол 90 гр., PP-R/Сталь",null,"60/100",90,0.6,{"$f":"'Конвертация цен'!H607","v":{"v":2529.9437790271327,"d":"2529.94"}},{"$f":"H107-H107*Оглавление!$K$22","v":{"v":2529.9437790271327,"d":"2,529.94"}},null,{"v":0,"d":"0.00"}]
[null,"GKD 10080090PAL","Колено конденсационное Gekon 80/125 мм, угол 90 гр., PP-R/Сталь",null,"80/125",90,0.8,{"$f":"'Конвертация цен'!H608","v":{"v":4795.893424590565,"d":"4795.89"}},{"$f":"H108-H108*Оглавление!$K$22","v":{"v":4795.893424590565,"d":"4,795.89"}},null,{"v":0,"d":"0.00"}]
[null,"GKD 80090PAL","Колено конденсационное Gekon 80 мм, угол 90 гр., PP-R",null,80,90,0.2,{"$f":"'Конвертация цен'!H609","v":{"v":1605.9643119041798,"d":"1605.96"}},{"$f":"H109-H109*Оглавление!$K$22","v":{"v":1605.9643119041798,"d":"1,605.96"}},null,{"v":0,"d":"0.00"}]
[]
["ЗАПАСНЫЕ ЧАСТИ ДЛЯ ДЫМОХОДОВ"]
[]
["Фото","Артикул","Наименование товара",null,"Диаметр",null,"Вес","Цена за шт.","Цена со скидкой, RUB","Кол-во, шт.","Сумма со скидкой, RUB"]
[{"$nulls":4},"мм",null,"кг","RUB"]
[null,"GKD 60100AINPB","Наконечник 60/100 мм, Система Антилед, Система Антиворобей, черный",null,"60/100",null,0.2,{"$f":"'Конвертация цен'!H610","v":{"v":725.9838670251772,"d":"725.98"}},{"$f":"H115-H115*Оглавление!$K$22","v":{"v":725.9838670251772,"d":"725.98"}},null,{"$f":"J115*I115","v":{"v":0,"d":"0.00"}}]
[null,"GKD 60OR","Уплотнительное кольцо на внутреннюю трубу Gekon 60 мм",null,60,null,0.1,{"$f":"'Конвертация цен'!H611","v":{"v":219.99511121975067,"d":"220.00"}},{"$f":"H116-H116*Оглавление!$K$22","v":{"v":219.99511121975067,"d":"220.00"}},null,{"$f":"J116*I116","v":{"v":0,"d":"0.00"}}]
[null,"GKD 80OR","Уплотнительное кольцо на внутреннюю трубу Gekon 80 мм",null,80,null,0.1,{"$f":"'Конвертация цен'!H612","v":{"v":263.9941334637008,"d":"263.99"}},{"$f":"H117-H117*Оглавление!$K$22","v":{"v":263.9941334637008,"d":"263.99"}},null,{"v":0,"d":"0.00"}]
[null,"GKD 100OR","Уплотнительное кольцо на внешнюю трубу Gekon 100 мм",null,100,null,0.1,{"$f":"'Конвертация цен'!H613","v":{"v":285.99364458567584,"d":"285.99"}},{"$f":"H118-H118*Оглавление!$K$22","v":{"v":285.99364458567584,"d":"285.99"}},null,{"v":0,"d":"0.00"}]
[null,"GKD 125OR","Уплотнительное кольцо на внешнюю трубу Gekon 125 мм",null,125,null,0.1,{"$f":"'Конвертация цен'!H614","v":{"v":439.99022243950134,"d":"439.99"}},{"$f":"H119-H119*Оглавление!$K$22","v":{"v":439.99022243950134,"d":"439.99"}},null,{"v":0,"d":"0.00"}]
[null,"GKD 80H","Хомут Gekon 80 мм со шпилькой",null,80,null,0.1,{"$f":"'Конвертация цен'!H615","v":{"v":373.99168907357614,"d":"373.99"}},{"$f":"H120-H120*Оглавление!$K$22","v":{"v":373.99168907357614,"d":"373.99"}},null,{"v":0,"d":"0.00"}]
[null,"GKD 100H","Хомут Gekon 100 мм со шпилькой",null,100,null,0.1,{"$f":"'Конвертация цен'!H616","v":{"v":395.9912001955512,"d":"395.99"}},{"$f":"H121-H121*Оглавление!$K$22","v":{"v":395.9912001955512,"d":"395.99"}},null,{"v":0,"d":"0.00"}]
[null,"GKD 80MS","Накладка декоративная Gekon 80 мм",null,80,null,0.1,{"$f":"'Конвертация цен'!H617","v":{"v":254.2165729650452,"d":"254.22"}},{"$f":"H122-H122*Оглавление!$K$22","v":{"v":254.2165729650452,"d":"254.22"}},null,{"v":0,"d":"0.00"}]
[null,"GKD 60100M","Накладка декоративная Gekon 100 мм",null,100,null,0.1,{"$f":"'Конвертация цен'!H618","v":{"v":219.99511121975067,"d":"220.00"}},{"$f":"H123-H123*Оглавление!$K$22","v":{"v":219.99511121975067,"d":"220.00"}},null,{"v":0,"d":"0.00"}]
[null,"GKD 60125M","Накладка декоративная Gekon 125 мм",null,125,null,0.1,{"$f":"'Конвертация цен'!H619","v":{"v":285.99364458567584,"d":"285.99"}},{"$f":"H124-H124*Оглавление!$K$22","v":{"v":285.99364458567584,"d":"285.99"}},null,{"v":0,"d":"0.00"}]
[null,"GKD 110UF","Фланец Gekon с прокладкой, винтами и гайкой, 100 мм",null,100,null,0.1,{"$f":"'Конвертация цен'!H620","v":{"v":263.9941334637008,"d":"263.99"}},{"$f":"H125-H125*Оглавление!$K$22","v":{"v":263.9941334637008,"d":"263.99"}},null,{"v":0,"d":"0.00"}]
[null,"GKD 60100H","Хомут обжимной Gekon (труба-труба) 100 мм",null,100,null,0.1,{"$f":"'Конвертация цен'!H621","v":{"v":263.9941334637008,"d":"263.99"}},{"$f":"H126-H126*Оглавление!$K$22","v":{"v":263.9941334637008,"d":"263.99"}},null,{"v":0,"d":"0.00"}]

{"sheet":"Теплоноситель","index":11,"n_rows":21,"n_cols":11,"rows_kept":21,"merged":[[3,0,3,8],[7,10,7,12],[9,8,9,10],[14,0,14,7],[14,9,14,10],[15,0,16,0],[15,1,16,1],[15,2,16,2],[15,5,15,6],[15,9,16,9],[15,10,16,10],[16,5,16,6],[17,0,22,0],[17,1,19,1],[17,2,19,2],[17,3,19,3],[17,4,19,4],[17,5,19,6],[17,7,19,7],[17,8,19,8],[17,9,19,9],[17,10,19,10],[20,1,22,1],[20,2,22,2],[20,3,22,3],[20,4,22,4],[20,5,22,6],[20,7,22,7],[20,8,22,8],[20,9,22,9],[20,10,22,10]]}
[]
[]
[]
["Теплохладоноситель"]
[]
["ТЕПЛОНОСИТЕЛЬ GEKON ECOSAVE - 30"]
["• Теплохладоноситель GEKON ECOSAVE -30 изготовлен на основе ПРОПИЛЕНГЛИКОЛЯ"]
["• В составе присутствует сбалансированный пакет присадок: антикоррозионные, антипенные,"]
["    антиокислительные и повышающие инертность к уплотнительным материалам"]
["• Не содержит нитритов, аминов и фосфатов",{"$nulls":7},"На главную страницу"]
["• Температурный диапазон применения: от -30⁰C до +106⁰C"]
["• Срок эксплуатации не менее 5 лет"]
["• Соответствует ГОСТ 28084-89 по коррозионному воздействию на металлы"]
["• Страна производства: Россия"]
[{"$nulls":8},"Итого:",{"$f":"SUM(K18:K23)","v":{"v":0,"d":"0.00"}}]
["Фото","Артикул","Наименование товара","Объём","Содержание основного вещества","Диапазон рабочих температур",null,"Цена за шт","Цена за шт со скидкой","Кол-во, шт","Сумма со скидкой, RUB"]
[{"$nulls":3},"л","%","⁰C",null,"RUB","RUB"]
[null,"GK 569214"," Теплоноситель GEKON ECOSAVE - 30°С, 10 кг.",10,45,"от -30 до +106",null,{"$f":"'Конвертация цен'!H288","v":{"v":2483,"d":"2483.00"}},{"$f":"H18-H18*Оглавление!$K$23","v":{"v":2483,"d":"2,483.00"}},null,{"$f":"J18*I18","v":{"v":0,"d":"0.00"}}]
[]
[]
[null,"GK 873256"," Теплоноситель GEKON ECOSAVE - 30°С, 20 кг.",20,45,"от -30 до +106",null,{"$f":"'Конвертация цен'!H289","v":{"v":4967,"d":"4967.00"}},{"$f":"H21-H21*Оглавление!$K$23","v":{"v":4967,"d":"4,967.00"}},null,{"$f":"J21*I21","v":{"v":0,"d":"0.00"}}]

{"sheet":"Конвертация цен","index":12,"n_rows":621,"n_cols":12,"rows_kept":621,"hidden":true,"merged":[[2,0,2,7],[3,2,4,2],[3,3,4,4],[3,5,4,5],[5,3,10,4],[11,3,14,4],[15,3,20,4],[21,3,24,4],[25,3,28,4],[29,3,34,4],[35,3,40,4],[41,0,41,7],[42,2,43,2],[42,3,43,4],[44,3,44,4],[45,3,45,4],[46,3,46,4],[47,3,47,4],[48,3,48,4],[49,3,49,4],[50,3,50,4],[51,3,51,4],[52,3,52,4],[53,3,53,4],[54,3,54,4],[55,3,55,4],[56,3,56,4],[57,3,57,4],[58,3,58,4],[59,3,59,4],[60,3,60,4],[61,0,61,7],[62,2,63,2],[62,3,63,4],[62,5,63,5],[64,3,64,4],[65,3,65,4],[66,3,66,4],[67,3,67,4],[68,3,68,4],[69,3,69,4],[70,3,70,4],[71,3,71,4],[72,3,72,4],[73,3,73,4],[74,3,74,4],[75,3,75,4],[76,3,76,4],[77,3,77,4],[78,3,78,4],[79,3,79,4],[80,3,80,4],[81,3,81,4],[82,3,82,4],[83,3,83,4],[84,3,84,4],[85,3,85,4],[86,3,86,4],[87,3,87,4],[88,3,88,4],[89,3,89,4],[90,3,90,4],[91,3,91,4],[92,3,92,4],[93,3,93,4],[94,3,94,4],[95,3,95,4],[96,3,96,4],[97,3,97,4],[98,3,98,4],[99,3,99,4],[100,3,100,4],[101,3,101,4],[102,3,102,4],[103,3,103,4],[104,3,104,4],[105,3,105,4],[106,3,106,4],[107,3,107,4],[108,3,108,4],[109,3,109,4],[110,3,110,4],[111,3,111,4],[112,3,112,4],[113,3,113,4],[114,3,114,4],[115,3,115,4],[116,3,116,4],[117,3,117,4],[118,3,118,4],[119,3,119,4],[120,3,120,4],[121,3,121,4],[122,3,122,4],[123,3,123,4],[124,3,124,4],[125,3,125,4],[126,3,126,4],[127,3,127,4],[128,3,128,4],[129,3,129,4],[130,3,130,4],[131,3,131,4],[132,3,132,4],[133,3,133,4],[134,3,134,4],[135,3,135,4],[136,3,136,4],[137,3,137,4],[138,3,138,4],[139,3,139,4],[140,3,140,4],[141,3,141,4],[142,3,142,4],[143,3,143,4],[144,3,144,4],[145,3,145,4],[146,3,146,4],[147,3,147,4],[148,3,148,4],[149,3,149,4],[150,3,150,4],[151,3,151,4],[152,3,152,4],[153,3,153,4],[154,3,154,4],[155,3,155,4],[156,3,156,4],[157,3,157,4],[158,3,158,4],[159,3,159,4],[160,3,160,4],[161,3,161,4],[162,3,162,4],[163,3,163,4],[164,3,164,4],[165,3,165,4],[166,3,166,4],[167,3,167,4],[168,3,168,4],[169,3,169,4],[170,3,170,4],[171,3,171,4],[172,3,172,4],[173,3,173,4],[174,3,174,4],[175,0,175,7],[176,2,177,2],[176,3,177,4],[176,5,177,5],[178,3,184,4],[185,3,191,4],[192,3,198,4],[199,0,199,7],[200,2,201,2],[200,3,201,4],[200,5,201,5],[202,3,202,4],[203,3,203,4],[204,3,204,4],[205,3,205,4],[206,3,216,4],[217,3,227,4],[228,3,238,4],[239,3,249,4],[250,3,250,4],[251,3,251,4],[252,3,252,4],[253,3,253,4],[254,3,254,4],[255,3,256,4],[257,3,257,4],[258,3,258,4],[259,0,259,7],[260,2,261,2],[260,3,261,4],[260,5,261,5],[262,3,262,4],[263,3,263,4],[264,3,265,4],[266,3,267,4],[268,3,269,4],[270,3,271,4],[272,3,272,4],[273,3,273,4],[274,3,275,4],[276,3,277,4],[278,3,278,4],[279,3,279,4],[280,3,280,4],[281,3,281,4],[282,3,282,4],[283,3,283,4],[284,0,284,7],[285,2,286,2],[285,3,286,4],[285,5,286,5],[287,3,287,4],[288,3,288,4],[289,0,289,7],[290,2,291,2],[290,3,291,4],[290,5,291,5],[292,3,292,4],[293,3,293,4],[294,3,294,4],[295,3,295,4],[296,3,296,4],[297,3,297,4],[298,3,298,4],[299,3,299,4],[300,3,300,4],[301,3,301,4],[302,3,302,4],[303,3,303,4],[304,3,304,4],[305,3,305,4],[306,3,306,4],[307,3,307,4],[308,3,308,4],[309,3,309,4],[310,3,310,4],[311,3,311,4],[312,3,312,4],[313,0,313,7],[314,2,315,2],[314,3,315,4],[314,5,315,5],[316,3,316,4],[317,3,317,4],[318,3,318,4],[319,3,319,4],[320,3,320,4],[321,3,321,4],[322,3,322,4],[323,3,323,4],[324,3,324,4],[325,3,325,4],[326,3,326,4],[327,3,327,4],[328,3,328,4],[329,3,329,4],[330,3,330,4],[331,3,331,4],[332,3,332,4],[333,3,333,4],[334,3,334,4],[335,3,335,4],[336,3,336,4],[337,3,337,4],[338,3,338,4],[339,3,339,4],[340,3,340,4],[341,3,341,4],[342,3,342,4],[343,3,343,4],[344,3,344,4],[345,3,345,4],[346,3,346,4],[347,3,347,4],[348,3,348,4],[349,3,349,4],[350,3,350,4],[351,3,351,4],[352,3,352,4],[353,3,353,4],[354,3,354,4],[355,3,355,4],[356,3,356,4],[357,3,357,4],[358,3,358,4],[359,3,359,4],[360,3,360,4],[361,3,361,4],[362,3,362,4],[363,0,363,7],[364,2,365,2],[364,3,365,4],[364,5,365,5],[366,3,366,4],[367,3,367,4],[368,3,368,4],[369,3,369,4],[370,3,370,4],[371,3,371,4],[372,3,372,4],[373,3,373,4],[374,3,374,4],[375,3,375,4],[376,3,376,4],[377,3,377,4],[378,3,378,4],[379,3,379,4],[380,3,380,4],[381,3,381,4],[382,3,382,4],[383,3,383,4],[384,3,384,4],[385,3,385,4],[386,3,386,4],[387,3,387,4],[388,3,388,4],[389,3,389,4],[390,3,390,4],[391,3,391,4],[392,3,392,4],[393,3,393,4],[394,3,394,4],[395,3,395,4],[396,3,396,4],[397,3,397,4],[398,3,398,4],[399,3,399,4],[400,3,400,4],[401,3,401,4],[402,3,402,4],[403,3,403,4],[404,3,404,4],[405,3,405,4],[406,3,406,4],[407,3,407,4],[408,3,408,4],[409,3,409,4],[410,3,410,4],[411,3,411,4],[412,3,412,4],[413,3,413,4],[414,3,414,4],[415,3,415,4],[416,3,416,4],[417,3,417,4],[418,3,418,4],[419,3,419,4],[420,3,420,4],[421,3,421,4],[422,3,422,4],[423,3,423,4],[424,3,424,4],[425,3,425,4],[426,3,426,4],[427,3,427,4],[428,3,428,4],[429,3,429,4],[430,3,430,4],[431,3,431,4],[432,3,432,4],[433,3,433,4],[434,3,434,4],[435,3,435,4],[436,3,436,4],[437,3,437,4],[438,3,438,4],[439,3,439,4],[440,3,440,4],[441,3,441,4],[442,3,442,4],[443,3,443,4],[444,3,444,4],[445,3,445,4],[446,3,446,4],[447,3,447,4],[448,3,448,4],[449,3,449,4],[450,3,450,4],[451,3,451,4],[452,3,452,4],[453,3,453,4],[454,3,454,4],[455,3,455,4],[456,3,456,4],[457,3,457,4],[458,3,458,4],[459,3,459,4],[460,3,460,4],[461,3,461,4],[462,3,462,4],[463,3,463,4],[464,3,464,4],[465,3,465,4],[466,3,466,4],[467,3,467,4],[468,3,468,4],[469,3,469,4],[470,3,470,4],[471,3,471,4],[472,3,472,4],[473,3,473,4],[474,3,474,4],[475,3,475,4],[476,3,476,4],[477,3,477,4],[478,3,478,4],[479,3,479,4],[480,3,480,4],[481,3,481,4],[482,3,482,4],[483,3,483,4],[484,3,484,4],[485,3,485,4],[486,3,486,4],[487,3,487,4],[488,3,488,4],[489,3,489,4],[490,3,490,4],[491,3,491,4],[492,3,492,4],[493,3,493,4],[494,3,494,4],[495,3,495,4],[496,3,496,4],[497,3,497,4],[498,3,498,4],[499,3,499,4],[500,3,500,4],[501,3,501,4],[502,3,502,4],[503,3,503,4],[504,3,504,4],[505,3,505,4],[506,3,506,4],[507,3,507,4],[508,3,508,4],[509,3,509,4],[510,3,510,4],[511,3,511,4],[512,3,512,4],[513,3,513,4],[514,3,514,4],[515,3,515,4],[516,3,516,4],[517,3,517,4],[518,3,518,4],[532,0,532,7],[533,2,534,2],[533,3,534,4],[533,5,534,5],[535,3,535,4],[536,3,536,4],[537,3,537,4],[538,3,538,4],[539,3,539,4],[540,3,540,4],[541,3,541,4],[542,3,542,4],[543,3,543,4],[544,3,544,4],[545,3,545,4],[546,3,546,4],[547,3,547,4],[548,3,548,4],[549,3,549,4],[550,3,550,4],[551,3,551,4],[552,3,552,4],[553,3,553,4],[554,3,554,4],[555,3,555,4],[556,3,556,4],[557,3,557,4],[558,3,558,4],[559,3,559,4],[560,3,560,4],[561,3,561,4],[562,3,562,4],[563,3,563,4],[564,3,564,4],[565,3,565,4],[566,3,566,4],[567,3,567,4],[568,3,568,4],[569,3,569,4],[570,3,570,4],[571,3,571,4],[572,3,572,4],[573,3,573,4],[574,3,574,4],[575,3,575,4],[576,3,576,4],[577,3,577,4],[578,3,578,4],[579,3,579,4],[580,3,580,4],[581,3,581,4],[582,3,582,4],[583,3,583,4],[584,3,584,4],[585,3,585,4],[586,3,586,4],[587,3,587,4],[588,3,588,4],[589,3,589,4],[590,3,590,4],[591,3,591,4],[592,3,592,4],[593,3,593,4],[594,3,594,4],[595,3,595,4],[596,3,596,4],[597,3,597,4],[598,3,598,4],[599,3,599,4],[600,3,600,4],[601,3,601,4],[602,3,602,4],[603,3,603,4],[604,3,604,4],[605,3,605,4],[606,3,606,4],[607,3,607,4],[608,3,608,4],[609,3,609,4],[610,3,610,4],[611,3,611,4],[612,3,612,4],[613,3,613,4],[614,3,614,4],[615,3,615,4],[616,3,616,4],[617,3,617,4],[618,3,618,4],[619,3,619,4],[620,3,620,4]]}
[" EUR","RUB",{"$nulls":6},"EUR","Евро",{"$f":"TODAY()","v":"2025-03-28"},{"$f":"GetRate(I1,K1)","v":{"v":90.54409790039062,"d":"90.5441"}}]
[1,100]
["Шаровые краны, ОК, Сетч.фильтры"]
[null,null,"Артикул","Наименование товара",null,"Размер","Цена за шт.","Цена за шт."]
[{"$nulls":6},"EUR","RUB"]
[null,null,"GK 550 12","Кран шаровой (ручка -  рычаг), внутренняя-внутренняя резьба",null,"1/2\"",5.09,{"$f":"G6*$B$2","v":{"v":509,"d":"509.00"}}]
[null,null,"GK 550 34",null,null,"3/4\"",7.69,{"v":769,"d":"769.00"}]
[null,null,"GK 550 1",null,null,"1\"",12.09,{"v":1209,"d":"1209.00"}]
[null,null,"GK 550 114",null,null,"1 1/4\"",17.79,{"v":1779,"d":"1779.00"}]
[null,null,"GK 550 112",null,null,"1 1/2\"",28.12,{"v":2812,"d":"2812.00"}]
[null,null,"GK 550 2",null,null,"2\"",43.39,{"v":4339,"d":"4339.00"}]
[null,null,"GK 551 12","Кран шаровой (ручка -  бабочка), внутренняя-внутренняя резьба",null,"1/2\"",5.09,{"v":509,"d":"509.00"}]
[null,null,"GK 551 34",null,null,"3/4\"",7.69,{"v":769,"d":"769.00"}]
[null,null,"GK 551 1",null,null,"1\"",12.09,{"v":1209,"d":"1209.00"}]
[null,null,"GK 551 114",null,null,"1 1/4\"",17.79,{"v":1779,"d":"1779.00"}]
[null,null,"GK 554L 12","Кран шаровой (ручка -  рычаг), внутренняя-наружная резьба",null,"1/2\"",5.49,{"v":549,"d":"549.00"}]
[null,null,"GK 554L 34",null,null,"3/4\"",8.17,{"v":817,"d":"817.00"}]
[null,null,"GK 554L 1",null,null,"1\"",13.07,{"v":1307,"d":"1307.00"}]
[null,null,"GK 554L 114",null,null,"1 1/4\"",{"v":20.2,"d":"20.20"},{"v":2020,"d":"2020.00"}]
[null,null,"GK 554L 112",null,null,"1 1/2\"",32.86,{"v":3286,"d":"3286.00"}]
[null,null,"GK 554L 2",null,null,"2\"",52.59,{"v":5259,"d":"5259.00"}]
[null,null,"GK 554 12","Кран шаровой (ручка - бабочка), внутренняя-наружная резьба",null,"1/2\"",5.65,{"v":565,"d":"565.00"}]
[null,null,"GK 554 34",null,null,"3/4\"",{"v":8.4,"d":"8.40"},{"v":840,"d":"840.00"}]
[null,null,"GK 554 1",null,null,"1\"",13.07,{"v":1307,"d":"1307.00"}]
[null,null,"GK 554 114",null,null,"1 1/4\"",21.86,{"v":2186,"d":"2186.00"}]
[null,null,"GK 559 12","Кран шаровой (ручка-бабочка), внутренняя-американка",null,"1/2\"",7.18,{"v":718,"d":"718.00"}]
[null,null,"GK 559 34",null,null,"3/4\"",11.04,{"v":1104,"d":"1104.00"}]
[null,null,"GK 559 1",null,null,"1\"",{"v":17.4,"d":"17.40"},{"v":1739.9999999999998,"d":"1740.00"}]
[null,null,"GK 559 114",null,null,"1\" 1/4",26.24,{"v":2624,"d":"2624.00"}]
[null,null,"GK 30 12","Клапан обратный с латунным золотником, внутренняя-внутренняя резьба",null,"1/2\"",5.19,{"$f":"G30*$B$2","v":{"v":519,"d":"519.00"}}]
[null,null,"GK 30 34",null,null,"3/4\"",6.96,{"v":696,"d":"696.00"}]
[null,null,"GK 30 1",null,null,"1\"",9.76,{"v":976,"d":"976.00"}]
[null,null,"GK 30 114",null,null,"1 1/4\"",14.53,{"v":1453,"d":"1453.00"}]
[null,null,"GK 30 112",null,null,"1 1/2\"",18.98,{"v":1898,"d":"1898.00"}]
[null,null,"GK 30 2",null,null,"2\"",28.68,{"v":2868,"d":"2868.00"}]
[null,null,"GK 44N 12","Фильтр тонкой механической очистки косой, сетка 500 мкм, внутренняя-внутренняя резьба",null,"1/2\"",5.75,{"$f":"G36*$B$2","v":{"v":575,"d":"575.00"}}]
[null,null,"GK 44N 34",null,null,"3/4\"",8.99,{"v":899,"d":"899.00"}]
[null,null,"GK 44N 1",null,null,"1\"",11.16,{"v":1116,"d":"1116.00"}]
[null,null,"GK 44N 114",null,null,"1 1/4\"",21.59,{"v":2159,"d":"2159.00"}]
[null,null,"GK 44N 112",null,null,"1 1/2\"",{"v":32.4,"d":"32.40"},{"v":3240,"d":"3240.00"}]
[null,null,"GK 44N 2",null,null,"2\"",53.74,{"v":5374,"d":"5374.00"}]
["Трубы"]
[null,null,"Артикул","Наименование товара",null,"Диаметр","Цена за метр","Цена за метр"]
[{"$nulls":5},"мм","руб.","руб."]
[null,null,"GK 71640006","Труба Gekon TRITHERM универсальная PE-Xa/EVOH 16х2,0, бухта 400 м",null,16,{"v":109.5,"d":"109.50"},{"$f":"G45*1","v":{"v":109.5,"d":"109.50"}}]
[null,null,"GK 71630006","Труба Gekon TRITHERM универсальная PE-Xa/EVOH 16х2,0, бухта 300 м",null,16,{"v":109.5,"d":"109.50"},{"$f":"G46*1","v":{"v":109.5,"d":"109.50"}}]
[null,null,"GK 71620006","Труба Gekon TRITHERM универсальная PE-Xa/EVOH 16х2,0, бухта 200 м",null,16,{"v":109.5,"d":"109.50"},{"v":109.5,"d":"109.50"}]
[null,null,"GK 71620010","Труба Gekon TRITHERM универсальная PE-Xa/EVOH 16х2,2, бухта 200 м",null,16,{"v":116,"d":"116.00"},{"v":116,"d":"116.00"}]
[null,null,"GK 71610010","Труба Gekon TRITHERM универсальная PE-Xa/EVOH 16х2,2, бухта 100 м",null,16,{"v":116,"d":"116.00"},{"v":116,"d":"116.00"}]
[null,null,"GK 72020006","Труба Gekon TRITHERM универсальная PE-Xa/EVOH 20х2,0, бухта 200 м",null,20,161.55,161.55]
[null,null,"GK 72010010","Труба Gekon TRITHERM универсальная PE-Xa/EVOH 20х2,8, бухта 100 м",null,20,{"v":175.7,"d":"175.70"},{"v":175.7,"d":"175.70"}]
[null,null,"GK 72505010","Труба Gekon TRITHERM универсальная PE-Xa/EVOH 25х3,5, бухта 50 м",null,25,{"v":301,"d":"301.00"},{"v":301,"d":"301.00"}]
[null,null,"GK 73205010","Труба Gekon TRITHERM универсальная PE-Xa/EVOH 32х4,4, бухта 50 м",null,32,{"v":488,"d":"488.00"},{"v":488,"d":"488.00"}]
[null,null,"GK 716050R","Труба гофрированная ПНД для 16-й полимерной трубы, красная, бухта 50 метров",null,21,{"v":27.5,"d":"27.50"},{"v":27.5,"d":"27.50"}]
[null,null,"GK 720050R","Труба гофрированная ПНД для 20-й полимерной трубы, красная, бухта 50 метров",null,25,{"v":35.5,"d":"35.50"},{"v":35.5,"d":"35.50"}]
[null,null,"GK 725030R","Труба гофрированная ПНД для 25-й полимерной трубы, красная, бухта 30 метров",null,32,{"v":46.3,"d":"46.30"},{"v":46.3,"d":"46.30"}]
[null,null,"GK 732030R","Труба гофрированная ПНД для 32-й полимерной трубы, красная, бухта 30 метров",null,40,{"v":60.4,"d":"60.40"},{"v":60.4,"d":"60.40"}]
[null,null,"GK 716050B","Труба гофрированная ПНД для 16-й полимерной трубы, синяя, бухта 50 метров",null,21,{"v":27.5,"d":"27.50"},{"v":27.5,"d":"27.50"}]
[null,null,"GK 720050B","Труба гофрированная ПНД для 20-й полимерной трубы, синяя, бухта 50 метров",null,25,{"v":35.5,"d":"35.50"},{"v":35.5,"d":"35.50"}]
[null,null,"GK 725030B","Труба гофрированная ПНД для 25-й полимерной трубы, синяя, бухта 30 метров",null,32,{"v":46.3,"d":"46.30"},{"v":46.3,"d":"46.30"}]
[null,null,"GK 732030B","Труба гофрированная ПНД для 32-й полимерной трубы, синяя, бухта 30 метров",null,40,{"v":60.4,"d":"60.40"},{"v":60.4,"d":"60.40"}]
["Аксиальные фитинги"]
[null,null,"Артикул","Наименование товара",null,"Размер","Цена за шт.","Цена за шт."]
[{"$nulls":6},"EUR","RUB",null,"Нет в 1С","Есть в 1С"]
[null,null,"GK 7GX001000016","Кольцо монтажное GX 16",null,16,0.35,{"$f":"G65*$B$2","v":{"v":35,"d":"35.00"}},null,"GK   7GX002004040"]
[null,null,"GK 7GX001000020","Кольцо монтажное GX 20",null,20,{"v":0.4,"d":"0.40"},{"$f":"G66*$B$2","v":{"v":40,"d":"40.00"}},null,"GK   7GX002004025"]
[null,null,"GK 7GX001000025","Кольцо монтажное GX 25",null,25,0.67,{"v":67,"d":"67.00"},null,"GK   7GX002004032"]
[null,null,"GK 7GX001000032","Кольцо монтажное GX 32",null,32,1.09,{"v":109.00000000000001,"d":"109.00"},null,"GK   7GX005040114"]
[null,null,"GK 7GX002001616","Прямой фитинг GX 16x16",null,"16x16",1.67,{"v":167,"d":"167.00"},null,"GK   7GX005040112"]
[null,null,"GK 7GX002002020","Прямой фитинг GX 20x20",null,"20x20",3.15,{"v":315,"d":"315.00"},null,"GK   7GX006040114"]
[null,null,"GK 7GX002002525","Прямой фитинг GX 25x25",null,"25x25",4.47,{"v":447,"d":"447.00"},null,"GK   7GX006040112"]
[null,null,"GK 7GX002003232","Прямой фитинг GX 32x32",null,"32x32",10.87,{"v":1087,"d":"1087.00"},null,"GK   7GX003004040"]
[null,null,"GK 7GX002004040","Прямой фитинг GX 40x40",null,"40x40",26.51,{"v":2651,"d":"2651.00"},null,"GK   7GX004404040"]
[null,null,"GK 7GX002002016","Прямой переходный фитинг GX 20x16",null,"20x16",2.64,{"v":264,"d":"264.00"},null,"GK   7GX004402040"]
[null,null,"GK 7GX002002516","Прямой переходный фитинг GX 25x16",null,"25x16",4.15,{"v":415.00000000000006,"d":"415.00"},null,"GK   7GX004402540"]
[null,null,"GK 7GX002002520","Прямой переходный фитинг GX 25x20",null,"25x20",4.15,{"v":415.00000000000006,"d":"415.00"},null,"GK   7GX004403232"]
[null,null,"GK 7GX002003220","Прямой переходный фитинг GX 32x20",null,"32x20",14.11,{"v":1411,"d":"1411.00"},null,"GK   7GX004403240"]
[null,null,"GK 7GX002003225","Прямой переходный фитинг GX 32x25",null,"32x25",11.04,{"v":1104,"d":"1104.00"},null,"GK   7GX016201220"]
[null,null,"GK 7GX002004025","Прямой переходный фитинг GX 40x25",null,"40x25",24.55,{"v":2455,"d":"2455.00"},null,"GK   7GX016203420"]
[null,null,"GK 7GX002004032","Прямой переходный фитинг GX 40x32",null,"40x32",24.25,{"v":2425,"d":"2425.00"},null,"GK   7GX016253425"]
[null,null,"GK 7GX005001612","Прямой фитинг GX с наружной резьбой 16x1/2\"M",null,"16x1/2\"M",1.91,{"v":191,"d":"191.00"},null,"GK   7GX016320132"]
[null,null,"GK 7GX005002012","Прямой фитинг GX с наружной резьбой 20x1/2\"M",null,"20x1/2\"M",2.42,{"v":242,"d":"242.00"},null,"GK   7GX017201220"]
[null,null,"GK 7GX005002512","Прямой фитинг GX с наружной резьбой 25x1/2\"M",null,"25x1/2\"M",3.67,{"v":367,"d":"367.00"},null,"GK   7GX017203420"]
[null,null,"GK 7GX005001634","Прямой фитинг GX с наружной резьбой 16x3/4\"M",null,"16x3/4\"M",3.05,{"v":305,"d":"305.00"},null,"GK   7GX017253425"]
[null,null,"GK 7GX005002034","Прямой фитинг GX с наружной резьбой 20x3/4\"M",null,"20x3/4\"M",3.33,{"v":333,"d":"333.00"},null,"GK   7GX017320132"]
[null,null,"GK 7GX005002534","Прямой фитинг GX с наружной резьбой 25x3/4\"M",null,"25x3/4\"M",3.56,{"v":356,"d":"356.00"},null,"GK   7GX011002534"]
[null,null,"GK 7GX005002010","Прямой фитинг GX с наружной резьбой 20x1\"M",null,"20x1\"M",4.84,{"v":484,"d":"484.00"}]
[null,null,"GK 7GX005002510","Прямой фитинг GX с наружной резьбой 25x1\"M",null,"25x1\"M",{"v":5.6,"d":"5.60"},{"v":560,"d":"560.00"}]
[null,null,"GK 7GX005003210","Прямой фитинг GX с наружной резьбой 32x1\"M",null,"32x1\"M",9.78,{"v":977.9999999999999,"d":"978.00"}]
[null,null,"GK 7GX005040114","Прямой фитинг GX с наружной резьбой 40x1\"1/4M",null,"40x1\"1/4M",15.62,{"v":1562,"d":"1562.00"}]
[null,null,"GK 7GX005040112","Прямой фитинг GX с наружной резьбой 40x1\"1/2M",null,"40x1\"1/2M",18.47,{"v":1847,"d":"1847.00"}]
[null,null,"GK 7GX006001612","Прямой фитинг GX с внутренней резьбой 16x1/2\"F",null,"16x1/2\"F",3.38,{"v":338,"d":"338.00"}]
[null,null,"GK 7GX006002012","Прямой фитинг GX с внутренней резьбой 20x1/2\"F",null,"20x1/2\"F",3.65,{"v":365,"d":"365.00"}]
[null,null,"GK 7GX006001634","Прямой фитинг GX с внутренней резьбой 16x3/4\"F",null,"16x3/4\"F",{"v":4,"d":"4.00"},{"v":400,"d":"400.00"}]
[null,null,"GK 7GX006002034","Прямой фитинг GX с внутренней резьбой 20x3/4\"F",null,"20x3/4\"F",5.35,{"v":535,"d":"535.00"}]
[null,null,"GK 7GX006002534","Прямой фитинг GX с внутренней резьбой 25x3/4\"F",null,"25x3/4\"F",5.84,{"v":584,"d":"584.00"}]
[null,null,"GK 7GX006002510","Прямой фитинг GX с внутренней резьбой 25x1\"F",null,"25x1\"F",7.98,{"v":798,"d":"798.00"}]
[null,null,"GK 7GX006003210","Прямой фитинг GX с внутренней резьбой 32x1\"F",null,"32x1\"F",14.96,{"v":1496,"d":"1496.00"}]
[null,null,"GK 7GX006040114","Прямой фитинг GX с внутренней резьбой 40x1\"1/4F",null,"40x1\"1/4F",{"v":15.4,"d":"15.40"},{"v":1540,"d":"1540.00"}]
[null,null,"GK 7GX006040112","Прямой фитинг GX с внутренней резьбой 40x1\"1/2F",null,"40x1\"1/2F",17.76,{"v":1776.0000000000002,"d":"1776.00"}]
[null,null,"GK 7GX003001616","Угольник 90° GX 16x16",null,"16x16",{"v":2.6,"d":"2.60"},{"v":260,"d":"260.00"}]
[null,null,"GK 7GX003002020","Угольник 90° GX 20x20",null,"20x20",3.84,{"v":384,"d":"384.00"}]
[null,null,"GK 7GX003002525","Угольник 90° GX 25x25",null,"25x25",{"v":5.6,"d":"5.60"},{"v":560,"d":"560.00"}]
[null,null,"GK 7GX003003232","Угольник 90° GX 32x32",null,"32x32",11.55,{"v":1155,"d":"1155.00"}]
[null,null,"GK 7GX003004040","Угольник 90° GX 40x40",null,"40x40",24.75,{"v":2475,"d":"2475.00"}]
[null,null,"GK 7GX009001612","Угольник 90° GX с наружной резьбой",null,"16x1/2\"M",3.25,{"v":325,"d":"325.00"}]
[null,null,"GK 7GX009002012","Угольник 90° GX с наружной резьбой",null,"20x1/2\"M",4.38,{"v":438,"d":"438.00"}]
[null,null,"GK 7GX009001634","Угольник 90° GX с наружной резьбой",null,"16x3/4\"M",4.67,{"v":467,"d":"467.00"}]
[null,null,"GK 7GX009002534","Угольник 90° GX с наружной резьбой",null,"25x3/4\"M",7.89,{"v":789,"d":"789.00"}]
[null,null,"GK 7GX009002034","Угольник 90° GX с наружной резьбой",null,"20x3/4\"M",5.67,{"v":567,"d":"567.00"}]
[null,null,"GK 7GX009002510","Угольник 90° GX с наружной резьбой",null,"25x1\"M",{"v":9.2,"d":"9.20"},{"v":919.9999999999999,"d":"920.00"}]
[null,null,"GK 7GX009003210","Угольник 90° GX с наружной резьбой",null,"32x1\"M",14.96,{"v":1496,"d":"1496.00"}]
[null,null,"GK 7GX010001612","Угольник 90° GX с внутренней резьбой",null,"16x1/2\"F",3.47,{"v":347,"d":"347.00"}]
[null,null,"GK 7GX010002012","Угольник 90° GX с внутренней резьбой",null,"20x1/2\"F",4.45,{"v":445,"d":"445.00"}]
[null,null,"GK 7GX010001634","Угольник 90° GX с внутренней резьбой",null,"16x3/4\"F",5.29,{"v":529,"d":"529.00"}]
[null,null,"GK 7GX010002034","Угольник 90° GX с внутренней резьбой",null,"20x3/4\"F",5.36,{"v":536,"d":"536.00"}]
[null,null,"GK 7GX010002534","Угольник 90° GX с внутренней резьбой",null,"25x3/4\"F",{"v":6.4,"d":"6.40"},{"v":640,"d":"640.00"}]
[null,null,"GK 7GX010002510","Угольник 90° GX с внутренней резьбой",null,"25x1\"F",11.62,{"v":1162,"d":"1162.00"}]
[null,null,"GK 7GX010003210","Угольник 90° GX с внутренней резьбой",null,"32x1\"F",{"v":19.6,"d":"19.60"},{"v":1960.0000000000002,"d":"1960.00"}]
[null,null,"GK 7GX004161616","Тройник соединительный GX 16х16х16",null,"16x16x16",3.33,{"v":333,"d":"333.00"}]
[null,null,"GK 7GX004202020","Тройник соединительный GX 20х20х20",null,"20x20x20",5.02,{"v":501.99999999999994,"d":"502.00"}]
[null,null,"GK 7GX004252525","Тройник соединительный GX 25х25х25",null,"25x25x25",7.51,{"v":751,"d":"751.00"}]
[null,null,"GK 7GX004323232","Тройник соединительный GX 32х32х32",null,"32x32x32",15.24,{"v":1524,"d":"1524.00"}]
[null,null,"GK 7GX004404040","Тройник соединительный GX 40х40х40",null,"40x40x40",33.36,{"v":3336,"d":"3336.00"}]
[null,null,"GK 7GX004162016","Тройник переходной GX 16х20х16",null,"16x20x16",4.73,{"v":473.00000000000006,"d":"473.00"}]
[null,null,"GK 7GX004201616","Тройник переходной GX 20х16х16",null,"20x16X16",4.73,{"v":473.00000000000006,"d":"473.00"}]
[null,null,"GK 7GX004201620","Тройник переходной GX 20х16х20",null,"20x16x20",5.16,{"v":516,"d":"516.00"}]
[null,null,"GK 7GX004202016","Тройник переходной GX 20х20х16",null,"20x20x16",5.45,{"v":545,"d":"545.00"}]
[null,null,"GK 7GX004202520","Тройник переходной GX 20х25х20",null,"20x25x20",{"v":7.4,"d":"7.40"},{"v":740,"d":"740.00"}]
[null,null,"GK 7GX004251616","Тройник переходной GX 25х16х16",null,"25x16x16",5.89,{"$f":"G130*$B$2","v":{"v":589,"d":"589.00"}}]
[null,null,"GK 7GX004251620","Тройник переходной GX 25х16х20",null,"25x16x20",7.11,{"v":711,"d":"711.00"}]
[null,null,"GK 7GX004251625","Тройник переходной GX 25х16х25",null,"25x16x25",7.27,{"v":727,"d":"727.00"}]
[null,null,"GK 7GX004252020","Тройник переходной GX 25х20х20",null,"25x20x20",7.35,{"v":735,"d":"735.00"}]
[null,null,"GK 7GX004252025","Тройник переходной GX 25х20х25",null,"25x20x25",8.05,{"v":805.0000000000001,"d":"805.00"}]
[null,null,"GK 7GX004252520","Тройник переходной GX 25х25х20",null,"25x25x20",8.64,{"v":864,"d":"864.00"}]
[null,null,"GK 7GX004252516","Тройник переходной GX 25х25х16",null,"25x25x16",8.64,{"v":864,"d":"864.00"}]
[null,null,"GK 7GX004322020","Тройник переходной GX 32х20х20",null,"32x20x20",15.96,{"v":1596,"d":"1596.00"}]
[null,null,"GK 7GX004322025","Тройник переходной GX 32х20х25",null,"32x20x25",15.56,{"v":1556,"d":"1556.00"}]
[null,null,"GK 7GX004322525","Тройник переходной GX 32х25х25",null,"32x25x25",15.47,{"v":1547,"d":"1547.00"}]
[null,null,"GK 7GX004322532","Тройник переходной GX 32х25х32",null,"32x25x32",15.75,{"v":1575,"d":"1575.00"}]
[null,null,"GK 7GX004323220","Тройник переходной GX 32х32х20",null,"32x32x20",{"v":19.8,"d":"19.80"},{"v":1980,"d":"1980.00"}]
[null,null,"GK 7GX004323225","Тройник переходной GX 32х32х25",null,"32x32x25",16.31,{"v":1630.9999999999998,"d":"1631.00"}]
[null,null,"GK 7GX004402040","Тройник переходной GX 40х20х40",null,"40x20x40",23.69,{"v":2369,"d":"2369.00"}]
[null,null,"GK 7GX004402540","Тройник переходной GX 40х25х40",null,"40x25x40",25.09,{"v":2509,"d":"2509.00"}]
[null,null,"GK 7GX004403232","Тройник переходной GX 40х32х32",null,"40x32x32",24.55,{"v":2455,"d":"2455.00"}]
[null,null,"GK 7GX004403240","Тройник переходной GX 40х32х40",null,"40x32x40",27.95,{"v":2795,"d":"2795.00"}]
[null,null,"GK 7GX016161216","Тройник с наружной резьбой GX 16x1/2\"Mx16",null,"16x1/2\"Mx16",4.73,{"v":473.00000000000006,"d":"473.00"}]
[null,null,"GK 7GX016201220","Тройник с наружной резьбой GX 20x1/2\"Mx20",null,"20x1/2\"Mx20",5.84,{"v":584,"d":"584.00"}]
[null,null,"GK 7GX016203420","Тройник с наружной резьбой GX 20x3/4\"Mx20",null,"20x3/4\"Mx20",7.44,{"v":744,"d":"744.00"}]
[null,null,"GK 7GX016253425","Тройник с наружной резьбой GX 25x3/4\"Mx25",null,"25x3/4\"Mx25",10.05,{"v":1005.0000000000001,"d":"1005.00"}]
[null,null,"GK 7GX016320132","Тройник с наружной резьбой GX 32x1\"Mx32",null,"32x1\"Mx32",16.85,{"v":1685.0000000000002,"d":"1685.00"}]
[null,null,"GK 7GX017161216","Тройник GX с внутренней резьбой",null,"16x1/2\"Fx16",4.29,{"v":429,"d":"429.00"}]
[null,null,"GK 7GX017201220","Тройник GX с внутренней резьбой",null,"20x1/2\"Fx20",5.45,{"v":545,"d":"545.00"}]
[null,null,"GK 7GX017203420","Тройник GX с внутренней резьбой",null,"20x3/4\"Fx20",7.82,{"v":782,"d":"782.00"}]
[null,null,"GK 7GX017253425","Тройник GX с внутренней резьбой",null,"25x3/4\"Fx25",8.31,{"v":831,"d":"831.00"}]
[null,null,"GK 7GX017320132","Тройник GX с внутренней резьбой",null,"32x1\"Fx32",16.64,{"v":1664,"d":"1664.00"}]
[null,null,"GK 7GX011001612","Угольник установочный GX с внутренней резьбой",null,"16x1/2\"F",5.62,{"v":562,"d":"562.00"}]
[null,null,"GK 7GX018001612","Угольник установочный GX с внутренней резьбой",null,"16x1/2\"F (45 мм)",5.53,{"v":553,"d":"553.00"}]
[null,null,"GK 7GX011002012","Угольник установочный GX с внутренней резьбой",null,"20x1/2\"F",6.87,{"v":687,"d":"687.00"}]
[null,null,"GK 7GX018002012","Угольник установочный GX с внутренней резьбой",null,"20x1/2\"F (45 мм)",6.78,{"v":678,"d":"678.00"}]
[null,null,"GK 7GX011002034","Угольник установочный GX с внутренней резьбой",null,"20x3/4\"F",{"v":9.2,"d":"9.20"},{"v":919.9999999999999,"d":"920.00"}]
[null,null,"GK 7GX011002534","Угольник установочный GX с внутренней резьбой",null,"25x3/4\"F",9.13,{"v":913.0000000000001,"d":"913.00"}]
[null,null,"GK 7GX012001625","Угольник GX с хромированной трубкой (250 мм)",null,"16x15(L-250 мм)",10.53,{"v":1053,"d":"1053.00"}]
[null,null,"GK 7GX012002025","Угольник GX с хромированной трубкой (250 мм)",null,"20x15(L-250 мм)",12.53,{"v":1253,"d":"1253.00"}]
[null,null,"GK 7GX019001625","Тройник GX с хромированной трубкой (250 мм)",null,"16x15(L-250 мм)x16",14.53,{"v":1453,"d":"1453.00"}]
[null,null,"GK 7GX019002025","Тройник GX с хромированной трубкой (250 мм)",null,"20x15(L-250 мм)x20",16.47,{"v":1647,"d":"1647.00"}]
[null,null,"GK 7GX020000016","Заглушка GX 16",null,16,1.25,{"v":125,"d":"125.00"}]
[null,null,"GK 7GX020000020","Заглушка GX 20",null,20,2.38,{"v":238,"d":"238.00"}]
[null,null,"GK 7GX020000025","Заглушка GX 25",null,25,3.58,{"v":358,"d":"358.00"}]
[null,null,"GK 7GX008001612","Фитинг с накидной гайкой GX 1/2\"E x 16 PEX",null,"1/2\"Ex16 PEX",{"v":4.4,"d":"4.40"},{"v":440.00000000000006,"d":"440.00"}]
[null,null,"GK 7GX008001634","Фитинг с накидной гайкой GX 3/4\"E x 16 PEX",null,"3/4\"Ex16 PEX",3.85,{"v":385,"d":"385.00"}]
[null,null,"GK 7GX008002034","Фитинг с накидной гайкой GX 3/4\"E x 20 PEX",null,"3/4\"Ex20 PEX",{"v":5.8,"d":"5.80"},{"v":580,"d":"580.00"}]
[null,null,"GK 7GX013002034","Переходник для пластиковой трубы с соединением евроконус, 3/4\"E x(16x2,2)",null,"3/4\"E x 16 PEX (16*2,2)",3.47,{"v":347,"d":"347.00"}]
[null,null,"GK 7GX013001534","Переходник для пластиковой трубы с соединением евроконус, 3/4\"E x(20x2,8)",null,"3/4\"E x 20 PEX (20*2,8)",4.11,{"v":411.00000000000006,"d":"411.00"}]
[null,null,"GK 7GX013001634","Переходник для медной трубы с соединением евроконус, 3/4\"E x15",null,"3/4\"E x 15",2.45,{"v":245.00000000000003,"d":"245.00"}]
["Шкафы коллекторные"]
[null,null,"Артикул","Наименование товара",null,"Высота х ширина","Цена за шт.","Цена за шт."]
[{"$nulls":6},"RUB","RUB"]
[null,null,"GK SHV-0","Шкаф встроенный (ШРВ) с накладной дверцей, регулируемая глубина от 125 до 195 мм",null,"668 x 402",3840.75,{"$f":"G179*1.06","v":{"v":4071.195,"d":"4071.20"}}]
[null,null,"GK SHV-1",null,null,"668 x 492",4098.41,{"$f":"G180*1.06","v":{"v":4344.3146,"d":"4344.31"}}]
[null,null,"GK SHV-2",null,null,"668 x 592",{"v":4770,"d":"4770.00"},{"v":5056.2,"d":"5056.20"}]
[null,null,"GK SHV-3",null,null,"668 x 742",5865.75,{"v":6217.695000000001,"d":"6217.70"}]
[null,null,"GK SHV-4",null,null,"668 x 892",{"v":6862.5,"d":"6862.50"},7274.25]
[null,null,"GK SHV-5",null,null,"668 x 1042",{"v":7582.5,"d":"7582.50"},{"v":8037.450000000001,"d":"8037.45"}]
[null,null,"GK SHV-6",null,null,"668 x 1192",{"v":8302.5,"d":"8302.50"},8800.65]
[null,null,"GK SHN-0","Шкаф наружный (ШРН) с накладной дверцей, стандартная глубина 120 мм",null,"652 x 367",{"v":3217.5,"d":"3217.50"},3410.55]
[null,null,"GK SHN-1",null,null,"652 x 457",3881.82,{"v":4114.729200000001,"d":"4114.73"}]
[null,null,"GK SHN-2",null,null,"652 x 557",4154.81,{"v":4404.0986,"d":"4404.10"}]
[null,null,"GK SHN-3",null,null,"652 x 707",{"v":4954.2,"d":"4954.20"},{"v":5251.452,"d":"5251.45"}]
[null,null,"GK SHN-4",null,null,"652 x 857",5898.96,{"v":6252.8976,"d":"6252.90"}]
[null,null,"GK SHN-5",null,null,"652 x 1007",6716.01,{"v":7118.970600000001,"d":"7118.97"}]
[null,null,"GK SHN-6","Трехходовой фитинг для установки в поток датчика температуры",null,"652 x 1157",7933.47,{"v":8409.478200000001,"d":"8409.48"}]
[null,null,"GK SHN-150-0","Шкаф наружный (ШРН) с накладной дверцей, увеличенная глубина 150 мм",null,"652 x 367",{"v":3712.5,"d":"3712.50"},3935.25]
[null,null,"GK SHN-150-1",null,null,"652 x 457",{"v":4185,"d":"4185.00"},{"v":4436.1,"d":"4436.10"}]
[null,null,"GK SHN-150-2",null,null,"652 x 557",4538.48,{"v":4810.788799999999,"d":"4810.79"}]
[null,null,"GK SHN-150-3",null,null,"652 x 707",5496.32,{"v":5826.0992,"d":"5826.10"}]
[null,null,"GK SHN-150-4",null,null,"652 x 857",{"v":6304.5,"d":"6304.50"},6682.77]
[null,null,"GK SHN-150-5",null,null,"652 x 1007",7543.42,{"v":7996.0252,"d":"7996.03"}]
[null,null,"GK SHN-150-6","Трехходовой фитинг для установки в поток датчика температуры",null,"652 x 1157",8340.75,{"v":8841.195,"d":"8841.20"}]
["Узлы ТП, коллекторы"]
[null,null,"Артикул","Наименование товара",null,"Присоединение к ТП","Цена за шт.","Цена за шт."]
[{"$nulls":6},"EUR","RUB"]
[null,null,"GK 7686G-F3","Насосно-смесительная группа для напольного отопления по фиксированной температуре смешения c фитингом для подключения байпаса и накидной гайкой для насоса G1 ½",null,"1\"",{"v":201,"d":"201.00"},{"$f":"G203*$B$2","v":{"v":20100,"d":"20100.00"}}]
[null,null,"GK 7686901","Байпасная линия для узлов GK 7686G-F30, GK 7686G-F3 (диапазон 0÷0.5 бар, Kvs 5,0 м3/ч, Межосевое расстояние 210 мм)",null,"1/2\"",55.23,{"v":5523,"d":"5523.00"}]
[null,null,"GK 7685","Насосно-смесительный узел для напольного отопления с термостатической головкой",null,"3/4\"",127.48,{"v":12748,"d":"12748.00"}]
[null,null,"GK 714R","Трехходовой фитинг для установки в поток датчика температуры",null,"1\"",{"v":23.2,"d":"23.20"},{"v":2320,"d":"2320.00"}]
[null,null,"GK 72102","Коллекторный блок с расходомерами, термостатическими клапанами и ручными воздухоотводчиками",null,"1\"x3/4\"х2",95.62,{"v":9562,"d":"9562.00"}]
[null,null,"GK 72103",null,null,"1\"x3/4\"х3",117.42,{"v":11742,"d":"11742.00"}]
[null,null,"GK 72104",null,null,"1\"x3/4\"х4",139.46,{"v":13946,"d":"13946.00"}]
[null,null,"GK 72105",null,null,"1\"x3/4\"х5",{"v":164.5,"d":"164.50"},{"v":16450,"d":"16450.00"}]
[null,null,"GK 72106",null,null,"1\"x3/4\"х6",{"v":186.6,"d":"186.60"},{"v":18660,"d":"18660.00"}]
[null,null,"GK 72107",null,null,"1\"x3/4\"х7",216.21,{"v":21621,"d":"21621.00"}]
[null,null,"GK 72108",null,null,"1\"x3/4\"х8",242.07,{"v":24207,"d":"24207.00"}]
[null,null,"GK 72109",null,null,"1\"x3/4\"х9",265.44,{"v":26544,"d":"26544.00"}]
[null,null,"GK 72110",null,null,"1\"x3/4\"х10",290.92,{"v":29092,"d":"29092.00"}]
[null,null,"GK 72111",null,null,"1\"x3/4\"х11",314.22,{"v":31422.000000000004,"d":"31422.00"}]
[null,null,"GK 72112",null,null,"1\"x3/4\"х12",{"v":337.1,"d":"337.10"},{"v":33710,"d":"33710.00"}]
[null,null,"GK 73102","Коллекторный блок с микрометрическими вентилями, термостатическими клапанами и ручными воздухоотводчиками",null,"1\"x3/4\"х2",99.44,{"v":9944,"d":"9944.00"}]
[null,null,"GK 73103",null,null,"1\"x3/4\"х3",117.13,{"v":11713,"d":"11713.00"}]
[null,null,"GK 73104",null,null,"1\"x3/4\"х4",{"v":135,"d":"135.00"},{"v":13500,"d":"13500.00"}]
[null,null,"GK 73105",null,null,"1\"x3/4\"х5",155.29,{"v":15529,"d":"15529.00"}]
[null,null,"GK 73106",null,null,"1\"x3/4\"х6",174.28,{"v":17428,"d":"17428.00"}]
[null,null,"GK 73107",null,null,"1\"x3/4\"х7",{"v":197.7,"d":"197.70"},{"v":19770,"d":"19770.00"}]
[null,null,"GK 73108",null,null,"1\"x3/4\"х8",218.92,{"v":21892,"d":"21892.00"}]
[null,null,"GK 73109",null,null,"1\"x3/4\"х9",{"v":237.5,"d":"237.50"},{"v":23750,"d":"23750.00"}]
[null,null,"GK 73110",null,null,"1\"x3/4\"х10",258.43,{"v":25843,"d":"25843.00"}]
[null,null,"GK 73111",null,null,"1\"x3/4\"х11",{"v":276.8,"d":"276.80"},{"v":27680,"d":"27680.00"}]
[null,null,"GK 73112",null,null,"1\"x3/4\"х12",294.89,{"v":29489,"d":"29489.00"}]
[null,null,"GK 74102","Коллекторный блок с расходомерами, термостатическими клапанами без воздухоотводчиков                                                           ",null,"1\"x3/4\"х2",{"v":82.8,"d":"82.80"},{"v":8280,"d":"8280.00"}]
[null,null,"GK 74103",null,null,"1\"x3/4\"х3",104.64,{"v":10464,"d":"10464.00"}]
[null,null,"GK 74104",null,null,"1\"x3/4\"х4",126.66,{"v":12666,"d":"12666.00"}]
[null,null,"GK 74105",null,null,"1\"x3/4\"х5",151.66,{"v":15166,"d":"15166.00"}]
[null,null,"GK 74106",null,null,"1\"x3/4\"х6",173.76,{"v":17376,"d":"17376.00"}]
[null,null,"GK 74107",null,null,"1\"x3/4\"х7",203.39,{"v":20339,"d":"20339.00"}]
[null,null,"GK 74108",null,null,"1\"x3/4\"х8",229.25,{"v":22925,"d":"22925.00"}]
[null,null,"GK 74109",null,null,"1\"x3/4\"х9",252.63,{"v":25263,"d":"25263.00"}]
[null,null,"GK 74110",null,null,"1\"x3/4\"х10",278.08,{"v":27808,"d":"27808.00"}]
[null,null,"GK 74111",null,null,"1\"x3/4\"х11",301.39,{"v":30139,"d":"30139.00"}]
[null,null,"GK 74112",null,null,"1\"x3/4\"х12",324.26,{"v":32426,"d":"32426.00"}]
[null,null,"GK 75102","Коллекторный блок с микрометрическими вентилями, термостатическими клапанами без воздухоотводчиков",null,"1\"x3/4\"х2",74.01,{"v":7401.000000000001,"d":"7401.00"}]
[null,null,"GK 75103",null,null,"1\"x3/4\"х3",91.72,{"v":9172,"d":"9172.00"}]
[null,null,"GK 75104",null,null,"1\"x3/4\"х4",109.56,{"v":10956,"d":"10956.00"}]
[null,null,"GK 75105",null,null,"1\"x3/4\"х5",129.91,{"v":12991,"d":"12991.00"}]
[null,null,"GK 75106",null,null,"1\"x3/4\"х6",148.86,{"v":14886.000000000002,"d":"14886.00"}]
[null,null,"GK 75107",null,null,"1\"x3/4\"х7",172.25,{"v":17225,"d":"17225.00"}]
[null,null,"GK 75108",null,null,"1\"x3/4\"х8",193.51,{"v":19351,"d":"19351.00"}]
[null,null,"GK 75109",null,null,"1\"x3/4\"х9",216.11,{"v":21611,"d":"21611.00"}]
[null,null,"GK 75110",null,null,"1\"x3/4\"х10",232.99,{"v":23299,"d":"23299.00"}]
[null,null,"GK 75111",null,null,"1\"x3/4\"х11",256.15,{"v":25614.999999999996,"d":"25615.00"}]
[null,null,"GK 75112",null,null,"1\"x3/4\"х12",{"v":282.3,"d":"282.30"},{"v":28230,"d":"28230.00"}]
[null,null,"GK 7590","Комплект коллекторных фитингов со сливным краном и ручным воздухоотводчиком",null,"1\"",31.53,{"v":3153,"d":"3153.00"}]
[null,null,"GK 7591","Комплект коллекторных фитингов со сливным краном и автоматическим воздухоотводчиком",null,"1\"",41.11,{"v":4111,"d":"4111.00"}]
[null,null,"GK 79115","Латунный расходомер для коллекторных блоков напольного и радиаторного отопления",null,"1/2\"",8.87,{"v":886.9999999999999,"d":"887.00"}]
[null,null,"GK 1903N","Электротермическая головка 230В, нормально закрытая ",null,"М30х1,5",30.24,{"v":3024,"d":"3024.00"}]
[null,null,"GK 1904N","Электротермическая головка 24В, нормально закрытая ",null,"М30х1,5",31.68,{"v":3168,"d":"3168.00"}]
[null,null,"GK 71602","Концовка для металлопластиковых труб и труб РЕХ, 3/4\" Евроконус",null,"16*2 x 3/4\"",{"v":2.9,"d":"2.90"},{"v":290,"d":"290.00"}]
[null,null,"GK 72002",null,null,"20*2 x 3/4\"",4.42,{"v":442,"d":"442.00"}]
[null,null,"GK 79181","Комплект (2 шт) шаровых кранов для коллекторов: с \"американкой\", термометром и отводом для температурного зонда, ручки - красная и синяя \"бабочка\"",null,"1\"",72.19,{"v":7219,"d":"7219.00"}]
[null,null,"GK 7534","Группа безопасности бойлера с прямым сливом, рабочее давление 10 бар, давление настройки предохранительного клапана 7 ± 0,1 бар",null,"3/4\"",47.23,{"v":4723,"d":"4723.00"}]
["Клапаны для отоп.приборов"]
[null,null,"Артикул","Наименование товара",null,"Размер","Цена за шт.","Цена за шт."]
[{"$nulls":6},"EUR","RUB"]
[null,null,"GK 7423","Узел нижнего подключения для стальных панельных радиаторов в двухтрубных системах прямой, с ручным управлением",null,"3/4\"",14.22,{"$f":"G263*$B$2","v":{"v":1422,"d":"1422.00"}}]
[null,null,"GK 7421","Узел нижнего подключения для стальных панельных радиаторов в двухтрубных системах угловой, с ручным управлением",null,"3/4\"",13.29,{"$f":"G264*$B$2","v":{"v":1329,"d":"1329.00"}}]
[null,null,"GK 7400 12","Клапан запорный прямой",null,"1/2\"",8.08,{"v":808,"d":"808.00"}]
[null,null,"GK 7400 34",null,null,"3/4\"",12.18,{"v":1218,"d":"1218.00"}]
[null,null,"GK 7200 12","Клапан запорный угловой",null,"1/2\"",6.96,{"v":696,"d":"696.00"}]
[null,null,"GK 7200 34",null,null,"3/4\"",11.05,{"v":1105,"d":"1105.00"}]
[null,null,"GK 7350 12","Клапан регулирующий прямой",null,"1/2\"",9.01,{"v":901,"d":"901.00"}]
[null,null,"GK 7350 34",null,null,"3/4\"",15.84,{"v":1584,"d":"1584.00"}]
[null,null,"GK 7150 12","Клапан регулирующий угловой",null,"1/2\"",8.19,{"v":819,"d":"819.00"}]
[null,null,"GK 7150 34",null,null,"3/4\"",14.89,{"v":1489,"d":"1489.00"}]
[null,null,"GK 7355 12","Клапан регулирующий прямой компактной серии",null,"1/2\"",8.18,{"v":818,"d":"818.00"}]
[null,null,"GK 7155 12","Клапан регулирующий угловой компактной серии",null,"1/2\"",7.26,{"v":726,"d":"726.00"}]
[null,null,"GK 7640 12","Клапан терморегулирующий прямой",null,"1/2\"",11.45,{"v":1145,"d":"1145.00"}]
[null,null,"GK 7640 34",null,null,"3/4\"",14.07,{"v":1407,"d":"1407.00"}]
[null,null,"GK 7620 12","Клапан терморегулирующий угловой",null,"1/2\"",10.15,{"v":1015,"d":"1015.00"}]
[null,null,"GK 7620 34",null,null,"3/4\"",12.97,{"v":1297,"d":"1297.00"}]
[null,null,"GK 7625 12","Клапан терморегулирующий   осевой",null,"1/2\"",13.15,{"v":1315,"d":"1315.00"}]
[null,null,"GK 7824","Термостатическая головка с внутренним жидкостным датчиком, с настройкой против замораживания",null,"CLIP-CLAP",10.64,{"v":1064,"d":"1064.00"}]
[null,null,"GK 7825","Термостатическая головка с внутренним жидкостным датчиком, с настройкой против замораживания",null,"M30x1,5",{"v":12,"d":"12.00"},{"v":1200,"d":"1200.00"}]
[null,null,"GK 76407400 12","Комплект для подключения отопительных приборов прямой",null,"1/2\"",{"v":31,"d":"31.00"},{"v":3100,"d":"3100.00"}]
[null,null,"GK 76207200 12","Комплект для подключения отопительных приборов угловой",null,"1/2\"",{"v":35,"d":"35.00"},{"v":3500,"d":"3500.00"}]
[null,null,"GK 7081","Переходник для узлов нижнего подключения в радиаторы с внутренней резьбой 1/2''",null,"1/2''x3/4''",2.13,{"v":213,"d":"213.00"}]
["Теплоноситель"]
[null,null,"Артикул","Наименование товара",null,"Размер","Цена за шт.","Цена за шт."]
[{"$nulls":6},"RUB","RUB"]
[null,null,"GK 569214"," Теплоноситель GEKON ECOSAVE - 30°С, 10 кг.",null,"3/4\"",{"v":2483,"d":"2483.00"},{"$f":"G288*1","v":{"v":2483,"d":"2483.00"}}]
[null,null,"GK 873256"," Теплоноситель GEKON ECOSAVE - 30°С, 20 кг.",null,"3/4\"",{"v":4967,"d":"4967.00"},{"$f":"G289*1","v":{"v":4967,"d":"4967.00"}}]
["Бойлеры, накопители, теплоаккумуляторы OLD (до сентября 2024) "]
[null,null,"Артикул","Наименование товара",null,"Объём","Цена за шт.","Цена за шт."]
[{"$nulls":6},"RUB","RUB"]
[null,null,"GKB1501N","Бойлер Gekon HWB 150 1HE INOX, 30 кВт",null,150,{"v":78481,"d":"78481.00"},{"$f":"G293*1","v":{"v":78481,"d":"78481.00"}}]
[null,null,"GKB2001N","Бойлер Gekon HWB 200 1HE INOX, 30 кВт",null,200,{"v":86816,"d":"86816.00"},{"$f":"G294*1","v":{"v":86816,"d":"86816.00"}}]
[null,null,"GKB3001N","Бойлер Gekon HWB 300 1HE INOX, 45 кВт",null,300,{"v":121300,"d":"121300.00"},{"v":121300,"d":"121300.00"}]
[null,null,"GKB4001N","Бойлер Gekon HWB 400 1HE INOX, 53 кВт",null,400,{"v":137354,"d":"137354.00"},{"v":137354,"d":"137354.00"}]
[null,null,"GKB5001N","Бойлер Gekon HWB 500 1HE INOX, 70 кВт",null,500,{"v":180930,"d":"180930.00"},{"v":180930,"d":"180930.00"}]
[null,null,"GKB120TC","Бойлер Gekon HWB 120 1HE TC INOX, 30 кВт с верхним подключением",null,120,{"v":83150,"d":"83150.00"},{"v":83150,"d":"83150.00"}]
[null,null,"GKB300XL","Бойлер Gekon HWB 300 1HE XL INOX, 129 кВт",null,300,{"v":154392,"d":"154392.00"},{"v":154392,"d":"154392.00"}]
[null,null,"GKB400XL","Бойлер Gekon HWB 400 1HE XL INOX, 120кВт",null,400,{"v":161432,"d":"161432.00"},{"v":161432,"d":"161432.00"}]
[null,null,"GKB2002N","Бойлер Gekon HWB 200 2HE INOX, 15/33 кВт",null,200,{"v":100570,"d":"100570.00"},{"v":100570,"d":"100570.00"}]
[null,null,"GKB3002N","Бойлер Gekon HWB 300 2HE INOX, 30/45 кВт",null,300,{"v":142417,"d":"142417.00"},{"v":142417,"d":"142417.00"}]
[null,null,"GKB4002N","Бойлер Gekon HWB 400 2HE INOX, 30/53 кВт",null,400,{"v":158470,"d":"158470.00"},{"v":158470,"d":"158470.00"}]
[null,null,"GKB80WL","Бойлер Gekon HWB 80 1HE WL INOX, 15,3 кВт с левым подключением",null,80,{"v":50271,"d":"50271.00"},{"v":50271,"d":"50271.00"}]
[null,null,"GKB100WL","Бойлер Gekon HWB 100 1HE WL INOX, 15,3 кВт с левым подключением",null,100,{"v":55500,"d":"55500.00"},{"v":55500,"d":"55500.00"}]
[null,null,"GKB150WL","Бойлер Gekon HWB 150 1HE WL INOX, 33 кВт с левым подключением",null,150,{"v":72430,"d":"72430.00"},{"v":72430,"d":"72430.00"}]
[null,null,"GKB80WR","Бойлер Gekon HWB 80 1HE WL INOX, 15,3 кВт с правым подключением",null,80,{"v":50271,"d":"50271.00"},{"v":50271,"d":"50271.00"}]
[null,null,"GKB100WR","Бойлер Gekon HWB 100 1HE WL INOX, 15,3 кВт с правым подключением",null,100,{"v":55500,"d":"55500.00"},{"v":55500,"d":"55500.00"}]
[null,null,"GKB150WR","Бойлер Gekon HWB 150 1HE WL INOX, 33 кВт с правым подключением",null,150,{"v":72430,"d":"72430.00"},{"v":72430,"d":"72430.00"}]
[null,null,"GKB150ZN","Накопитель горячей воды Gekon HWB 150 ZHE INOX",null,150,{"v":58842,"d":"58842.00"},{"v":58842,"d":"58842.00"}]
[null,null,"GKB200ZN","Накопитель горячей воды Gekon HWB 200 ZHE INOX",null,200,{"v":67364,"d":"67364.00"},{"v":67364,"d":"67364.00"}]
[null,null,"GKB300ZN","Накопитель горячей воды Gekon HWB 300 ZHE INOX",null,300,{"v":93819,"d":"93819.00"},{"v":93819,"d":"93819.00"}]
[null,null,"GKB400ZN","Накопитель горячей воды Gekon HWB 400 ZHE INOX",null,400,{"v":107844,"d":"107844.00"},{"v":107844,"d":"107844.00"}]
["Бойлеры, накопители, теплоаккумуляторы NEW (с сентября 2024)"]
[null,null,"Артикул","Наименование товара",null,"Объём","Цена за шт.","Цена за шт."]
[{"$nulls":6},"RUB","RUB"]
[null,null,"GK1501","Бойлер напольный B01 150 л, с 1-м ТО, 30 кВт, INOX, Gekon",null,150,{"v":78481.26018468224,"d":"78481.26"},{"$f":"G317*1","v":{"v":78481.26018468224,"d":"78481.26"}}]
[null,null,"GK2001","Бойлер напольный B01 200 л, с 1-м ТО, 30 кВт, INOX, Gekon",null,200,{"v":86815.86094513851,"d":"86815.86"},{"$f":"G318*1","v":{"v":86815.86094513851,"d":"86815.86"}}]
[null,null,"GK3001","Бойлер напольный B01 300 л, с 1-м ТО, 40 кВт, INOX, Gekon",null,300,{"v":121300.38022813688,"d":"121300.38"},{"v":121300.38022813688,"d":"121300.38"}]
[null,null,"GK4001","Бойлер напольный B01 400 л, с 1-м ТО, 51 кВт, INOX, Gekon",null,400,{"v":137353.6121673004,"d":"137353.61"},{"v":137353.6121673004,"d":"137353.61"}]
[null,null,"GK5001","Бойлер напольный B01 500 л, с 1-м ТО, 60 кВт, INOX, Gekon",null,500,{"v":180929.92938620315,"d":"180929.93"},{"v":180929.92938620315,"d":"180929.93"}]
[null,null,"GK8001","Бойлер напольный B01 800 л, с 1-м ТО, 90 кВт, INOX, Gekon",null,800,{"v":305535.6855163525,"d":"305535.69"},{"v":305535.6855163525,"d":"305535.69"}]
[null,null,"GK10001","Бойлер напольный B01 1000 л, с 1-м ТО, 98 кВт, INOX, Gekon",null,1000,{"v":351996.1333977767,"d":"351996.13"},{"v":351996.1333977767,"d":"351996.13"}]
[null,null,"GK1601S","Бойлер напольный B01S 160 л, с 1-м ТО, 20 кВт, INOX, Gekon",null,160,{"v":61988,"d":"61988.00"},{"$f":"G324*1","v":{"v":61988,"d":"61988.00"}}]
[null,null,"GK2101S","Бойлер напольный B01S 200 л, с 1-м ТО, 20 кВт, INOX, Gekon",null,200,{"v":67623,"d":"67623.00"},{"$f":"G325*1","v":{"v":67623,"d":"67623.00"}}]
[null,null,"GK1201TC","Бойлер напольный BTC 120 л, с 1-м ТО, 28 кВт, INOX, Gekon",null,120,{"v":83150,"d":"83150.00"},{"v":83150,"d":"83150.00"}]
[null,null,"GK2001XL","Бойлер напольный BXL 200 л, с 1-м ТО, 60 кВт, INOX, Gekon",null,200,{"v":109750.00542994287,"d":"109750.01"},{"v":109750.00542994287,"d":"109750.01"}]
[null,null,"GK3001XL","Бойлер напольный BXL 300 л, с 1-м ТО, 115 кВт, INOX, Gekon",null,300,{"v":154392.17816404128,"d":"154392.18"},{"v":154392.17816404128,"d":"154392.18"}]
[null,null,"GK4001XL","Бойлер напольный BXL 400 л, с 1-м ТО, 100 кВт, INOX, Gekon",null,400,{"v":161431.83052688756,"d":"161431.83"},{"v":161431.83052688756,"d":"161431.83"}]
[null,null,"GK5001XL","Бойлер напольный BXL 500 л, с 1-м ТО, 127 кВт, INOX, Gekon",null,500,{"v":225560.23083758928,"d":"225560.23"},{"v":225560.23083758928,"d":"225560.23"}]
[null,null,"GK8001XL","Бойлер напольный BXL 800 л, с 1-м ТО, 120 кВт, INOX, Gekon",null,800,{"v":325539.981741045,"d":"325539.98"},{"v":325539.981741045,"d":"325539.98"}]
[null,null,"GK10001XL","Бойлер напольный BXL 1000 л, с 1-м ТО, 150 кВт, INOX, Gekon",null,1000,{"v":390900.59610117605,"d":"390900.60"},{"v":390900.59610117605,"d":"390900.60"}]
[null,null,"GK2002","Бойлер напольный B02 200 л, с 2-я ТО, 30/15 кВт, INOX, Gekon",null,200,{"v":100570.34220532319,"d":"100570.34"},{"v":100570.34220532319,"d":"100570.34"}]
[null,null,"GK3002","Бойлер напольный B02 300 л, с 2-я ТО, 40/28 кВт, INOX, Gekon",null,300,{"v":142417.16458446498,"d":"142417.16"},{"v":142417.16458446498,"d":"142417.16"}]
[null,null,"GK4002","Бойлер напольный B02 400 л, с 2-я ТО, 51/23 кВт, INOX, Gekon",null,400,{"v":158470.39652362847,"d":"158470.40"},{"v":158470.39652362847,"d":"158470.40"}]
[null,null,"GK5002","Бойлер напольный B02 500 л, с 2-я ТО, 60/23 кВт, INOX, Gekon",null,500,{"v":206707.70877944323,"d":"206707.71"},{"v":206707.70877944323,"d":"206707.71"}]
[null,null,"GK8002","Бойлер напольный B02 800 л, с 2-я ТО, 90/28 кВт, INOX, Gekon",null,800,{"v":324936.36217174155,"d":"324936.36"},{"v":324936.36217174155,"d":"324936.36"}]
[null,null,"GK10002","Бойлер напольный B02 1000 л, с 2-я ТО, 98/45 кВт, INOX, Gekon",null,1000,{"v":371394.66194081947,"d":"371394.66"},{"v":371394.66194081947,"d":"371394.66"}]
[null,null,"GK801WL","Бойлер настенный BW 80 л, с 1-м ТО, 15 кВт, подключение слева, INOX, Gekon",null,80,{"v":50270.505160239,"d":"50270.51"},{"v":50270.505160239,"d":"50270.51"}]
[null,null,"GK1001WL","Бойлер настенный BW 100 л, с 1-м ТО, 15 кВт, подключение слева, INOX, Gekon",null,100,{"v":55500.27159152635,"d":"55500.27"},{"v":55500.27159152635,"d":"55500.27"}]
[null,null,"GK1501WL","Бойлер настенный BW 150 л, с 1-м ТО, 30 кВт, подключение слева, INOX, Gekon",null,150,{"v":72430.2009777295,"d":"72430.20"},{"v":72430.2009777295,"d":"72430.20"}]
[null,null,"GK2001WL","Бойлер настенный BW 200 л, с 1-м ТО, 30 кВт, подключение слева, INOX, Gekon",null,200,{"v":80765,"d":"80765.00"},{"v":80765,"d":"80765.00"}]
[null,null,"GK801WR","Бойлер настенный BW 80 л, с 1-м ТО, 15 кВт, подключение справа, INOX, Gekon",null,80,{"v":50270.505160239,"d":"50270.51"},{"v":50270.505160239,"d":"50270.51"}]
[null,null,"GK1001WR","Бойлер настенный BW 100 л, с 1-м ТО, 15 кВт, подключение справа, INOX, Gekon",null,100,{"v":55500.27159152635,"d":"55500.27"},{"v":55500.27159152635,"d":"55500.27"}]
[null,null,"GK1501WR","Бойлер настенный BW 150 л, с 1-м ТО, 30 кВт, подключение справа, INOX, Gekon",null,150,{"v":72430.2009777295,"d":"72430.20"},{"v":72430.2009777295,"d":"72430.20"}]
[null,null,"GK2001WR","Бойлер настенный BW 200 л, с 1-м ТО, 30 кВт, подключение справа, INOX, Gekon",null,200,{"v":80765,"d":"80765.00"},{"v":80765,"d":"80765.00"}]
[null,null,"GK1201WB","Бойлер настенный BW 120 л, с 1-м ТО, 28 кВт, подключение нижнее, INOX, Gekon",null,120,{"v":78500,"d":"78500.00"},{"v":78500,"d":"78500.00"}]
[null,null,"GK150","Накопитель горячей воды напольный BT 150 л, INOX, Gekon",null,150,58841.93,58841.93]
[null,null,"GK200","Накопитель горячей воды напольный BT 200 л, INOX, Gekon",null,200,{"v":67364.47582835416,"d":"67364.48"},{"v":67364.47582835416,"d":"67364.48"}]
[null,null,"GK300","Накопитель горячей воды напольный BT 300 л, INOX, Gekon",null,300,{"v":93818.57686040195,"d":"93818.58"},{"v":93818.57686040195,"d":"93818.58"}]
[null,null,"GK400","Накопитель горячей воды напольный BT 400 л, INOX, Gekon",null,400,{"v":107843.56328082563,"d":"107843.56"},{"v":107843.56328082563,"d":"107843.56"}]
[null,null,"GK500","Накопитель горячей воды напольный BT 500 л, INOX, Gekon",null,500,{"v":149364.02569593146,"d":"149364.03"},{"v":149364.02569593146,"d":"149364.03"}]
[null,null,"GK800","Накопитель горячей воды напольный BT 800 л, INOX, Gekon",null,800,{"v":242432.74729930097,"d":"242432.75"},{"v":242432.74729930097,"d":"242432.75"}]
[null,null,"GK1000","Накопитель горячей воды напольный BT 1000 л, INOX, Gekon",null,1000,{"v":279095.7041179461,"d":"279095.70"},{"v":279095.7041179461,"d":"279095.70"}]
[null,null,"GK100P","Накопитель горячей воды напольный BP 100 л, с насосом ГВС, INOX, Gekon",null,100,{"v":61539.9471437284,"d":"61539.95"},{"v":61539.9471437284,"d":"61539.95"}]
[null,null,"GK500BS","Теплоаккумулятор Buffer S 500 л, одностороннее расположение патрубков, Gekon",null,500,{"v":63530.906990179086,"d":"63530.91"},{"v":63530.906990179086,"d":"63530.91"}]
[null,null,"GK800BS","Теплоаккумулятор Buffer S 800 л, одностороннее расположение патрубков, Gekon",null,800,{"v":85370.30618139803,"d":"85370.31"},{"v":85370.30618139803,"d":"85370.31"}]
[null,null,"GK1000BS","Теплоаккумулятор Buffer S 1000 л, одностороннее расположение патрубков, Gekon",null,1000,{"v":96481.80242634314,"d":"96481.80"},{"v":96481.80242634314,"d":"96481.80"}]
[null,null,"GK500BA","Теплоаккумулятор Buffer A 500 л, расположение патрубков под углом 90 градусов, Gekon",null,500,{"v":63530.906990179086,"d":"63530.91"},{"v":63530.906990179086,"d":"63530.91"}]
[null,null,"GK800BA","Теплоаккумулятор Buffer A 800 л, расположение патрубков под углом 90 градусов, Gekon",null,800,{"v":85370.30618139803,"d":"85370.31"},{"v":85370.30618139803,"d":"85370.31"}]
[null,null,"GK1000BA","Теплоаккумулятор Buffer A 1000 л, расположение патрубков под углом 90 градусов, Gekon",null,1000,{"v":96481.80242634314,"d":"96481.80"},{"v":96481.80242634314,"d":"96481.80"}]
[null,null,"GKMA8D2140","Анод магниевый L=400 мм, D21 мм,  М8х10 ",null,21,{"v":850,"d":"850.00"},{"v":850,"d":"850.00"}]
[null,null,"GKMA8D2145","Анод магниевый L=450 мм, D21 мм,  М8х10 ",null,21,{"v":900,"d":"900.00"},{"v":900,"d":"900.00"}]
["Мембранные баки"]
[null,null,"Артикул","Наименование товара",null,"Объём, л","Цена за шт.","Цена за шт."]
[{"$nulls":6},"EUR / RUB","RUB"]
[null,null,"GKB0140029","Бак мембранный для отопления Gekon WRV8",null,8,{"v":2454,"d":"2,454.00 ₽"},{"$f":"G367*1","v":{"v":2454,"d":"2454.00"}},"руб."]
[null,null,"GKB2140200","Бак мембранный для отопления Gekon WRV8 (16 бар)",null,8,{"v":128,"d":"€ 128.00"},{"$f":"G368*$L$1","v":{"v":11589.64453125,"d":"11589.64"}},"EUR"]
[null,null,"GKB2140300","Бак мембранный для отопления Gekon WRV8 (25 бар)",null,8,{"v":372,"d":"€ 372.00"},{"$f":"G369*$L$1","v":{"v":33682.40441894531,"d":"33682.40"}},"EUR"]
[null,null,"GKB0140049","Бак мембранный для отопления Gekon WRV12",null,12,{"v":2675,"d":"2,675.00 ₽"},{"$f":"G370*1","v":{"v":2675,"d":"2675.00"}},"руб."]
[null,null,"GKB2140302","Бак мембранный для отопления Gekon WRV12 (25 бар)",null,12,{"v":372,"d":"€ 372.00"},{"$f":"G371*$L$1","v":{"v":33682.40441894531,"d":"33682.40"}},"EUR"]
[null,null,"GKB0140059","Бак мембранный для отопления Gekon WRV18",null,18,{"v":2925,"d":"2,925.00 ₽"},{"v":2925,"d":"2925.00"},"руб."]
[null,null,"GKB2140304","Бак мембранный для отопления Gekon WRV18 (25 бар)",null,18,{"v":509,"d":"€ 509.00"},{"$f":"G373*$L$1","v":{"v":46086.94583129883,"d":"46086.95"}},"EUR"]
[null,null,"GKB0140069","Бак мембранный для отопления Gekon WRV24",null,24,{"v":3153,"d":"3,153.00 ₽"},{"v":3153,"d":"3153.00"},"руб."]
[null,null,"GKB2140206","Бак мембранный для отопления Gekon WRV24 (16 бар)",null,24,{"v":176,"d":"€ 176.00"},{"$f":"G375*$L$1","v":{"v":15935.76123046875,"d":"15935.76"}},"EUR"]
[null,null,"GKB2140306","Бак мембранный для отопления Gekon WRV24 (25 бар)",null,24,{"v":509,"d":"€ 509.00"},{"v":46086.94583129883,"d":"46086.95"},"EUR"]
[null,null,"GKB0140080","Бак мембранный для отопления Gekon WRV35",null,35,{"v":5388,"d":"5,388.00 ₽"},{"v":5388,"d":"5388.00"},"руб."]
[null,null,"GKB0140100","Бак мембранный для отопления Gekon WRV50",null,50,{"v":6634,"d":"6,634.00 ₽"},{"v":6634,"d":"6634.00"},"руб."]
[null,null,"GKB2140208","Бак мембранный для отопления Gekon WRV50 (16 бар)",null,50,{"v":355,"d":"€ 355.00"},{"$f":"G379*$L$1","v":{"v":32143.154754638672,"d":"32143.15"}},"EUR"]
[null,null,"GKB0140120","Бак мембранный для отопления Gekon WRV80",null,80,{"v":9228,"d":"9,228.00 ₽"},{"v":9228,"d":"9228.00"},"руб."]
[null,null,"GKB2140212","Бак мембранный для отопления Gekon WRV80 (16 бар)",null,80,{"v":553,"d":"€ 553.00"},{"$f":"G381*$L$1","v":{"v":50070.886138916016,"d":"50070.89"}},"EUR"]
[null,null,"GKB0140140","Бак мембранный для отопления Gekon WRV100",null,100,{"v":13263,"d":"13,263.00 ₽"},{"v":13263,"d":"13263.00"},"руб."]
[null,null,"GKB2140214","Бак мембранный для отопления Gekon WRV100 (16 бар)",null,100,{"v":594,"d":"€ 594.00"},{"$f":"G383*$L$1","v":{"v":53783.19415283203,"d":"53783.19"}},"EUR"]
[null,null,"GKB2140314","Бак мембранный для отопления Gekon WRV100 (25 бар)",null,100,{"v":1373,"d":"€ 1,373.00"},{"v":124317.04641723633,"d":"124317.05"},"EUR"]
[null,null,"GKB0140160","Бак мембранный для отопления Gekon WRV150",null,150,{"v":20092,"d":"20,092.00 ₽"},{"v":20092,"d":"20092.00"},"руб."]
[null,null,"GKB2140216","Бак мембранный для отопления Gekon WRV150 (16 бар)",null,150,{"v":678,"d":"€ 678.00"},{"$f":"G386*$L$1","v":{"v":61388.898376464844,"d":"61388.90"}},"EUR"]
[null,null,"GKB2140316","Бак мембранный для отопления Gekon WRV150 (25 бар)",null,150,{"v":2199,"d":"€ 2,199.00"},{"v":199106.47128295898,"d":"199106.47"},"EUR"]
[null,null,"GKB0140180","Бак мембранный для отопления Gekon WRV200",null,200,{"v":34459,"d":"34,459.00 ₽"},{"v":34459,"d":"34459.00"},"руб."]
[null,null,"GKB2140218","Бак мембранный для отопления Gekon WRV200 (16 бар)",null,200,{"v":1267,"d":"€ 1,267.00"},{"$f":"G389*$L$1","v":{"v":114719.37203979492,"d":"114719.37"}},"EUR"]
[null,null,"GKB2140318","Бак мембранный для отопления Gekon WRV200 (25 бар)",null,200,{"v":2861,"d":"€ 2,861.00"},{"v":259046.66409301758,"d":"259046.66"},"EUR"]
[null,null,"GKB0140190","Бак мембранный для отопления Gekon WRV300",null,300,{"v":38272.395833333336,"d":"38,272.40 ₽"},{"v":38272.395833333336,"d":"38272.40"},"руб."]
[null,null,"GKB2140220","Бак мембранный для отопления Gekon WRV300 (16 бар)",null,300,{"v":1496,"d":"€ 1,496.00"},{"$f":"G392*$L$1","v":{"v":135453.97045898438,"d":"135453.97"}},"EUR"]
[null,null,"GKB2140320","Бак мембранный для отопления Gekon WRV300 (25 бар)",null,300,{"v":3647,"d":"€ 3,647.00"},{"v":330214.3250427246,"d":"330214.33"},"EUR"]
[null,null,"GKB0140200","Бак мембранный для отопления Gekon WRV500",null,500,{"v":68759,"d":"68,759.00 ₽"},{"v":68759,"d":"68759.00"},"руб."]
[null,null,"GKB2140222","Бак мембранный для отопления Gekon WRV500 (16 бар)",null,500,{"v":2045,"d":"€ 2,045.00"},{"$f":"G395*$L$1","v":{"v":185162.68020629883,"d":"185162.68"}},"EUR"]
[null,null,"GKB2140322","Бак мембранный для отопления Gekon WRV500 (25 бар)",null,500,{"v":4952,"d":"€ 4,952.00"},{"v":448374.3728027344,"d":"448374.37"},"EUR"]
[null,null,"GKB0140210","Бак мембранный для отопления Gekon WRV750",null,750,{"v":151772.25,"d":"151,772.25 ₽"},151772.25,"руб."]
[null,null,"GKB2140224","Бак мембранный для отопления Gekon WRV750 (16 бар)",null,750,{"v":4196,"d":"€ 4,196.00"},{"$f":"G398*$L$1","v":{"v":379923.03479003906,"d":"379923.03"}},"EUR"]
[null,null,"GKB0140220","Бак мембранный для отопления Gekon WRV1000",null,1000,{"v":209000,"d":"209,000.00 ₽"},{"v":209000,"d":"209000.00"},"руб."]
[null,null,"GKB2140226","Бак мембранный для отопления Gekon WRV1000 (16 бар)",null,1000,{"v":5280,"d":"€ 5,280.00"},{"$f":"G400*$L$1","v":{"v":478072.8369140625,"d":"478072.84"}},"EUR"]
[null,null,"GKB2140326","Бак мембранный для отопления Gekon WRV1000(25 бар)",null,1000,{"v":8656,"d":"€ 8,656.00"},{"v":783749.7114257812,"d":"783749.71"},"EUR"]
[null,null,"GKB1140312","Бак мембранный для отопления Gekon WRV1500",null,1500,{"v":676222.340425532,"d":"676,222.34 ₽"},{"v":676222.340425532,"d":"676222.34"},"руб."]
[null,null,"GKB2140228","Бак мембранный для отопления Gekon WRV1500 (16 бар)",null,1500,{"v":7223,"d":"€ 7,223.00"},{"$f":"G403*$L$1","v":{"v":654000.0191345215,"d":"654000.02"}},"EUR"]
[null,null,"GKB2140328","Бак мембранный для отопления Gekon WRV1500(25 бар)",null,1500,{"v":11086,"d":"€ 11,086.00"},{"v":1003771.8693237305,"d":"1003771.87"},"EUR"]
[null,null,"GKB1140315","Бак мембранный для отопления Gekon WRV2000",null,2000,{"v":855079,"d":"855,079.00 ₽"},{"v":855079,"d":"855079.00"},"руб."]
[null,null,"GKB2140230","Бак мембранный для отопления Gekon WRV2000 (16 бар)",null,2000,{"v":11267,"d":"€ 11,267.00"},{"$f":"G406*$L$1","v":{"v":1020160.3510437012,"d":"1020160.35"}},"EUR"]
[null,null,"GKB2140330","Бак мембранный для отопления Gekon WRV2000 (25 бар)",null,2000,{"v":17399,"d":"€ 17,399.00"},{"v":1575376.7593688965,"d":"1575376.76"},"EUR"]
[null,null,"GKB2140104","Бак мембранный для отопления Gekon WRV2500",null,2500,{"v":841592,"d":"841,592.00 ₽"},{"v":841592,"d":"841592.00"},"руб."]
[null,null,"GKB1140320","Бак мембранный для отопления Gekon WRV3000",null,3000,{"v":1024715,"d":"1,024,715.00 ₽"},{"v":1024715,"d":"1024715.00"},"руб."]
[null,null,"GKB2140234","Бак мембранный для отопления Gekon WRV3000 (16 бар)",null,3000,{"v":15187,"d":"€ 15,187.00"},{"$f":"G410*$L$1","v":{"v":1375093.2148132324,"d":"1375093.21"}},"EUR"]
[null,null,"GKB2140332","Бак мембранный для отопления Gekon WRV3000 (25 бар)",null,3000,{"v":22966,"d":"€ 22,966.00"},{"v":2079435.752380371,"d":"2079435.75"},"EUR"]
[null,null,"GKB2140108","Бак мембранный для отопления Gekon WRV4000",null,4000,{"v":18689,"d":"€ 18,689.00"},{"v":1692178.6456604004,"d":"1692178.65"},"EUR"]
[null,null,"GKB2140236","Бак мембранный для отопления Gekon WRV4000 (16 бар)",null,4000,{"v":23901,"d":"€ 23,901.00"},{"v":2164094.4839172363,"d":"2164094.48"},"EUR"]
[null,null,"GKB1140330","Бак мембранный для отопления Gekon WRV5000",null,5000,{"v":25397,"d":"€ 25,397.00"},{"v":2299548.4543762207,"d":"2299548.45"},"EUR"]
[null,null,"GKB2140238","Бак мембранный для отопления Gekon WRV5000 (16 бар)",null,5000,{"v":30556,"d":"€ 30,556.00"},{"v":2766665.455444336,"d":"2766665.46"},"EUR"]
[null,null,"GKB2140112","Бак мембранный для отопления Gekon WRV8000",null,8000,{"v":46107,"d":"€ 46,107.00"},{"v":4174716.7218933105,"d":"4174716.72"},"EUR"]
[null,null,"GKB2140240","Бак мембранный для отопления Gekon WRV8000 (16 бар)",null,8000,{"v":68073,"d":"€ 68,073.00"},{"v":6163608.376373291,"d":"6163608.38"},"EUR"]
[null,null,"GKB2140340","Бак мембранный для отопления Gekon WRV8000 (25 бар)",null,8000,{"v":80008,"d":"€ 80,008.00"},{"v":7244252.184814453,"d":"7244252.18"},"EUR"]
[null,null,"GKB2140114","Бак мембранный для отопления Gekon WRV10000",null,10000,{"v":54218,"d":"€ 54,218.00"},{"v":4909119.899963379,"d":"4909119.90"},"EUR"]
[null,null,"GKB2140242","Бак мембранный для отопления Gekon WRV 10000 (16 бар)",null,10000,"по запросу",{"$f":"G420","v":"по запросу"}]
[null,null,"GKB0141029","Бак мембранный для водоснабжения Gekon WAV8",null,8,{"v":2409,"d":"2,409.00 ₽"},{"$f":"G421*1","v":{"v":2409,"d":"2409.00"}},"руб."]
[null,null,"GKB2140250","Бак мембранный для водоснабжения Gekon WAV8 (16 бар)",null,8,{"v":128,"d":"€ 128.00"},{"$f":"G422*$L$1","v":{"v":11589.64453125,"d":"11589.64"}},"EUR"]
[null,null,"GKB2140350","Бак мембранный для водоснабжения Gekon WAV8 (25 бар)",null,8,{"v":372,"d":"€ 372.00"},{"v":33682.40441894531,"d":"33682.40"},"EUR"]
[null,null,"GKB0141039","Бак мембранный для водоснабжения Gekon WAV12",null,12,{"v":2621,"d":"2,621.00 ₽"},{"$f":"G424*1","v":{"v":2621,"d":"2621.00"}},"руб."]
[null,null,"GKB2140252","Бак мембранный для водоснабжения GekonWAV12 (16 бар)",null,12,{"v":128,"d":"€ 128.00"},{"$f":"G425*$L$1","v":{"v":11589.64453125,"d":"11589.64"}},"EUR"]
[null,null,"GKB2140352","Бак мембранный для водоснабжения Gekon WAV12 (25 бар)",null,12,{"v":372,"d":"€ 372.00"},{"v":33682.40441894531,"d":"33682.40"},"EUR"]
[null,null,"GKB0141049","Бак мембранный для водоснабжения Gekon WAV18",null,18,{"v":3156,"d":"3,156.00 ₽"},{"v":3156,"d":"3156.00"},"руб."]
[null,null,"GKB2140354","Бак мембранный для водоснабжения Gekon WAV18 (25 бар)",null,18,{"v":509,"d":"€ 509.00"},{"$f":"G428*$L$1","v":{"v":46086.94583129883,"d":"46086.95"}},"EUR"]
[null,null,"GKB0141069","Бак мембранный для водоснабжения Gekon WAV24",null,24,{"v":3289,"d":"3,289.00 ₽"},{"v":3289,"d":"3289.00"},"руб."]
[null,null,"GKB2140256","Бак мембранный для водоснабжения Gekon WAV24 (16 бар)",null,24,{"v":176,"d":"€ 176.00"},{"$f":"G430*$L$1","v":{"v":15935.76123046875,"d":"15935.76"}},"EUR"]
[null,null,"GKB2140356","Бак мембранный для водоснабжения Gekon WAV 24 (25 бар)",null,24,{"v":509,"d":"€ 509.00"},{"v":46086.94583129883,"d":"46086.95"},"EUR"]
[null,null,"GKB0141080","Бак мембранный для водоснабжения Gekon WAV35",null,35,{"v":5449,"d":"5,449.00 ₽"},{"v":5449,"d":"5449.00"},"руб."]
[null,null,"GKB0141100","Бак мембранный для водоснабжения Gekon WAV50",null,50,{"v":9035,"d":"9,035.00 ₽"},{"v":9035,"d":"9035.00"},"руб."]
[null,null,"GKB2140260","Бак мембранный для водоснабжения Gekon WAV50 (16 бар)",null,50,{"v":355,"d":"€ 355.00"},{"$f":"G434*$L$1","v":{"v":32143.154754638672,"d":"32143.15"}},"EUR"]
[null,null,"GKB2140358","Бак мембранный для водоснабжения Gekon WAV 50 (25 бар)",null,50,{"v":753,"d":"€ 753.00"},{"v":68179.70571899414,"d":"68179.71"},"EUR"]
[null,null,"GKB2140262","Бак мембранный для водоснабжения Gekon WAV60 (16 бар)",null,60,{"v":394,"d":"€ 394.00"},{"v":35674.374572753906,"d":"35674.37"},"EUR"]
[null,null,"GKB2140359","Бак мембранный для водоснабжения Gekon WAV60 (25 бар)",null,60,{"v":849,"d":"€ 849.00"},{"v":76871.93911743164,"d":"76871.94"},"EUR"]
[null,null,"GKB0141120","Бак мембранный для водоснабжения Gekon WAV80",null,80,{"v":11962,"d":"11,962.00 ₽"},{"v":11962,"d":"11962.00"},"руб."]
[null,null,"GKB2140264","Бак мембранный для водоснабжения Gekon WAV80 (16 бар)",null,80,{"v":553,"d":"€ 553.00"},{"$f":"G439*$L$1","v":{"v":50070.886138916016,"d":"50070.89"}},"EUR"]
[null,null,"GKB2140360","Бак мембранный для водоснабжения Gekon WAV 80 (25 бар)",null,80,{"v":1352,"d":"€ 1,352.00"},{"v":122415.62036132813,"d":"122415.62"},"EUR"]
[null,null,"GKB0141140","Бак мембранный для водоснабжения Gekon WAV100",null,100,{"v":16797,"d":"16,797.00 ₽"},{"v":16797,"d":"16797.00"},"руб."]
[null,null,"GKB2140266","Бак мембранный для водоснабжения Gekon WAV100 (16 бар)",null,100,{"v":594,"d":"€ 594.00"},{"$f":"G442*$L$1","v":{"v":53783.19415283203,"d":"53783.19"}},"EUR"]
[null,null,"GKB2140362","Бак мембранный для водоснабжения Gekon WAV100 (25 бар)",null,100,{"v":1373,"d":"€ 1,373.00"},{"v":124317.04641723633,"d":"124317.05"},"EUR"]
[null,null,"GKB0141160","Бак мембранный для водоснабжения Gekon WAV150",null,150,{"v":20357,"d":"20,357.00 ₽"},{"v":20357,"d":"20357.00"},"руб."]
[null,null,"GKB2140268","Бак мембранный для водоснабжения Gekon WAV150 (16 бар)",null,150,{"v":678,"d":"€ 678.00"},{"$f":"G445*$L$1","v":{"v":61388.898376464844,"d":"61388.90"}},"EUR"]
[null,null,"GKB2140366","Бак мембранный для водоснабжения Gekon WAV150 (25 бар)",null,150,{"v":2199,"d":"€ 2,199.00"},{"v":199106.47128295898,"d":"199106.47"},"EUR"]
[null,null,"GKB0141510","Бак мембранный для водоснабжения Gekon WAV200",null,200,{"v":39093,"d":"39,093.00 ₽"},{"v":39093,"d":"39093.00"},"руб."]
[null,null,"GKB2140270","Бак мембранный для водоснабжения Gekon WAV200 (16 бар)",null,200,{"v":1267,"d":"€ 1,267.00"},{"$f":"G448*$L$1","v":{"v":114719.37203979492,"d":"114719.37"}},"EUR"]
[null,null,"GKB2140368","Бак мембранный для водоснабжения GekonWAV 200 (25 бар)",null,200,{"v":2861,"d":"€ 2,861.00"},{"v":259046.66409301758,"d":"259046.66"},"EUR"]
[null,null,"GKB0141515","Бак мембранный для водоснабжения Gekon WAV300",null,300,{"v":42400,"d":"42,400.00 ₽"},{"v":42400,"d":"42400.00"},"руб."]
[null,null,"GKB2140272","Бак мембранный для водоснабжения Gekon WAV300 (16 бар)",null,300,{"v":1496,"d":"€ 1,496.00"},{"$f":"G451*$L$1","v":{"v":135453.97045898438,"d":"135453.97"}},"EUR"]
[null,null,"GKB2140370","Бак мембранный для водоснабжения Gekon WAV 300 (25 бар)",null,300,{"v":3647,"d":"€ 3,647.00"},{"v":330214.3250427246,"d":"330214.33"},"EUR"]
[null,null,"GKB0141520","Бак мембранный для водоснабжения Gekon WAV500",null,500,{"v":65924,"d":"65,924.00 ₽"},{"v":65924,"d":"65924.00"},"руб."]
[null,null,"GKB2140274","Бак мембранный для водоснабжения Gekon WAV500 (16 бар)",null,500,{"v":2045,"d":"€ 2,045.00"},{"$f":"G454*$L$1","v":{"v":185162.68020629883,"d":"185162.68"}},"EUR"]
[null,null,"GKB2140372","Бак мембранный для водоснабжения Gekon WAV 500 (25 бар)",null,500,{"v":4952,"d":"€ 4,952.00"},{"v":448374.3728027344,"d":"448374.37"},"EUR"]
[null,null,"GKB1140300","Бак мембранный для водоснабжения Gekon WAV750",null,750,{"v":170867,"d":"170,867.00 ₽"},{"v":170867,"d":"170867.00"},"руб."]
[null,null,"GKB2140276","Бак мембранный для водоснабжения Gekon WAV750 (16 бар)",null,750,{"v":4196,"d":"€ 4,196.00"},{"$f":"G457*$L$1","v":{"v":379923.03479003906,"d":"379923.03"}},"EUR"]
[null,null,"GKB2140374","Бак мембранный для водоснабжения Gekon WAV750 (25 бар)",null,750,{"v":7074,"d":"€ 7,074.00"},{"v":640508.9485473633,"d":"640508.95"},"EUR"]
[null,null,"GKB1140302","Бак мембранный для водоснабжения Gekon WAV1000",null,1000,{"v":291510.6382978724,"d":"291,510.64 ₽"},{"v":291510.6382978724,"d":"291510.64"},"руб."]
[null,null,"GKB2140278","Бак мембранный для водоснабжения GekonWAV1000 (16 бар)",null,1000,{"v":5280,"d":"€ 5,280.00"},{"$f":"G460*$L$1","v":{"v":478072.8369140625,"d":"478072.84"}},"EUR"]
[null,null,"GKB2140376","Бак мембранный для водоснабжения Gekon WAV 1000 (25 бар)",null,1000,{"v":8656,"d":"€ 8,656.00"},{"v":783749.7114257812,"d":"783749.71"},"EUR"]
[null,null,"GKB2140120","Бак мембранный для водоснабжения Gekon WAV1500",null,1500,{"v":676222.340425532,"d":"676,222.34 ₽"},{"v":676222.340425532,"d":"676222.34"},"руб."]
[null,null,"GKB2140280","Бак мембранный для водоснабжения Gekon WAV1500 (16 бар)",null,1500,{"v":7223,"d":"€ 7,223.00"},{"$f":"G463*$L$1","v":{"v":654000.0191345215,"d":"654000.02"}},"EUR"]
[null,null,"GKB2140378","Бак мембранный для водоснабжения Gekon WAV1500 (25 бар)",null,1500,{"v":11086,"d":"€ 11,086.00"},{"v":1003771.8693237305,"d":"1003771.87"},"EUR"]
[null,null,"GKB2140122","Бак мембранный для водоснабжения Gekon WAV2000",null,2000,{"v":855079,"d":"855,079.00 ₽"},{"v":855079,"d":"855079.00"},"руб."]
[null,null,"GKB2140282","Бак мембранный для водоснабжения Gekon WAV2000 (16 бар)",null,2000,{"v":11267,"d":"€ 11,267.00"},{"$f":"G466*$L$1","v":{"v":1020160.3510437012,"d":"1020160.35"}},"EUR"]
[null,null,"GKB2140380","Бак мембранный для водоснабжения Gekon WAV 2000 (25 бар)",null,2000,{"v":17399,"d":"€ 17,399.00"},{"v":1575376.7593688965,"d":"1575376.76"},"EUR"]
[null,null,"GKB2140124","Бак мембранный для водоснабжения Gekon WAV2500",null,2500,{"v":1049994.170212766,"d":"1,049,994.17 ₽"},{"v":1049994.170212766,"d":"1049994.17"},"руб."]
[null,null,"GKB2140382","Бак мембранный для водоснабжения Gekon WAV2500 (25 бар)",null,2500,{"v":19692,"d":"€ 19,692.00"},{"$f":"G469*$L$1","v":{"v":1782994.3758544922,"d":"1782994.38"}},"EUR"]
[null,null,"GKB2140126","Бак мембранный для водоснабжения Gekon WAV3000",null,3000,{"v":1278464.6382978724,"d":"1,278,464.64 ₽"},{"v":1278464.6382978724,"d":"1278464.64"},"руб."]
[null,null,"GKB2140286","Бак мембранный для водоснабжения Gekon WAV3000 (16 бар)",null,3000,{"v":15187,"d":"€ 15,187.00"},{"$f":"G471*$L$1","v":{"v":1375093.2148132324,"d":"1375093.21"}},"EUR"]
[null,null,"GKB2140384","Бак мембранный для водоснабжения Gekon WAV3000 (25 бар)",null,3000,{"v":22966,"d":"€ 22,966.00"},{"v":2079435.752380371,"d":"2079435.75"},"EUR"]
[null,null,"GKB2140128","Бак мембранный для водоснабжения Gekon WAV4000",null,4000,{"v":18689,"d":"€ 18,689.00"},{"v":1692178.6456604004,"d":"1692178.65"},"EUR"]
[null,null,"GKB2140288","Бак мембранный для водоснабжения Gekon WAV4000 (16 бар)",null,4000,{"v":23901,"d":"€ 23,901.00"},{"v":2164094.4839172363,"d":"2164094.48"},"EUR"]
[null,null,"GKB2140386","Бак мембранный для водоснабжения Gekon WAV4000 (25 бар)",null,4000,{"v":32120,"d":"€ 32,120.00"},{"v":2908276.424560547,"d":"2908276.42"},"EUR"]
[null,null,"GKB2140130","Бак мембранный для водоснабжения Gekon WAV5000",null,5000,{"v":25397,"d":"€ 25,397.00"},{"v":2299548.4543762207,"d":"2299548.45"},"EUR"]
[null,null,"GKB2140290","Бак мембранный для водоснабжения Gekon WAV5000 (16 бар)",null,5000,{"v":30556,"d":"€ 30,556.00"},{"v":2766665.455444336,"d":"2766665.46"},"EUR"]
[null,null,"GKB2140388","Бак мембранный для водоснабжения Gekon WAV5000 (25 бар)",null,5000,{"v":40286,"d":"€ 40,286.00"},{"v":3647659.5280151367,"d":"3647659.53"},"EUR"]
[null,null,"GKB2140132","Бак мембранный для водоснабжения Gekon WAV8000",null,8000,{"v":46107,"d":"€ 46,107.00"},{"v":4174716.7218933105,"d":"4174716.72"},"EUR"]
[null,null,"GKB2140292","Бак мембранный для водоснабжения Gekon WAV 8000 (16 бар)",null,8000,{"v":68073,"d":"€ 68,073.00"},{"v":6163608.376373291,"d":"6163608.38"},"EUR"]
[null,null,"GKB2140390","Бак мембранный для водоснабжения Gekon WAV8000 (25 бар)",null,8000,{"v":80008,"d":"€ 80,008.00"},{"v":7244252.184814453,"d":"7244252.18"},"EUR"]
[null,null,"GKB2140134","Бак мембранный для водоснабжения Gekon WAV10000",null,10000,{"v":54218,"d":"€ 54,218.00"},{"v":4909119.899963379,"d":"4909119.90"},"EUR"]
[null,null,"GKB2140294","Бак мембранный для водоснабжения Gekon WAV 10000 (16 бар)",null,10000,{"v":78974,"d":"€ 78,974.00"},{"v":7150629.587585449,"d":"7150629.59"},"EUR"]
[null,null,"GKB2140392","Бак мембранный для водоснабжения Gekon WAV10000 (25 бар)",null,10000,{"v":96009,"d":"€ 96,009.00"},{"v":8693048.295318604,"d":"8693048.30"},"EUR"]
[null,null,"GKB0140949","Бак мембранный для водоснабжения горизонтальный Gekon WAO19",null,19,{"v":3106,"d":"3,106.00 ₽"},{"$f":"G485*1","v":{"v":3106,"d":"3106.00"}},"руб."]
[null,null,"GKB0140959","Бак мембранный для водоснабжения горизонтальный Gekon WAO24",null,24,{"v":3350,"d":"3,350.00 ₽"},{"$f":"G486*1","v":{"v":3350,"d":"3350.00"}},"руб."]
[null,null,"GKB2140400","Бак мембранный для водоснабжения горизонтальный Gekon WAO24 (16 бар)",null,24,{"v":176,"d":"€ 176.00"},{"$f":"G487*$L$1","v":{"v":15935.76123046875,"d":"15935.76"}},"EUR"]
[null,null,"GKB2140500","Бак мембранный для водоснабжения горизонтальный Gekon WAO24 (25 бар)",null,24,{"v":509,"d":"€ 509.00"},{"v":46086.94583129883,"d":"46086.95"},"EUR"]
[null,null,"GKB0140970","Бак мембранный для водоснабжения горизонтальный Gekon WAO50",null,50,{"v":9704,"d":"9,704.00 ₽"},{"v":9704,"d":"9704.00"},"руб."]
[null,null,"GKB2140402","Бак мембранный для водоснабжения горизонтальный Gekon WAO50 (16 бар)",null,50,{"v":355,"d":"€ 355.00"},{"$f":"G490*$L$1","v":{"v":32143.154754638672,"d":"32143.15"}},"EUR"]
[null,null,"GKB2140502","Бак мембранный для водоснабжения горизонтальный Gekon WAO50 (25 бар)",null,50,{"v":753,"d":"€ 753.00"},{"v":68179.70571899414,"d":"68179.71"},"EUR"]
[null,null,"GKB0140990","Бак мембранный для водоснабжения горизонтальный Gekon WAO80",null,80,{"v":12189,"d":"12,189.00 ₽"},{"v":12189,"d":"12189.00"},"руб."]
[null,null,"GKB2140404","Бак мембранный для водоснабжения горизонтальный Gekon WAO80 (16 бар)",null,80,{"v":553,"d":"€ 553.00"},{"$f":"G493*$L$1","v":{"v":50070.886138916016,"d":"50070.89"}},"EUR"]
[null,null,"GKB2140504","Бак мембранный для водоснабжения горизонтальный Gekon WAO80 ( 25 бар)",null,80,{"v":1352,"d":"€ 1,352.00"},{"v":122415.62036132813,"d":"122415.62"},"EUR"]
[null,null,"GKB0140995","Бак мембранный для водоснабжения горизонтальный Gekon WAO100",null,100,{"v":16560,"d":"16,560.00 ₽"},{"v":16560,"d":"16560.00"},"руб."]
[null,null,"GKB2140406","Бак мембранный для водоснабжения горизонтальный Gekon WAO100 (16 бар)",null,100,{"v":594,"d":"€ 594.00"},{"$f":"G496*$L$1","v":{"v":53783.19415283203,"d":"53783.19"}},"EUR"]
[null,null,"GKB2140506","Бак мембранный для водоснабжения горизонтальный Gekon WAO100 (25 бар)",null,100,{"v":1373,"d":"€ 1,373.00"},{"v":124317.04641723633,"d":"124317.05"},"EUR"]
[null,null,"GKB0140997","Бак мембранный для водоснабжения горизонтальный Gekon WAO150",null,150,{"v":26412,"d":"26,412.00 ₽"},{"v":26412,"d":"26412.00"},"руб."]
[null,null,"GKB1140232","Бак мембранный для водоснабжения Gekon WAV8 с контрфланцем из нерж.стали",null,8,{"v":3151,"d":"3,151.00 ₽"},{"v":3151,"d":"3151.00"},"руб."]
[null,null,"GKB1140234","Бак мембранный для водоснабжения Gekon WAV12 с контрфланцем из нерж.стали",null,12,{"v":3428,"d":"3,428.00 ₽"},{"v":3428,"d":"3428.00"},"руб."]
[null,null,"GKB1140236","Бак мембранный для водоснабжения Gekon WAV18 с контрфланцем из нерж.стали",null,18,{"v":4128,"d":"4,128.00 ₽"},{"v":4128,"d":"4128.00"},"руб."]
[null,null,"GKB1140238","Бак мембранный для водоснабжения Gekon WAV24 с контрфланцем из нерж.стали",null,24,{"v":4357,"d":"4,357.00 ₽"},{"v":4357,"d":"4357.00"},"руб."]
[null,null,"GKB1140240","Бак мембранный для водоснабжения Gekon WAV35 с контрфланцем из нерж.стали",null,35,{"v":6915,"d":"6,915.00 ₽"},{"v":6915,"d":"6915.00"},"руб."]
[null,null,"GKB1140242","Бак мембранный для водоснабжения Gekon WAV50 с контрфланцем из нерж.стали",null,50,{"v":12030,"d":"12,030.00 ₽"},{"v":12030,"d":"12030.00"},"руб."]
[null,null,"GKB1140244","Бак мембранный для водоснабжения Gekon WAV80 с контрфланцем из нерж.стали",null,80,{"v":15926,"d":"15,926.00 ₽"},{"v":15926,"d":"15926.00"},"руб."]
[null,null,"GKB1140246","Бак мембранный для водоснабжения Gekon WAV100 с контрфланцем из нерж.стали",null,100,{"v":21324,"d":"21,324.00 ₽"},{"v":21324,"d":"21324.00"},"руб."]
[null,null,"GKB1140248","Бак мембранный для водоснабжения Gekon WAV150 с контрфланцем из нерж.стали",null,150,{"v":25840,"d":"25,840.00 ₽"},{"v":25840,"d":"25840.00"},"руб."]
[null,null,"GKB0140410","Бак мембранный для водоснабжения гор-й Gekon WAO24 ",null,24,{"v":4391,"d":"4,391.00 ₽"},{"v":4391,"d":"4391.00"},"руб."]
[null,null,"GKB0140420","Бак мембранный для водоснабжения гор-й Gekon WAO50 с контрфланцем из нерж.стали",null,50,{"v":12282,"d":"12,282.00 ₽"},{"v":12282,"d":"12282.00"},"руб."]
[null,null,"GKB1140250","Бак мембранный для водоснабжения гор-й Gekon WAO80 с контрфланцем из нерж.стали",null,80,{"v":15644,"d":"15,644.00 ₽"},{"v":15644,"d":"15644.00"},"руб."]
[null,null,"GKB1140252","Бак мембранный для водоснабжения гор-й Gekon WAO100 с контрфланцем из нерж.стали",null,100,{"v":21255,"d":"21,255.00 ₽"},{"v":21255,"d":"21255.00"},"руб."]
[null,null,"GKB1140254","Бак мембранный для водоснабжения горй Gekon WAO150 с контрфланцем из нерж.стали",null,150,{"v":32318,"d":"32,318.00 ₽"},{"v":32318,"d":"32318.00"},"руб."]
[null,null,"GKB0140350","Бак мембранный для ГВС и гелиосистем Gekon WDV 8 с контрфланцем из нерж.стали",null,8,{"v":3680,"d":"3,680.00 ₽"},{"v":3680,"d":"3680.00"},"руб."]
[null,null,"GKB0140360","Бак мембранный для ГВС и гелиосистем Gekon WDV 12 с контрфланцем из нерж.стали",null,12,{"v":4324,"d":"4,324.00 ₽"},{"v":4324,"d":"4324.00"},"руб."]
[null,null,"GKB0140370","Бак мембранный для ГВС и гелиосистем Gekon WDV 18 с контрфланцем из нерж.стали",null,18,{"v":5157,"d":"5,157.00 ₽"},{"v":5157,"d":"5157.00"},"руб."]
[null,null,"GKB0140380","Бак мембранный для ГВС и гелиосистем Gekon WDV 24 с контрфланцем из нерж.стали",null,24,{"v":5610,"d":"5,610.00 ₽"},{"v":5610,"d":"5610.00"},"руб."]
[null,null,"GKB0140390","Бак мембранный для ГВС и гелиосистем Gekon WDV 35 с контрфланцем из нерж.стали",null,35,{"v":8119,"d":"8,119.00 ₽"},{"v":8119,"d":"8119.00"},"руб."]
[null,null,"GKB0143010","Комплект крепления для мембранных баков 8-35 л",null,"8-35",{"v":1229,"d":"1,229.00 ₽"},{"v":1229,"d":"1229.00"},"руб."]
[null,null,"GKBQRVG34","Клапан быстроразъемный для расширительного бака 3/4\"",null,"3/4\"",{"v":970,"d":"970.00 ₽"},{"v":970,"d":"970.00"},"руб."]
[null,null,"999ME001","Мембрана для баков 8, 12 л. с горловиной диаметром 51,5 мм (для WAV, WRV, WDV)",null,null,{"v":14,"d":"€ 14.00"},{"$f":"G520*$L$1","v":{"v":1267.6173706054688,"d":"1267.62"}}]
[null,null,"999ME016","Мембрана для баков 18, 24 л. с горловиной диаметром 51,5 мм (для WAV, WRV, WDV)",null,null,{"v":19,"d":"€ 19.00"},{"v":1720.3378601074219,"d":"1720.34"}]
[null,null,"999ME070","Мембрана для баков 24 л. с горловиной диаметром 89 мм (для WAO)",null,null,{"v":21,"d":"€ 21.00"},{"v":1901.4260559082031,"d":"1901.43"}]
[null,null,"999ME055","Мембрана для баков 35, 50 л. с горловиной диаметром 89 мм (для WAV, WRV, WAO)",null,null,{"v":42,"d":"€ 42.00"},{"v":3802.8521118164063,"d":"3802.85"}]
[null,null,"999ME090","Мембрана для баков 80, 100 л. с горловиной диаметром 89 мм (для WRV)",null,null,{"v":82,"d":"€ 82.00"},{"v":7424.616027832031,"d":"7424.62"}]
[null,null,"999ME089","Мембрана (проходная) для баков 80, 100 л. с горловиной диаметром 89 мм (для WAV, WAO)",null,null,{"v":82,"d":"€ 82.00"},{"v":7424.616027832031,"d":"7424.62"}]
[null,null,"999ME201","Мембрана (проходная) для баков 150 л. с горловиной диаметром 89 мм (для WAV, WAO)",null,null,{"v":215,"d":"€ 215.00"},{"v":19466.981048583984,"d":"19466.98"}]
[null,null,"999ME200","Мембрана для баков 150 л. с горловиной диаметром 89 мм (для WRV)",null,null,{"v":215,"d":"€ 215.00"},{"v":19466.981048583984,"d":"19466.98"}]
[null,null,"999ME120","Мембрана для баков 200 л. (для WAV, WRV)",null,null,{"v":263,"d":"€ 263.00"},{"v":23813.097747802734,"d":"23813.10"}]
[null,null,"999ME700","Мембрана для баков 300 л. (для WAV, WRV)",null,null,{"v":406,"d":"€ 406.00"},{"v":36760.903747558594,"d":"36760.90"}]
[null,null,"999ME750","Мембрана для баков 500 л. (для WAV, WRV)",null,null,{"v":623,"d":"€ 623.00"},{"v":56408.97299194336,"d":"56408.97"}]
[null,null,"FOA0244","Мембрана для водоснабжения, 750 л. (для WAV, WRV)",null,null,{"v":748,"d":"€ 748.00"},{"v":67726.98522949219,"d":"67726.99"}]
[null,null,"FOA0245","Мембрана для водоснабжения, 1000 л. (для WAV, WRV)",null,null,{"v":997,"d":"€ 997.00"},{"v":90272.46560668945,"d":"90272.47"}]
["Дымоходы"]
[null,null,"Артикул","Наименование товара",null,"Размер","Цена за шт.","Цена за шт.",{"$f":"_xlfn.XLOOKUP(C534,'[1]11.03.25'!$B:$B,'[1]11.03.25'!$J:$J)","v":{"$error":"#N/A"}}]
[{"$nulls":6},"RUB","RUB",{"$f":"_xlfn.XLOOKUP(C535,'[1]11.03.25'!$B:$B,'[1]11.03.25'!$J:$J)","v":"У5"}]
[null,null,"GKD K60100L1ALPA","Универсальный комплект Gekon Ø60/100 мм L=1,0 м (хомут, фланец, проставка 60 мм), Алюминий, система Антилед",null,"60/100",{"v":3752.1388413590807,"d":"3752.14"},{"$f":"G536*1","v":{"v":3752.1388413590807,"d":"3752.14"}},{"$f":"_xlfn.XLOOKUP(C536,'[1]11.03.25'!$B:$B,'[1]11.03.25'!$J:$J)","v":{"$error":"#N/A"}}]
[null,null,"GKD K60100L1GSPA","Универсальный комплект Gekon Ø60/100 мм       L=1,0 м (хомут, фланец, проставка 60 мм), Алюминий и Оц.сталь, система Антилёд",null,"60/100",{"v":3497.9222683940357,"d":"3497.92"},{"v":3497.9222683940357,"d":"3497.92"},{"$f":"_xlfn.XLOOKUP(C537,'[1]11.03.25'!$B:$B,'[1]11.03.25'!$J:$J)","v":{"$error":"#N/A"}}]
[null,null,"GKD K60100L3ALPA","Универсальный комплект Gekon Ø60/100 мм L=1,35 м (хомут, фланец, проставка 60 мм), Алюминий, система Антилед",null,"60/100",{"v":4179.907113175263,"d":"4179.91"},{"v":4179.907113175263,"d":"4179.91"},{"$f":"_xlfn.XLOOKUP(C538,'[1]11.03.25'!$B:$B,'[1]11.03.25'!$J:$J)","v":{"$error":"#N/A"}}]
[null,null,"GKD K60100L3GSPA","Универсальный комплект Gekon Ø60/100 мм, L=1,35 м (хомут, фл-ц, пр-а 60 мм), Ал/Оц.Ст., (Антилёд)",null,"60/100",{"v":3849.9144463456364,"d":"3849.91"},{"v":3849.9144463456364,"d":"3849.91"},{"$f":"_xlfn.XLOOKUP(C539,'[1]11.03.25'!$B:$B,'[1]11.03.25'!$J:$J)","v":{"$error":"#N/A"}}]
[null,null,"GKD 60100L1000GS","Труба выпускная с наконечником Gekon 60/100 мм, L=1190 мм, Ал/Оц.Ст., (Антилёд)",null,"60/100",{"v":2309.9486678073818,"d":"2309.95"},{"v":2309.9486678073818,"d":"2309.95"},{"$f":"_xlfn.XLOOKUP(C540,'[1]11.03.25'!$B:$B,'[1]11.03.25'!$J:$J)","v":{"$error":"#N/A"}}]
[null,null,"GKD 80125L1000GS","Труба выпускная с наконечником Gekon 80/125 мм, L=1000 мм, Алюминий и Оц.сталь, система Антилед",null,"80/125",{"v":3629.919335125886,"d":"3629.92"},{"v":3629.919335125886,"d":"3629.92"},{"$f":"_xlfn.XLOOKUP(C541,'[1]11.03.25'!$B:$B,'[1]11.03.25'!$J:$J)","v":{"$error":"#N/A"}}]
[null,null,"GKD 60100L025AL","Удлинение дымохода Gekon Ø60/100 мм, L=250 мм, Алюминий",null,"60/100",{"v":857.9809337570276,"d":"857.98"},{"v":857.9809337570276,"d":"857.98"},{"$f":"_xlfn.XLOOKUP(C542,'[1]11.03.25'!$B:$B,'[1]11.03.25'!$J:$J)","v":{"$error":"#N/A"}}]
[null,null,"GKD 60100L025","Удлинение дымохода Gekon Ø60/100 мм, L=250 мм, Алюминий и Оц.сталь",null,"60/100",{"v":716.2063065265216,"d":"716.21"},{"v":716.2063065265216,"d":"716.21"},{"$f":"_xlfn.XLOOKUP(C543,'[1]11.03.25'!$B:$B,'[1]11.03.25'!$J:$J)","v":{"$error":"#N/A"}}]
[null,null,"GKD 80L025AL","Удлинение дымохода Gekon Ø80 мм, L=250 мм, Алюминий",null,80,{"v":474.2116841847959,"d":"474.21"},{"v":474.2116841847959,"d":"474.21"},{"$f":"_xlfn.XLOOKUP(C544,'[1]11.03.25'!$B:$B,'[1]11.03.25'!$J:$J)","v":{"$error":"#N/A"}}]
[null,null,"GKD 80125L025","Удлинение дымохода Gekon Ø80/125 мм, L=250 мм, Алюминий и Оц.сталь",null,"80/125",{"v":1737.9613786360303,"d":"1737.96"},{"v":1737.9613786360303,"d":"1737.96"},{"$f":"_xlfn.XLOOKUP(C545,'[1]11.03.25'!$B:$B,'[1]11.03.25'!$J:$J)","v":{"$error":"#N/A"}}]
[null,null,"GKD 60100L050AL","Удлинение дымохода Gekon Ø60/100 мм, L=500 мм, Алюминий",null,"60/100",{"v":1473.9672451723295,"d":"1473.97"},{"v":1473.9672451723295,"d":"1473.97"},{"$f":"_xlfn.XLOOKUP(C546,'[1]11.03.25'!$B:$B,'[1]11.03.25'!$J:$J)","v":{"$error":"#N/A"}}]
[null,null,"GKD 60100L050","Удлинение дымохода Gekon Ø60/100 мм, L=500 мм, Алюминий и Оц.сталь",null,"60/100",{"v":1033.9770227328281,"d":"1033.98"},{"v":1033.9770227328281,"d":"1033.98"},{"$f":"_xlfn.XLOOKUP(C547,'[1]11.03.25'!$B:$B,'[1]11.03.25'!$J:$J)","v":{"$error":"#N/A"}}]
[null,null,"GKD 80L050AL","Удлинение дымохода Gekon Ø80 мм, L=500 мм, Алюминий",null,80,{"v":725.9838670251772,"d":"725.98"},{"v":725.9838670251772,"d":"725.98"},{"$f":"_xlfn.XLOOKUP(C548,'[1]11.03.25'!$B:$B,'[1]11.03.25'!$J:$J)","v":{"$error":"#N/A"}}]
[null,null,"GKD 80125L050","Удлинение дымохода Gekon Ø80/125 мм, L=500 мм, Алюминий и Оц.сталь",null,"80/125",{"v":2397.9467122952824,"d":"2397.95"},{"v":2397.9467122952824,"d":"2397.95"},{"$f":"_xlfn.XLOOKUP(C549,'[1]11.03.25'!$B:$B,'[1]11.03.25'!$J:$J)","v":{"$error":"#N/A"}}]
[null,null,"GKD 60100L100AL","Удлинение дымохода Gekon Ø60/100 мм, L=1000 мм, Алюминий",null,"60/100",{"v":2463.9452456612075,"d":"2463.95"},{"v":2463.9452456612075,"d":"2463.95"},{"$f":"_xlfn.XLOOKUP(C550,'[1]11.03.25'!$B:$B,'[1]11.03.25'!$J:$J)","v":{"$error":"#N/A"}}]
[null,null,"GKD 60100L100","Удлинение дымохода Gekon Ø60/100 мм, L=1000 мм, Алюминий и Оц.сталь",null,"60/100",{"v":1737.9613786360303,"d":"1737.96"},{"v":1737.9613786360303,"d":"1737.96"},{"$f":"_xlfn.XLOOKUP(C551,'[1]11.03.25'!$B:$B,'[1]11.03.25'!$J:$J)","v":{"$error":"#N/A"}}]
[null,null,"GKD 80L100AL","Удлинение дымохода Gekon Ø80 мм, L=1000 мм, Алюминий",null,80,{"v":1275.9716450745539,"d":"1275.97"},{"v":1275.9716450745539,"d":"1275.97"},{"$f":"_xlfn.XLOOKUP(C552,'[1]11.03.25'!$B:$B,'[1]11.03.25'!$J:$J)","v":{"$error":"#N/A"}}]
[null,null,"GKD 80125L100","Удлинение дымохода Gekon Ø80/125 мм, L=1000 мм, Алюминий и Оц.сталь",null,"80/125",{"v":3959.912001955512,"d":"3959.91"},{"v":3959.912001955512,"d":"3959.91"},{"$f":"_xlfn.XLOOKUP(C553,'[1]11.03.25'!$B:$B,'[1]11.03.25'!$J:$J)","v":{"$error":"#N/A"}}]
[null,null,"GKD 60100L150AL","Удлинение дымохода Gekon Ø60/100 мм, L=1500 мм, Алюминий",null,"60/100",{"v":3686.1403079931556,"d":"3686.14"},{"v":3686.1403079931556,"d":"3686.14"},{"$f":"_xlfn.XLOOKUP(C554,'[1]11.03.25'!$B:$B,'[1]11.03.25'!$J:$J)","v":{"$error":"#N/A"}}]
[null,null,"GKD 80L150AL","Удлинение дымохода Gekon Ø80 мм, L=1500 мм, Алюминий",null,80,{"v":2045.9545343436812,"d":"2045.95"},{"v":2045.9545343436812,"d":"2045.95"},{"$f":"_xlfn.XLOOKUP(C555,'[1]11.03.25'!$B:$B,'[1]11.03.25'!$J:$J)","v":{"$error":"#N/A"}}]
[null,null,"GKD 60100L200AL","Удлинение дымохода Gekon Ø60/100 мм, L=2000 мм, Алюминий",null,"60/100",{"v":4773.89391346859,"d":"4773.89"},{"v":4773.89391346859,"d":"4773.89"},{"$f":"_xlfn.XLOOKUP(C556,'[1]11.03.25'!$B:$B,'[1]11.03.25'!$J:$J)","v":{"$error":"#N/A"}}]
[null,null,"GKD 80L200AL","Удлинение дымохода Gekon Ø80 мм, L=2000 мм, Алюминий",null,80,{"v":2661.940845758983,"d":"2661.94"},{"v":2661.940845758983,"d":"2661.94"},{"$f":"_xlfn.XLOOKUP(C557,'[1]11.03.25'!$B:$B,'[1]11.03.25'!$J:$J)","v":{"$error":"#N/A"}}]
[null,null,"GKD 60100K45AL","Колено Gekon Ø60/100 мм, угол 45 гр., Алюминий",null,"60/100",{"v":1517.9662674162796,"d":"1517.97"},{"v":1517.9662674162796,"d":"1517.97"},{"$f":"_xlfn.XLOOKUP(C558,'[1]11.03.25'!$B:$B,'[1]11.03.25'!$J:$J)","v":{"$error":"#N/A"}}]
[null,null,"GKD 80K45AL","Колено Gekon 80 мм, угол 45 гр., Алюминий",null,80,{"v":1077.9760449767782,"d":"1077.98"},{"v":1077.9760449767782,"d":"1077.98"},{"$f":"_xlfn.XLOOKUP(C559,'[1]11.03.25'!$B:$B,'[1]11.03.25'!$J:$J)","v":{"$error":"#N/A"}}]
[null,null,"GKD 80125K45AL","Колено Gekon Ø80/125 мм, угол 45 гр., Алюминий",null,"80/125",{"v":4619.8973356147635,"d":"4619.90"},{"v":4619.8973356147635,"d":"4619.90"},{"$f":"_xlfn.XLOOKUP(C560,'[1]11.03.25'!$B:$B,'[1]11.03.25'!$J:$J)","v":{"$error":"#N/A"}}]
[null,null,"GKD 60100K90AL","Колено Gekon Ø60/100 мм, угол 90 гр., Алюминий",null,"60/100",{"v":1451.9677340503545,"d":"1451.97"},{"v":1451.9677340503545,"d":"1451.97"},{"$f":"_xlfn.XLOOKUP(C561,'[1]11.03.25'!$B:$B,'[1]11.03.25'!$J:$J)","v":{"$error":"#N/A"}}]
[null,null,"GKD 80K90AL","Колено Gekon 80 мм, угол 90 гр., Алюминий",null,80,{"v":835.9814226350525,"d":"835.98"},{"v":835.9814226350525,"d":"835.98"},{"$f":"_xlfn.XLOOKUP(C562,'[1]11.03.25'!$B:$B,'[1]11.03.25'!$J:$J)","v":{"$error":"#N/A"}}]
[null,null,"GKD 80125K90AL","Колено Gekon Ø80/125 мм, угол 90 гр., Алюминий",null,"80/125",{"v":4619.8973356147635,"d":"4619.90"},{"v":4619.8973356147635,"d":"4619.90"},{"$f":"_xlfn.XLOOKUP(C563,'[1]11.03.25'!$B:$B,'[1]11.03.25'!$J:$J)","v":{"$error":"#N/A"}}]
[null,null,"GKD 60100KSTRAL","Колено стартовое Gekon Ø60/100 мм, угол 90 гр., Алюминий",null,"60/100",{"v":1913.9574676118307,"d":"1913.96"},{"v":1913.9574676118307,"d":"1913.96"},{"$f":"_xlfn.XLOOKUP(C564,'[1]11.03.25'!$B:$B,'[1]11.03.25'!$J:$J)","v":{"$error":"#N/A"}}]
[null,null,"GKD 60100VDAG","Дымоход вертикальный Gekon Ø60/100 мм, L=1000 мм, черный, Алюминий и Оц.сталь",null,"60/100",{"v":6313.859692006844,"d":"6313.86"},{"v":6313.859692006844,"d":"6313.86"},{"$f":"_xlfn.XLOOKUP(C565,'[1]11.03.25'!$B:$B,'[1]11.03.25'!$J:$J)","v":{"$error":"#N/A"}}]
[null,null,"GKD 80125VD","Дымоход вертикальный Gekon Ø80/125 мм, L=1000 мм, черный, Алюминий и сталь",null,"80/125",{"v":10119.77511610853,"d":"10119.78"},{"v":10119.77511610853,"d":"10119.78"},{"$f":"_xlfn.XLOOKUP(C566,'[1]11.03.25'!$B:$B,'[1]11.03.25'!$J:$J)","v":{"$error":"#N/A"}}]
[null,null,"GKD 60100VNPG","Наконечник для вертикального дымохода Gekon Ø60/100 мм, черный, Полиамид и Оц.сталь",null,"60/100",{"v":3893.9134685895865,"d":"3893.91"},{"v":3893.9134685895865,"d":"3893.91"},{"$f":"_xlfn.XLOOKUP(C567,'[1]11.03.25'!$B:$B,'[1]11.03.25'!$J:$J)","v":{"$error":"#N/A"}}]
[null,null,"GKD 80125VN","Наконечник для вертикального дымохода Gekon Ø80/125 мм, черный, Алюминий и Сталь",null,"80/125",{"v":7325.837203617697,"d":"7325.84"},{"$f":"G568*1","v":{"v":7325.837203617697,"d":"7325.84"}},{"$f":"_xlfn.XLOOKUP(C568,'[1]11.03.25'!$B:$B,'[1]11.03.25'!$J:$J)","v":{"$error":"#N/A"}}]
[null,null,"GKD 80VERTN","Наконечник для вертикального дымохода Gekon Ø80 мм, черный, Оц.cталь",null,80,{"v":923.9794671229528,"d":"923.98"},{"v":923.9794671229528,"d":"923.98"},{"$f":"_xlfn.XLOOKUP(C569,'[1]11.03.25'!$B:$B,'[1]11.03.25'!$J:$J)","v":{"$error":"#N/A"}}]
[null,null,"GKD 60100M01AL","Муфта Gekon Ø60/100 мм, L=100 мм, Алюминий",null,"60/100",{"v":1143.9745783427034,"d":"1143.97"},{"v":1143.9745783427034,"d":"1143.97"},{"$f":"_xlfn.XLOOKUP(C570,'[1]11.03.25'!$B:$B,'[1]11.03.25'!$J:$J)","v":{"$error":"#N/A"}}]
[null,null,"GKD 60100KOAL","Конденсатоотводчик Gekon Ø60/100 мм, L=155 мм, Алюминий",null,"60/100",{"v":1957.956489855781,"d":"1957.96"},{"v":1957.956489855781,"d":"1957.96"},{"$f":"_xlfn.XLOOKUP(C571,'[1]11.03.25'!$B:$B,'[1]11.03.25'!$J:$J)","v":{"$error":"#N/A"}}]
[null,null,"GKD 80OTVAL","Конденсатоотводчик Gekon Ø80 мм, L=120 мм, Алюминий",null,80,{"v":1429.9682229283792,"d":"1429.97"},{"v":1429.9682229283792,"d":"1429.97"},{"$f":"_xlfn.XLOOKUP(C572,'[1]11.03.25'!$B:$B,'[1]11.03.25'!$J:$J)","v":{"$error":"#N/A"}}]
[null,null,"GKD 80125P01AL","Переходник Gekon Ø60/100х80/125 мм, папа-мама, Алюминий",null,"60/100*80/125",{"v":2419.9462234172574,"d":"2419.95"},{"v":2419.9462234172574,"d":"2419.95"},{"$f":"_xlfn.XLOOKUP(C573,'[1]11.03.25'!$B:$B,'[1]11.03.25'!$J:$J)","v":{"$error":"#N/A"}}]
[null,null,"GKD 6080AL","Переход Gekon Ø60-80 мм, L=100 мм, Алюминий",null,"60*80",{"v":835.9814226350525,"d":"835.98"},{"v":835.9814226350525,"d":"835.98"},{"$f":"_xlfn.XLOOKUP(C574,'[1]11.03.25'!$B:$B,'[1]11.03.25'!$J:$J)","v":{"$error":"#N/A"}}]
[null,null,"GKD 80VZWAL","Решётка воздухозабора Gekon Ø80 мм, белый окрас, Алюминий и Сталь",null,80,{"v":461.9897335614764,"d":"461.99"},{"v":461.9897335614764,"d":"461.99"},{"$f":"_xlfn.XLOOKUP(C575,'[1]11.03.25'!$B:$B,'[1]11.03.25'!$J:$J)","v":{"$error":"#N/A"}}]
[null,null,"GKD 80VOWN","Решётка газоотвода Gekon Ø80 мм, белый окрас, Нержавеющая сталь",null,80,{"v":857.9809337570276,"d":"857.98"},{"v":857.9809337570276,"d":"857.98"},{"$f":"_xlfn.XLOOKUP(C576,'[1]11.03.25'!$B:$B,'[1]11.03.25'!$J:$J)","v":{"$error":"#N/A"}}]
[null,null,"GKD 60100/80","Комплект дымохода, адаптер Gekon Ø60/100х80/80 мм (хомут, фланец, проставка 60 мм), Алюминий",null,"60/100*80/80",{"v":2925.934979222684,"d":"2925.93"},{"v":2925.934979222684,"d":"2925.93"},{"$f":"_xlfn.XLOOKUP(C577,'[1]11.03.25'!$B:$B,'[1]11.03.25'!$J:$J)","v":{"$error":"#N/A"}}]
[null,null,"GKD 60100ASTRAL","Адаптер стартовый вертикальный Gekon Ø60/100 мм, L=150 мм, Алюминий",null,"60/100",{"v":1627.9638230261548,"d":"1627.96"},{"v":1627.9638230261548,"d":"1627.96"},{"$f":"_xlfn.XLOOKUP(C578,'[1]11.03.25'!$B:$B,'[1]11.03.25'!$J:$J)","v":{"$error":"#N/A"}}]
[null,null,"GKD 80100025TAL","Удлинение дымохода утепленное Gekon Ø80 мм, δут=10 мм, L=250 мм, Алюминий",null,80,{"v":1957.956489855781,"d":"1957.96"},{"v":1957.956489855781,"d":"1957.96"},{"$f":"_xlfn.XLOOKUP(C579,'[1]11.03.25'!$B:$B,'[1]11.03.25'!$J:$J)","v":{"$error":"#N/A"}}]
[null,null,"GKD 80100025T","Удлинение дымохода утепленное Gekon Ø80 мм, δут=10 мм, L=250 мм, Алюминий и Оц.сталь",null,80,{"v":1671.962845270105,"d":"1671.96"},{"v":1671.962845270105,"d":"1671.96"},{"$f":"_xlfn.XLOOKUP(C580,'[1]11.03.25'!$B:$B,'[1]11.03.25'!$J:$J)","v":{"$error":"#N/A"}}]
[null,null,"GKD 80100050TAL","Удлинение дымохода утепленное Gekon 80 мм, δут=10 мм, L=500 мм, Алюминий",null,80,{"v":2485.9447567831826,"d":"2485.94"},{"v":2485.9447567831826,"d":"2485.94"},{"$f":"_xlfn.XLOOKUP(C581,'[1]11.03.25'!$B:$B,'[1]11.03.25'!$J:$J)","v":{"$error":"#N/A"}}]
[null,null,"GKD 80100050T","Удлинение дымохода утепленное Gekon 80 мм, δут=10 мм, L=500 мм, Алюминий и Оц.сталь",null,80,{"v":2375.9472011733073,"d":"2375.95"},{"v":2375.9472011733073,"d":"2375.95"},{"$f":"_xlfn.XLOOKUP(C582,'[1]11.03.25'!$B:$B,'[1]11.03.25'!$J:$J)","v":{"$error":"#N/A"}}]
[null,null,"GKD 80100100TAL","Удлинение дымохода утепленное Gekon 80 мм, δут=10 мм, L=1000 мм, Алюминий",null,80,{"v":4135.9080909313125,"d":"4135.91"},{"v":4135.9080909313125,"d":"4135.91"},{"$f":"_xlfn.XLOOKUP(C583,'[1]11.03.25'!$B:$B,'[1]11.03.25'!$J:$J)","v":{"$error":"#N/A"}}]
[null,null,"GKD 80100100T","Удлинение дымохода утепленное Gekon 80 мм, δут=10 мм, L=1000 мм, Ал/Оц.Ст.",null,80,{"v":3959.912001955512,"d":"3959.91"},{"v":3959.912001955512,"d":"3959.91"},{"$f":"_xlfn.XLOOKUP(C584,'[1]11.03.25'!$B:$B,'[1]11.03.25'!$J:$J)","v":{"$error":"#N/A"}}]
[null,null,"GKD 80100150TAL","Удлинение дымохода утепленное Gekon 80 мм, δут=10 мм, L=1500 мм, Алюминий",null,80,{"v":5939.868002933268,"d":"5939.87"},{"v":5939.868002933268,"d":"5939.87"},{"$f":"_xlfn.XLOOKUP(C585,'[1]11.03.25'!$B:$B,'[1]11.03.25'!$J:$J)","v":{"$error":"#N/A"}}]
[null,null,"GKD 80100200TAL","Удлинение дымохода утепленное Gekon 80 мм, δут=10 мм, L=2000 мм, Алюминий",null,80,{"v":7149.841114641897,"d":"7149.84"},{"v":7149.841114641897,"d":"7149.84"},{"$f":"_xlfn.XLOOKUP(C586,'[1]11.03.25'!$B:$B,'[1]11.03.25'!$J:$J)","v":{"$error":"#N/A"}}]
[null,null,"GKD 80100VDAL","Дымоход вертикальный утеплённый Gekon Ø80 мм, δут=10 мм, L=1000 мм, черный, Алюминий",null,80,{"v":10119.77511610853,"d":"10119.78"},{"v":10119.77511610853,"d":"10119.78"},{"$f":"_xlfn.XLOOKUP(C587,'[1]11.03.25'!$B:$B,'[1]11.03.25'!$J:$J)","v":{"$error":"#N/A"}}]
[null,null,"GKD 80100VNAS","Наконечник для вертикального утеплённого дымохода Gekon Ø80 мм, δут=10 мм, черный, Ал/Ст",null,80,{"v":2111.9530677096063,"d":"2111.95"},{"v":2111.9530677096063,"d":"2111.95"},{"$f":"_xlfn.XLOOKUP(C588,'[1]11.03.25'!$B:$B,'[1]11.03.25'!$J:$J)","v":{"$error":"#N/A"}}]
[null,null,"GKD 80VZBAL","Решётка воздухозабора для утепл-го дымохода Gekon Ø80 мм, δут=10 мм, черный окрас, Алюминий",null,80,{"v":1385.969200684429,"d":"1385.97"},{"v":1385.969200684429,"d":"1385.97"},{"$f":"_xlfn.XLOOKUP(C589,'[1]11.03.25'!$B:$B,'[1]11.03.25'!$J:$J)","v":{"$error":"#N/A"}}]
[null,null,"GKD 80VOBN","Решётка газоотвода для утепл-го дымохода Gekon Ø80 мм, δут=10 мм, черный окрас, Алюминий и Сталь",null,80,{"v":1957.956489855781,"d":"1957.96"},{"v":1957.956489855781,"d":"1957.96"},{"$f":"_xlfn.XLOOKUP(C590,'[1]11.03.25'!$B:$B,'[1]11.03.25'!$J:$J)","v":{"$error":"#N/A"}}]
[null,null,"GKD 80100K45T","Колено утепленное Gekon 80, δут=10 мм, угол 45 гр., Алюминий",null,80,{"v":3959.912001955512,"d":"3959.91"},{"v":3959.912001955512,"d":"3959.91"},{"$f":"_xlfn.XLOOKUP(C591,'[1]11.03.25'!$B:$B,'[1]11.03.25'!$J:$J)","v":{"$error":"#N/A"}}]
[null,null,"GKD 80100K90T","Колено утепленное Gekon 80, δут=10 мм, угол 90 гр., Алюминий",null,80,{"v":3959.912001955512,"d":"3959.91"},{"v":3959.912001955512,"d":"3959.91"},{"$f":"_xlfn.XLOOKUP(C592,'[1]11.03.25'!$B:$B,'[1]11.03.25'!$J:$J)","v":{"$error":"#N/A"}}]
[null,null,"GKD 015100PAL","Универсальный комплект конденсационный Gekon Ø60/100 мм, L=1000 мм, PP-R и Алюминий, система Антилёд",null,"60/100",{"v":6027.866047421168,"d":"6027.87"},{"v":6027.866047421168,"d":"6027.87"},{"$f":"_xlfn.XLOOKUP(C593,'[1]11.03.25'!$B:$B,'[1]11.03.25'!$J:$J)","v":{"$error":"#N/A"}}]
[null,null,"GKD 016100PAL","Универсальный комплект конденсационный Gekon Ø80/125 мм, L=1240 мм, PP-R/Сталь, (Антилёд)",null,"80/125",{"v":9371.791737961377,"d":"9371.79"},{"v":9371.791737961377,"d":"9371.79"},{"$f":"_xlfn.XLOOKUP(C594,'[1]11.03.25'!$B:$B,'[1]11.03.25'!$J:$J)","v":{"$error":"#N/A"}}]
[null,null,"GKD 80125025PAL","Удлинитель конденсационный Gekon Ø80/125 мм, L=250 мм, PP-R и Оц.сталь",null,"80/125",{"v":2199.9511121975065,"d":"2199.95"},{"v":2199.9511121975065,"d":"2199.95"},{"$f":"_xlfn.XLOOKUP(C595,'[1]11.03.25'!$B:$B,'[1]11.03.25'!$J:$J)","v":{"$error":"#N/A"}}]
[null,null,"GKD 6010005PAL","Удлинитель конденсационный Gekon Ø60/100 мм, L=500 мм, PP-R и Оц.сталь",null,"60/100",{"v":3233.9281349303346,"d":"3233.93"},{"v":3233.9281349303346,"d":"3233.93"},{"$f":"_xlfn.XLOOKUP(C596,'[1]11.03.25'!$B:$B,'[1]11.03.25'!$J:$J)","v":{"$error":"#N/A"}}]
[null,null,"GKD 8012505PAL","Удлинитель конденсационный Gekon Ø80/125 мм, L=500 мм, PP-R и Оц.сталь",null,"80/125",{"v":3629.919335125886,"d":"3629.92"},{"v":3629.919335125886,"d":"3629.92"},{"$f":"_xlfn.XLOOKUP(C597,'[1]11.03.25'!$B:$B,'[1]11.03.25'!$J:$J)","v":{"$error":"#N/A"}}]
[null,null,"GKD 80005PAL","Удлинитель конденсационный Gekon Ø80 мм, L=500 мм, PP-R",null,80,{"v":1693.9623563920802,"d":"1693.96"},{"v":1693.9623563920802,"d":"1693.96"},{"$f":"_xlfn.XLOOKUP(C598,'[1]11.03.25'!$B:$B,'[1]11.03.25'!$J:$J)","v":{"$error":"#N/A"}}]
[null,null,"GKD 601001PAL","Удлинитель конденсационный Gekon Ø60/100 мм, L=1000 мм, PP-R и Оц.сталь.",null,"60/100",{"v":5103.886580298215,"d":"5103.89"},{"v":5103.886580298215,"d":"5103.89"},{"$f":"_xlfn.XLOOKUP(C599,'[1]11.03.25'!$B:$B,'[1]11.03.25'!$J:$J)","v":{"$error":"#N/A"}}]
[null,null,"GKD 801251PAL","Удлинитель конденсационный Gekon Ø80/125 мм, L=1000 мм, PP-R и Оц.сталь",null,"80/125",{"v":5235.883647030066,"d":"5235.88"},{"$f":"G600*1","v":{"v":5235.883647030066,"d":"5235.88"}},{"$f":"_xlfn.XLOOKUP(C600,'[1]11.03.25'!$B:$B,'[1]11.03.25'!$J:$J)","v":{"$error":"#N/A"}}]
[null,null,"GKD 8001PAL","Удлинитель конденсационный Gekon Ø80 мм, L=1000 мм, PP-R",null,80,{"v":2397.9467122952824,"d":"2397.95"},{"v":2397.9467122952824,"d":"2397.95"},{"$f":"_xlfn.XLOOKUP(C601,'[1]11.03.25'!$B:$B,'[1]11.03.25'!$J:$J)","v":{"$error":"#N/A"}}]
[null,null,"GKD 806104PAL","Комплект дымохода, адаптер конденсационный Gekon 60-100х2/80 мм, PP-R/Алюминий",null,"60/100*80/80",{"v":5719.872891713517,"d":"5719.87"},{"v":5719.872891713517,"d":"5719.87"},{"$f":"_xlfn.XLOOKUP(C602,'[1]11.03.25'!$B:$B,'[1]11.03.25'!$J:$J)","v":{"$error":"#N/A"}}]
[null,null,"GKD 6080PAL","Адаптер переход конденсационный Gekon 60-80 мм, PP-R",null,"60-80",{"v":1715.9618675140553,"d":"1715.96"},{"v":1715.9618675140553,"d":"1715.96"},{"$f":"_xlfn.XLOOKUP(C603,'[1]11.03.25'!$B:$B,'[1]11.03.25'!$J:$J)","v":{"$error":"#N/A"}}]
[null,null,"GKD 60100045PAL","Колено конденсационное Gekon 60/100 мм, угол 45 гр., PP-R/Сталь",null,"60/100",{"v":2529.9437790271327,"d":"2529.94"},{"v":2529.9437790271327,"d":"2529.94"},{"$f":"_xlfn.XLOOKUP(C604,'[1]11.03.25'!$B:$B,'[1]11.03.25'!$J:$J)","v":{"$error":"#N/A"}}]
[null,null,"GKD 80125045PAL","Колено конденсационное Gekon 80/125 мм, угол 45 гр., PP-R/Сталь",null,"80/125",{"v":4795.893424590565,"d":"4795.89"},{"v":4795.893424590565,"d":"4795.89"},{"$f":"_xlfn.XLOOKUP(C605,'[1]11.03.25'!$B:$B,'[1]11.03.25'!$J:$J)","v":{"$error":"#N/A"}}]
[null,null,"GKD 80045PAL","Колено конденсационное Gekon 80 мм, угол 45 гр., PP-R",null,80,{"v":1605.9643119041798,"d":"1605.96"},{"v":1605.9643119041798,"d":"1605.96"},{"$f":"_xlfn.XLOOKUP(C606,'[1]11.03.25'!$B:$B,'[1]11.03.25'!$J:$J)","v":{"$error":"#N/A"}}]
[null,null,"GKD 60100090PAL","Колено конденсационное Gekon 60/100 мм, угол 90 гр., PP-R/Сталь",null,"60/100",{"v":2529.9437790271327,"d":"2529.94"},{"v":2529.9437790271327,"d":"2529.94"},{"$f":"_xlfn.XLOOKUP(C607,'[1]11.03.25'!$B:$B,'[1]11.03.25'!$J:$J)","v":{"$error":"#N/A"}}]
[null,null,"GKD 10080090PAL","Колено конденсационное Gekon 80/125 мм, угол 90 гр., PP-R/Сталь",null,"80/125",{"v":4795.893424590565,"d":"4795.89"},{"v":4795.893424590565,"d":"4795.89"},{"$f":"_xlfn.XLOOKUP(C608,'[1]11.03.25'!$B:$B,'[1]11.03.25'!$J:$J)","v":{"$error":"#N/A"}}]
[null,null,"GKD 80090PAL","Колено конденсационное Gekon 80 мм, угол 90 гр., PP-R",null,80,{"v":1605.9643119041798,"d":"1605.96"},{"v":1605.9643119041798,"d":"1605.96"},{"$f":"_xlfn.XLOOKUP(C609,'[1]11.03.25'!$B:$B,'[1]11.03.25'!$J:$J)","v":{"$error":"#N/A"}}]
[null,null,"GKD 60100AINPB","Наконечник 60/100 мм, Система Антилед, Система Антиворобей, черный",null,"60/100",{"v":725.9838670251772,"d":"725.98"},{"v":725.9838670251772,"d":"725.98"},{"$f":"_xlfn.XLOOKUP(C610,'[1]11.03.25'!$B:$B,'[1]11.03.25'!$J:$J)","v":{"$error":"#N/A"}}]
[null,null,"GKD 60OR","Уплотнительное кольцо на внутреннюю трубу Gekon 60 мм",null,60,{"v":219.99511121975067,"d":"220.00"},{"v":219.99511121975067,"d":"220.00"},{"$f":"_xlfn.XLOOKUP(C611,'[1]11.03.25'!$B:$B,'[1]11.03.25'!$J:$J)","v":{"$error":"#N/A"}}]
[null,null,"GKD 80OR","Уплотнительное кольцо на внутреннюю трубу Gekon 80 мм",null,80,{"v":263.9941334637008,"d":"263.99"},{"v":263.9941334637008,"d":"263.99"},{"$f":"_xlfn.XLOOKUP(C612,'[1]11.03.25'!$B:$B,'[1]11.03.25'!$J:$J)","v":{"$error":"#N/A"}}]
[null,null,"GKD 100OR","Уплотнительное кольцо на внешнюю трубу Gekon 100 мм",null,100,{"v":285.99364458567584,"d":"285.99"},{"v":285.99364458567584,"d":"285.99"},{"$f":"_xlfn.XLOOKUP(C613,'[1]11.03.25'!$B:$B,'[1]11.03.25'!$J:$J)","v":{"$error":"#N/A"}}]
[null,null,"GKD 125OR","Уплотнительное кольцо на внешнюю трубу Gekon 125 мм",null,125,{"v":439.99022243950134,"d":"439.99"},{"v":439.99022243950134,"d":"439.99"},{"$f":"_xlfn.XLOOKUP(C614,'[1]11.03.25'!$B:$B,'[1]11.03.25'!$J:$J)","v":{"$error":"#N/A"}}]
[null,null,"GKD 80H","Хомут Gekon 80 мм со шпилькой",null,80,{"v":373.99168907357614,"d":"373.99"},{"v":373.99168907357614,"d":"373.99"},{"$f":"_xlfn.XLOOKUP(C615,'[1]11.03.25'!$B:$B,'[1]11.03.25'!$J:$J)","v":{"$error":"#N/A"}}]
[null,null,"GKD 100H","Хомут Gekon 100 мм со шпилькой",null,100,{"v":395.9912001955512,"d":"395.99"},{"v":395.9912001955512,"d":"395.99"},{"$f":"_xlfn.XLOOKUP(C616,'[1]11.03.25'!$B:$B,'[1]11.03.25'!$J:$J)","v":{"$error":"#N/A"}}]
[null,null,"GKD 80MS","Накладка декоративная Gekon 80 мм",null,80,{"v":254.2165729650452,"d":"254.22"},{"v":254.2165729650452,"d":"254.22"},{"$f":"_xlfn.XLOOKUP(C617,'[1]11.03.25'!$B:$B,'[1]11.03.25'!$J:$J)","v":{"$error":"#N/A"}}]
[null,null,"GKD 60100M","Накладка декоративная Gekon 100 мм",null,100,{"v":219.99511121975067,"d":"220.00"},{"v":219.99511121975067,"d":"220.00"},{"$f":"_xlfn.XLOOKUP(C618,'[1]11.03.25'!$B:$B,'[1]11.03.25'!$J:$J)","v":{"$error":"#N/A"}}]
[null,null,"GKD 60125M","Накладка декоративная Gekon 125 мм",null,125,{"v":285.99364458567584,"d":"285.99"},{"v":285.99364458567584,"d":"285.99"},{"$f":"_xlfn.XLOOKUP(C619,'[1]11.03.25'!$B:$B,'[1]11.03.25'!$J:$J)","v":{"$error":"#N/A"}}]
[null,null,"GKD 110UF","Фланец Gekon с прокладкой, винтами и гайкой, 100 мм",null,100,{"v":263.9941334637008,"d":"263.99"},{"v":263.9941334637008,"d":"263.99"},{"$f":"_xlfn.XLOOKUP(C620,'[1]11.03.25'!$B:$B,'[1]11.03.25'!$J:$J)","v":{"$error":"#N/A"}}]
[null,null,"GKD 60100H","Хомут обжимной Gekon (труба-труба) 100 мм",null,100,{"v":263.9941334637008,"d":"263.99"},{"v":263.9941334637008,"d":"263.99"},{"$f":"_xlfn.XLOOKUP(C621,'[1]11.03.25'!$B:$B,'[1]11.03.25'!$J:$J)","v":{"$error":"#N/A"}}]