{"text_format":"3","workbook":"xlsx","n_sheets":13,"sheets":["Оглавление","Шаровые краны, ОК, Сетч.фильтры","Трубы","Аксиальные фитинги","Шкафы коллекторные","Узлы ТП, коллекторы","Клапаны для отоп.приборов","Бойлеры OLD","Бойлеры NEW","Мембранные баки","Дымоходы","Теплоноситель","Конвертация цен"],"not_rendered":{"images":135,"macros":1,"defined_names":11},"read":"whole","date_system":"1900"}

{"sheet":"Оглавление","index":0,"n_rows":36,"n_cols":11,"rows_kept":36,"merged":[[5,0,5,13],[6,0,7,13],[8,0,8,13],[11,9,11,10],[12,0,12,8],[13,0,13,8],[14,0,14,8],[15,0,15,8],[16,0,16,8],[17,0,17,8],[18,0,18,8],[19,0,19,8],[20,0,20,8],[21,0,21,8],[22,0,22,8],[24,0,24,8],[25,0,25,7],[26,0,26,7],[27,0,27,7],[28,0,28,7],[29,0,29,13],[30,0,30,13],[31,0,31,7],[32,0,32,13],[33,0,33,13],[34,0,34,13],[35,0,35,13]]}
[]
[]
[]
[]
[]
["ПРАЙС-ЛИСТ ОТ 16/12/2024"]
["Проставьте, пожалуйста, обозначенную Вашим менеджером скидку в  поле \"Ваша скидка\" "]
[]
["Внимание! На позиции с признаком \"специальное предложение \" и \"акция\" скидка не распространяется!"]
[]
[]
[{"$nulls":9},"Ваша скидка"]
["Трубопроводная арматура",{"$nulls":9},{"v":0,"d":"0.00%"}]
["Трубы, Защитные гофротрубы",{"$nulls":9},{"v":0,"d":"0.00%"}]
["Аксиальные фитинги",{"$nulls":9},{"v":0,"d":"0.00%"}]
["Шкафы коллекторные",{"$nulls":9},{"v":0,"d":"0.00%"}]
["Оборудование для тёплого пола",{"$nulls":9},{"v":0,"d":"0.00%"}]
["Коллекторные блоки для систем отопления",{"$nulls":9},{"v":0,"d":"0.00%"}]
["Клапаны для отопительных приборов",{"$nulls":9},{"v":0,"d":"0.00%"}]
["Бойлеры, Накопители, Теплоаккумуляторы",{"$nulls":9},{"v":0,"d":"0.00%"}]
["Мембранные расширительные баки",{"$nulls":9},{"v":0,"d":"0.00%"}]
["Дымоходы",{"$nulls":9},{"v":0,"d":"0.00%"}]
["Теплохладоноситель ",{"$nulls":9},{"v":0,"d":"0.00%"}]
[]
["Быстрые ссылки"]
["Шаровые краны, обратные клапаны, фильтры"]
["Трубы, Защитные гофротрубы"]
["Фитинги для аксиальной запресовки"]
["Коллекторные шкафы"]
["Смесительные узлы и комплектующие для напольного отопления"]
["Коллекторные блоки и комплектующие"]
["Клапаны для отопительных приборов"]
["Байлеры, Накопители, Теплоаккумуляторы"]
["Мембранные расширительные баки"]
["Дымоходы"]
["Теплохладоноситель"]

{"sheet":"Шаровые краны, ОК, Сетч.фильтры","index":1,"n_rows":79,"n_cols":12,"rows_kept":79,"merged":[[3,0,3,7],[7,9,7,11],[12,10,12,11],[13,0,14,0],[13,1,14,1],[13,2,14,3],[13,4,14,4],[13,5,14,5],[13,6,14,6],[13,7,14,7],[13,9,14,9],[13,10,14,10],[13,11,14,11],[15,0,20,0],[15,2,20,3],[21,0,24,0],[21,2,24,3],[25,0,30,0],[25,2,30,3],[31,0,34,0],[31,2,34,3],[35,0,38,0],[35,2,38,3],[39,0,41,0],[39,2,41,3],[42,0,44,0],[42,2,44,3],[45,0,47,0],[45,1,47,1],[45,2,47,3],[45,4,47,4],[45,5,47,5],[45,6,47,6],[45,7,47,7],[45,8,47,8],[45,9,47,9],[45,10,47,10],[45,11,47,11],[58,0,63,0],[58,2,63,3],[73,0,78,0],[73,2,78,3]]}
[]
[]
[]
["Шаровые краны, обратные клапаны, фильтры"]
[]
["ПОЛНОПРОХОДНЫЕ ШАРОВЫЕ КРАНЫ"]
["• Седельные уплотнительные кольца шара изготовлены из фторопласта (PTFE)"]
["• Кольцевые прокладки штока изготовлены из фтористого каучука (FPM)",{"$nulls":8},"На главную страницу"]
["• Корпус: латунь хромированная горячепресованная (CW617N) "]
["• Рукоятка: рычаг - сталь с полимерным покрытием, бабочка - алюминий "]
["• Максимальное рабочее давление : 35 бар для Ду 15-20, 28 бар для Ду 25-50"]
["• Диапазон рабочих температур: от -20 до +180⁰C"]
[{"$nulls":9},"Итого:",{"$f":"SUM(L16:L48)+SUM(L59:L64)+SUM(L74:L79)","v":{"v":0,"d":"0.00"}}]
["Фото","Артикул","Наименование товара",null,"Размер","Вес, г","Упаковка, шт.","Коробка, шт.","Цена за шт.","Цена со скидкой, RUB","Кол-во, шт.","Сумма со скидкой, RUB"]
[{"$nulls":8},"RUB"]
[null,"GK 550 12","Кран шаровой (ручка -  рычаг), внутренняя-внутренняя резьба",null,"1/2\"",175,10,100,{"$f":"'Конвертация цен'!H6","v":{"v":585.2888297872341,"d":"585.29"}},{"$f":"I16-I16*Оглавление!$K$13","v":{"v":585.2888297872341,"d":"585.29"}},null,{"$f":"K16*J16","v":{"v":0,"d":"0.00"}}]
[null,"GK 550 34",null,null,"3/4\"",265,5,50,{"$f":"'Конвертация цен'!H7","v":{"v":884.4751700680272,"d":"884.48"}},{"$f":"I17-I17*Оглавление!$K$13","v":{"v":884.4751700680272,"d":"884.48"}},null,{"$f":"K17*J17","v":{"v":0,"d":"0.00"}}]
[null,"GK 550 1",null,null,"1\"",400,5,25,{"$f":"'Конвертация цен'!H8","v":{"v":1390.1936403508773,"d":"1390.19"}},{"$f":"I18-I18*Оглавление!$K$13","v":{"v":1390.1936403508773,"d":"1,390.19"}},null,{"v":0,"d":"0.00"}]
[null,"GK 550 114",null,null,"1 1/4\"",560,4,20,{"$f":"'Конвертация цен'!H9","v":{"v":2045.4599118942729,"d":"2045.46"}},{"$f":"I19-I19*Оглавление!$K$13","v":{"v":2045.4599118942729,"d":"2,045.46"}},null,{"v":0,"d":"0.00"}]
[null,"GK 550 112",null,null,"1 1/2\"",980,4,15,{"$f":"'Конвертация цен'!H10","v":{"v":3234.2757884972175,"d":"3234.28"}},{"$f":"I20-I20*Оглавление!$K$13","v":{"v":3234.2757884972175,"d":"3,234.28"}},null,{"v":0,"d":"0.00"}]
[null,"GK 550 2",null,null,"2\"",1550,2,10,{"$f":"'Конвертация цен'!H11","v":{"v":4990.259626955476,"d":"4990.26"}},{"$f":"I21-I21*Оглавление!$K$13","v":{"v":4990.259626955476,"d":"4,990.26"}},null,{"v":0,"d":"0.00"}]
[null,"GK 551 12","Кран шаровой (ручка -  бабочка), внутренняя-внутренняя резьба",null,"1/2\"",178,10,100,{"$f":"'Конвертация цен'!H12","v":{"v":585.2888297872341,"d":"585.29"}},{"$f":"I22-I22*Оглавление!$K$13","v":{"v":585.2888297872341,"d":"585.29"}},null,{"v":0,"d":"0.00"}]
[null,"GK 551 34",null,null,"3/4\"",255,5,50,{"$f":"'Конвертация цен'!H13","v":{"v":884.4751700680272,"d":"884.48"}},{"$f":"I23-I23*Оглавление!$K$13","v":{"v":884.4751700680272,"d":"884.48"}},null,{"v":0,"d":"0.00"}]
[null,"GK 551 1",null,null,"1\"",390,5,50,{"$f":"'Конвертация цен'!H14","v":{"v":1390.1936403508773,"d":"1390.19"}},{"$f":"I24-I24*Оглавление!$K$13","v":{"v":1390.1936403508773,"d":"1,390.19"}},null,{"v":0,"d":"0.00"}]
[null,"GK 551 114",null,null,"1 1/4\"",530,5,25,{"$f":"'Конвертация цен'!H15","v":{"v":2045.4599118942729,"d":"2045.46"}},{"$f":"I25-I25*Оглавление!$K$13","v":{"v":2045.4599118942729,"d":"2,045.46"}},null,{"v":0,"d":"0.00"}]
[null,"GK 554L 12","Кран шаровой (ручка -  рычаг), внутренняя-наружная резьба",null,"1/2\"",190,5,50,{"$f":"'Конвертация цен'!H16","v":{"v":630.9931034482757,"d":"630.99"}},{"$f":"I26-I26*Оглавление!$K$13","v":{"v":630.9931034482757,"d":"630.99"}},null,{"v":0,"d":"0.00"}]
[null,"GK 554L 34",null,null,"3/4\"",300,5,50,{"$f":"'Конвертация цен'!H17","v":{"v":940.055414012739,"d":"940.06"}},{"$f":"I27-I27*Оглавление!$K$13","v":{"v":940.055414012739,"d":"940.06"}},null,{"v":0,"d":"0.00"}]
[null,"GK 554L 1",null,null,"1\"",435,2,20,{"$f":"'Конвертация цен'!H18","v":{"v":1502.9194223107572,"d":"1502.92"}},{"$f":"I28-I28*Оглавление!$K$13","v":{"v":1502.9194223107572,"d":"1,502.92"}},null,{"v":0,"d":"0.00"}]
[null,"GK 554L 114",null,null,"1 1/4\"",650,2,20,{"$f":"'Конвертация цен'!H19","v":{"v":2322.508176100629,"d":"2322.51"}},{"$f":"I29-I29*Оглавление!$K$13","v":{"v":2322.508176100629,"d":"2,322.51"}},null,{"v":0,"d":"0.00"}]
[null,"GK 554L 112",null,null,"1 1/2\"",1040,4,20,{"$f":"'Конвертация цен'!H20","v":{"v":3779.1868339768334,"d":"3779.19"}},{"$f":"I30-I30*Оглавление!$K$13","v":{"v":3779.1868339768334,"d":"3,779.19"}},null,{"v":0,"d":"0.00"}]
[null,"GK 554L 2",null,null,"2\"",1680,2,10,{"$f":"'Конвертация цен'!H21","v":{"v":6047.672479498311,"d":"6047.67"}},{"$f":"I31-I31*Оглавление!$K$13","v":{"v":6047.672479498311,"d":"6,047.67"}},null,{"v":0,"d":"0.00"}]
[null,"GK 554 12","Кран шаровой (ручка - бабочка), внутренняя-наружная резьба",null,"1/2\"",180,10,100,{"$f":"'Конвертация цен'!H22","v":{"v":649.5517241379312,"d":"649.55"}},{"$f":"I32-I32*Оглавление!$K$13","v":{"v":649.5517241379312,"d":"649.55"}},null,{"v":0,"d":"0.00"}]
[null,"GK 554 34",null,null,"3/4\"",285,5,50,{"$f":"'Конвертация цен'!H23","v":{"v":966.4614649681528,"d":"966.46"}},{"$f":"I33-I33*Оглавление!$K$13","v":{"v":966.4614649681528,"d":"966.46"}},null,{"v":0,"d":"0.00"}]
[null,"GK 554 1",null,null,"1\"",420,5,25,{"$f":"'Конвертация цен'!H24","v":{"v":1502.9194223107572,"d":"1502.92"}},{"$f":"I34-I34*Оглавление!$K$13","v":{"v":1502.9194223107572,"d":"1,502.92"}},null,{"v":0,"d":"0.00"}]
[null,"GK 554 114",null,null,"1 1/4\"",620,4,20,{"$f":"'Конвертация цен'!H25","v":{"v":2513.886260454003,"d":"2513.89"}},{"$f":"I35-I35*Оглавление!$K$13","v":{"v":2513.886260454003,"d":"2,513.89"}},null,{"v":0,"d":"0.00"}]
[null,"GK 559 12","Кран шаровой (ручка-бабочка), внутренняя-американка",null,"1/2\"",253,1,50,{"$f":"'Конвертация цен'!H26","v":{"v":825.5375,"d":"825.54"}},{"$f":"I36-I36*Оглавление!$K$13","v":{"v":825.5375,"d":"825.54"}},null,{"v":0,"d":"0.00"}]
[null,"GK 559 34",null,null,"3/4\"",405,1,25,{"$f":"'Конвертация цен'!H27","v":{"v":1270.087796208531,"d":"1270.09"}},{"$f":"I37-I37*Оглавление!$K$13","v":{"v":1270.087796208531,"d":"1,270.09"}},null,{"v":0,"d":"0.00"}]
[null,"GK 559 1",null,null,"1\"",592,1,20,{"$f":"'Конвертация цен'!H28","v":{"v":2001.1467717717715,"d":"2001.15"}},{"$f":"I38-I38*Оглавление!$K$13","v":{"v":2001.1467717717715,"d":"2,001.15"}},null,{"v":0,"d":"0.00"}]
[null,"GK 559 114",null,null,"1\" 1/4",835,1,20,{"$f":"'Конвертация цен'!H29","v":{"v":3017.2166666666662,"d":"3017.22"}},{"$f":"I39-I39*Оглавление!$K$13","v":{"v":3017.2166666666662,"d":"3,017.22"}},null,{"v":0,"d":"0.00"}]
[null,"GK 7954 12","Кран шаровой с возможностью установки термосенсора (ручка-бабочка), внутренняя-внутренняя резьба, резьба под датчик M10*1",null,"1/2\"",185,15,90,{"$f":"'Конвертация цен'!H30","v":{"v":844.1,"d":"844.10"}},{"$f":"I40-I40*Оглавление!$K$13","v":{"v":844.1,"d":"844.10"}},null,{"v":0,"d":"0.00"}]
[null,"GK 7954 34",null,null,"3/4\"",280,20,80,{"$f":"'Конвертация цен'!H31","v":1061.45},{"$f":"I41-I41*Оглавление!$K$13","v":{"v":1061.45,"d":"1,061.45"}},null,{"v":0,"d":"0.00"}]
[null,"GK 7954 1",null,null,"1\"",430,12,48,{"$f":"'Конвертация цен'!H32","v":1710.05},{"$f":"I42-I42*Оглавление!$K$13","v":{"v":1710.05,"d":"1,710.05"}},null,{"v":0,"d":"0.00"}]
[null,"GK 7966 12","Кран шаровой поливочный с насадкой под шланг (ручка-рычаг), наружная резьба",null,"1/2\"",255,25,100,{"$f":"'Конвертация цен'!H33","v":799.25},{"$f":"I43-I43*Оглавление!$K$13","v":799.25},null,{"v":0,"d":"0.00"}]
[null,"GK 7966 34",null,null,"3/4\"",450,16,64,{"$f":"'Конвертация цен'!H34","v":1118.95},{"$f":"I44-I44*Оглавление!$K$13","v":{"v":1118.95,"d":"1,118.95"}},null,{"v":0,"d":"0.00"}]
[null,"GK 7966 1",null,null,"1\"",530,8,48,{"$f":"'Конвертация цен'!H35","v":1979.15},{"$f":"I45-I45*Оглавление!$K$13","v":{"v":1979.15,"d":"1,979.15"}},null,{"v":0,"d":"0.00"}]
[null,"GK 7961 1","Кран шаровой  угловой  с полусгоном (ручка-бабочка), внутренняя-наружная резьба",null,"1/2\"",300,20,80,{"$f":"'Конвертация цен'!H36","v":3055.55},{"$f":"I46-I46*Оглавление!$K$13","v":{"v":3055.55,"d":"3,055.55"}},null,{"$f":"K46*J46","v":{"v":0,"d":"0.00"}}]
[]
[]
[]
["ОБРАТНЫЕ КЛАПАНЫ"]
["• Корпус: латунь горячепресованная (CW617N) "]
["• Золотник, верхняя и нижняя тарелка изготовлены из нейлона (РА)"]
["• Уплотнение между тарелок нитрил бутадиеновый каучук (NBR)"]
["• Возвратная пружина из нержавеющей стали (AISI 302)"]
["• Максимальное рабочее давление : 16 бар для Ду 15-25, 10 бар для Ду 32-50"]
["• Макс. рабочая температура: 100 °C "]
["• Дифференциальное давление срабатывания 0,02 бар"]
[]
[null,"GK 30 12","Клапан обратный с латунным золотником, внутренняя-внутренняя резьба",null,"1/2\"",100,30,120,{"$f":"'Конвертация цен'!H39","v":596.85},{"$f":"I59-I59*Оглавление!$K$13","v":596.85},null,{"$f":"K59*J59","v":{"v":0,"d":"0.00"}}]
[null,"GK 30 34",null,null,"3/4\"",155,30,120,{"$f":"'Конвертация цен'!H40","v":{"v":800.4,"d":"800.40"}},{"$f":"I60-I60*Оглавление!$K$13","v":{"v":800.4,"d":"800.40"}},null,{"$f":"K60*J60","v":{"v":0,"d":"0.00"}}]
[null,"GK 30 1",null,null,"1\"",235,18,72,{"$f":"'Конвертация цен'!H41","v":{"v":1122.3999999999999,"d":"1122.40"}},{"$f":"I61-I61*Оглавление!$K$13","v":{"v":1122.3999999999999,"d":"1,122.40"}},null,{"$f":"K61*J61","v":{"v":0,"d":"0.00"}}]
[null,"GK 30 114",null,null,"1 1/4\"",386,14,42,{"$f":"'Конвертация цен'!H42","v":{"v":1670.9499999999998,"d":"1670.95"}},{"$f":"I62-I62*Оглавление!$K$13","v":{"v":1670.9499999999998,"d":"1,670.95"}},null,{"v":0,"d":"0.00"}]
[null,"GK 30 112",null,null,"1 1/2\"",524,12,24,{"$f":"'Конвертация цен'!H43","v":{"v":2182.7000000000003,"d":"2182.70"}},{"$f":"I63-I63*Оглавление!$K$13","v":{"v":2182.7000000000003,"d":"2,182.70"}},null,{"$f":"K63*J63","v":{"v":0,"d":"0.00"}}]
[null,"GK 30 2",null,null,"2\"",740,10,20,{"$f":"'Конвертация цен'!H44","v":{"v":3298.2,"d":"3298.20"}},{"$f":"I64-I64*Оглавление!$K$13","v":{"v":3298.2,"d":"3,298.20"}},null,{"$f":"K64*J64","v":{"v":0,"d":"0.00"}}]
[]
["СЕТЧАТЫЕ ФИЛЬТРЫ ТОНКОЙ ОЧИСТКИ"]
["• Корпус и заглушка: латунь горячепресованная (CW617N) "]
["• Уплотнение заглушки фторопласт (PTFE)"]
["• Фильтрующий элемент из нержавеющей стали (AISI 304)"]
["• Максимальное рабочее давление : 16 бар "]
["• Макс. рабочая температура: 110 °C "]
["• Размер ячейки фильтрующего элемента 0,5 мм"]
[]
[null,"GK 44N 12","Фильтр тонкой механической очистки косой, сетка 500 мкм, внутренняя-внутренняя резьба",null,"1/2\"",130,20,180,{"$f":"'Конвертация цен'!H45","v":661.25},{"$f":"I74-I74*Оглавление!K13","v":661.25},null,{"$f":"K74*J74","v":{"v":0,"d":"0.00"}}]
[null,"GK 44N 34",null,null,"3/4\"",190,20,120,{"$f":"'Конвертация цен'!H46","v":{"v":1033.8500000000001,"d":"1033.85"}},{"$f":"I75-I75*Оглавление!K14","v":{"v":1033.8500000000001,"d":"1,033.85"}},null,{"$f":"K75*J75","v":{"v":0,"d":"0.00"}}]
[null,"GK 44N 1",null,null,"1\"",280,15,90,{"$f":"'Конвертация цен'!H47","v":{"v":1283.4,"d":"1283.40"}},{"$f":"I76-I76*Оглавление!K15","v":{"v":1283.4,"d":"1,283.40"}},null,{"v":0,"d":"0.00"}]
[null,"GK 44N 114",null,null,"1 1/4\"",540,6,36,{"$f":"'Конвертация цен'!H48","v":2482.85},{"$f":"I77-I77*Оглавление!$K$13","v":{"v":2482.85,"d":"2,482.85"}},null,{"v":0,"d":"0.00"}]
[null,"GK 44N 112",null,null,"1 1/2\"",650,2,24,{"$f":"'Конвертация цен'!H49","v":{"v":3726,"d":"3726.00"}},{"$f":"I78-I78*Оглавление!K16","v":{"v":3726,"d":"3,726.00"}},null,{"v":0,"d":"0.00"}]
[null,"GK 44N 2",null,null,"2\"",1158,2,12,{"$f":"'Конвертация цен'!H50","v":{"v":6180.1,"d":"6180.10"}},{"$f":"I79-I79*Оглавление!K17","v":{"v":6180.1,"d":"6,180.10"}},null,{"v":0,"d":"0.00"}]

{"sheet":"Трубы","index":2,"n_rows":40,"n_cols":11,"rows_kept":40,"merged":[[3,0,3,8],[7,10,7,12],[8,8,8,10],[12,0,12,7],[12,9,12,10],[13,0,14,0],[13,1,14,1],[13,2,14,2],[13,9,14,9],[13,10,14,10],[15,0,25,0],[30,0,31,0],[30,1,31,1],[30,2,31,2],[30,5,30,6],[30,9,31,9],[30,10,31,10],[31,5,31,6],[32,0,35,0],[32,5,32,6],[33,5,33,6],[34,5,34,6],[35,5,35,6],[36,0,39,0],[36,5,36,6],[37,5,37,6],[38,5,38,6],[39,5,39,6]]}
[]
[]
[]
["Трубы, Защитные гофротрубы"]
[]
["ТРУБА GEKON TRITHERM УНИВЕРСАЛЬНАЯ PE-Xa/EVOH "]
["• Материал: сшитый полиэтилен, способ сшивки - пероксидный (PE-Xa)"]
["• Наружный кислородозащитный барьер EVOH,  кислородопроницаемость не более 0,1 г/м3 в сутки"]
["• Рабочая температура от -20 до +95⁰C",{"$nulls":7},"На главную страницу"]
["• Максимальный кратковременный нагрев +110⁰C"]
["• Номинальное рабочее давление 6 бар, 10 бар"]
["• Страна производства: Россия"]
[{"$nulls":8},"Итого:",{"$f":"SUM(K16:K26)+SUM(K33:K40)","v":{"v":0,"d":"0.00"}}]
["Фото","Артикул","Наименование товара","Диаметр","Толщина стенки","PN","Упаковка","Цена за метр","Цена за метр со скидкой","Кол-во, м.","Сумма со скидкой, RUB"]
[{"$nulls":3},"мм","мм","бар","м","RUB","RUB"]
[null,"GK 71640006","Труба Gekon TRITHERM универсальная PE-Xa/EVOH 16х2,0, бухта 400 м",16,2,6,400,{"$f":"'Конвертация цен'!H54","v":106.08},{"$f":"H16-H16*Оглавление!$K$14","v":106.08},null,{"$f":"J16*I16","v":{"v":0,"d":"0.00"}}]
[null,"GK 71630006","Труба Gekon TRITHERM универсальная PE-Xa/EVOH 16х2,0, бухта 300 м",16,2,6,300,{"$f":"'Конвертация цен'!H55","v":106.08},{"$f":"H17-H17*Оглавление!$K$14","v":106.08},null,{"$f":"J17*I17","v":{"v":0,"d":"0.00"}}]
[null,"GK 71620006","Труба Gekon TRITHERM универсальная PE-Xa/EVOH 16х2,0, бухта 200 м",16,2,6,200,{"$f":"'Конвертация цен'!H56","v":106.08},{"$f":"H18-H18*Оглавление!$K$14","v":106.08},null,{"v":0,"d":"0.00"}]
[null,"GK 71610006","Труба Gekon TRITHERM универсальная PE-Xa/EVOH 16х2,0, бухта 100 м",16,2,6,100,{"$f":"'Конвертация цен'!H57","v":106.08},{"$f":"H19-H19*Оглавление!$K$14","v":106.08},null,{"v":0,"d":"0.00"}]
[null,"GK 71620010","Труба Gekon TRITHERM универсальная PE-Xa/EVOH 16х2,2, бухта 200 м",16,2.2,10,200,{"$f":"'Конвертация цен'!H58","v":{"v":112.2,"d":"112.20"}},{"$f":"H20-H20*Оглавление!$K$14","v":{"v":112.2,"d":"112.20"}},null,{"v":0,"d":"0.00"}]
[null,"GK 71610010","Труба Gekon TRITHERM универсальная PE-Xa/EVOH 16х2,2, бухта 100 м",16,2.2,10,100,{"$f":"'Конвертация цен'!H59","v":{"v":112.2,"d":"112.20"}},{"$f":"H21-H21*Оглавление!$K$14","v":{"v":112.2,"d":"112.20"}},null,{"v":0,"d":"0.00"}]
[null,"GK 72020006","Труба Gekon TRITHERM универсальная PE-Xa/EVOH 20х2,0, бухта 200 м",20,2,6,200,{"$f":"'Конвертация цен'!H60","v":151.98},{"$f":"H22-H22*Оглавление!$K$14","v":151.98},null,{"$f":"J22*I22","v":{"v":0,"d":"0.00"}}]
[null,"GK 72010006","Труба Gekon TRITHERM универсальная PE-Xa/EVOH 20х2,0, бухта 100 м",20,2,6,100,{"$f":"'Конвертация цен'!H61","v":151.98},{"$f":"H23-H23*Оглавление!$K$14","v":151.98},null,{"v":0,"d":"0.00"}]
[null,"GK 72010010","Труба Gekon TRITHERM универсальная PE-Xa/EVOH 20х2,8, бухта 100 м",20,2.8,10,100,{"$f":"'Конвертация цен'!H62","v":167.28},{"$f":"H24-H24*Оглавление!$K$14","v":167.28},null,{"v":0,"d":"0.00"}]
[null,"GK 72505010","Труба Gekon TRITHERM универсальная PE-Xa/EVOH 25х3,5, бухта 50 м",25,3.5,10,50,{"$f":"'Конвертация цен'!H63","v":{"v":285.6,"d":"285.60"}},{"$f":"H25-H25*Оглавление!$K$14","v":{"v":285.6,"d":"285.60"}},null,{"v":0,"d":"0.00"}]
[null,"GK 73205010","Труба Gekon TRITHERM универсальная PE-Xa/EVOH 32х4,4, бухта 50 м",32,4.4,10,50,{"$f":"'Конвертация цен'!H64","v":475.32},{"$f":"H26-H26*Оглавление!$K$14","v":475.32},null,{"v":0,"d":"0.00"}]
[]
["ТРУБА ГОФРИРОВАННАЯ ПНД"]
["• Для механической защиты полимерных труб"]
[]
["Фото","Артикул","Наименование товара","Наружный диаметр","Внутренний диаметр","Упаковка",null,"Цена за метр","Цена за метр со скидкой","Кол-во, м.","Сумма со скидкой, RUB"]
[{"$nulls":3},"мм","мм","м",null,"RUB","RUB"]
[null,"GK 716050R","Труба гофрированная ПНД для 16-й полимерной трубы, красная, бухта 50 метров",21,18.3,50,null,{"$f":"'Конвертация цен'!H65","v":25.96},{"$f":"H33-H33*Оглавление!$K$14","v":25.96},null,{"$f":"I33*J33","v":{"v":0,"d":"0.00"}}]
[null,"GK 720050R","Труба гофрированная ПНД для 20-й полимерной трубы, красная, бухта 50 метров",25,21.8,50,50,{"$f":"'Конвертация цен'!H66","v":32.34},{"$f":"H34-H34*Оглавление!$K$14","v":32.34},null,{"$f":"I34*J34","v":{"v":0,"d":"0.00"}}]
[null,"GK 725030R","Труба гофрированная ПНД для 25-й полимерной трубы, красная, бухта 30 метров",32,27,30,30,{"$f":"'Конвертация цен'!H67","v":{"v":44,"d":"44.00"}},{"$f":"H35-H35*Оглавление!$K$14","v":{"v":44,"d":"44.00"}},null,{"v":0,"d":"0.00"}]
[null,"GK 732030R","Труба гофрированная ПНД для 32-й полимерной трубы, красная, бухта 30 метров",40,35,30,30,{"$f":"'Конвертация цен'!H68","v":57.48},{"$f":"H36-H36*Оглавление!$K$14","v":57.48},null,{"v":0,"d":"0.00"}]
[null,"GK 716050B","Труба гофрированная ПНД для 16-й полимерной трубы, синяя, бухта 50 метров",21,18.3,50,null,{"$f":"'Конвертация цен'!H69","v":25.96},{"$f":"H37-H37*Оглавление!$K$14","v":25.96},null,{"v":0,"d":"0.00"}]
[null,"GK 720050B","Труба гофрированная ПНД для 20-й полимерной трубы, синяя, бухта 50 метров",25,21.8,50,50,{"$f":"'Конвертация цен'!H70","v":32.34},{"$f":"H38-H38*Оглавление!$K$14","v":32.34},null,{"v":0,"d":"0.00"}]
[null,"GK 725030B","Труба гофрированная ПНД для 25-й полимерной трубы, синяя, бухта 30 метров",32,27,30,30,{"$f":"'Конвертация цен'!H71","v":{"v":44,"d":"44.00"}},{"$f":"H39-H39*Оглавление!$K$14","v":{"v":44,"d":"44.00"}},null,{"v":0,"d":"0.00"}]
[null,"GK 732030B","Труба гофрированная ПНД для 32-й полимерной трубы, синяя, бухта 30 метров",40,35,30,30,{"$f":"'Конвертация цен'!H72","v":57.48},{"$f":"H40-H40*Оглавление!$K$14","v":57.48},null,{"v":0,"d":"0.00"}]

{"sheet":"Аксиальные фитинги","index":3,"n_rows":102,"n_cols":11,"rows_kept":102,"merged":[[3,0,3,7],[6,8,6,10],[10,9,10,10],[11,0,12,0],[11,1,12,1],[11,2,12,3],[11,4,12,4],[11,5,12,5],[11,6,12,6],[11,8,12,8],[11,9,12,9],[11,10,12,10],[13,0,16,0],[13,2,13,3],[14,2,14,3],[15,2,15,3],[16,2,16,3],[17,0,20,0],[17,2,17,3],[18,2,18,3],[19,2,19,3],[20,2,20,3],[21,0,25,0],[21,2,21,3],[22,2,22,3],[23,2,23,3],[24,2,24,3],[25,2,25,3],[26,0,34,0],[26,2,26,3],[27,2,27,3],[28,2,28,3],[29,2,29,3],[30,2,30,3],[31,2,31,3],[32,2,32,3],[33,2,33,3],[34,2,34,3],[35,0,41,0],[35,2,35,3],[36,2,36,3],[37,2,37,3],[38,2,38,3],[39,2,39,3],[40,2,40,3],[41,2,41,3],[42,0,45,0],[42,2,42,3],[43,2,43,3],[44,2,44,3],[45,2,45,3],[46,0,52,0],[46,2,46,3],[47,2,47,3],[48,2,48,3],[49,2,49,3],[50,2,50,3],[51,2,51,3],[52,2,52,3],[53,0,59,0],[53,2,53,3],[54,2,54,3],[55,2,55,3],[56,2,56,3],[57,2,57,3],[58,2,58,3],[59,2,59,3],[60,0,63,0],[60,2,60,3],[61,2,61,3],[62,2,62,3],[63,2,63,3],[64,0,81,0],[64,2,64,3],[65,2,65,3],[66,2,66,3],[67,2,67,3],[68,2,68,3],[69,2,69,3],[70,2,70,3],[71,2,71,3],[72,2,72,3],[73,2,73,3],[74,2,74,3],[75,2,75,3],[76,2,76,3],[77,2,77,3],[78,2,78,3],[79,2,79,3],[80,2,80,3],[81,2,81,3],[82,2,82,3],[83,2,83,3],[84,0,88,0],[84,2,84,3],[85,2,85,3],[86,2,86,3],[87,2,87,3],[88,2,88,3],[89,0,90,0],[89,2,89,3],[90,2,90,3],[91,0,92,0],[91,2,91,3],[92,2,92,3],[93,0,95,0],[93,2,93,3],[94,2,94,3],[95,2,95,3],[96,0,98,0],[96,2,96,3],[97,2,97,3],[98,2,98,3],[99,0,100,0],[99,2,99,3],[100,2,100,3],[101,2,101,3]]}
[]
[]
[]
["Фитинги для аксиальной запресовки"]
[]
["• Материал: фитинги - латунь ЛС 59-1, монтажная гильза - ПВДФ (PVDF)"]
["• Номинальное рабочее давление: 10 бар ",{"$nulls":7},"На главную страницу"]
["• Макс. рабочая температура: 95⁰C"]
["• Фитинги аксиальной заперсовки Gekon соответствуют ГОСТ 32415-2013"]
["• Фитинги аксиальной запрессовки относят к неразъёмным соединениям, что позволяет использовать их для\nскрытой прокладки систем (заливки в бетон)"]
[{"$nulls":8},"Итого:",{"$f":"SUM(K14:K102)","v":{"v":0,"d":"0.00"}}]
["Фото","Артикул","Наименование товара",null,"Размер","Упаковка, шт.","Коробка, шт.","Цена за шт.","Цена со скидкой, RUB","Кол-во, шт.","Сумма со скидкой, RUB"]
[{"$nulls":7},"RUB"]
[null,"GK 7GX001000016","Кольцо монтажное GX 16",null,16,20,300,{"$f":"'Конвертация цен'!H76","v":40.25},{"$f":"H14-H14*Оглавление!$K$15","v":40.25},null,{"$f":"J14*I14","v":{"v":0,"d":"0.00"}}]
[null,"GK 7GX001000020","Кольцо монтажное GX 20",null,20,20,300,{"$f":"'Конвертация цен'!H77","v":{"v":46,"d":"46.00"}},{"$f":"H15-H15*Оглавление!$K$15","v":{"v":46,"d":"46.00"}},null,{"$f":"J15*I15","v":{"v":0,"d":"0.00"}}]
[null,"GK 7GX001000025","Кольцо монтажное GX 25",null,25,20,200,{"$f":"'Конвертация цен'!H78","v":{"v":77.05000000000001,"d":"77.05"}},{"$f":"H16-H16*Оглавление!$K$15","v":{"v":77.05000000000001,"d":"77.05"}},null,{"v":0,"d":"0.00"}]
[null,"GK 7GX001000032","Кольцо монтажное GX 32",null,32,5,100,{"$f":"'Конвертация цен'!H79","v":{"v":125.35000000000001,"d":"125.35"}},{"$f":"H17-H17*Оглавление!$K$15","v":{"v":125.35000000000001,"d":"125.35"}},null,{"$f":"J17*I17","v":{"v":0,"d":"0.00"}}]
[null,"GK 7GX002001616","Прямой фитинг GX 16x16",null,"16x16",10,250,{"$f":"'Конвертация цен'!H80","v":{"v":192.04999999999998,"d":"192.05"}},{"$f":"H18-H18*Оглавление!$K$15","v":{"v":192.04999999999998,"d":"192.05"}},null,{"$f":"J18*I18","v":{"v":0,"d":"0.00"}}]
[null,"GK 7GX002002020","Прямой фитинг GX 20x20",null,"20x20",10,250,{"$f":"'Конвертация цен'!H81","v":362.25},{"$f":"H19-H19*Оглавление!$K$15","v":362.25},null,{"v":0,"d":"0.00"}]
[null,"GK 7GX002002525","Прямой фитинг GX 25x25",null,"25x25",10,100,{"$f":"'Конвертация цен'!H82","v":514.05},{"$f":"H20-H20*Оглавление!$K$15","v":514.05},null,{"v":0,"d":"0.00"}]
[null,"GK 7GX002003232","Прямой фитинг GX 32x32",null,"32x32",5,100,{"$f":"'Конвертация цен'!H83","v":1250.05},{"$f":"H21-H21*Оглавление!$K$15","v":{"v":1250.05,"d":"1,250.05"}},null,{"v":0,"d":"0.00"}]
[null,"GK 7GX002002016","Прямой переходный фитинг GX 20x16",null,"20x16",10,250,{"$f":"'Конвертация цен'!H85","v":{"v":303.6,"d":"303.60"}},{"$f":"H22-H22*Оглавление!$K$15","v":{"v":303.6,"d":"303.60"}},null,{"v":0,"d":"0.00"}]
[null,"GK 7GX002002516","Прямой переходный фитинг GX 25x16",null,"25x16",10,100,{"$f":"'Конвертация цен'!H86","v":{"v":477.25000000000006,"d":"477.25"}},{"$f":"H23-H23*Оглавление!$K$15","v":{"v":477.25000000000006,"d":"477.25"}},null,{"v":0,"d":"0.00"}]
[null,"GK 7GX002002520","Прямой переходный фитинг GX 25x20",null,"25x20",10,100,{"$f":"'Конвертация цен'!H87","v":{"v":477.25000000000006,"d":"477.25"}},{"$f":"H24-H24*Оглавление!$K$15","v":{"v":477.25000000000006,"d":"477.25"}},null,{"v":0,"d":"0.00"}]
[null,"GK 7GX002003220","Прямой переходный фитинг GX 32x20",null,"32x20",5,100,{"$f":"'Конвертация цен'!H88","v":{"v":1622.6499999999999,"d":"1622.65"}},{"$f":"H25-H25*Оглавление!$K$15","v":{"v":1622.6499999999999,"d":"1,622.65"}},null,{"v":0,"d":"0.00"}]
[null,"GK 7GX002003225","Прямой переходный фитинг GX 32x25",null,"32x25",5,100,{"$f":"'Конвертация цен'!H89","v":{"v":1269.6,"d":"1269.60"}},{"$f":"H26-H26*Оглавление!$K$15","v":{"v":1269.6,"d":"1,269.60"}},null,{"v":0,"d":"0.00"}]
[null,"GK 7GX005001612","Прямой фитинг GX с наружной резьбой 16x1/2\"M",null,"16x1/2\"M",10,250,{"$f":"'Конвертация цен'!H92","v":{"v":219.64999999999998,"d":"219.65"}},{"$f":"H27-H27*Оглавление!$K$15","v":{"v":219.64999999999998,"d":"219.65"}},null,{"v":0,"d":"0.00"}]
[null,"GK 7GX005002012","Прямой фитинг GX с наружной резьбой 20x1/2\"M",null,"20x1/2\"M",10,250,{"$f":"'Конвертация цен'!H93","v":{"v":278.3,"d":"278.30"}},{"$f":"H28-H28*Оглавление!$K$15","v":{"v":278.3,"d":"278.30"}},null,{"v":0,"d":"0.00"}]
[null,"GK 7GX005002512","Прямой фитинг GX с наружной резьбой 25x1/2\"M",null,"25x1/2\"M",10,250,{"$f":"'Конвертация цен'!H94","v":422.05},{"$f":"H29-H29*Оглавление!$K$15","v":422.05},null,{"v":0,"d":"0.00"}]
[null,"GK 7GX005001634","Прямой фитинг GX с наружной резьбой 16x3/4\"M",null,"16x3/4\"M",10,250,{"$f":"'Конвертация цен'!H95","v":350.75},{"$f":"H30-H30*Оглавление!$K$15","v":350.75},null,{"v":0,"d":"0.00"}]
[null,"GK 7GX005002034","Прямой фитинг GX с наружной резьбой 20x3/4\"M",null,"20x3/4\"M",10,250,{"$f":"'Конвертация цен'!H96","v":382.95},{"$f":"H31-H31*Оглавление!$K$15","v":382.95},null,{"v":0,"d":"0.00"}]
[null,"GK 7GX005002534","Прямой фитинг GX с наружной резьбой 25x3/4\"M",null,"25x3/4\"M",10,250,{"$f":"'Конвертация цен'!H97","v":{"v":409.40000000000003,"d":"409.40"}},{"$f":"H32-H32*Оглавление!$K$15","v":{"v":409.40000000000003,"d":"409.40"}},null,{"v":0,"d":"0.00"}]
[null,"GK 7GX005002010","Прямой фитинг GX с наружной резьбой 20x1\"M",null,"20x1\"M",5,100,{"$f":"'Конвертация цен'!H98","v":{"v":556.6,"d":"556.60"}},{"$f":"H33-H33*Оглавление!$K$15","v":{"v":556.6,"d":"556.60"}},null,{"v":0,"d":"0.00"}]
[null,"GK 7GX005002510","Прямой фитинг GX с наружной резьбой 25x1\"M",null,"25x1\"M",5,100,{"$f":"'Конвертация цен'!H99","v":{"v":644,"d":"644.00"}},{"$f":"H34-H34*Оглавление!$K$15","v":{"v":644,"d":"644.00"}},null,{"v":0,"d":"0.00"}]
[null,"GK 7GX005003210","Прямой фитинг GX с наружной резьбой 32x1\"M",null,"32x1\"M",5,100,{"$f":"'Конвертация цен'!H100","v":{"v":1124.6999999999998,"d":"1124.70"}},{"$f":"H35-H35*Оглавление!$K$15","v":{"v":1124.6999999999998,"d":"1,124.70"}},null,{"v":0,"d":"0.00"}]
[null,"GK 7GX006001612","Прямой фитинг GX с внутренней резьбой 16x1/2\"F",null,"16x1/2\"F",10,250,{"$f":"'Конвертация цен'!H103","v":{"v":388.7,"d":"388.70"}},{"$f":"H36-H36*Оглавление!$K$15","v":{"v":388.7,"d":"388.70"}},null,{"v":0,"d":"0.00"}]
[null,"GK 7GX006002012","Прямой фитинг GX с внутренней резьбой 20x1/2\"F",null,"20x1/2\"F",10,250,{"$f":"'Конвертация цен'!H104","v":419.75},{"$f":"H37-H37*Оглавление!$K$15","v":419.75},null,{"v":0,"d":"0.00"}]
[null,"GK 7GX006001634","Прямой фитинг GX с внутренней резьбой 16x3/4\"F",null,"16x3/4\"F",10,250,{"$f":"'Конвертация цен'!H105","v":{"v":460,"d":"460.00"}},{"$f":"H38-H38*Оглавление!$K$15","v":{"v":460,"d":"460.00"}},null,{"v":0,"d":"0.00"}]
[null,"GK 7GX006002034","Прямой фитинг GX с внутренней резьбой 20x3/4\"F",null,"20x3/4\"F",10,250,{"$f":"'Конвертация цен'!H106","v":615.25},{"$f":"H39-H39*Оглавление!$K$15","v":615.25},null,{"v":0,"d":"0.00"}]
[null,"GK 7GX006002534","Прямой фитинг GX с внутренней резьбой 25x3/4\"F",null,"25x3/4\"F",10,100,{"$f":"'Конвертация цен'!H107","v":{"v":671.6,"d":"671.60"}},{"$f":"H40-H40*Оглавление!$K$15","v":{"v":671.6,"d":"671.60"}},null,{"v":0,"d":"0.00"}]
[null,"GK 7GX006002510","Прямой фитинг GX с внутренней резьбой 25x1\"F",null,"25x1\"F",5,100,{"$f":"'Конвертация цен'!H108","v":{"v":917.7,"d":"917.70"}},{"$f":"H41-H41*Оглавление!$K$15","v":{"v":917.7,"d":"917.70"}},null,{"v":0,"d":"0.00"}]
[null,"GK 7GX006003210","Прямой фитинг GX с внутренней резьбой 32x1\"F",null,"32x1\"F",5,100,{"$f":"'Конвертация цен'!H109","v":{"v":1720.4,"d":"1720.40"}},{"$f":"H42-H42*Оглавление!$K$15","v":{"v":1720.4,"d":"1,720.40"}},null,{"v":0,"d":"0.00"}]
[null,"GK 7GX003001616","Угольник 90° GX 16x16",null,"16x16",10,250,{"$f":"'Конвертация цен'!H112","v":{"v":299,"d":"299.00"}},{"$f":"H43-H43*Оглавление!$K$15","v":{"v":299,"d":"299.00"}},null,{"v":0,"d":"0.00"}]
[null,"GK 7GX003002020","Угольник 90° GX 20x20",null,"20x20",10,100,{"$f":"'Конвертация цен'!H113","v":{"v":441.59999999999997,"d":"441.60"}},{"$f":"H44-H44*Оглавление!$K$15","v":{"v":441.59999999999997,"d":"441.60"}},null,{"v":0,"d":"0.00"}]
[null,"GK 7GX003002525","Угольник 90° GX 25x25",null,"25x25",5,50,{"$f":"'Конвертация цен'!H114","v":{"v":644,"d":"644.00"}},{"$f":"H45-H45*Оглавление!$K$15","v":{"v":644,"d":"644.00"}},null,{"v":0,"d":"0.00"}]
[null,"GK 7GX003003232","Угольник 90° GX 32x32",null,"32x32",5,50,{"$f":"'Конвертация цен'!H115","v":1328.25},{"$f":"H46-H46*Оглавление!$K$15","v":{"v":1328.25,"d":"1,328.25"}},null,{"v":0,"d":"0.00"}]
[null,"GK 7GX009001612","Угольник 90° GX с наружной резьбой",null,"16x1/2\"M",10,150,{"$f":"'Конвертация цен'!H117","v":373.75},{"$f":"H47-H47*Оглавление!$K$15","v":373.75},null,{"v":0,"d":"0.00"}]
[null,"GK 7GX009002012","Угольник 90° GX с наружной резьбой",null,"20x1/2\"M",10,150,{"$f":"'Конвертация цен'!H118","v":{"v":503.7,"d":"503.70"}},{"$f":"H48-H48*Оглавление!$K$15","v":{"v":503.7,"d":"503.70"}},null,{"v":0,"d":"0.00"}]
[null,"GK 7GX009001634","Угольник 90° GX с наружной резьбой",null,"16x3/4\"M",10,50,{"$f":"'Конвертация цен'!H119","v":537.05},{"$f":"H49-H49*Оглавление!$K$15","v":537.05},null,{"v":0,"d":"0.00"}]
[null,"GK 7GX009002034","Угольник 90° GX с наружной резьбой",null,"20x3/4\"M",10,50,{"$f":"'Конвертация цен'!H121","v":652.05},{"$f":"H50-H50*Оглавление!$K$15","v":652.05},null,{"v":0,"d":"0.00"}]
[null,"GK 7GX009002534","Угольник 90° GX с наружной резьбой",null,"25x3/4\"M",10,50,{"$f":"'Конвертация цен'!H120","v":{"v":907.3499999999999,"d":"907.35"}},{"$f":"H51-H51*Оглавление!$K$15","v":{"v":907.3499999999999,"d":"907.35"}},null,{"v":0,"d":"0.00"}]
[null,"GK 7GX009002510","Угольник 90° GX с наружной резьбой",null,"25x1\"M",5,50,{"$f":"'Конвертация цен'!H122","v":{"v":1058,"d":"1058.00"}},{"$f":"H52-H52*Оглавление!$K$15","v":{"v":1058,"d":"1,058.00"}},null,{"v":0,"d":"0.00"}]
[null,"GK 7GX009003210","Угольник 90° GX с наружной резьбой",null,"32x1\"M",5,50,{"$f":"'Конвертация цен'!H123","v":{"v":1720.4,"d":"1720.40"}},{"$f":"H53-H53*Оглавление!$K$15","v":{"v":1720.4,"d":"1,720.40"}},null,{"v":0,"d":"0.00"}]
[null,"GK 7GX010001612","Угольник 90° GX с внутренней резьбой",null,"16x1/2\"F",10,150,{"$f":"'Конвертация цен'!H124","v":399.05},{"$f":"H54-H54*Оглавление!$K$15","v":399.05},null,{"v":0,"d":"0.00"}]
[null,"GK 7GX010002012","Угольник 90° GX с внутренней резьбой",null,"20x1/2\"F",10,150,{"$f":"'Конвертация цен'!H125","v":511.75},{"$f":"H55-H55*Оглавление!$K$15","v":511.75},null,{"v":0,"d":"0.00"}]
[null,"GK 7GX010001634","Угольник 90° GX с внутренней резьбой",null,"16x3/4\"F",10,50,{"$f":"'Конвертация цен'!H126","v":608.35},{"$f":"H56-H56*Оглавление!$K$15","v":608.35},null,{"v":0,"d":"0.00"}]
[null,"GK 7GX010002034","Угольник 90° GX с внутренней резьбой",null,"20x3/4\"F",10,50,{"$f":"'Конвертация цен'!H127","v":{"v":616.4000000000001,"d":"616.40"}},{"$f":"H57-H57*Оглавление!$K$15","v":{"v":616.4000000000001,"d":"616.40"}},null,{"v":0,"d":"0.00"}]
[null,"GK 7GX010002534","Угольник 90° GX с внутренней резьбой",null,"25x3/4\"F",10,50,{"$f":"'Конвертация цен'!H128","v":{"v":736,"d":"736.00"}},{"$f":"H58-H58*Оглавление!$K$15","v":{"v":736,"d":"736.00"}},null,{"v":0,"d":"0.00"}]
[null,"GK 7GX010002510","Угольник 90° GX с внутренней резьбой",null,"25x1\"F",5,50,{"$f":"'Конвертация цен'!H129","v":{"v":1336.3,"d":"1336.30"}},{"$f":"H59-H59*Оглавление!$K$15","v":{"v":1336.3,"d":"1,336.30"}},null,{"v":0,"d":"0.00"}]
[null,"GK 7GX010003210","Угольник 90° GX с внутренней резьбой",null,"32x1\"F",5,50,{"$f":"'Конвертация цен'!H130","v":{"v":2254,"d":"2254.00"}},{"$f":"H60-H60*Оглавление!$K$15","v":{"v":2254,"d":"2,254.00"}},null,{"v":0,"d":"0.00"}]
[null,"GK 7GX004161616","Тройник соединительный GX 16х16х16",null,"16x16x16",10,100,{"$f":"'Конвертация цен'!H131","v":382.95},{"$f":"H61-H61*Оглавление!$K$15","v":382.95},null,{"v":0,"d":"0.00"}]
[null,"GK 7GX004202020","Тройник соединительный GX 20х20х20",null,"20x20x20",5,100,{"$f":"'Конвертация цен'!H132","v":{"v":577.3,"d":"577.30"}},{"$f":"H62-H62*Оглавление!$K$15","v":{"v":577.3,"d":"577.30"}},null,{"v":0,"d":"0.00"}]
[null,"GK 7GX004252525","Тройник соединительный GX 25х25х25",null,"25x25x25",5,50,{"$f":"'Конвертация цен'!H133","v":863.65},{"$f":"H63-H63*Оглавление!$K$15","v":863.65},null,{"v":0,"d":"0.00"}]
[null,"GK 7GX004323232","Тройник соединительный GX 32х32х32",null,"32x32x32",5,40,{"$f":"'Конвертация цен'!H134","v":{"v":1752.6000000000001,"d":"1752.60"}},{"$f":"H64-H64*Оглавление!$K$15","v":{"v":1752.6000000000001,"d":"1,752.60"}},null,{"v":0,"d":"0.00"}]
[null,"GK 7GX004162016","Тройник переходной GX 16х20х16",null,"16x20x16",10,100,{"$f":"'Конвертация цен'!H136","v":543.95},{"$f":"H65-H65*Оглавление!$K$15","v":543.95},null,{"v":0,"d":"0.00"}]
[null,"GK 7GX004201616","Тройник переходной GX 20х16х16",null,"20x16X16",10,100,{"$f":"'Конвертация цен'!H137","v":543.95},{"$f":"H66-H66*Оглавление!$K$15","v":543.95},null,{"v":0,"d":"0.00"}]
[null,"GK 7GX004201620","Тройник переходной GX 20х16х20",null,"20x16x20",10,100,{"$f":"'Конвертация цен'!H138","v":{"v":593.4,"d":"593.40"}},{"$f":"H67-H67*Оглавление!$K$15","v":{"v":593.4,"d":"593.40"}},null,{"v":0,"d":"0.00"}]
[null,"GK 7GX004202016","Тройник переходной GX 20х20х16",null,"20x20x16",10,100,{"$f":"'Конвертация цен'!H139","v":626.75},{"$f":"H68-H68*Оглавление!$K$15","v":626.75},null,{"v":0,"d":"0.00"}]
[null,"GK 7GX004202520","Тройник переходной GX 20х25х20",null,"20x25x20",10,100,{"$f":"'Конвертация цен'!H140","v":{"v":851,"d":"851.00"}},{"$f":"H69-H69*Оглавление!$K$15","v":{"v":851,"d":"851.00"}},null,{"v":0,"d":"0.00"}]
[null,"GK 7GX004251616","Тройник переходной GX 25х16х16",null,"25x16x16",5,100,{"$f":"'Конвертация цен'!H141","v":{"v":677.3499999999999,"d":"677.35"}},{"$f":"H70-H70*Оглавление!$K$15","v":{"v":677.3499999999999,"d":"677.35"}},null,{"v":0,"d":"0.00"}]
[null,"GK 7GX004251620","Тройник переходной GX 25х16х20",null,"25x16x20",5,100,{"$f":"'Конвертация цен'!H142","v":{"v":817.6500000000001,"d":"817.65"}},{"$f":"H71-H71*Оглавление!$K$15","v":{"v":817.6500000000001,"d":"817.65"}},null,{"v":0,"d":"0.00"}]
[null,"GK 7GX004251625","Тройник переходной GX 25х16х25",null,"25x16x25",5,100,{"$f":"'Конвертация цен'!H143","v":836.05},{"$f":"H72-H72*Оглавление!$K$15","v":836.05},null,{"$f":"J72*I72","v":{"v":0,"d":"0.00"}}]
[null,"GK 7GX004252020","Тройник переходной GX 25х20х20",null,"25x20x20",5,100,{"$f":"'Конвертация цен'!H144","v":845.25},{"$f":"H73-H73*Оглавление!$K$15","v":845.25},null,{"v":0,"d":"0.00"}]
[null,"GK 7GX004252025","Тройник переходной GX 25х20х25",null,"25x20x25",5,100,{"$f":"'Конвертация цен'!H145","v":{"v":925.7500000000001,"d":"925.75"}},{"$f":"H74-H74*Оглавление!$K$15","v":{"v":925.7500000000001,"d":"925.75"}},null,{"v":0,"d":"0.00"}]
[null,"GK 7GX004252520","Тройник переходной GX 25х25х20",null,"25x25x20",5,100,{"$f":"'Конвертация цен'!H146","v":{"v":993.6,"d":"993.60"}},{"$f":"H75-H75*Оглавление!$K$15","v":{"v":993.6,"d":"993.60"}},null,{"v":0,"d":"0.00"}]
[null,"GK 7GX004252516","Тройник переходной GX 25х25х16",null,"25x25x16",5,100,{"$f":"'Конвертация цен'!H147","v":{"v":993.6,"d":"993.60"}},{"$f":"H76-H76*Оглавление!$K$15","v":{"v":993.6,"d":"993.60"}},null,{"v":0,"d":"0.00"}]
[null,"GK 7GX004322020","Тройник переходной GX 32х20х20",null,"32x20x20",5,50,{"$f":"'Конвертация цен'!H148","v":{"v":1835.4,"d":"1835.40"}},{"$f":"H77-H77*Оглавление!$K$15","v":{"v":1835.4,"d":"1,835.40"}},null,{"v":0,"d":"0.00"}]
[null,"GK 7GX004322025","Тройник переходной GX 32х20х25",null,"32x20x25",5,50,{"$f":"'Конвертация цен'!H149","v":{"v":1789.4,"d":"1789.40"}},{"$f":"H78-H78*Оглавление!$K$15","v":{"v":1789.4,"d":"1,789.40"}},null,{"v":0,"d":"0.00"}]
[null,"GK 7GX004322525","Тройник переходной GX 32х25х25",null,"32x25x25",5,50,{"$f":"'Конвертация цен'!H150","v":{"v":1779.0500000000002,"d":"1779.05"}},{"$f":"H79-H79*Оглавление!$K$15","v":{"v":1779.0500000000002,"d":"1,779.05"}},null,{"v":0,"d":"0.00"}]
[null,"GK 7GX004322532","Тройник переходной GX 32х25х32",null,"32x25x32",5,50,{"$f":"'Конвертация цен'!H151","v":1811.25},{"$f":"H80-H80*Оглавление!$K$15","v":{"v":1811.25,"d":"1,811.25"}},null,{"v":0,"d":"0.00"}]
[null,"GK 7GX004323220","Тройник переходной GX 32х32х20",null,"32x32x20",5,40,{"$f":"'Конвертация цен'!H152","v":{"v":2277,"d":"2277.00"}},{"$f":"H81-H81*Оглавление!$K$15","v":{"v":2277,"d":"2,277.00"}},null,{"v":0,"d":"0.00"}]
[null,"GK 7GX004323225","Тройник переходной GX 32х32х25",null,"32x32x25",5,40,{"$f":"'Конвертация цен'!H153","v":{"v":1875.6499999999999,"d":"1875.65"}},{"$f":"H82-H82*Оглавление!$K$15","v":{"v":1875.6499999999999,"d":"1,875.65"}},null,{"v":0,"d":"0.00"}]
[null,"GK 7GX016161216","Тройник с наружной резьбой GX 16x1/2\"Mx16",null,"16x1/2\"Mx16",5,100,{"$f":"'Конвертация цен'!H158","v":543.95},{"$f":"H83-H83*Оглавление!$K$15","v":543.95},null,{"v":0,"d":"0.00"}]
[null,"GK 7GX017161216","Тройник GX с внутренней резьбой",null,"16x1/2\"Fx16",5,100,{"$f":"'Конвертация цен'!H163","v":493.35},{"$f":"H84-H84*Оглавление!$K$15","v":493.35},null,{"v":0,"d":"0.00"}]
[null,"GK 7GX011001612","Угольник установочный GX с внутренней резьбой",null,"16x1/2\"F",5,50,{"$f":"'Конвертация цен'!H168","v":{"v":646.3000000000001,"d":"646.30"}},{"$f":"H85-H85*Оглавление!$K$15","v":{"v":646.3000000000001,"d":"646.30"}},null,{"v":0,"d":"0.00"}]
[null,"GK 7GX018001612","Угольник установочный GX с внутренней резьбой",null,"16x1/2\"F (45 мм)",5,50,{"$f":"'Конвертация цен'!H169","v":635.95},{"$f":"H86-H86*Оглавление!$K$15","v":635.95},null,{"v":0,"d":"0.00"}]
[null,"GK 7GX011002012","Угольник установочный GX с внутренней резьбой",null,"20x1/2\"F",5,50,{"$f":"'Конвертация цен'!H170","v":{"v":790.0500000000001,"d":"790.05"}},{"$f":"H87-H87*Оглавление!$K$15","v":{"v":790.0500000000001,"d":"790.05"}},null,{"v":0,"d":"0.00"}]
[null,"GK 7GX018002012","Угольник установочный GX с внутренней резьбой",null,"20x1/2\"F (45 мм)",5,50,{"$f":"'Конвертация цен'!H171","v":{"v":779.7,"d":"779.70"}},{"$f":"H88-H88*Оглавление!$K$15","v":{"v":779.7,"d":"779.70"}},null,{"v":0,"d":"0.00"}]
[null,"GK 7GX011002034","Угольник установочный GX с внутренней резьбой",null,"20x3/4\"F",5,50,{"$f":"'Конвертация цен'!H172","v":{"v":1058,"d":"1058.00"}},{"$f":"H89-H89*Оглавление!$K$15","v":{"v":1058,"d":"1,058.00"}},null,{"v":0,"d":"0.00"}]
[null,"GK 7GX012001625","Угольник GX с хромированной трубкой (250 мм)",null,"16x15(L-250 мм)",1,50,{"$f":"'Конвертация цен'!H174","v":{"v":1210.9499999999998,"d":"1210.95"}},{"$f":"H90-H90*Оглавление!$K$15","v":{"v":1210.9499999999998,"d":"1,210.95"}},null,{"v":0,"d":"0.00"}]
[null,"GK 7GX012002025","Угольник GX с хромированной трубкой (250 мм)",null,"20x15(L-250 мм)",1,50,{"$f":"'Конвертация цен'!H175","v":{"v":1440.9499999999998,"d":"1440.95"}},{"$f":"H91-H91*Оглавление!$K$15","v":{"v":1440.9499999999998,"d":"1,440.95"}},null,{"v":0,"d":"0.00"}]
[null,"GK 7GX019001625","Тройник GX с хромированной трубкой (250 мм)",null,"16x15(L-250 мм)x16",1,50,{"$f":"'Конвертация цен'!H176","v":{"v":1670.9499999999998,"d":"1670.95"}},{"$f":"H92-H92*Оглавление!$K$15","v":{"v":1670.9499999999998,"d":"1,670.95"}},null,{"v":0,"d":"0.00"}]
[null,"GK 7GX019002025","Тройник GX с хромированной трубкой (250 мм)",null,"20x15(L-250 мм)x20",1,50,{"$f":"'Конвертация цен'!H177","v":1894.05},{"$f":"H93-H93*Оглавление!$K$15","v":{"v":1894.05,"d":"1,894.05"}},null,{"v":0,"d":"0.00"}]
[null,"GK 7GX020000016","Заглушка GX 16",null,16,10,500,{"$f":"'Конвертация цен'!H178","v":143.75},{"$f":"H94-H94*Оглавление!$K$15","v":143.75},null,{"v":0,"d":"0.00"}]
[null,"GK 7GX020000020","Заглушка GX 20",null,20,10,250,{"$f":"'Конвертация цен'!H179","v":{"v":273.7,"d":"273.70"}},{"$f":"H95-H95*Оглавление!$K$15","v":{"v":273.7,"d":"273.70"}},null,{"v":0,"d":"0.00"}]
[null,"GK 7GX020000025","Заглушка GX 25",null,25,10,250,{"$f":"'Конвертация цен'!H180","v":{"v":411.7,"d":"411.70"}},{"$f":"H96-H96*Оглавление!$K$15","v":{"v":411.7,"d":"411.70"}},null,{"v":0,"d":"0.00"}]
[null,"GK 7GX008001612","Фитинг с накидной гайкой GX 1/2\"EU x 16 PEX",null,"1/2\"EUx16 PEX",10,250,{"$f":"'Конвертация цен'!H181","v":{"v":506.00000000000006,"d":"506.00"}},{"$f":"H97-H97*Оглавление!$K$15","v":{"v":506.00000000000006,"d":"506.00"}},null,{"v":0,"d":"0.00"}]
[null,"GK 7GX008001634","Фитинг с накидной гайкой GX 3/4\"EU x 16 PEX",null,"3/4\"EUx16 PEX",10,250,{"$f":"'Конвертация цен'!H182","v":442.75},{"$f":"H98-H98*Оглавление!$K$15","v":442.75},null,{"v":0,"d":"0.00"}]
[null,"GK 7GX008002034","Фитинг с накидной гайкой GX 3/4\"EU x 20 PEX",null,"3/4\"EUx20 PEX",10,250,{"$f":"'Конвертация цен'!H183","v":{"v":667,"d":"667.00"}},{"$f":"H99-H99*Оглавление!$K$15","v":{"v":667,"d":"667.00"}},null,{"v":0,"d":"0.00"}]
[null,"GK 7GX013001634","Переходник для пластиковой трубы с соединением евроконус, 3/4\"E x(16x2,2)",null,"3/4\"E x 16 PEX (16*2,2)",25,250,{"$f":"'Конвертация цен'!H184","v":399.05},{"$f":"H100-H100*Оглавление!$K$15","v":399.05},null,{"v":0,"d":"0.00"}]
[null,"GK 7GX013002034","Переходник для пластиковой трубы с соединением евроконус, 3/4\"E x(20x2,8)",null,"3/4\"E x 20 PEX (20*2,8)",25,250,{"$f":"'Конвертация цен'!H185","v":{"v":472.65000000000003,"d":"472.65"}},{"$f":"H101-H101*Оглавление!$K$15","v":{"v":472.65000000000003,"d":"472.65"}},null,{"v":0,"d":"0.00"}]
[null,"GK 7GX013001534","Переходник для медной трубы с соединением евроконус, 3/4\"E x15",null,"3/4\"E x 15",25,250,{"$f":"'Конвертация цен'!H186","v":281.75},{"$f":"H102-H102*Оглавление!$K$15","v":281.75},null,{"v":0,"d":"0.00"}]

{"sheet":"Шкафы коллекторные","index":4,"n_rows":52,"n_cols":11,"rows_kept":52,"merged":[[3,0,3,7],[5,8,5,10],[14,9,14,10],[15,0,16,0],[15,1,16,1],[15,2,16,3],[15,4,16,4],[15,5,16,5],[15,6,16,6],[15,8,16,8],[15,9,16,9],[15,10,16,10],[17,0,23,0],[17,2,23,3],[36,0,37,0],[36,1,37,1],[36,2,37,3],[36,4,37,4],[36,5,37,5],[36,6,37,6],[36,8,37,8],[36,9,37,9],[36,10,37,10],[38,0,44,0],[38,2,44,3],[45,0,51,0],[45,2,51,3]]}
[]
[]
[]
["Коллекторные шкафы"]
[]
["ШКАФ ВСТРОЕННЫЙ (ШРВ) С НАКЛАДНОЙ ДВЕРЦЕЙ",{"$nulls":7},"На главную страницу"]
["• Страна производства: Россия"]
["• Внутри шкафа установлены передвижные монтажные рейки, к которым крепится оборудование"]
["• Ножки регулируются по высоте до 40мм"]
["• Выдвижная рамка позволяет регулировать глубину от 125 мм до 195 мм"]
["• В боковых стенах корпуса предусмотрена перфорация для удобного пропуска присоединительных трубопроводов"]
["• Корпус шкафа изготовлен из стали толщиной 0,8 мм"]
["• Лицевые поверхности шкафа окрашены порошковой эмалью с предварительной фосфатной подготовкой"]
["• Откидная дверца закрывается на замок"]
[{"$nulls":8},"Итого:",{"$f":"SUM(K18:K24)+SUM(K39:K52)","v":{"v":0,"d":"0.00"}}]
["Фото","Артикул","Наименование товара",null,"Высота х ширина","Вес, кг","Упаковка, шт.","Цена за шт.","Цена со скидкой, RUB","Кол-во, шт.","Сумма со скидкой, RUB"]
[{"$nulls":7},"RUB"]
[null,"GK SHV-0","Шкаф встроенный (ШРВ) с накладной дверцей, регулируемая глубина от 125 до 195 мм",null,"668 x 402",6.77,1,{"$f":"'Конвертация цен'!H190","v":{"v":4071.195,"d":"4071.20"}},{"$f":"H18-H18*Оглавление!$K$16","v":{"v":4071.195,"d":"4,071.20"}},null,{"$f":"J18*I18","v":{"v":0,"d":"0.00"}}]
[null,"GK SHV-1",null,null,"668 x 492",7.45,1,{"$f":"'Конвертация цен'!H191","v":{"v":4344.3146,"d":"4344.31"}},{"$f":"H19-H19*Оглавление!$K$16","v":{"v":4344.3146,"d":"4,344.31"}},null,{"v":0,"d":"0.00"}]
[null,"GK SHV-2",null,null,"668 x 592",8.15,1,{"$f":"'Конвертация цен'!H192","v":{"v":5056.2,"d":"5056.20"}},{"$f":"H20-H20*Оглавление!$K$16","v":{"v":5056.2,"d":"5,056.20"}},null,{"v":0,"d":"0.00"}]
[null,"GK SHV-3",null,null,"668 x 742",10.49,1,{"$f":"'Конвертация цен'!H193","v":{"v":6217.695000000001,"d":"6217.70"}},{"$f":"H21-H21*Оглавление!$K$16","v":{"v":6217.695000000001,"d":"6,217.70"}},null,{"v":0,"d":"0.00"}]
[null,"GK SHV-4",null,null,"668 x 892",10.91,1,{"$f":"'Конвертация цен'!H194","v":7274.25},{"$f":"H22-H22*Оглавление!$K$17","v":{"v":7274.25,"d":"7,274.25"}},null,{"v":0,"d":"0.00"}]
[null,"GK SHV-5",null,null,"668 x 1042",11.33,1,{"$f":"'Конвертация цен'!H195","v":{"v":8037.450000000001,"d":"8037.45"}},{"$f":"H23-H23*Оглавление!$K$17","v":{"v":8037.450000000001,"d":"8,037.45"}},null,{"v":0,"d":"0.00"}]
[null,"GK SHV-6",null,null,"668 x 1192",11.75,1,{"$f":"'Конвертация цен'!H196","v":8800.65},{"$f":"H24-H24*Оглавление!$K$17","v":{"v":8800.65,"d":"8,800.65"}},null,{"v":0,"d":"0.00"}]
[]
["ШКАФ НАРУЖНЫЙ (ШРН) С НАКЛАДНОЙ ДВЕРЦЕЙ"]
["• Страна производства: Россия"]
["• Внутри шкафа установлены передвижные монтажные рейки, к которым крепится оборудование"]
["• Ножки регулируются по высоте до 40мм"]
["• Стандартная глубина наружного шкафа 120 мм (GK SHN), увеличенная глубина наружного шкафа 150 мм (GK SHN-150)"]
["• В боковых стенах корпуса предусмотрена перфорация для удобного пропуска присоединительных трубопроводов"]
["• Корпус шкафа изготовлен из стали толщиной 0,8 мм"]
["• Лицевые поверхности шкафа окрашены порошковой эмалью с предварительной фосфатной подготовкой"]
["• Откидная дверца закрывается на замок"]
["• Все шкафы наружного типа оборудованы нижней съемной планкой для удобства монтажа трубопровода"]
[]
["Фото","Артикул","Наименование товара",null,"Высота х ширина","Вес, кг","Упаковка, шт.","Цена за шт.","Цена со скидкой, RUB","Кол-во, шт.","Сумма со скидкой, RUB"]
[{"$nulls":7},"RUB"]
[null,"GK SHN-0","Шкаф наружный (ШРН) с накладной дверцей, стандартная глубина 120 мм",null,"652 x 367",5.2,1,{"$f":"'Конвертация цен'!H197","v":3410.55},{"$f":"H39-H39*Оглавление!$K$16","v":{"v":3410.55,"d":"3,410.55"}},null,{"$f":"J39*I39","v":{"v":0,"d":"0.00"}}]
[null,"GK SHN-1",null,null,"652 x 457",6.55,1,{"$f":"'Конвертация цен'!H198","v":{"v":4114.729200000001,"d":"4114.73"}},{"$f":"H40-H40*Оглавление!$K$16","v":{"v":4114.729200000001,"d":"4,114.73"}},null,{"$f":"J40*I40","v":{"v":0,"d":"0.00"}}]
[null,"GK SHN-2",null,null,"652 x 557",6.65,1,{"$f":"'Конвертация цен'!H199","v":{"v":4404.0986,"d":"4404.10"}},{"$f":"H41-H41*Оглавление!$K$16","v":{"v":4404.0986,"d":"4,404.10"}},null,{"v":0,"d":"0.00"}]
[null,"GK SHN-3",null,null,"652 x 707",7.3,1,{"$f":"'Конвертация цен'!H200","v":{"v":5251.452,"d":"5251.45"}},{"$f":"H42-H42*Оглавление!$K$16","v":{"v":5251.452,"d":"5,251.45"}},null,{"v":0,"d":"0.00"}]
[null,"GK SHN-4",null,null,"652 x 857",8.25,1,{"$f":"'Конвертация цен'!H201","v":{"v":6252.8976,"d":"6252.90"}},{"$f":"H43-H43*Оглавление!$K$16","v":{"v":6252.8976,"d":"6,252.90"}},null,{"v":0,"d":"0.00"}]
[null,"GK SHN-5",null,null,"652 x 1007",9.04,1,{"$f":"'Конвертация цен'!H202","v":{"v":7118.970600000001,"d":"7118.97"}},{"$f":"H44-H44*Оглавление!$K$16","v":{"v":7118.970600000001,"d":"7,118.97"}},null,{"v":0,"d":"0.00"}]
[null,"GK SHN-6","Трехходовой фитинг для установки в поток датчика температуры",null,"652 x 1157",9.71,1,{"$f":"'Конвертация цен'!H203","v":{"v":8409.478200000001,"d":"8409.48"}},{"$f":"H45-H45*Оглавление!$K$16","v":{"v":8409.478200000001,"d":"8,409.48"}},null,{"v":0,"d":"0.00"}]
[null,"GK SHN-150-0","Шкаф наружный (ШРН) с накладной дверцей, увеличенная глубина 150 мм",null,"652 x 367",5.5,1,{"$f":"'Конвертация цен'!H204","v":3935.25},{"$f":"H46-H46*Оглавление!$K$16","v":{"v":3935.25,"d":"3,935.25"}},null,{"v":0,"d":"0.00"}]
[null,"GK SHN-150-1",null,null,"652 x 457",6.37,1,{"$f":"'Конвертация цен'!H205","v":{"v":4436.1,"d":"4436.10"}},{"$f":"H47-H47*Оглавление!$K$16","v":{"v":4436.1,"d":"4,436.10"}},null,{"v":0,"d":"0.00"}]
[null,"GK SHN-150-2",null,null,"652 x 557",7.01,1,{"$f":"'Конвертация цен'!H206","v":{"v":4810.788799999999,"d":"4810.79"}},{"$f":"H48-H48*Оглавление!$K$16","v":{"v":4810.788799999999,"d":"4,810.79"}},null,{"v":0,"d":"0.00"}]
[null,"GK SHN-150-3",null,null,"652 x 707",7.91,1,{"$f":"'Конвертация цен'!H207","v":{"v":5826.0992,"d":"5826.10"}},{"$f":"H49-H49*Оглавление!$K$16","v":{"v":5826.0992,"d":"5,826.10"}},null,{"v":0,"d":"0.00"}]
[null,"GK SHN-150-4",null,null,"652 x 857",9.01,1,{"$f":"'Конвертация цен'!H208","v":6682.77},{"$f":"H50-H50*Оглавление!$K$16","v":{"v":6682.77,"d":"6,682.77"}},null,{"v":0,"d":"0.00"}]
[null,"GK SHN-150-5",null,null,"652 x 1007",10.26,1,{"$f":"'Конвертация цен'!H209","v":{"v":7996.0252,"d":"7996.03"}},{"$f":"H51-H51*Оглавление!$K$16","v":{"v":7996.0252,"d":"7,996.03"}},null,{"v":0,"d":"0.00"}]
[null,"GK SHN-150-6","Трехходовой фитинг для установки в поток датчика температуры",null,"652 x 1157",10.81,1,{"$f":"'Конвертация цен'!H210","v":{"v":8841.195,"d":"8841.20"}},{"$f":"H52-H52*Оглавление!$K$16","v":{"v":8841.195,"d":"8,841.20"}},null,{"v":0,"d":"0.00"}]

{"sheet":"Узлы ТП, коллекторы","index":5,"n_rows":112,"n_cols":11,"rows_kept":112,"merged":[[3,0,5,6],[5,8,5,10],[18,9,18,10],[19,0,20,0],[19,1,20,1],[19,2,20,3],[19,4,20,4],[19,5,20,5],[19,6,20,6],[19,8,20,8],[19,9,20,9],[19,10,20,10],[21,2,21,3],[22,2,22,3],[23,2,23,3],[24,2,24,3],[37,0,38,0],[37,1,38,1],[37,2,38,3],[37,4,38,4],[37,5,38,5],[37,6,38,6],[37,8,38,8],[37,9,38,9],[37,10,38,10],[39,2,39,3],[40,2,40,3],[51,0,52,0],[51,1,52,1],[51,2,52,3],[51,4,52,4],[51,5,52,5],[51,6,52,6],[51,8,52,8],[51,9,52,9],[51,10,52,10],[53,0,63,0],[53,2,63,3],[64,0,74,0],[64,2,74,3],[75,0,85,0],[75,2,85,3],[86,0,96,0],[86,2,96,3],[100,0,101,0],[100,1,101,1],[100,2,101,3],[100,4,101,4],[100,5,101,5],[100,6,101,6],[100,8,101,8],[100,9,101,9],[100,10,101,10],[102,2,102,3],[103,2,103,3],[104,2,104,3],[105,0,106,0],[105,2,105,3],[106,2,106,3],[107,0,108,0],[107,2,108,3],[109,2,109,3],[110,2,110,3],[111,2,111,3]]}
[]
[]
[]
["Смесительные узлы и комплектующие для напольного отопления, коллекторные блоки и комплектующие"]
[]
[{"$nulls":8},"На главную страницу"]
[]
["НАСОСНО-СМЕСИТЕЛЬНЫЕ УЗЛЫ НА ОСНОВЕ ТЕРМОСТАТИЧЕСКОГО СМЕСИТЕЛЯ"]
["• Номинальное давление: 10 бар"]
["• Макс. температура потока на входе смесителя: 110° C"]
["• Температура смешанного потока: 20°C- 45°C"]
["• Материал корпуса латунь CW617N"]
["• Монтажная длина насоса: без установленной байпасной линии - 130 / 180 мм, с байпасной линией - 130 мм"]
["• При установке с коллекторами Gekon монтажная длина насоса - 130 мм"]
["• Расстояние между коллекторами: 210 ÷ 240 мм"]
["• Присоединение к распределительному коллектору: эксцентрик 30 мм, 1\"НР, присоединение к трубопроводу СО: 1\"НР"]
["• Смесительный узел укомплектован Термометром и ручным воздухоотводчиком, имеет возможность установки предохранительного термостата"]
["• Смесительный узел поставляется без насоса"]
[{"$nulls":8},"Итого:",{"$f":"SUM(K22:K25)+SUM(K40:K41)+SUM(K54:K97)+SUM(K103:K112)","v":{"v":0,"d":"0.00"}}]
["Фото","Артикул","Наименование товара",null,"Присоединение к ТП","Упаковка, шт.","Коробка, шт.","Цена за шт.","Цена со скидкой, RUB","Кол-во, шт.","Сумма со скидкой, RUB"]
[{"$nulls":7},"RUB"]
[null,"GK 7686-F30","Насосно-смесительнаый узел для напольного отопления по фиксированной температуре смешения",null,"1\"",1,20,{"$f":"'Конвертация цен'!H214","v":17543.25},{"$f":"H22-H22*Оглавление!$K$17","v":{"v":17543.25,"d":"17,543.25"}},null,{"$f":"J22*I22","v":{"v":0,"d":"0.00"}}]
[null,"GK 7686G-F30","Насосно-смесительная группа для напольного отопления по фиксированной температуре смешения c фитингом для подключения байпаса и накидной гайкой для насоса G1",null,"1\"",1,20,{"$f":"'Конвертация цен'!H215","v":{"v":23115,"d":"23115.00"}},{"$f":"H23-H23*Оглавление!$K$17","v":{"v":23115,"d":"23,115.00"}},null,{"v":0,"d":"0.00"}]
[null,"GK 7686G-F3","Насосно-смесительная группа для напольного отопления по фиксированной температуре смешения c фитингом для подключения байпаса и накидной гайкой для насоса G1 ½",null,"1\"",1,20,{"$f":"'Конвертация цен'!H216","v":{"v":23115,"d":"23115.00"}},{"$f":"H24-H24*Оглавление!$K$17","v":{"v":23115,"d":"23,115.00"}},null,{"v":0,"d":"0.00"}]
[null,"GK 7686901","Байпасная линия для узлов GK 7686G-F30, GK 7686G-F3 (диапазон 0÷0.5 бар, Kvs 5,0 м3/ч, Межосевое расстояние 210 мм)",null,"1/2\"",1,20,{"$f":"'Конвертация цен'!H217","v":6351.45},{"$f":"H25-H25*Оглавление!$K$17","v":{"v":6351.45,"d":"6,351.45"}},null,{"v":0,"d":"0.00"}]
[]
["  НАСОСНО-СМЕСИТЕЛЬНЫЙ УЗЕЛ НА ОСНОВЕ ТЕРМОСТАТИЧЕСКОГО КЛАПАНА С ДАТЧИКОМ ТЕМПЕРАТУРЫ"]
["• Номинальное давление: 6 бар"]
["• Макс. температура потока на входе смесителя: 95° C"]
["• Температура смешанного потока: 20°C- 60°C"]
["• Материал корпуса латунь CW617N"]
["• При установке с коллекторами Gekon монтажная длина насоса - 130 мм"]
["• Расстояние между коллекторами: 277 мм"]
["• Присоединение к распределительному коллектору: 1\"НР, присоединение к трубопроводу СО: 3/4\"НР, присоединение насоса: 1 1/2\" ВР"]
["• Смесительный узел укомплектован термостатической головкой с выносным датчиком температуры"]
["• Смесительный узел поставляется без насоса"]
[]
["Фото","Артикул","Наименование товара",null,"Присоединение к ТП","Упаковка, шт.","Коробка, шт.","Цена за шт.","Цена со скидкой, RUB","Кол-во, шт.","Сумма со скидкой, RUB"]
[{"$nulls":7},"RUB"]
[null,"GK 7685","Насосно-смесительный узел для напольного отопления с термостатической головкой",null,"3/4\"",1,20,{"$f":"'Конвертация цен'!H218","v":{"v":14660.2,"d":"14660.20"}},{"$f":"H40-H40*Оглавление!$K$17","v":{"v":14660.2,"d":"14,660.20"}},null,{"$f":"J40*I40","v":{"v":0,"d":"0.00"}}]
[null,"GK 714R","Трехходовой фитинг для установки в поток датчика температуры",null,"1\"",10,10,{"$f":"'Конвертация цен'!H219","v":{"v":2668,"d":"2668.00"}},{"$f":"H41-H41*Оглавление!$K$17","v":{"v":2668,"d":"2,668.00"}},null,{"$f":"J41*I41","v":{"v":0,"d":"0.00"}}]
[]
["КОЛЛЕКТОРНЫЕ БЛОКИ ДЛЯ НАПОЛЬНОГО И РАДИАТОРНОГО ОТОПДЛЕНИЯ"]
["• Номинальное давление: 6 бар (GK 721, GK 741), 10 бар (GK 731, GK 751)"]
["• Макс. рабочая температура: 82 °С (GK 721, GK 741), 100 °С (GK 731, GK 751)"]
["• Материал коллектора нержавеющая сталь AISI 304"]
["• Номинальный диаметр коллектора DN 25 (присоединение 1\" ВР), отводы DN 20 (присоединение 3/4\" НР, Евроконус)"]
["• Коллектор подающий с расходомерами (GK 721, GK 741), с микрометрическими вентилями (GK 731, GK 751);  коллектор обратный с термоклапанами"]
["• Максимальное дифференциальное давление: 1 бар"]
["• Межосевое расстояние между выходами 50мм"]
[]
["Фото","Артикул","Наименование товара",null,"Присоединение к ТП","Упаковка, шт.","Коробка, шт.","Цена за шт.","Цена со скидкой, RUB","Кол-во, шт.","Сумма со скидкой, RUB"]
[{"$nulls":7},"RUB"]
[null,"GK 72102","Коллекторный блок с расходомерами, термостатическими клапанами и ручными воздухоотводчиками",null,"1\"x3/4\"х2",1,1,{"$f":"'Конвертация цен'!H220","v":{"v":10996.300000000001,"d":"10996.30"}},{"$f":"H54-H54*Оглавление!$K$18","v":{"v":10996.300000000001,"d":"10,996.30"}},null,{"v":0,"d":"0.00"}]
[null,"GK 72103",null,null,"1\"x3/4\"х3",1,1,{"$f":"'Конвертация цен'!H221","v":{"v":13503.300000000001,"d":"13503.30"}},{"$f":"H55-H55*Оглавление!$K$18","v":{"v":13503.300000000001,"d":"13,503.30"}},null,{"v":0,"d":"0.00"}]
[null,"GK 72104",null,null,"1\"x3/4\"х4",1,1,{"$f":"'Конвертация цен'!H222","v":{"v":16037.900000000001,"d":"16037.90"}},{"$f":"H56-H56*Оглавление!$K$18","v":{"v":16037.900000000001,"d":"16,037.90"}},null,{"v":0,"d":"0.00"}]
[null,"GK 72105",null,null,"1\"x3/4\"х5",1,1,{"$f":"'Конвертация цен'!H223","v":{"v":18917.5,"d":"18917.50"}},{"$f":"H57-H57*Оглавление!$K$18","v":{"v":18917.5,"d":"18,917.50"}},null,{"v":0,"d":"0.00"}]
[null,"GK 72106",null,null,"1\"x3/4\"х6",1,1,{"$f":"'Конвертация цен'!H224","v":{"v":21459,"d":"21459.00"}},{"$f":"H58-H58*Оглавление!$K$18","v":{"v":21459,"d":"21,459.00"}},null,{"v":0,"d":"0.00"}]
[null,"GK 72107",null,null,"1\"x3/4\"х7",1,1,{"$f":"'Конвертация цен'!H225","v":24864.15},{"$f":"H59-H59*Оглавление!$K$18","v":{"v":24864.15,"d":"24,864.15"}},null,{"v":0,"d":"0.00"}]
[null,"GK 72108",null,null,"1\"x3/4\"х8",1,1,{"$f":"'Конвертация цен'!H226","v":27838.05},{"$f":"H60-H60*Оглавление!$K$18","v":{"v":27838.05,"d":"27,838.05"}},null,{"v":0,"d":"0.00"}]
[null,"GK 72109",null,null,"1\"x3/4\"х9",1,1,{"$f":"'Конвертация цен'!H227","v":{"v":30525.6,"d":"30525.60"}},{"$f":"H61-H61*Оглавление!$K$18","v":{"v":30525.6,"d":"30,525.60"}},null,{"v":0,"d":"0.00"}]
[null,"GK 72110",null,null,"1\"x3/4\"х10",1,1,{"$f":"'Конвертация цен'!H228","v":{"v":33455.8,"d":"33455.80"}},{"$f":"H62-H62*Оглавление!$K$18","v":{"v":33455.8,"d":"33,455.80"}},null,{"v":0,"d":"0.00"}]
[null,"GK 72111",null,null,"1\"x3/4\"х11",1,1,{"$f":"'Конвертация цен'!H229","v":{"v":36135.3,"d":"36135.30"}},{"$f":"H63-H63*Оглавление!$K$18","v":{"v":36135.3,"d":"36,135.30"}},null,{"v":0,"d":"0.00"}]
[null,"GK 72112",null,null,"1\"x3/4\"х12",1,1,{"$f":"'Конвертация цен'!H230","v":{"v":38766.5,"d":"38766.50"}},{"$f":"H64-H64*Оглавление!$K$18","v":{"v":38766.5,"d":"38,766.50"}},null,{"v":0,"d":"0.00"}]
[null,"GK 73102","Коллекторный блок с микрометрическими вентилями, термостатическими клапанами и ручными воздухоотводчиками",null,"1\"x3/4\"х2",1,1,{"$f":"'Конвертация цен'!H231","v":{"v":11435.6,"d":"11435.60"}},{"$f":"H65-H65*Оглавление!$K$18","v":{"v":11435.6,"d":"11,435.60"}},null,{"v":0,"d":"0.00"}]
[null,"GK 73103",null,null,"1\"x3/4\"х3",1,1,{"$f":"'Конвертация цен'!H232","v":{"v":13469.949999999999,"d":"13469.95"}},{"$f":"H66-H66*Оглавление!$K$18","v":{"v":13469.949999999999,"d":"13,469.95"}},null,{"v":0,"d":"0.00"}]
[null,"GK 73104",null,null,"1\"x3/4\"х4",1,1,{"$f":"'Конвертация цен'!H233","v":{"v":15525,"d":"15525.00"}},{"$f":"H67-H67*Оглавление!$K$18","v":{"v":15525,"d":"15,525.00"}},null,{"v":0,"d":"0.00"}]
[null,"GK 73105",null,null,"1\"x3/4\"х5",1,1,{"$f":"'Конвертация цен'!H234","v":17858.35},{"$f":"H68-H68*Оглавление!$K$18","v":{"v":17858.35,"d":"17,858.35"}},null,{"v":0,"d":"0.00"}]
[null,"GK 73106",null,null,"1\"x3/4\"х6",1,1,{"$f":"'Конвертация цен'!H235","v":{"v":20042.2,"d":"20042.20"}},{"$f":"H69-H69*Оглавление!$K$18","v":{"v":20042.2,"d":"20,042.20"}},null,{"v":0,"d":"0.00"}]
[null,"GK 73107",null,null,"1\"x3/4\"х7",1,1,{"$f":"'Конвертация цен'!H236","v":{"v":22735.5,"d":"22735.50"}},{"$f":"H70-H70*Оглавление!$K$18","v":{"v":22735.5,"d":"22,735.50"}},null,{"v":0,"d":"0.00"}]
[null,"GK 73108",null,null,"1\"x3/4\"х8",1,1,{"$f":"'Конвертация цен'!H237","v":{"v":25175.8,"d":"25175.80"}},{"$f":"H71-H71*Оглавление!$K$18","v":{"v":25175.8,"d":"25,175.80"}},null,{"v":0,"d":"0.00"}]
[null,"GK 73109",null,null,"1\"x3/4\"х9",1,1,{"$f":"'Конвертация цен'!H238","v":{"v":27312.5,"d":"27312.50"}},{"$f":"H72-H72*Оглавление!$K$18","v":{"v":27312.5,"d":"27,312.50"}},null,{"v":0,"d":"0.00"}]
[null,"GK 73110",null,null,"1\"x3/4\"х10",1,1,{"$f":"'Конвертация цен'!H239","v":29719.45},{"$f":"H73-H73*Оглавление!$K$18","v":{"v":29719.45,"d":"29,719.45"}},null,{"v":0,"d":"0.00"}]
[null,"GK 73111",null,null,"1\"x3/4\"х11",1,1,{"$f":"'Конвертация цен'!H240","v":{"v":31832,"d":"31832.00"}},{"$f":"H74-H74*Оглавление!$K$18","v":{"v":31832,"d":"31,832.00"}},null,{"v":0,"d":"0.00"}]
[null,"GK 73112",null,null,"1\"x3/4\"х12",1,1,{"$f":"'Конвертация цен'!H241","v":33912.35},{"$f":"H75-H75*Оглавление!$K$18","v":{"v":33912.35,"d":"33,912.35"}},null,{"v":0,"d":"0.00"}]
[null,"GK 74102","Коллекторный блок с расходомерами, термостатическими клапанами без воздухоотводчиков                                                           ",null,"1\"x3/4\"х2",1,1,{"$f":"'Конвертация цен'!H242","v":{"v":9522,"d":"9522.00"}},{"$f":"H76-H76*Оглавление!$K$18","v":{"v":9522,"d":"9,522.00"}},null,{"v":0,"d":"0.00"}]
[null,"GK 74103",null,null,"1\"x3/4\"х3",1,1,{"$f":"'Конвертация цен'!H243","v":{"v":12033.6,"d":"12033.60"}},{"$f":"H77-H77*Оглавление!$K$18","v":{"v":12033.6,"d":"12,033.60"}},null,{"v":0,"d":"0.00"}]
[null,"GK 74104",null,null,"1\"x3/4\"х4",1,1,{"$f":"'Конвертация цен'!H244","v":{"v":14565.9,"d":"14565.90"}},{"$f":"H78-H78*Оглавление!$K$18","v":{"v":14565.9,"d":"14,565.90"}},null,{"v":0,"d":"0.00"}]
[null,"GK 74105",null,null,"1\"x3/4\"х5",1,1,{"$f":"'Конвертация цен'!H245","v":{"v":17440.899999999998,"d":"17440.90"}},{"$f":"H79-H79*Оглавление!$K$18","v":{"v":17440.899999999998,"d":"17,440.90"}},null,{"v":0,"d":"0.00"}]
[null,"GK 74106",null,null,"1\"x3/4\"х6",1,1,{"$f":"'Конвертация цен'!H246","v":{"v":19982.399999999998,"d":"19982.40"}},{"$f":"H80-H80*Оглавление!$K$18","v":{"v":19982.399999999998,"d":"19,982.40"}},null,{"v":0,"d":"0.00"}]
[null,"GK 74107",null,null,"1\"x3/4\"х7",1,1,{"$f":"'Конвертация цен'!H247","v":23389.85},{"$f":"H81-H81*Оглавление!$K$18","v":{"v":23389.85,"d":"23,389.85"}},null,{"v":0,"d":"0.00"}]
[null,"GK 74108",null,null,"1\"x3/4\"х8",1,1,{"$f":"'Конвертация цен'!H248","v":26363.75},{"$f":"H82-H82*Оглавление!$K$18","v":{"v":26363.75,"d":"26,363.75"}},null,{"v":0,"d":"0.00"}]
[null,"GK 74109",null,null,"1\"x3/4\"х9",1,1,{"$f":"'Конвертация цен'!H249","v":29052.45},{"$f":"H83-H83*Оглавление!$K$18","v":{"v":29052.45,"d":"29,052.45"}},null,{"v":0,"d":"0.00"}]
[null,"GK 74110",null,null,"1\"x3/4\"х10",1,1,{"$f":"'Конвертация цен'!H250","v":{"v":31979.199999999997,"d":"31979.20"}},{"$f":"H84-H84*Оглавление!$K$18","v":{"v":31979.199999999997,"d":"31,979.20"}},null,{"v":0,"d":"0.00"}]
[null,"GK 74111",null,null,"1\"x3/4\"х11",1,1,{"$f":"'Конвертация цен'!H251","v":34659.85},{"$f":"H85-H85*Оглавление!$K$18","v":{"v":34659.85,"d":"34,659.85"}},null,{"v":0,"d":"0.00"}]
[null,"GK 74112",null,null,"1\"x3/4\"х12",1,1,{"$f":"'Конвертация цен'!H252","v":{"v":37289.9,"d":"37289.90"}},{"$f":"H86-H86*Оглавление!$K$18","v":{"v":37289.9,"d":"37,289.90"}},null,{"v":0,"d":"0.00"}]
[null,"GK 75102","Коллекторный блок с микрометрическими вентилями, термостатическими клапанами без воздухоотводчиков",null,"1\"x3/4\"х2",1,1,{"$f":"'Конвертация цен'!H253","v":{"v":8511.150000000001,"d":"8511.15"}},{"$f":"H87-H87*Оглавление!$K$18","v":{"v":8511.150000000001,"d":"8,511.15"}},null,{"v":0,"d":"0.00"}]
[null,"GK 75103",null,null,"1\"x3/4\"х3",1,1,{"$f":"'Конвертация цен'!H254","v":{"v":10547.8,"d":"10547.80"}},{"$f":"H88-H88*Оглавление!$K$18","v":{"v":10547.8,"d":"10,547.80"}},null,{"v":0,"d":"0.00"}]
[null,"GK 75104",null,null,"1\"x3/4\"х4",1,1,{"$f":"'Конвертация цен'!H255","v":{"v":12599.4,"d":"12599.40"}},{"$f":"H89-H89*Оглавление!$K$18","v":{"v":12599.4,"d":"12,599.40"}},null,{"v":0,"d":"0.00"}]
[null,"GK 75105",null,null,"1\"x3/4\"х5",1,1,{"$f":"'Конвертация цен'!H256","v":14939.65},{"$f":"H90-H90*Оглавление!$K$18","v":{"v":14939.65,"d":"14,939.65"}},null,{"v":0,"d":"0.00"}]
[null,"GK 75106",null,null,"1\"x3/4\"х6",1,1,{"$f":"'Конвертация цен'!H257","v":{"v":17118.9,"d":"17118.90"}},{"$f":"H91-H91*Оглавление!$K$18","v":{"v":17118.9,"d":"17,118.90"}},null,{"v":0,"d":"0.00"}]
[null,"GK 75107",null,null,"1\"x3/4\"х7",1,1,{"$f":"'Конвертация цен'!H258","v":19808.75},{"$f":"H92-H92*Оглавление!$K$18","v":{"v":19808.75,"d":"19,808.75"}},null,{"v":0,"d":"0.00"}]
[null,"GK 75108",null,null,"1\"x3/4\"х8",1,1,{"$f":"'Конвертация цен'!H259","v":{"v":22253.649999999998,"d":"22253.65"}},{"$f":"H93-H93*Оглавление!$K$18","v":{"v":22253.649999999998,"d":"22,253.65"}},null,{"v":0,"d":"0.00"}]
[null,"GK 75109",null,null,"1\"x3/4\"х9",1,1,{"$f":"'Конвертация цен'!H260","v":24852.65},{"$f":"H94-H94*Оглавление!$K$18","v":{"v":24852.65,"d":"24,852.65"}},null,{"v":0,"d":"0.00"}]
[null,"GK 75110",null,null,"1\"x3/4\"х10",1,1,{"$f":"'Конвертация цен'!H261","v":{"v":26793.850000000002,"d":"26793.85"}},{"$f":"H95-H95*Оглавление!$K$18","v":{"v":26793.850000000002,"d":"26,793.85"}},null,{"v":0,"d":"0.00"}]
[null,"GK 75111",null,null,"1\"x3/4\"х11",1,1,{"$f":"'Конвертация цен'!H262","v":{"v":29457.249999999996,"d":"29457.25"}},{"$f":"H96-H96*Оглавление!$K$18","v":{"v":29457.249999999996,"d":"29,457.25"}},null,{"v":0,"d":"0.00"}]
[null,"GK 75112",null,null,"1\"x3/4\"х12",1,1,{"$f":"'Конвертация цен'!H263","v":{"v":32464.5,"d":"32464.50"}},{"$f":"H97-H97*Оглавление!$K$18","v":{"v":32464.5,"d":"32,464.50"}},null,{"v":0,"d":"0.00"}]
[]
["КОМПЛЕКТУЮЩИЕ ДЛЯ КОЛЛЕКТОРОВ НАПОЛЬНОГО И РАДИАТОРНОГО ОТПЛЕНИЯ"]
[]
["Фото","Артикул","Наименование товара",null,"Присоединение к ТП","Упаковка, шт.","Коробка, шт.","Цена за шт.","Цена со скидкой, RUB","Кол-во, шт.","Сумма со скидкой, RUB"]
[{"$nulls":7},"RUB"]
[null,"GK 7590","Комплект коллекторных фитингов со сливным краном и ручным воздухоотводчиком",null,"1\"",1,18,{"$f":"'Конвертация цен'!H264","v":3625.9500000000003},{"$f":"H103-H103*Оглавление!$K$17","v":{"v":3625.9500000000003,"d":"3,625.95"}},null,{"v":0,"d":"0.00"}]
[null,"GK 7591","Комплект коллекторных фитингов со сливным краном и автоматическим воздухоотводчиком",null,"1\"",1,15,{"$f":"'Конвертация цен'!H265","v":4727.65},{"$f":"H104-H104*Оглавление!$K$17","v":{"v":4727.65,"d":"4,727.65"}},null,{"v":0,"d":"0.00"}]
[null,"GK 79115","Латунный расходомер для коллекторных блоков напольного и радиаторного отопления",null,"1/2\"",1,10,{"$f":"'Конвертация цен'!H266","v":1020.05},{"$f":"H105-H105*Оглавление!$K$17","v":{"v":1020.05,"d":"1,020.05"}},null,{"v":0,"d":"0.00"}]
[null,"GK 1903N","Электротермическая головка 230В, нормально закрытая ",null,"М30х1,5",1,60,{"$f":"'Конвертация цен'!H267","v":3477.6},{"$f":"H106-H106*Оглавление!$K$17","v":{"v":3477.6,"d":"3,477.60"}},null,{"v":0,"d":"0.00"}]
[null,"GK 1904N","Электротермическая головка 24В, нормально закрытая ",null,"М30х1,5",1,60,{"$f":"'Конвертация цен'!H268","v":3643.2},{"$f":"H107-H107*Оглавление!$K$17","v":{"v":3643.2,"d":"3,643.20"}},null,{"v":0,"d":"0.00"}]
[null,"GK 71602","Концовка для металлопластиковых труб и труб РЕХ, 3/4\" Евроконус",null,"16*2 x 3/4\"",30,30,{"$f":"'Конвертация цен'!H269","v":333.5},{"$f":"H108-H108*Оглавление!$K$17","v":{"v":333.5,"d":"333.50"}},null,{"v":0,"d":"0.00"}]
[null,"GK 72002",null,null,"20*2 x 3/4\"",30,30,{"$f":"'Конвертация цен'!H270","v":508.3},{"$f":"H109-H109*Оглавление!$K$17","v":{"v":508.3,"d":"508.30"}},null,{"v":0,"d":"0.00"}]
[null,"GK 79181","Комплект (2 шт) шаровых кранов для коллекторов: с \"американкой\", термометром и отводом для температурного зонда, ручки - красная и синяя \"бабочка\"",null,"1\"",1,10,{"$f":"'Конвертация цен'!H271","v":8301.85},{"$f":"H110-H110*Оглавление!$K$17","v":{"v":8301.85,"d":"8,301.85"}},null,{"v":0,"d":"0.00"}]
[null,"GK 7534","Группа безопасности бойлера с прямым сливом, рабочее давление 10 бар, давление настройки предохранительного клапана 7 ± 0,1 бар",null,"3/4\"",1,15,{"$f":"'Конвертация цен'!H272","v":5431.45},{"$f":"H111-H111*Оглавление!$K$17","v":{"v":5431.45,"d":"5,431.45"}},null,{"v":0,"d":"0.00"}]
[null,"GK 7535","Группа безопасности бойлера с угловых сливом, рабочее давление 10 бар, давление настройки предохранительного клапана 7 ± 0,1 бар",null,"3/4\"",1,15,{"$f":"'Конвертация цен'!H273","v":7182.900000000001},{"$f":"H112-H112*Оглавление!$K$17","v":{"v":7182.900000000001,"d":"7,182.90"}},null,{"$f":"J112*I112","v":{"v":0,"d":"0.00"}}]

{"sheet":"Клапаны для отоп.приборов","index":6,"n_rows":41,"n_cols":13,"rows_kept":41,"merged":[[3,0,3,8],[4,8,4,10],[6,11,6,12],[7,0,8,0],[7,1,8,1],[7,2,8,4],[7,5,8,5],[7,6,8,6],[7,7,8,7],[7,8,8,8],[7,10,8,10],[7,11,8,11],[7,12,8,12],[9,2,9,4],[10,2,10,4],[11,0,12,0],[11,2,12,4],[13,0,14,0],[13,2,14,4],[15,0,16,0],[15,2,16,4],[17,0,18,0],[17,2,18,4],[19,2,19,4],[20,2,20,4],[21,0,22,0],[21,2,22,4],[23,0,24,0],[23,2,24,4],[25,2,25,4],[29,0,30,0],[29,1,30,1],[29,2,30,4],[29,5,30,5],[29,6,30,6],[29,7,30,7],[29,8,30,8],[29,10,30,10],[29,11,30,11],[29,12,30,12],[31,2,31,4],[32,2,32,4],[36,0,37,0],[36,1,37,1],[36,2,37,4],[36,5,37,5],[36,6,37,6],[36,7,37,7],[36,8,37,8],[36,10,37,10],[36,11,37,11],[36,12,37,12],[38,2,38,4],[39,2,39,4],[40,2,40,4]]}
[]
[]
[]
["Клапаны для отопительных приборов"]
[{"$nulls":8},"На главную страницу"]
["РАДИАТОРНЫЕ УЗЛЫ ПОДКЛЮЧЕНИЯ И КЛАПАНЫ"]
[{"$nulls":10},"Итого:",{"$f":"SUM(M10:M26)+SUM(M32:M33)+SUM(M39:M41)","v":{"v":0,"d":"0.00"}}]
["Фото","Артикул","Наименование товара",null,null,"Размер","Вес, г","Упаковка, шт.","Коробка, шт.","Цена за шт.","Цена со скидкой, RUB","Кол-во, шт.","Сумма со скидкой, RUB"]
[{"$nulls":9},"RUB"]
[null,"GK 7423","Узел нижнего подключения для стальных панельных радиаторов в двухтрубных системах прямой, с ручным управлением",null,null,"3/4\"",291,5,50,{"$f":"'Конвертация цен'!H277","v":{"v":1635.3000000000002,"d":"1635.30"}},{"$f":"J10-J10*Оглавление!$K$19","v":{"v":1635.3000000000002,"d":"1635.30"}},null,{"$f":"L10*K10","v":{"v":0,"d":"0.00"}}]
[null,"GK 7421","Узел нижнего подключения для стальных панельных радиаторов в двухтрубных системах угловой, с ручным управлением",null,null,"3/4\"",323,5,50,{"$f":"'Конвертация цен'!H278","v":1528.35},{"$f":"J11-J11*Оглавление!$K$19","v":1528.35},null,{"v":0,"d":"0.00"}]
[null,"GK 7400 12","Клапан запорный прямой",null,null,"1/2\"",178,1,50,{"$f":"'Конвертация цен'!H279","v":{"v":929.2,"d":"929.20"}},{"$f":"J12-J12*Оглавление!$K$19","v":{"v":929.2,"d":"929.20"}},null,{"$f":"L12*K12","v":{"v":0,"d":"0.00"}}]
[null,"GK 7400 34",{"$nulls":3},"3/4\"",198,5,50,{"$f":"'Конвертация цен'!H280","v":{"v":1400.7,"d":"1400.70"}},{"$f":"J13-J13*Оглавление!$K$19","v":{"v":1400.7,"d":"1400.70"}},null,{"$f":"L13*K13","v":{"v":0,"d":"0.00"}}]
[null,"GK 7200 12","Клапан запорный угловой",null,null,"1/2\"",164,1,50,{"$f":"'Конвертация цен'!H281","v":{"v":800.4,"d":"800.40"}},{"$f":"J14-J14*Оглавление!$K$19","v":{"v":800.4,"d":"800.40"}},null,{"$f":"L14*K14","v":{"v":0,"d":"0.00"}}]
[null,"GK 7200 34",{"$nulls":3},"3/4\"",184,5,50,{"$f":"'Конвертация цен'!H282","v":1270.75},{"$f":"J15-J15*Оглавление!$K$19","v":1270.75},null,{"$f":"L15*K15","v":{"v":0,"d":"0.00"}}]
[null,"GK 7350 12","Клапан регулирующий прямой",null,null,"1/2\"",255,1,50,{"$f":"'Конвертация цен'!H283","v":{"v":1036.1499999999999,"d":"1036.15"}},{"$f":"J16-J16*Оглавление!$K$19","v":{"v":1036.1499999999999,"d":"1036.15"}},null,{"$f":"L16*K16","v":{"v":0,"d":"0.00"}}]
[null,"GK 7350 34",{"$nulls":3},"3/4\"",346,5,50,{"$f":"'Конвертация цен'!H284","v":{"v":1821.6,"d":"1821.60"}},{"$f":"J17-J17*Оглавление!$K$19","v":{"v":1821.6,"d":"1821.60"}},null,{"v":0,"d":"0.00"}]
[null,"GK 7150 12","Клапан регулирующий угловой",null,null,"1/2\"",229,1,50,{"$f":"'Конвертация цен'!H285","v":{"v":941.8499999999999,"d":"941.85"}},{"$f":"J18-J18*Оглавление!$K$19","v":{"v":941.8499999999999,"d":"941.85"}},null,{"v":0,"d":"0.00"}]
[null,"GK 7150 34",{"$nulls":3},"3/4\"",337,5,50,{"$f":"'Конвертация цен'!H286","v":{"v":1712.3500000000001,"d":"1712.35"}},{"$f":"J19-J19*Оглавление!$K$19","v":{"v":1712.3500000000001,"d":"1712.35"}},null,{"v":0,"d":"0.00"}]
[null,"GK 7355 12","Клапан регулирующий прямой компактной серии",null,null,"1/2\"",196,5,50,{"$f":"'Конвертация цен'!H287","v":{"v":940.6999999999999,"d":"940.70"}},{"$f":"J20-J20*Оглавление!$K$19","v":{"v":940.6999999999999,"d":"940.70"}},null,{"v":0,"d":"0.00"}]
[null,"GK 7155 12","Клапан регулирующий угловой компактной серии",null,null,"1/2\"",183,10,100,{"$f":"'Конвертация цен'!H288","v":{"v":834.9,"d":"834.90"}},{"$f":"J21-J21*Оглавление!$K$19","v":{"v":834.9,"d":"834.90"}},null,{"v":0,"d":"0.00"}]
[null,"GK 7640 12","Клапан терморегулирующий прямой",null,null,"1/2\"",193,1,50,{"$f":"'Конвертация цен'!H289","v":1316.75},{"$f":"J22-J22*Оглавление!$K$19","v":1316.75},null,{"v":0,"d":"0.00"}]
[null,"GK 7640 34",{"$nulls":3},"3/4\"",271,5,50,{"$f":"'Конвертация цен'!H290","v":1618.05},{"$f":"J23-J23*Оглавление!$K$19","v":1618.05},null,{"v":0,"d":"0.00"}]
[null,"GK 7620 12","Клапан терморегулирующий угловой",null,null,"1/2\"",196,1,50,{"$f":"'Конвертация цен'!H291","v":1167.25},{"$f":"J24-J24*Оглавление!$K$19","v":1167.25},null,{"v":0,"d":"0.00"}]
[null,"GK 7620 34",{"$nulls":3},"3/4\"",268,5,50,{"$f":"'Конвертация цен'!H292","v":{"v":1491.5500000000002,"d":"1491.55"}},{"$f":"J25-J25*Оглавление!$K$19","v":{"v":1491.5500000000002,"d":"1491.55"}},null,{"v":0,"d":"0.00"}]
[null,"GK 7625 12","Клапан терморегулирующий   осевой",null,null,"1/2\"",217,1,50,{"$f":"'Конвертация цен'!H293","v":1512.25},{"$f":"J26-J26*Оглавление!$K$19","v":1512.25},null,{"v":0,"d":"0.00"}]
[]
["ТЕРМОСТАТИЧЕСКИЕ ГОЛОВКИ"]
[]
["Фото","Артикул","Наименование товара",null,null,"Размер","Вес, г","Упаковка, шт.","Коробка, шт.","Цена за шт.","Цена со скидкой, RUB","Кол-во, шт.","Сумма со скидкой, RUB"]
[{"$nulls":9},"RUB"]
[null,"GK 7824","Термостатическая головка с внутренним жидкостным датчиком, с настройкой против замораживания",null,null,"CLIP-CLAP",130,1,50,{"$f":"'Конвертация цен'!H294","v":{"v":1223.6000000000001,"d":"1223.60"}},{"$f":"J32-J32*Оглавление!$K$19","v":{"v":1223.6000000000001,"d":"1223.60"}},null,{"$f":"L32*K32","v":{"v":0,"d":"0.00"}}]
[null,"GK 7825","Термостатическая головка с внутренним жидкостным датчиком, с настройкой против замораживания",null,null,"M30x1,5",110,1,50,{"$f":"'Конвертация цен'!H295","v":{"v":1380,"d":"1380.00"}},{"$f":"J33-J33*Оглавление!$K$19","v":{"v":1380,"d":"1380.00"}},null,{"v":0,"d":"0.00"}]
[]
["КОМПЛЕКТЫ ДЛЯ ПОДКЛЮЧЕНИЯ ОТОПИТЕЛЬНЫХ ПРИБОРОВ И КОМПЛЕКТУЮЩИЕ"]
[]
["Фото","Артикул","Наименование товара",null,null,"Размер","Вес, г","Упаковка, шт.","Коробка, шт.","Цена за шт.","Цена со скидкой, RUB","Кол-во, шт.","Сумма со скидкой, RUB"]
[{"$nulls":9},"RUB"]
[null,"GK 76407400 12","Комплект для подключения отопительных приборов прямой",null,null,"1/2\"",560,1,18,{"$f":"'Конвертация цен'!H296","v":{"v":3565,"d":"3565.00"}},{"$f":"J39-J39*Оглавление!$K$19","v":{"v":3565,"d":"3565.00"}},null,{"$f":"L39*K39","v":{"v":0,"d":"0.00"}}]
[null,"GK 76207200 12","Комплект для подключения отопительных приборов угловой",null,null,"1/2\"",564,1,18,{"$f":"'Конвертация цен'!H297","v":{"v":4025,"d":"4025.00"}},{"$f":"J40-J40*Оглавление!$K$19","v":{"v":4025,"d":"4025.00"}},null,{"v":0,"d":"0.00"}]
[null,"GK 7081","Переходник для узлов нижнего подключения в радиаторы с внутренней резьбой 1/2''",null,null,"1/2''x3/4''",20,50,500,{"$f":"'Конвертация цен'!H298","v":244.95},{"$f":"J41-J41*Оглавление!$K$19","v":244.95},null,{"$f":"L41*K41","v":{"v":0,"d":"0.00"}}]

{"sheet":"Бойлеры OLD","index":7,"n_rows":70,"n_cols":12,"rows_kept":70,"merged":[[3,0,3,8],[4,0,4,7],[5,9,5,11],[17,10,17,11],[18,0,19,0],[18,1,19,1],[18,2,19,3],[18,9,19,9],[18,10,19,10],[18,11,19,11],[20,0,24,0],[20,2,20,3],[21,2,21,3],[22,2,22,3],[23,2,23,3],[24,2,24,3],[25,0,28,0],[25,1,28,1],[25,2,28,3],[25,4,28,4],[25,5,28,5],[25,6,28,6],[25,7,28,7],[25,8,28,8],[25,9,28,9],[25,10,28,10],[25,11,28,11],[29,0,30,0],[29,2,29,3],[30,2,30,3],[31,0,33,0],[31,2,31,3],[32,2,32,3],[33,2,33,3],[45,0,46,0],[45,1,46,1],[45,2,46,3],[45,9,46,9],[45,10,46,10],[45,11,46,11],[47,0,52,0],[47,2,47,3],[48,2,48,3],[49,2,49,3],[50,2,50,3],[51,2,51,3],[52,2,52,3],[64,0,65,0],[64,1,65,1],[64,2,65,3],[64,5,64,6],[64,9,65,9],[64,10,65,10],[64,11,65,11],[65,5,65,6],[66,0,69,0],[66,2,66,3],[66,5,66,6],[67,2,67,3],[67,5,67,6],[68,2,68,3],[68,5,68,6],[69,2,69,3],[69,5,69,6]]}
[]
[]
[]
["Бойлеры косвенного нагрева, Накопители горячей воды,"]
["Теплоаккумуляторы (ДО СЕНТЯБРЯ 2024 ГОДА)"]
[{"$nulls":9},"На главную страницу"]
["БОЙЛЕРЫ КОСВЕННОГО НАГРЕВА НАПОЛЬНЫЕ "]
["• Максимальная рабочая температура бойлера: +95⁰C"]
["• Максимальное рабочее давление бойлера: 6 бар"]
["• Бойлеры изготовлены из нержавеющей стали ГОСТ 08Х18Н10 (AISI 304)"]
["• Толщина стали корпуса 1,5 мм для объёма 150-500 л и  3,0 мм для объёма 800-1000 л"]
["• Теплообменник выполнен из гладкой трубы с толщиной стенки 1,5 мм"]
["• Встроенный магниевый анод, для модели TC - магниевый анод не предусмотрен"]
["• Разборная секционная теплоизоляция из пенополистирола 30 мм для модели TC, 50 мм для бойлеров 150-500 л, 60 мм для бойлеров 800-1000 л"]
["• Защитный кожух из ABS-пластика для бойлеров 150-500 л, из ткани для бойлеров 800-1000 л"]
["• Возможность установки ТЭНа с присоединением G1 1/2”, ТЭН поставляется отдельно"]
["• Ревизионный люк диаметром 125 мм"]
[{"$nulls":9},"Итого:",{"$f":"SUM(L21:L34)+SUM(L48:L53)+SUM(L67:L70)+SUM(#REF!)+SUM(#REF!)","v":{"$error":"#REF!"}}]
["Фото","Артикул","Наименование товара",null,"Вместимость бойлера","Площадь теплообменника","Ёмкость теплообменника","Вес","Цена за шт.","Цена со скидкой, RUB","Кол-во, шт.","Сумма со скидкой, RUB"]
[{"$nulls":4},"л","м2","л","кг","RUB"]
[null,"GKB1501N","Бойлер Gekon HWB 150 1HE INOX, 30 кВт",null,150,1.1,7.9,36,{"$f":"'Конвертация цен'!H307","v":{"v":78481,"d":"78481.00"}},{"$f":"I21-I21*Оглавление!$K$20","v":{"v":78481,"d":"78,481.00"}},null,{"$f":"K21*J21","v":{"v":0,"d":"0.00"}}]
[null,"GKB2001N","Бойлер Gekon HWB 200 1HE INOX, 30 кВт",null,200,1.1,7.9,46,{"$f":"'Конвертация цен'!H308","v":{"v":86816,"d":"86816.00"}},{"$f":"I22-I22*Оглавление!$K$20","v":{"v":86816,"d":"86,816.00"}},null,{"$f":"K22*J22","v":{"v":0,"d":"0.00"}}]
[null,"GKB3001N","Бойлер Gekon HWB 300 1HE INOX, 45 кВт",null,300,1.6,11.8,67,{"$f":"'Конвертация цен'!H309","v":{"v":121300,"d":"121300.00"}},{"$f":"I23-I23*Оглавление!$K$20","v":{"v":121300,"d":"121,300.00"}},null,{"v":0,"d":"0.00"}]
[null,"GKB4001N","Бойлер Gekon HWB 400 1HE INOX, 53 кВт",null,400,1.8,12.6,75,{"$f":"'Конвертация цен'!H310","v":{"v":137354,"d":"137354.00"}},{"$f":"I24-I24*Оглавление!$K$20","v":{"v":137354,"d":"137,354.00"}},null,{"v":0,"d":"0.00"}]
[null,"GKB5001N","Бойлер Gekon HWB 500 1HE INOX, 70 кВт",null,500,2.3,14,103,{"$f":"'Конвертация цен'!H311","v":{"v":180930,"d":"180930.00"}},{"$f":"I25-I25*Оглавление!$K$20","v":{"v":180930,"d":"180,930.00"}},null,{"v":0,"d":"0.00"}]
[null,"GKB120TC","Бойлер Gekon HWB 120 1HE TC INOX, 30 кВт            с верхним подключением",null,120,1,7.3,36.5,{"$f":"'Конвертация цен'!H312","v":{"v":83150,"d":"83150.00"}},{"$f":"I26-I26*Оглавление!$K$20","v":{"v":83150,"d":"83,150.00"}},null,{"v":0,"d":"0.00"}]
[]
[]
[]
[null,"GKB300XL","Бойлер Gekon HWB 300 1HE XL INOX, 129 кВт",null,300,4.4,30.9,83,{"$f":"'Конвертация цен'!H313","v":{"v":154392,"d":"154392.00"}},{"$f":"I30-I30*Оглавление!$K$20","v":{"v":154392,"d":"154,392.00"}},null,{"v":0,"d":"0.00"}]
[null,"GKB400XL","Бойлер Gekon HWB 400 1HE XL INOX, 120кВт",null,400,4.1,28.6,86,{"$f":"'Конвертация цен'!H314","v":{"v":161432,"d":"161432.00"}},{"$f":"I31-I31*Оглавление!$K$20","v":{"v":161432,"d":"161,432.00"}},null,{"v":0,"d":"0.00"}]
[null,"GKB2002N","Бойлер Gekon HWB 200 2HE INOX, 15/33 кВт",null,200,"0,5/1,1","3,6/7,9",52,{"$f":"'Конвертация цен'!H315","v":{"v":100570,"d":"100570.00"}},{"$f":"I32-I32*Оглавление!$K$20","v":{"v":100570,"d":"100,570.00"}},null,{"v":0,"d":"0.00"}]
[null,"GKB3002N","Бойлер Gekon HWB 300 2HE INOX, 30/45 кВт",null,300,"1,0/1,6","7,3/11",73,{"$f":"'Конвертация цен'!H316","v":{"v":142417,"d":"142417.00"}},{"$f":"I33-I33*Оглавление!$K$20","v":{"v":142417,"d":"142,417.00"}},null,{"v":0,"d":"0.00"}]
[null,"GKB4002N","Бойлер Gekon HWB 400 2HE INOX, 30/53 кВт",null,400,"1,0/1,8","7,3/11,9",81,{"$f":"'Конвертация цен'!H317","v":{"v":158470,"d":"158470.00"}},{"$f":"I34-I34*Оглавление!$K$20","v":{"v":158470,"d":"158,470.00"}},null,{"v":0,"d":"0.00"}]
[]
["БОЙЛЕРЫ КОСВЕННОГО НАГРЕВА НАСТЕННЫЕ"]
["• Максимальная рабочая температура бойлера: +95⁰C"]
["• Максимальное рабочее давление бойлера: 6 бар"]
["• Бойлеры изготовлены из нержавеющей стали ГОСТ 08Х18Н10 (AISI 304)"]
["• Толщина стали корпуса и теплообменника 1,5 мм"]
["• Встроенный магниевый анод"]
["• Разборная секционная теплоизоляция из пенополистирола 30 мм"]
["• Защитный кожух из ABS-пластика белового цвета"]
["• Возможность установки ТЭНа с присоединением G1 1/2”, ТЭН поставляется отдельно"]
[]
["Фото","Артикул","Наименование товара",null,"Вместимость бойлера","Площадь теплообменника","Ёмкость теплообменника","Вес","Цена за шт.","Цена со скидкой, RUB","Кол-во, шт.","Сумма со скидкой, RUB"]
[{"$nulls":4},"л","м2","л","кг","RUB"]
[null,"GKB80WL","Бойлер Gekon HWB 80 1HE WL INOX, 15,3 кВт с левым подключением",null,80,0.5,3.6,19,{"$f":"'Конвертация цен'!H318","v":{"v":50271,"d":"50271.00"}},{"$f":"I48-I48*Оглавление!$K$20","v":{"v":50271,"d":"50,271.00"}},null,{"$f":"K48*J48","v":{"v":0,"d":"0.00"}}]
[null,"GKB100WL","Бойлер Gekon HWB 100 1HE WL INOX, 15,3 кВт с левым подключением",null,100,0.5,3.6,21,{"$f":"'Конвертация цен'!H319","v":{"v":55500,"d":"55500.00"}},{"$f":"I49-I49*Оглавление!$K$20","v":{"v":55500,"d":"55,500.00"}},null,{"$f":"K49*J49","v":{"v":0,"d":"0.00"}}]
[null,"GKB150WL","Бойлер Gekon HWB 150 1HE WL INOX, 33 кВт с левым подключением",null,150,1.1,7.9,32,{"$f":"'Конвертация цен'!H320","v":{"v":72430,"d":"72430.00"}},{"$f":"I50-I50*Оглавление!$K$20","v":{"v":72430,"d":"72,430.00"}},null,{"$f":"K50*J50","v":{"v":0,"d":"0.00"}}]
[null,"GKB80WR","Бойлер Gekon HWB 80 1HE WL INOX, 15,3 кВт с правым подключением",null,80,0.5,3.6,19,{"$f":"'Конвертация цен'!H321","v":{"v":50271,"d":"50271.00"}},{"$f":"I51-I51*Оглавление!$K$20","v":{"v":50271,"d":"50,271.00"}},null,{"v":0,"d":"0.00"}]
[null,"GKB100WR","Бойлер Gekon HWB 100 1HE WL INOX, 15,3 кВт с правым подключением",null,100,0.5,3.6,21,{"$f":"'Конвертация цен'!H322","v":{"v":55500,"d":"55500.00"}},{"$f":"I52-I52*Оглавление!$K$20","v":{"v":55500,"d":"55,500.00"}},null,{"$f":"K52*J52","v":{"v":0,"d":"0.00"}}]
[null,"GKB150WR","Бойлер Gekon HWB 150 1HE WL INOX, 33 кВт с правым подключением",null,150,1.1,7.9,32,{"$f":"'Конвертация цен'!H323","v":{"v":72430,"d":"72430.00"}},{"$f":"I53-I53*Оглавление!$K$20","v":{"v":72430,"d":"72,430.00"}},null,{"$f":"K53*J53","v":{"v":0,"d":"0.00"}}]
[]
["НАКОПИТЕЛИ ГОРЯЧЕЙ ВОДЫ НАПОЛЬНЫЕ"]
["• Максимальная рабочая температура накопителя: +95⁰C"]
["• Максимальное рабочее давление накопителя: 6 бар"]
["• Накопители изготовлены из нержавеющей стали ГОСТ 08Х18Н10 (AISI 304)"]
["• Толщина стали корпуса 1,5 мм для объёма 150-500 л и  3,0 мм для объёма 800-1000 л"]
["• Встроенный магниевый анод"]
["• Разборная секционная теплоизоляция из пенополистирола 50 мм для накопителей 150-500 л, 60 мм для накопителей 800-1000 л"]
["• Возможность установки ТЭНа с присоединением G1 1/2”, ТЭН поставляется отдельно"]
["• Ревизионный люк диаметром 125 мм"]
[]
["Фото","Артикул","Наименование товара",null,"Вместимость накопителя","Время нагрева воды электроТЭНом 2 кВт/3 кВт - для объёма 150-500 л, \n3 кВт/5 кВт - для объёма  800-1000 л",null,"Вес","Цена за шт.","Цена со скидкой, RUB","Кол-во, шт.","Сумма со скидкой, RUB"]
[{"$nulls":4},"л","ч",null,"кг","RUB"]
[null,"GKB150ZN","Накопитель горячей воды Gekon HWB 150 ZHE INOX",null,150,"3/2",null,25,{"$f":"'Конвертация цен'!H324","v":{"v":58842,"d":"58842.00"}},{"$f":"I67-I67*Оглавление!$K$20","v":{"v":58842,"d":"58,842.00"}},null,{"$f":"K67*J67","v":{"v":0,"d":"0.00"}}]
[null,"GKB200ZN","Накопитель горячей воды Gekon HWB 200 ZHE INOX",null,200,"4/2,7",null,35,{"$f":"'Конвертация цен'!H325","v":{"v":67364,"d":"67364.00"}},{"$f":"I68-I68*Оглавление!$K$20","v":{"v":67364,"d":"67,364.00"}},null,{"$f":"K68*J68","v":{"v":0,"d":"0.00"}}]
[null,"GKB300ZN","Накопитель горячей воды Gekon HWB 300 ZHE INOX",null,300,"6/4",null,56,{"$f":"'Конвертация цен'!H326","v":{"v":93819,"d":"93819.00"}},{"$f":"I69-I69*Оглавление!$K$20","v":{"v":93819,"d":"93,819.00"}},null,{"v":0,"d":"0.00"}]
[null,"GKB400ZN","Накопитель горячей воды Gekon HWB 400 ZHE INOX",null,400,"8,2/5,4",null,64,{"$f":"'Конвертация цен'!H327","v":{"v":107844,"d":"107844.00"}},{"$f":"I70-I70*Оглавление!$K$20","v":{"v":107844,"d":"107,844.00"}},null,{"v":0,"d":"0.00"}]

{"sheet":"Бойлеры NEW","index":8,"n_rows":120,"n_cols":12,"rows_kept":120,"merged":[[3,0,3,8],[4,0,4,7],[5,9,5,11],[17,10,17,11],[18,0,19,0],[18,1,19,1],[18,2,19,3],[18,9,19,9],[18,10,19,10],[18,11,19,11],[20,0,26,0],[20,2,20,3],[21,2,21,3],[22,2,22,3],[23,2,23,3],[24,2,24,3],[25,2,25,3],[26,2,26,3],[27,0,30,0],[27,1,30,1],[27,2,30,3],[27,4,30,4],[27,5,30,5],[27,6,30,6],[27,7,30,7],[27,8,30,8],[27,9,30,9],[27,10,30,10],[27,11,30,11],[31,0,36,0],[31,2,31,3],[32,2,32,3],[33,2,33,3],[34,2,34,3],[35,2,35,3],[36,2,36,3],[37,0,42,0],[37,2,37,3],[38,2,38,3],[39,2,39,3],[40,2,40,3],[41,2,41,3],[42,2,42,3],[54,0,55,0],[54,1,55,1],[54,2,55,3],[54,9,55,9],[54,10,55,10],[54,11,55,11],[56,0,61,0],[56,2,56,3],[57,2,57,3],[58,2,58,3],[59,2,59,3],[60,2,60,3],[61,2,61,3],[62,2,62,3],[74,0,75,0],[74,1,75,1],[74,2,75,3],[74,5,74,6],[74,9,75,9],[74,10,75,10],[74,11,75,11],[75,5,75,6],[76,0,82,0],[76,2,76,3],[76,5,76,6],[77,2,77,3],[77,5,77,6],[78,2,78,3],[78,5,78,6],[79,2,79,3],[79,5,79,6],[80,2,80,3],[80,5,80,6],[81,2,81,3],[81,5,81,6],[82,2,82,3],[82,5,82,6],[93,0,94,0],[93,1,94,1],[93,2,94,3],[93,5,93,6],[93,9,94,9],[93,10,94,10],[93,11,94,11],[94,5,94,6],[95,2,95,3],[95,5,95,6],[105,0,106,0],[105,1,106,1],[105,2,106,3],[105,5,105,6],[105,9,106,9],[105,10,106,10],[105,11,106,11],[106,5,106,6],[107,0,109,0],[107,2,107,3],[107,5,107,6],[108,2,108,3],[108,5,108,6],[109,2,109,3],[109,5,109,6],[110,0,112,0],[110,2,110,3],[110,5,110,6],[111,2,111,3],[111,5,111,6],[112,2,112,3],[112,5,112,6],[116,0,117,0],[116,1,117,1],[116,2,117,3],[116,5,117,5],[116,9,117,9],[116,10,117,10],[116,11,117,11],[118,0,119,0],[118,2,118,3],[119,2,119,3]]}
[]
[]
[]
["Бойлеры косвенного нагрева, Накопители горячей воды,"]
["Теплоаккумуляторы (С СЕНТЯБРЯ 2024 ГОДА)"]
[{"$nulls":9},"На главную страницу"]
["БОЙЛЕРЫ КОСВЕННОГО НАГРЕВА НАПОЛЬНЫЕ "]
["• Максимальная рабочая температура бойлера: +95⁰C"]
["• Максимальное рабочее давление бойлера: 6 бар"]
["• Бойлеры изготовлены из нержавеющей стали ГОСТ 08Х18Н10 (AISI 304)"]
["• Толщина стали корпуса 1,5 мм для объёма 150-500 л и  3,0 мм для объёма 800-1000 л"]
["• Теплообменник выполнен из гладкой трубы с толщиной стенки 1,5 мм"]
["• Встроенный магниевый анод, для модели TC - магниевый анод не предусмотрен"]
["• Разборная секционная теплоизоляция из пенополистирола 30 мм для модели TC, 50 мм для бойлеров 150-500 л, 60 мм для бойлеров 800-1000 л"]
["• Защитный кожух из ABS-пластика для бойлеров 150-500 л, из ткани для бойлеров 800-1000 л"]
["• Возможность установки ТЭНа с присоединением G1 1/2”, ТЭН поставляется отдельно"]
["• Ревизионный люк диаметром 125 мм"]
[{"$nulls":9},"Итого:",{"$f":"SUM(L21:L43)+SUM(L57:L63)+SUM(L77:L83)+SUM(L96)+SUM(L108:L113)","v":{"v":0,"d":"0.00"}}]
["Фото","Артикул","Наименование товара",null,"Вместимость бойлера","Площадь теплообменника","Ёмкость теплообменника","Вес","Цена за шт.","Цена со скидкой, RUB","Кол-во, шт.","Сумма со скидкой, RUB"]
[{"$nulls":4},"л","м2","л","кг","RUB"]
[null,"GK1501","Бойлер напольный B01 150 л, с 1-м ТО, 30 кВт, INOX, Gekon",null,150,{"v":1,"d":"1.0"},{"v":8,"d":"8.0"},42,{"$f":"'Конвертация цен'!H331","v":{"v":78481.26018468224,"d":"78481.26"}},{"$f":"I21-I21*Оглавление!$K$20","v":{"v":78481.26018468224,"d":"78,481.26"}},null,{"$f":"K21*J21","v":{"v":0,"d":"0.00"}}]
[null,"GK2001","Бойлер напольный B01 200 л, с 1-м ТО, 30 кВт, INOX, Gekon",null,200,{"v":1,"d":"1.0"},{"v":8,"d":"8.0"},50,{"$f":"'Конвертация цен'!H332","v":{"v":86815.86094513851,"d":"86815.86"}},{"$f":"I22-I22*Оглавление!$K$20","v":{"v":86815.86094513851,"d":"86,815.86"}},null,{"$f":"K22*J22","v":{"v":0,"d":"0.00"}}]
[null,"GK3001","Бойлер напольный B01 300 л, с 1-м ТО, 40 кВт, INOX, Gekon",null,300,1.3,{"v":10,"d":"10.0"},68,{"$f":"'Конвертация цен'!H333","v":{"v":121300.38022813688,"d":"121300.38"}},{"$f":"I23-I23*Оглавление!$K$20","v":{"v":121300.38022813688,"d":"121,300.38"}},null,{"v":0,"d":"0.00"}]
[null,"GK4001","Бойлер напольный B01 400 л, с 1-м ТО, 51 кВт, INOX, Gekon",null,400,1.7,{"v":14,"d":"14.0"},77,{"$f":"'Конвертация цен'!H334","v":{"v":137353.6121673004,"d":"137353.61"}},{"$f":"I24-I24*Оглавление!$K$20","v":{"v":137353.6121673004,"d":"137,353.61"}},null,{"v":0,"d":"0.00"}]
[null,"GK5001","Бойлер напольный B01 500 л, с 1-м ТО, 60 кВт, INOX, Gekon",null,500,{"v":3,"d":"3.0"},{"v":16,"d":"16.0"},103,{"$f":"'Конвертация цен'!H335","v":{"v":180929.92938620315,"d":"180929.93"}},{"$f":"I25-I25*Оглавление!$K$20","v":{"v":180929.92938620315,"d":"180,929.93"}},null,{"v":0,"d":"0.00"}]
[null,"GK8001","Бойлер напольный B01 800 л, с 1-м ТО, 90 кВт, INOX, Gekon",null,800,{"v":3,"d":"3.0"},{"v":24,"d":"24.0"},165,{"$f":"'Конвертация цен'!H336","v":{"v":305535.6855163525,"d":"305535.69"}},{"$f":"I26-I26*Оглавление!$K$20","v":{"v":305535.6855163525,"d":"305,535.69"}},null,{"v":0,"d":"0.00"}]
[null,"GK10001","Бойлер напольный B01 1000 л, с 1-м ТО, 98 кВт, INOX, Gekon",null,1000,3.2,{"v":25,"d":"25.0"},200,{"$f":"'Конвертация цен'!H337","v":{"v":351996.1333977767,"d":"351996.13"}},{"$f":"I27-I27*Оглавление!$K$20","v":{"v":351996.1333977767,"d":"351,996.13"}},null,{"v":0,"d":"0.00"}]
[null,"GK1201TC","Бойлер напольный BTC 120 л, с 1-м ТО, 28 кВт, INOX, Gekon",null,120,0.9,{"v":7,"d":"7.0"},39,{"$f":"'Конвертация цен'!H338","v":{"v":83150,"d":"83150.00"}},{"$f":"I28-I28*Оглавление!$K$20","v":{"v":83150,"d":"83,150.00"}},null,{"v":0,"d":"0.00"}]
[]
[]
[]
[null,"GK2001XL","Бойлер напольный BXL 200 л, с 1-м ТО, 60 кВт, INOX, Gekon",null,200,2,{"v":16,"d":"16.0"},62,{"$f":"'Конвертация цен'!H339","v":{"v":109750.00542994287,"d":"109750.01"}},{"$f":"I32-I32*Оглавление!$K$20","v":{"v":109750.00542994287,"d":"109,750.01"}},null,{"v":0,"d":"0.00"}]
[null,"GK3001XL","Бойлер напольный BXL 300 л, с 1-м ТО, 115 кВт, INOX, Gekon",null,300,3.8,{"v":30,"d":"30.0"},93,{"$f":"'Конвертация цен'!H340","v":{"v":154392.17816404128,"d":"154392.18"}},{"$f":"I33-I33*Оглавление!$K$20","v":{"v":154392.17816404128,"d":"154,392.18"}},null,{"v":0,"d":"0.00"}]
[null,"GK4001XL","Бойлер напольный BXL 400 л, с 1-м ТО, 100 кВт, INOX, Gekon",null,400,3.3,{"v":26,"d":"26.0"},93,{"$f":"'Конвертация цен'!H341","v":{"v":161431.83052688756,"d":"161431.83"}},{"$f":"I34-I34*Оглавление!$K$20","v":{"v":161431.83052688756,"d":"161,431.83"}},null,{"v":0,"d":"0.00"}]
[null,"GK5001XL","Бойлер напольный BXL 500 л, с 1-м ТО, 127 кВт, INOX, Gekon",null,500,4.2,{"v":33,"d":"33.0"},122.5,{"$f":"'Конвертация цен'!H342","v":{"v":225560.23083758928,"d":"225560.23"}},{"$f":"I35-I35*Оглавление!$K$20","v":{"v":225560.23083758928,"d":"225,560.23"}},null,{"v":0,"d":"0.00"}]
[null,"GK8001XL","Бойлер напольный BXL 800 л, с 1-м ТО, 120 кВт, INOX, Gekon",null,800,4,{"v":32,"d":"32.0"},179,{"$f":"'Конвертация цен'!H343","v":{"v":325539.981741045,"d":"325539.98"}},{"$f":"I36-I36*Оглавление!$K$20","v":{"v":325539.981741045,"d":"325,539.98"}},null,{"v":0,"d":"0.00"}]
[null,"GK10001XL","Бойлер напольный BXL 1000 л, с 1-м ТО, 150 кВт, INOX, Gekon",null,1000,5,{"v":40,"d":"40.0"},209,{"$f":"'Конвертация цен'!H344","v":{"v":390900.59610117605,"d":"390900.60"}},{"$f":"I37-I37*Оглавление!$K$20","v":{"v":390900.59610117605,"d":"390,900.60"}},null,{"v":0,"d":"0.00"}]
[null,"GK2002","Бойлер напольный B02 200 л, с 2-я ТО, 30/15 кВт, INOX, Gekon",null,200,"1,0/0,5","8,0/4,0",57,{"$f":"'Конвертация цен'!H345","v":{"v":100570.34220532319,"d":"100570.34"}},{"$f":"I38-I38*Оглавление!$K$20","v":{"v":100570.34220532319,"d":"100,570.34"}},null,{"v":0,"d":"0.00"}]
[null,"GK3002","Бойлер напольный B02 300 л, с 2-я ТО, 40/28 кВт, INOX, Gekon",null,300,"1,3/0,9","10,0/7,0",79.5,{"$f":"'Конвертация цен'!H346","v":{"v":142417.16458446498,"d":"142417.16"}},{"$f":"I39-I39*Оглавление!$K$20","v":{"v":142417.16458446498,"d":"142,417.16"}},null,{"v":0,"d":"0.00"}]
[null,"GK4002","Бойлер напольный B02 400 л, с 2-я ТО, 51/23 кВт, INOX, Gekon",null,400,"1,7/0,8","14,0/6,0",82,{"$f":"'Конвертация цен'!H347","v":{"v":158470.39652362847,"d":"158470.40"}},{"$f":"I40-I40*Оглавление!$K$20","v":{"v":158470.39652362847,"d":"158,470.40"}},null,{"v":0,"d":"0.00"}]
[null,"GK5002","Бойлер напольный B02 500 л, с 2-я ТО, 60/23 кВт, INOX, Gekon",null,500,"2,0/0,8","16,0/6,0",112,{"$f":"'Конвертация цен'!H348","v":{"v":206707.70877944323,"d":"206707.71"}},{"$f":"I41-I41*Оглавление!$K$20","v":{"v":206707.70877944323,"d":"206,707.71"}},null,{"v":0,"d":"0.00"}]
[null,"GK8002","Бойлер напольный B02 800 л, с 2-я ТО, 90/28 кВт, INOX, Gekon",null,800,"3,0/0,9","24,0/7,0",180,{"$f":"'Конвертация цен'!H349","v":{"v":324936.36217174155,"d":"324936.36"}},{"$f":"I42-I42*Оглавление!$K$20","v":{"v":324936.36217174155,"d":"324,936.36"}},null,{"v":0,"d":"0.00"}]
[null,"GK10002","Бойлер напольный B02 1000 л, с 2-я ТО, 98/45 кВт, INOX, Gekon",null,1000,"3,2/1,5","25,0/12,0",200,{"$f":"'Конвертация цен'!H350","v":{"v":371394.66194081947,"d":"371394.66"}},{"$f":"I43-I43*Оглавление!$K$20","v":{"v":371394.66194081947,"d":"371,394.66"}},null,{"v":0,"d":"0.00"}]
[]
["БОЙЛЕРЫ КОСВЕННОГО НАГРЕВА НАСТЕННЫЕ"]
["• Максимальная рабочая температура бойлера: +95⁰C"]
["• Максимальное рабочее давление бойлера: 6 бар"]
["• Бойлеры изготовлены из нержавеющей стали ГОСТ 08Х18Н10 (AISI 304)"]
["• Толщина стали корпуса и теплообменника 1,5 мм"]
["• Встроенный магниевый анод"]
["• Разборная секционная теплоизоляция из пенополистирола 30 мм"]
["• Защитный кожух из ABS-пластика белового цвета"]
["• Возможность установки ТЭНа с присоединением G1 1/2”, ТЭН поставляется отдельно"]
[]
["Фото","Артикул","Наименование товара",null,"Вместимость бойлера","Площадь теплообменника","Ёмкость теплообменника","Вес","Цена за шт.","Цена со скидкой, RUB","Кол-во, шт.","Сумма со скидкой, RUB"]
[{"$nulls":4},"л","м2","л","кг","RUB"]
[null,"GK801WL","Бойлер настенный BW 80 л, с 1-м ТО, 15 кВт, подключение слева, INOX, Gekon",null,80,0.5,{"v":4,"d":"4.0"},24,{"$f":"'Конвертация цен'!H351","v":{"v":50270.505160239,"d":"50270.51"}},{"$f":"I57-I57*Оглавление!$K$20","v":{"v":50270.505160239,"d":"50,270.51"}},null,{"$f":"K57*J57","v":{"v":0,"d":"0.00"}}]
[null,"GK1001WL","Бойлер настенный BW 100 л, с 1-м ТО, 15 кВт, подключение слева, INOX, Gekon",null,100,0.5,{"v":4,"d":"4.0"},26,{"$f":"'Конвертация цен'!H352","v":{"v":55500.27159152635,"d":"55500.27"}},{"$f":"I58-I58*Оглавление!$K$20","v":{"v":55500.27159152635,"d":"55,500.27"}},null,{"$f":"K58*J58","v":{"v":0,"d":"0.00"}}]
[null,"GK1501WL","Бойлер настенный BW 150 л, с 1-м ТО, 30 кВт, подключение слева, INOX, Gekon",null,150,1,{"v":8,"d":"8.0"},37,{"$f":"'Конвертация цен'!H353","v":{"v":72430.2009777295,"d":"72430.20"}},{"$f":"I59-I59*Оглавление!$K$20","v":{"v":72430.2009777295,"d":"72,430.20"}},null,{"$f":"K59*J59","v":{"v":0,"d":"0.00"}}]
[null,"GK801WR","Бойлер настенный BW 80 л, с 1-м ТО, 15 кВт, подключение справа, INOX, Gekon",null,80,0.5,{"v":4,"d":"4.0"},24,{"$f":"'Конвертация цен'!H354","v":{"v":50270.505160239,"d":"50270.51"}},{"$f":"I60-I60*Оглавление!$K$20","v":{"v":50270.505160239,"d":"50,270.51"}},null,{"v":0,"d":"0.00"}]
[null,"GK1001WR","Бойлер настенный BW 100 л, с 1-м ТО, 15 кВт, подключение справа, INOX, Gekon",null,100,0.5,{"v":4,"d":"4.0"},26,{"$f":"'Конвертация цен'!H355","v":{"v":55500.27159152635,"d":"55500.27"}},{"$f":"I61-I61*Оглавление!$K$20","v":{"v":55500.27159152635,"d":"55,500.27"}},null,{"$f":"K61*J61","v":{"v":0,"d":"0.00"}}]
[null,"GK1501WR","Бойлер настенный BW 150 л, с 1-м ТО, 30 кВт, подключение справа, INOX, Gekon",null,150,1,{"v":8,"d":"8.0"},37,{"$f":"'Конвертация цен'!H356","v":{"v":72430.2009777295,"d":"72430.20"}},{"$f":"I62-I62*Оглавление!$K$20","v":{"v":72430.2009777295,"d":"72,430.20"}},null,{"$f":"K62*J62","v":{"v":0,"d":"0.00"}}]
[null,"GK1201WB","Бойлер настенный BW 120 л, с 1-м ТО, 28 кВт, подключение нижнее, INOX, Gekon",null,120,0.9,0.7,39,{"$f":"'Конвертация цен'!H357","v":{"v":83058.82352941176,"d":"83058.82"}},{"$f":"I63-I63*Оглавление!$K$20","v":{"v":83058.82352941176,"d":"83,058.82"}},null,{"$f":"K63*J63","v":{"v":0,"d":"0.00"}}]
[]
["НАКОПИТЕЛИ ГОРЯЧЕЙ ВОДЫ НАПОЛЬНЫЕ"]
["• Максимальная рабочая температура накопителя: +95⁰C"]
["• Максимальное рабочее давление накопителя: 6 бар"]
["• Накопители изготовлены из нержавеющей стали ГОСТ 08Х18Н10 (AISI 304)"]
["• Толщина стали корпуса 1,5 мм для объёма 150-500 л и  3,0 мм для объёма 800-1000 л"]
["• Встроенный магниевый анод"]
["• Разборная секционная теплоизоляция из пенополистирола 50 мм для накопителей 150-500 л, 60 мм для накопителей 800-1000 л"]
["• Возможность установки ТЭНа с присоединением G1 1/2”, ТЭН поставляется отдельно"]
["• Ревизионный люк диаметром 125 мм"]
[]
["Фото","Артикул","Наименование товара",null,"Вместимость накопителя","Время нагрева воды электроТЭНом 2 кВт/3 кВт - для объёма 150-500 л, \n3 кВт/5 кВт - для объёма  800-1000 л",null,"Вес","Цена за шт.","Цена со скидкой, RUB","Кол-во, шт.","Сумма со скидкой, RUB"]
[{"$nulls":4},"л","ч",null,"кг","RUB"]
[null,"GK150","Накопитель горячей воды напольный BT 150 л, INOX, Gekon",null,150,"3/2",null,31,{"$f":"'Конвертация цен'!H358","v":{"v":58841.933731667574,"d":"58841.93"}},{"$f":"I77-I77*Оглавление!$K$20","v":{"v":58841.933731667574,"d":"58,841.93"}},null,{"$f":"K77*J77","v":{"v":0,"d":"0.00"}}]
[null,"GK200","Накопитель горячей воды напольный BT 200 л, INOX, Gekon",null,200,"4/2,7",null,39,{"$f":"'Конвертация цен'!H359","v":{"v":67364.47582835416,"d":"67364.48"}},{"$f":"I78-I78*Оглавление!$K$20","v":{"v":67364.47582835416,"d":"67,364.48"}},null,{"$f":"K78*J78","v":{"v":0,"d":"0.00"}}]
[null,"GK300","Накопитель горячей воды напольный BT 300 л, INOX, Gekon",null,300,"6/4",null,52,{"$f":"'Конвертация цен'!H360","v":{"v":93818.57686040195,"d":"93818.58"}},{"$f":"I79-I79*Оглавление!$K$20","v":{"v":93818.57686040195,"d":"93,818.58"}},null,{"v":0,"d":"0.00"}]
[null,"GK400","Накопитель горячей воды напольный BT 400 л, INOX, Gekon",null,400,"8,2/5,4",null,52,{"$f":"'Конвертация цен'!H361","v":{"v":107843.56328082563,"d":"107843.56"}},{"$f":"I80-I80*Оглавление!$K$20","v":{"v":107843.56328082563,"d":"107,843.56"}},null,{"v":0,"d":"0.00"}]
[null,"GK500","Накопитель горячей воды напольный BT 500 л, INOX, Gekon",null,500,"10,2/6,8",null,78,{"$f":"'Конвертация цен'!H362","v":{"v":149364.02569593146,"d":"149364.03"}},{"$f":"I81-I81*Оглавление!$K$20","v":{"v":149364.02569593146,"d":"149,364.03"}},null,{"v":0,"d":"0.00"}]
[null,"GK800","Накопитель горячей воды напольный BT 800 л, INOX, Gekon",null,800,"11/7",null,130,{"$f":"'Конвертация цен'!H363","v":{"v":242432.74729930097,"d":"242432.75"}},{"$f":"I82-I82*Оглавление!$K$20","v":{"v":242432.74729930097,"d":"242,432.75"}},null,{"v":0,"d":"0.00"}]
[null,"GK1000","Накопитель горячей воды напольный BT 1000 л, INOX, Gekon",null,1000,"13,5/8",null,143,{"$f":"'Конвертация цен'!H364","v":{"v":279095.7041179461,"d":"279095.70"}},{"$f":"I83-I83*Оглавление!$K$20","v":{"v":279095.7041179461,"d":"279,095.70"}},null,{"v":0,"d":"0.00"}]
[]
["НАКОПИТЕЛИ ГОРЯЧЕЙ ВОДЫ НАПОЛЬНЫЕ"]
["• Максимальная рабочая температура накопителя: +95⁰C"]
["• Максимальное рабочее давление накопителя: 6 бар"]
["• Накопители изготовлены из нержавеющей стали ГОСТ 08Х18Н10 (AISI 304)"]
["• Толщина стали корпуса 1,5 мм "]
["• Встроенный магниевый анод"]
["• Разборная секционная теплоизоляция из пенополистирола 30 мм "]
["• В составе накопителя установлен циркуляционный насос 20-4 (130) с термостатом"]
[]
["Фото","Артикул","Наименование товара",null,"Вместимость накопителя","Время нагрева воды электроТЭНом 2 кВт/3 кВт - для объёма 100 л",null,"Вес","Цена за шт.","Цена со скидкой, RUB","Кол-во, шт.","Сумма со скидкой, RUB"]
[{"$nulls":4},"л","ч",null,"кг","RUB"]
[null,"GK100P","Накопитель горячей воды напольный BP 100 л, с насосом ГВС, INOX, Gekon",null,100,"2/1,5",null,36.5,{"$f":"'Конвертация цен'!H365","v":{"v":61539.9471437284,"d":"61539.95"}},{"$f":"I96-I96*Оглавление!$K$20","v":{"v":61539.9471437284,"d":"61,539.95"}},null,{"$f":"K96*J96","v":{"v":0,"d":"0.00"}}]
[]
["ТЕПЛОВЫЕ ВОДЯНЫЕ АККУМУЛЯТОРЫ"]
["• Максимальная рабочая температура бака: +95⁰C"]
["• Максимальное рабочее давление: 6 бар"]
["• Толщина стенки бака 3 мм для объёма 500 л и  4 мм для объёма 800-1000 л"]
["• Разборная секционная теплоизоляция из пенополистирола 50 мм для баков 500 л, 60 мм для баков 800-1000 л"]
["• Защитная тканевая оболочка чёрного цвета"]
["• Возможность установки ТЭНа с присоединением G2”, ТЭН поставляется отдельно"]
[]
["Фото","Артикул","Наименование товара",null,"Вместимость накопителя","Время нагрева воды электроТЭНом 2 кВт/3 кВт - для объёма 150-500 л, \n3 кВт/5 кВт - для объёма  800-1000 л",null,"Вес","Цена за шт.","Цена со скидкой, RUB","Кол-во, шт.","Сумма со скидкой, RUB"]
[{"$nulls":4},"л","ч",null,"кг","RUB"]
[null,"GK500BS","Теплоаккумулятор Buffer S 500 л, одностороннее расположение патрубков, Gekon",null,500,"10,2/6,8",null,102,{"$f":"'Конвертация цен'!H366","v":{"v":63530.906990179086,"d":"63530.91"}},{"$f":"I108-I108*Оглавление!$K$20","v":{"v":63530.906990179086,"d":"63,530.91"}},null,{"$f":"K108*J108","v":{"v":0,"d":"0.00"}}]
[null,"GK800BS","Теплоаккумулятор Buffer S 800 л, одностороннее расположение патрубков, Gekon",null,800,"11/7",null,173,{"$f":"'Конвертация цен'!H367","v":{"v":85370.30618139803,"d":"85370.31"}},{"$f":"I109-I109*Оглавление!$K$20","v":{"v":85370.30618139803,"d":"85,370.31"}},null,{"$f":"K109*J109","v":{"v":0,"d":"0.00"}}]
[null,"GK1000BS","Теплоаккумулятор Buffer S 1000 л, одностороннее расположение патрубков, Gekon",null,1000,"13,5/8",null,200,{"$f":"'Конвертация цен'!H368","v":{"v":96481.80242634314,"d":"96481.80"}},{"$f":"I110-I110*Оглавление!$K$20","v":{"v":96481.80242634314,"d":"96,481.80"}},null,{"v":0,"d":"0.00"}]
[null,"GK500BA","Теплоаккумулятор Buffer A 500 л, расположение патрубков под углом 90 градусов, Gekon",null,500,"10,2/6,8",null,102,{"$f":"'Конвертация цен'!H369","v":{"v":63530.906990179086,"d":"63530.91"}},{"$f":"I111-I111*Оглавление!$K$20","v":{"v":63530.906990179086,"d":"63,530.91"}},null,{"v":0,"d":"0.00"}]
[null,"GK800BA","Теплоаккумулятор Buffer A 800 л, расположение патрубков под углом 90 градусов, Gekon",null,800,"11/7",null,173,{"$f":"'Конвертация цен'!H370","v":{"v":85370.30618139803,"d":"85370.31"}},{"$f":"I112-I112*Оглавление!$K$20","v":{"v":85370.30618139803,"d":"85,370.31"}},null,{"v":0,"d":"0.00"}]
[null,"GK1000BA","Теплоаккумулятор Buffer A 1000 л, расположение патрубков под углом 90 градусов, Gekon",null,1000,"13,5/8",null,200,{"$f":"'Конвертация цен'!H371","v":{"v":96481.80242634314,"d":"96481.80"}},{"$f":"I113-I113*Оглавление!$K$20","v":{"v":96481.80242634314,"d":"96,481.80"}},null,{"v":0,"d":"0.00"}]
[]
["ДОПОЛНИТЕЛЬНОЕ ОБОРУДОВАНИЕ ДЛЯ БОЙЛЕРОВ, НАГРЕВАТЕЛЕЙ И ТЕПЛОАККУМУЛЯТОРОВ"]
[]
["Фото","Артикул","Наименование товара",null,"Диаметр","Присоединение","Длина","Вес","Цена за шт.","Цена со скидкой, RUB","Кол-во, шт.","Сумма со скидкой, RUB"]
[{"$nulls":4},"мм",null,"мм","кг","RUB"]
[null,"GKMA8D2140","Анод магниевый L=400 мм, D21 мм,  М8х10 ",null,21,"М8х10",400,{"v":0.3,"d":"0.30"},{"$f":"'Конвертация цен'!H372","v":{"v":736.7441860465117,"d":"736.74"}},{"$f":"I119-I119*Оглавление!$K$20","v":{"v":736.7441860465117,"d":"736.74"}},null,{"$f":"K119*J119","v":{"v":0,"d":"0.00"}}]
[null,"GKMA8D2145","Анод магниевый L=450 мм, D21 мм,  М8х10 ",null,21,"М8х11",450,0.34,{"$f":"'Конвертация цен'!H373","v":{"v":803.7209302325582,"d":"803.72"}},{"$f":"I120-I120*Оглавление!$K$20","v":{"v":803.7209302325582,"d":"803.72"}},null,{"$f":"K120*J120","v":{"v":0,"d":"0.00"}}]

{"sheet":"Мембранные баки","index":9,"n_rows":251,"n_cols":13,"rows_kept":251,"merged":[[3,0,3,9],[9,10,9,12],[13,11,13,12],[14,0,15,0],[14,1,15,1],[14,2,15,3],[14,10,15,10],[14,11,15,11],[14,12,15,12],[16,0,26,0],[16,2,16,3],[17,2,17,3],[18,2,18,3],[19,2,19,3],[20,2,20,3],[21,2,21,3],[22,2,22,3],[23,2,23,3],[24,2,24,3],[25,2,25,3],[26,2,26,3],[27,0,36,0],[27,2,27,3],[28,2,28,3],[29,2,29,3],[30,2,30,3],[31,2,31,3],[32,2,32,3],[33,2,33,3],[34,2,34,3],[35,2,35,3],[36,2,36,3],[37,0,45,0],[37,2,37,3],[38,2,38,3],[39,2,39,3],[40,2,40,3],[41,2,41,3],[42,2,42,3],[43,2,43,3],[44,2,44,3],[45,2,45,3],[46,0,69,0],[46,2,46,3],[47,2,47,3],[48,2,48,3],[49,2,49,3],[50,2,50,3],[51,2,51,3],[52,2,52,3],[53,2,53,3],[54,2,54,3],[55,2,55,3],[56,2,56,3],[57,2,57,3],[58,2,58,3],[59,2,59,3],[60,2,60,3],[61,2,61,3],[62,2,62,3],[63,2,63,3],[64,2,64,3],[65,2,65,3],[66,2,66,3],[67,2,67,3],[68,2,68,3],[69,2,69,3],[80,0,81,0],[80,1,81,1],[80,2,81,3],[80,10,81,10],[80,11,81,11],[80,12,81,12],[82,0,93,0],[82,2,82,3],[83,2,83,3],[84,2,84,3],[85,2,85,3],[86,2,86,3],[87,2,87,3],[88,2,88,3],[89,2,89,3],[90,2,90,3],[91,2,91,3],[92,2,92,3],[93,2,93,3],[94,0,107,0],[94,2,94,3],[95,2,95,3],[96,2,96,3],[97,2,97,3],[98,2,98,3],[99,2,99,3],[100,2,100,3],[101,2,101,3],[102,2,102,3],[103,2,103,3],[104,2,104,3],[105,2,105,3],[106,2,106,3],[107,2,107,3],[108,0,116,0],[108,2,108,3],[109,2,109,3],[110,2,110,3],[111,2,111,3],[112,2,112,3],[113,2,113,3],[114,2,114,3],[115,2,115,3],[116,2,116,3],[117,0,145,0],[117,2,117,3],[118,2,118,3],[119,2,119,3],[120,2,120,3],[121,2,121,3],[122,2,122,3],[123,2,123,3],[124,2,124,3],[125,2,125,3],[126,2,126,3],[127,2,127,3],[128,2,128,3],[129,2,129,3],[130,2,130,3],[131,2,131,3],[132,2,132,3],[133,2,133,3],[134,2,134,3],[135,2,135,3],[136,2,136,3],[137,2,137,3],[138,2,138,3],[139,2,139,3],[140,2,140,3],[141,2,141,3],[142,2,142,3],[143,2,143,3],[144,2,144,3],[145,2,145,3],[156,0,157,0],[156,1,157,1],[156,2,157,3],[156,10,157,10],[156,11,157,11],[156,12,157,12],[158,0,171,0],[158,2,158,3],[159,2,159,3],[160,2,160,3],[161,2,161,3],[162,2,162,3],[163,2,163,3],[164,2,164,3],[165,2,165,3],[166,2,166,3],[167,2,167,3],[168,2,168,3],[169,2,169,3],[170,2,170,3],[171,2,171,3],[182,0,183,0],[182,1,183,1],[182,2,183,3],[182,10,183,10],[182,11,183,11],[182,12,183,12],[184,0,188,0],[184,2,184,3],[185,2,185,3],[186,2,186,3],[187,2,187,3],[188,2,188,3],[189,0,192,0],[189,2,189,3],[190,2,190,3],[191,2,191,3],[192,2,192,3],[203,0,204,0],[203,1,204,1],[203,2,204,3],[203,10,204,10],[203,11,204,11],[203,12,204,12],[205,0,209,0],[205,2,205,3],[206,2,206,3],[207,2,207,3],[208,2,208,3],[209,2,209,3],[219,0,220,0],[219,1,220,1],[219,2,220,3],[219,10,220,10],[219,11,220,11],[219,12,220,12],[221,0,225,0],[221,2,221,3],[222,2,222,3],[223,2,223,3],[224,2,224,3],[225,2,225,3],[229,0,230,0],[229,1,230,1],[229,2,230,8],[229,10,230,10],[229,11,230,11],[229,12,230,12],[231,2,231,8],[232,2,232,8],[236,0,237,0],[236,1,237,1],[236,2,237,8],[236,10,237,10],[236,11,237,11],[236,12,237,12],[238,0,250,0],[238,2,238,8],[239,2,239,8],[240,2,240,8],[241,2,241,8],[242,2,242,8],[243,2,243,8],[244,2,244,8],[245,2,245,8],[246,2,246,8],[247,2,247,8],[248,2,248,8],[249,2,249,8],[250,2,250,8]]}
[]
[]
[]
["Мембранные расширительные баки"]
[]
["ВЕРТИКАЛЬНЫЕ МЕМБРАННЫЕ РАСШИРИТЕЛЬНЫЕ БАКИ СЕРИИ WRV ДЛЯ СИСТЕМ ОТОПЛЕНИЯ ЗАКРЫТОГО ТИПА"]
["• Диапазон рабочих температур теплоносителя: от -10⁰C до +80⁰C (кратковременно до +99⁰C)"]
["• Тип теплоносителя: вода или водные растворы гликоля с концентрацие до 50%"]
["• Материал корпуса и контрфланца: сталь углеродистая с эпоксиполиэфирным покрытием, цвет красный RAL 3002"]
["• Тип мембраны: заменяемая, материал мембраны: EPDM",{"$nulls":9},"На главную страницу"]
["• Материал ниппеля: латунь"]
["• Тип исполнения: вертикальный"]
["• Размер держателя мембраны у баков 200- 4000 л 3/4\"(НР)x1/2\"(ВР); Размер держателя мембраны у баков 5000- 10000 л 1 1/4\"(ВР)"]
[{"$nulls":10},"Итого:",{"$f":"SUM(M17:M69,M83:M146,M159:M172,M185:M193,M206:M210,M222:M226,M232:M233)","v":{"v":0,"d":"0.00"}}]
["Фото","Артикул","Наименование товара",null,"Объём бака","Pmax","P     преднастройки","Присоединение к системе","Вес","Цена за шт.","Цена со скидкой, RUB","Кол-во, шт.","Сумма со скидкой, RUB"]
[{"$nulls":4},"л","бар","бар","G или DN","кг","RUB"]
[null,"GKB0140029","Бак мембранный для отопления Gekon WRV8",null,8,{"v":5,"d":"5.0"},1.5,"3/4\" (НР)",1.6,{"$f":"'Конвертация цен'!H377","v":2334.29},{"$f":"J17-J17*Оглавление!$K$21","v":{"v":2334.29,"d":"2,334.29"}},null,{"$f":"L17*K17","v":{"v":0,"d":"0.00"}}]
[null,"GKB2140200","Бак мембранный для отопления Gekon WRV8 (16 бар)",null,8,{"v":16,"d":"16.0"},{"v":4,"d":"4.0"},"1\" (НР)",7,{"$f":"'Конвертация цен'!H378","v":{"v":13852.10284729004,"d":"13852.10"}},{"$f":"J18-J18*Оглавление!$K$21","v":{"v":13852.10284729004,"d":"13,852.10"}},null,{"$f":"L18*K18","v":{"v":0,"d":"0.00"}}]
[null,"GKB2140300","Бак мембранный для отопления Gekon WRV8 (25 бар)",null,8,{"v":25,"d":"25.0"},{"v":4,"d":"4.0"},"1\" (НР)",11,{"$f":"'Конвертация цен'!H379","v":{"v":40362.16174468995,"d":"40362.16"}},{"$f":"J19-J19*Оглавление!$K$21","v":{"v":40362.16174468995,"d":"40,362.16"}},null,{"v":0,"d":"0.00"}]
[null,"GKB0140049","Бак мембранный для отопления Gekon WRV12",null,12,{"v":5,"d":"5.0"},1.5,"3/4\" (НР)",2.05,{"$f":"'Конвертация цен'!H380","v":2544.54},{"$f":"J20-J20*Оглавление!$K$21","v":{"v":2544.54,"d":"2,544.54"}},null,{"v":0,"d":"0.00"}]
[null,"GKB2140302","Бак мембранный для отопления Gekon WRV12 (25 бар)",null,12,{"v":25,"d":"25.0"},{"v":4,"d":"4.0"},"1\" (НР)",12,{"$f":"'Конвертация цен'!H381","v":{"v":40362.16174468995,"d":"40362.16"}},{"$f":"J21-J21*Оглавление!$K$21","v":{"v":40362.16174468995,"d":"40,362.16"}},null,{"v":0,"d":"0.00"}]
[null,"GKB0140059","Бак мембранный для отопления Gekon WRV18",null,18,{"v":5,"d":"5.0"},1.5,"3/4\" (НР)",2.8,{"$f":"'Конвертация цен'!H382","v":2782.31},{"$f":"J22-J22*Оглавление!$K$21","v":{"v":2782.31,"d":"2,782.31"}},null,{"v":0,"d":"0.00"}]
[null,"GKB2140304","Бак мембранный для отопления Gekon WRV18 (25 бар)",null,18,{"v":25,"d":"25.0"},{"v":4,"d":"4.0"},"1\" (НР)",13,{"$f":"'Конвертация цен'!H383","v":{"v":55288.996709442144,"d":"55289.00"}},{"$f":"J23-J23*Оглавление!$K$21","v":{"v":55288.996709442144,"d":"55,289.00"}},null,{"v":0,"d":"0.00"}]
[null,"GKB0140069","Бак мембранный для отопления Gekon WRV24",null,24,{"v":5,"d":"5.0"},1.5,"3/4\" (НР)",4.25,{"$f":"'Конвертация цен'!H384","v":2998.79},{"$f":"J24-J24*Оглавление!$K$21","v":{"v":2998.79,"d":"2,998.79"}},null,{"v":0,"d":"0.00"}]
[null,"GKB2140206","Бак мембранный для отопления Gekon WRV24 (16 бар)",null,24,{"v":16,"d":"16.0"},{"v":4,"d":"4.0"},"1\" (НР)",8,{"$f":"'Конвертация цен'!H385","v":{"v":19106.348754882813,"d":"19106.35"}},{"$f":"J25-J25*Оглавление!$K$21","v":{"v":19106.348754882813,"d":"19,106.35"}},null,{"v":0,"d":"0.00"}]
[null,"GKB2140306","Бак мембранный для отопления Gekon WRV24 (25 бар)",null,24,{"v":25,"d":"25.0"},{"v":4,"d":"4.0"},"1\" (НР)",13,{"$f":"'Конвертация цен'!H386","v":{"v":55288.996709442144,"d":"55289.00"}},{"$f":"J26-J26*Оглавление!$K$21","v":{"v":55288.996709442144,"d":"55,289.00"}},null,{"v":0,"d":"0.00"}]
[null,"GKB0140080","Бак мембранный для отопления Gekon WRV35",null,35,{"v":5,"d":"5.0"},1.5,"3/4\" (НР)",5.95,{"$f":"'Конвертация цен'!H387","v":5083.81},{"$f":"J27-J27*Оглавление!$K$21","v":{"v":5083.81,"d":"5,083.81"}},null,{"v":0,"d":"0.00"}]
[null,"GKB0140100","Бак мембранный для отопления Gekon WRV50",null,50,{"v":5,"d":"5.0"},1.5,"3/4\" (НР)",7.75,{"$f":"'Конвертация цен'!H388","v":6259.08},{"$f":"J28-J28*Оглавление!$K$21","v":{"v":6259.08,"d":"6,259.08"}},null,{"$f":"L28*K28","v":{"v":0,"d":"0.00"}}]
[null,"GKB2140208","Бак мембранный для отопления Gekon WRV50 (16 бар)",null,50,{"v":16,"d":"16.0"},{"v":4,"d":"4.0"},"1\" (НР)",16,{"$f":"'Конвертация цен'!H389","v":{"v":38451.52686920166,"d":"38451.53"}},{"$f":"J29-J29*Оглавление!$K$21","v":{"v":38451.52686920166,"d":"38,451.53"}},null,{"$f":"L29*K29","v":{"v":0,"d":"0.00"}}]
[null,"GKB0140120","Бак мембранный для отопления Gekon WRV80",null,80,{"v":5,"d":"5.0"},1.5,"3/4\" (НР)",11.15,{"$f":"'Конвертация цен'!H390","v":8706.48},{"$f":"J30-J30*Оглавление!$K$21","v":{"v":8706.48,"d":"8,706.48"}},null,{"v":0,"d":"0.00"}]
[null,"GKB2140212","Бак мембранный для отопления Gekon WRV80 (16 бар)",null,80,{"v":16,"d":"16.0"},{"v":4,"d":"4.0"},"1\" (НР)",26,{"$f":"'Конвертация цен'!H391","v":{"v":59946.169218444826,"d":"59946.17"}},{"$f":"J31-J31*Оглавление!$K$21","v":{"v":59946.169218444826,"d":"59,946.17"}},null,{"v":0,"d":"0.00"}]
[null,"GKB0140140","Бак мембранный для отопления Gekon WRV100",null,100,{"v":5,"d":"5.0"},1.5,"1\" (НР)",13.25,{"$f":"'Конвертация цен'!H392","v":12513.58},{"$f":"J32-J32*Оглавление!$K$21","v":{"v":12513.58,"d":"12,513.58"}},null,{"v":0,"d":"0.00"}]
[null,"GKB2140214","Бак мембранный для отопления Gekon WRV100 (16 бар)",null,100,{"v":16,"d":"16.0"},{"v":4,"d":"4.0"},"1\" (НР)",47,{"$f":"'Конвертация цен'!H393","v":{"v":64483.9270477295,"d":"64483.93"}},{"$f":"J33-J33*Оглавление!$K$21","v":{"v":64483.9270477295,"d":"64,483.93"}},null,{"v":0,"d":"0.00"}]
[null,"GKB2140314","Бак мембранный для отопления Gekon WRV100 (25 бар)",null,100,{"v":25,"d":"25.0"},{"v":4,"d":"4.0"},"1\" (НР)",51,{"$f":"'Конвертация цен'!H394","v":{"v":149148.93496780397,"d":"149148.93"}},{"$f":"J34-J34*Оглавление!$K$21","v":{"v":149148.93496780397,"d":"149,148.93"}},null,{"v":0,"d":"0.00"}]
[null,"GKB0140160","Бак мембранный для отопления Gekon WRV150",null,150,{"v":5,"d":"5.0"},1.5,"1\" (НР)",17.2,{"$f":"'Конвертация цен'!H395","v":18956.77},{"$f":"J35-J35*Оглавление!$K$21","v":{"v":18956.77,"d":"18,956.77"}},null,{"v":0,"d":"0.00"}]
[null,"GKB2140216","Бак мембранный для отопления Gekon WRV150 (16 бар)",null,150,{"v":16,"d":"16.0"},{"v":4,"d":"4.0"},"1\" (НР)",47,{"$f":"'Конвертация цен'!H396","v":{"v":73559.44270629884,"d":"73559.44"}},{"$f":"J36-J36*Оглавление!$K$21","v":{"v":73559.44270629884,"d":"73,559.44"}},null,{"v":0,"d":"0.00"}]
[null,"GKB2140316","Бак мембранный для отопления Gekon WRV150 (25 бар)",null,150,{"v":25,"d":"25.0"},{"v":4,"d":"4.0"},"1\" (НР)",45,{"$f":"'Конвертация цен'!H397","v":{"v":238709.94475631716,"d":"238709.94"}},{"$f":"J37-J37*Оглавление!$K$21","v":{"v":238709.94475631716,"d":"238,709.94"}},null,{"v":0,"d":"0.00"}]
[null,"GKB0140180","Бак мембранный для отопления Gekon WRV200",null,200,{"v":10,"d":"10.0"},1.5,"1 1/4\" (НР)",32.4,{"$f":"'Конвертация цен'!H398","v":{"v":32108.6,"d":"32108.60"}},{"$f":"J38-J38*Оглавление!$K$21","v":{"v":32108.6,"d":"32,108.60"}},null,{"v":0,"d":"0.00"}]
[null,"GKB2140218","Бак мембранный для отопления Gekon WRV200 (16 бар)",null,200,{"v":16,"d":"16.0"},{"v":4,"d":"4.0"},"1 1/4\" (НР)",50,{"$f":"'Конвертация цен'!H399","v":{"v":137565.71103515627,"d":"137565.71"}},{"$f":"J39-J39*Оглавление!$K$21","v":{"v":137565.71103515627,"d":"137,565.71"}},null,{"$f":"L39*K39","v":{"v":0,"d":"0.00"}}]
[null,"GKB2140318","Бак мембранный для отопления Gekon WRV200 (25 бар)",null,200,{"v":25,"d":"25.0"},{"v":4,"d":"4.0"},"1 1/4\" (НР)",100,{"$f":"'Конвертация цен'!H400","v":{"v":310478.1672668457,"d":"310478.17"}},{"$f":"J40-J40*Оглавление!$K$21","v":{"v":310478.1672668457,"d":"310,478.17"}},null,{"v":0,"d":"0.00"}]
[null,"GKB0140190","Бак мембранный для отопления Gekon WRV300",null,300,{"v":10,"d":"10.0"},1.5,"1 1/4\" (НР)",40.3,{"$f":"'Конвертация цен'!H401","v":{"v":38272.4,"d":"38272.40"}},{"$f":"J41-J41*Оглавление!$K$21","v":{"v":38272.4,"d":"38,272.40"}},null,{"v":0,"d":"0.00"}]
[null,"GKB2140220","Бак мембранный для отопления Gekon WRV300 (16 бар)",null,300,{"v":16,"d":"16.0"},{"v":4,"d":"4.0"},"1 1/4\" (НР)",60,{"$f":"'Конвертация цен'!H402","v":{"v":162403.9644165039,"d":"162403.96"}},{"$f":"J42-J42*Оглавление!$K$21","v":{"v":162403.9644165039,"d":"162,403.96"}},null,{"v":0,"d":"0.00"}]
[null,"GKB2140320","Бак мембранный для отопления Gekon WRV300 (25 бар)",null,300,{"v":25,"d":"25.0"},{"v":4,"d":"4.0"},"1 1/4\" (НР)",110,{"$f":"'Конвертация цен'!H403","v":{"v":395859.66326522833,"d":"395859.66"}},{"$f":"J43-J43*Оглавление!$K$21","v":{"v":395859.66326522833,"d":"395,859.66"}},null,{"v":0,"d":"0.00"}]
[null,"GKB0140200","Бак мембранный для отопления Gekon WRV500",null,500,{"v":10,"d":"10.0"},1.5,"1 1/4\" (НР)",55.5,{"$f":"'Конвертация цен'!H404","v":{"v":67749.6,"d":"67749.60"}},{"$f":"J44-J44*Оглавление!$K$21","v":{"v":67749.6,"d":"67,749.60"}},null,{"v":0,"d":"0.00"}]
[null,"GKB2140222","Бак мембранный для отопления Gekon WRV500 (16 бар)",null,500,{"v":16,"d":"16.0"},{"v":4,"d":"4.0"},"1 1/4\" (НР)",91,{"$f":"'Конвертация цен'!H405","v":{"v":221991.8895957947,"d":"221991.89"}},{"$f":"J45-J45*Оглавление!$K$21","v":{"v":221991.8895957947,"d":"221,991.89"}},null,{"v":0,"d":"0.00"}]
[null,"GKB2140322","Бак мембранный для отопления Gekon WRV500 (25 бар)",null,500,{"v":25,"d":"25.0"},{"v":4,"d":"4.0"},"1 1/4\" (НР)",141,{"$f":"'Конвертация цен'!H406","v":{"v":537604.8880905152,"d":"537604.89"}},{"$f":"J46-J46*Оглавление!$K$21","v":{"v":537604.8880905152,"d":"537,604.89"}},null,{"v":0,"d":"0.00"}]
[null,"GKB0140210","Бак мембранный для отопления Gekon WRV750",null,750,{"v":10,"d":"10.0"},{"v":4,"d":"4.0"},"1 1/4\" (НР)",130,{"$f":"'Конвертация цен'!H407","v":151772.25},{"$f":"J47-J47*Оглавление!$K$21","v":{"v":151772.25,"d":"151,772.25"}},null,{"v":0,"d":"0.00"}]
[null,"GKB2140224","Бак мембранный для отопления Gekon WRV750 (16 бар)",null,750,{"v":16,"d":"16.0"},{"v":4,"d":"4.0"},"2\" (ВР)",211,{"$f":"'Конвертация цен'!H408","v":{"v":455567.0031242371,"d":"455567.00"}},{"$f":"J48-J48*Оглавление!$K$21","v":{"v":455567.0031242371,"d":"455,567.00"}},null,{"v":0,"d":"0.00"}]
[null,"GKB0140220","Бак мембранный для отопления Gekon WRV1000",null,1000,{"v":10,"d":"10.0"},{"v":4,"d":"4.0"},"2\" (ВР)",165,{"$f":"'Конвертация цен'!H409","v":{"v":220806.4,"d":"220806.40"}},{"$f":"J49-J49*Оглавление!$K$21","v":{"v":220806.4,"d":"220,806.40"}},null,{"v":0,"d":"0.00"}]
[null,"GKB2140226","Бак мембранный для отопления Gekon WRV1000 (16 бар)",null,1000,{"v":16,"d":"16.0"},{"v":4,"d":"4.0"},"2\" (ВР)",245,{"$f":"'Конвертация цен'!H410","v":{"v":573190.4626464844,"d":"573190.46"}},{"$f":"J50-J50*Оглавление!$K$21","v":{"v":573190.4626464844,"d":"573,190.46"}},null,{"v":0,"d":"0.00"}]
[null,"GKB2140326","Бак мембранный для отопления Gekon WRV1000(25 бар)",null,1000,{"v":25,"d":"25.0"},{"v":4,"d":"4.0"},"2\" (ВР)",295,{"$f":"'Конвертация цен'!H411","v":{"v":939674.1147010804,"d":"939674.11"}},{"$f":"J51-J51*Оглавление!$K$21","v":{"v":939674.1147010804,"d":"939,674.11"}},null,{"$f":"L51*K51","v":{"v":0,"d":"0.00"}}]
[null,"GKB1140312","Бак мембранный для отопления Gekon WRV1500",null,1500,{"v":10,"d":"10.0"},{"v":4,"d":"4.0"},"2\" (ВР)",240,{"$f":"'Конвертация цен'!H412","v":603769.91},{"$f":"J52-J52*Оглавление!$K$21","v":{"v":603769.91,"d":"603,769.91"}},null,{"v":0,"d":"0.00"}]
[null,"GKB2140228","Бак мембранный для отопления Gekon WRV1500 (16 бар)",null,1500,{"v":16,"d":"16.0"},{"v":4,"d":"4.0"},"2\" (ВР)",371,{"$f":"'Конвертация цен'!H413","v":{"v":784196.2017082215,"d":"784196.20"}},{"$f":"J53-J53*Оглавление!$K$21","v":{"v":784196.2017082215,"d":"784,196.20"}},null,{"v":0,"d":"0.00"}]
[null,"GKB2140328","Бак мембранный для отопления Gekon WRV1500(25 бар)",null,1500,{"v":25,"d":"25.0"},{"v":4,"d":"4.0"},"2\" (ВР)",421,{"$f":"'Конвертация цен'!H414","v":{"v":1276423.51150589,"d":"1276423.51"}},{"$f":"J54-J54*Оглавление!$K$21","v":{"v":1276423.51150589,"d":"1,276,423.51"}},null,{"v":0,"d":"0.00"}]
[null,"GKB1140315","Бак мембранный для отопления Gekon WRV2000",null,2000,{"v":10,"d":"10.0"},{"v":4,"d":"4.0"},"2\" (ВР)",375,{"$f":"'Конвертация цен'!H415","v":754958.94},{"$f":"J55-J55*Оглавление!$K$21","v":{"v":754958.94,"d":"754,958.94"}},null,{"v":0,"d":"0.00"}]
[null,"GKB2140230","Бак мембранный для отопления Gekon WRV2000 (16 бар)",null,2000,{"v":16,"d":"16.0"},{"v":4,"d":"4.0"},"2\" (ВР)",498,{"$f":"'Конвертация цен'!H416","v":{"v":1297321.080456543,"d":"1297321.08"}},{"$f":"J56-J56*Оглавление!$K$21","v":{"v":1297321.080456543,"d":"1,297,321.08"}},null,{"v":0,"d":"0.00"}]
[null,"GKB2140330","Бак мембранный для отопления Gekon WRV2000 (25 бар)",null,2000,{"v":25,"d":"25.0"},{"v":4,"d":"4.0"},"2\" (ВР)",548,{"$f":"'Конвертация цен'!H417","v":{"v":2003300.666949463,"d":"2003300.67"}},{"$f":"J57-J57*Оглавление!$K$21","v":{"v":2003300.666949463,"d":"2,003,300.67"}},null,{"v":0,"d":"0.00"}]
[null,"GKB2140104","Бак мембранный для отопления Gekon WRV2500",null,2500,{"v":10,"d":"10.0"},{"v":4,"d":"4.0"},"2\" (ВР)",307,{"$f":"'Конвертация цен'!H418","v":833021.21},{"$f":"J58-J58*Оглавление!$K$21","v":{"v":833021.21,"d":"833,021.21"}},null,{"v":0,"d":"0.00"}]
[null,"GKB1140320","Бак мембранный для отопления Gekon WRV3000",null,3000,{"v":10,"d":"10.0"},{"v":4,"d":"4.0"},"2 1/2\" (ВР)",550,{"$f":"'Конвертация цен'!H419","v":881982.66},{"$f":"J59-J59*Оглавление!$K$21","v":{"v":881982.66,"d":"881,982.66"}},null,{"v":0,"d":"0.00"}]
[null,"GKB2140234","Бак мембранный для отопления Gekon WRV3000 (16 бар)",null,3000,{"v":16,"d":"16.0"},{"v":4,"d":"4.0"},"2 1/2\" (ВР)",750,{"$f":"'Конвертация цен'!H420","v":{"v":1748589.1551109315,"d":"1748589.16"}},{"$f":"J60-J60*Оглавление!$K$21","v":{"v":1748589.1551109315,"d":"1,748,589.16"}},null,{"v":0,"d":"0.00"}]
[null,"GKB2140332","Бак мембранный для отопления Gekon WRV3000 (25 бар)",null,3000,{"v":25,"d":"25.0"},{"v":4,"d":"4.0"},"2 1/2\" (ВР)",800,{"$f":"'Конвертация цен'!H421","v":{"v":2644318.6676757815,"d":"2644318.67"}},{"$f":"J61-J61*Оглавление!$K$21","v":{"v":2644318.6676757815,"d":"2,644,318.67"}},null,{"v":0,"d":"0.00"}]
[null,"GKB2140108","Бак мембранный для отопления Gekon WRV4000",null,4000,{"v":10,"d":"10.0"},{"v":4,"d":"4.0"},"3\" (ВР)",655,{"$f":"'Конвертация цен'!H422","v":{"v":2151852.5285186768,"d":"2151852.53"}},{"$f":"J62-J62*Оглавление!$K$21","v":{"v":2151852.5285186768,"d":"2,151,852.53"}},null,{"v":0,"d":"0.00"}]
[null,"GKB2140236","Бак мембранный для отопления Gekon WRV4000 (16 бар)",null,4000,{"v":16,"d":"16.0"},{"v":4,"d":"4.0"},"3\" (ВР)",1003,{"$f":"'Конвертация цен'!H423","v":{"v":2751911.294101715,"d":"2751911.29"}},{"$f":"J63-J63*Оглавление!$K$21","v":{"v":2751911.294101715,"d":"2,751,911.29"}},null,{"v":0,"d":"0.00"}]
[null,"GKB1140330","Бак мембранный для отопления Gekon WRV5000",null,5000,{"v":10,"d":"10.0"},{"v":4,"d":"4.0"},"3\" (ВР)",830,{"$f":"'Конвертация цен'!H424","v":{"v":2924107.262255097,"d":"2924107.26"}},{"$f":"J64-J64*Оглавление!$K$21","v":{"v":2924107.262255097,"d":"2,924,107.26"}},null,{"v":0,"d":"0.00"}]
[null,"GKB2140238","Бак мембранный для отопления Gekon WRV5000 (16 бар)",null,5000,{"v":16,"d":"16.0"},{"v":4,"d":"4.0"},"3\" (ВР)",1139,{"$f":"'Конвертация цен'!H425","v":{"v":3518195.2938522343,"d":"3518195.29"}},{"$f":"J65-J65*Оглавление!$K$21","v":{"v":3518195.2938522343,"d":"3,518,195.29"}},null,{"v":0,"d":"0.00"}]
[null,"GKB2140112","Бак мембранный для отопления Gekon WRV8000",null,8000,{"v":10,"d":"10.0"},{"v":4,"d":"4.0"},"4\" (ВР)",1470,{"$f":"'Конвертация цен'!H426","v":{"v":5308699.00154419,"d":"5308699.00"}},{"$f":"J66-J66*Оглавление!$K$21","v":{"v":5308699.00154419,"d":"5,308,699.00"}},null,{"v":0,"d":"0.00"}]
[null,"GKB2140240","Бак мембранный для отопления Gekon WRV8000 (16 бар)",null,8000,{"v":16,"d":"16.0"},{"v":4,"d":"4.0"},"4\" (ВР)",1637,{"$f":"'Конвертация цен'!H427","v":{"v":7837782.503292085,"d":"7837782.50"}},{"$f":"J67-J67*Оглавление!$K$21","v":{"v":7837782.503292085,"d":"7,837,782.50"}},null,{"v":0,"d":"0.00"}]
[null,"GKB2140340","Бак мембранный для отопления Gekon WRV8000 (25 бар)",null,8000,{"v":25,"d":"25.0"},{"v":4,"d":"4.0"},"4\" (ВР)",1687,{"$f":"'Конвертация цен'!H428","v":{"v":9211887.222807312,"d":"9211887.22"}},{"$f":"J68-J68*Оглавление!$K$21","v":{"v":9211887.222807312,"d":"9,211,887.22"}},null,{"v":0,"d":"0.00"}]
[null,"GKB2140114","Бак мембранный для отопления Gekon WRV10000",null,10000,{"v":10,"d":"10.0"},{"v":4,"d":"4.0"},"DN 100",1920,{"$f":"'Конвертация цен'!H429","v":{"v":6242641.211618805,"d":"6242641.21"}},{"$f":"J69-J69*Оглавление!$K$21","v":{"v":6242641.211618805,"d":"6,242,641.21"}},null,{"v":0,"d":"0.00"}]
[null,"GKB2140242","Бак мембранный для отопления Gekon WRV 10000 (16 бар)",null,10000,{"v":16,"d":"16.0"},{"v":4,"d":"4.0"},"DN 100",2500,{"$f":"'Конвертация цен'!H430","v":"по запросу"},{"$f":"J70","v":"по запросу"},null,"по запросу"]
[]
["ВЕРТИКАЛЬНЫЕ МЕМБРАННЫЕ РАСШИРИТЕЛЬНЫЕ БАКИ СЕРИИ WAV ДЛЯ СИСТЕМ ВОДОСНАБЖЕНИЯ"]
["• Диапазон рабочих температур теплоносителя: от -10⁰C до +80⁰C (кратковременно до +99⁰C)"]
["• Тип теплоносителя: вода или водные растворы гликоля с концентрацие до 50%"]
["• Материал корпуса и контрфланца: сталь углеродистая с эпоксиполиэфирным покрытием, цвет синий RAL 5015"]
["• Тип мембраны: заменяемая, материал мембраны: EPDM"]
["• Материал ниппеля: латунь"]
["• Тип исполнения: вертикальный"]
["• Размер держателя мембраны у баков 200- 4000 л 3/4\"(НР)x1/2\"(ВР); Размер держателя мембраны у баков 5000- 10000 л 1 1/4\"(ВР)"]
[]
["Фото","Артикул","Наименование товара",null,"Объём бака","Pmax","P     преднастройки","Присоединение к системе","Вес","Цена за шт.","Цена со скидкой, RUB","Кол-во, шт.","Сумма со скидкой, RUB"]
[{"$nulls":4},"л","бар","бар","G или DN","кг","RUB"]
[null,"GKB0141029","Бак мембранный для водоснабжения Gekon WAV8",null,8,{"v":10,"d":"10.0"},1.5,"3/4\" (НР)",{"v":1.61,"d":"1.6"},{"$f":"'Конвертация цен'!H431","v":2346.06},{"$f":"J83-J83*Оглавление!$K$21","v":{"v":2346.06,"d":"2,346.06"}},null,{"$f":"L83*K83","v":{"v":0,"d":"0.00"}}]
[null,"GKB2140250","Бак мембранный для водоснабжения Gekon WAV8 (16 бар)",null,8,{"v":16,"d":"16.0"},{"v":4,"d":"4.0"},"1\" (НР)",7.3,{"$f":"'Конвертация цен'!H432","v":{"v":13852.10284729004,"d":"13852.10"}},{"$f":"J84-J84*Оглавление!$K$21","v":{"v":13852.10284729004,"d":"13,852.10"}},null,{"$f":"L84*K84","v":{"v":0,"d":"0.00"}}]
[null,"GKB2140350","Бак мембранный для водоснабжения Gekon WAV8 (25 бар)",null,8,{"v":25,"d":"25.0"},{"v":4,"d":"4.0"},"1\" (НР)",11.3,{"$f":"'Конвертация цен'!H433","v":{"v":40362.16174468995,"d":"40362.16"}},{"$f":"J85-J85*Оглавление!$K$21","v":{"v":40362.16174468995,"d":"40,362.16"}},null,{"v":0,"d":"0.00"}]
[null,"GKB0141039","Бак мембранный для водоснабжения Gekon WAV12",null,12,{"v":10,"d":"10.0"},1.5,"3/4\" (НР)",{"v":2.05,"d":"2.1"},{"$f":"'Конвертация цен'!H434","v":{"v":2552.5,"d":"2552.50"}},{"$f":"J86-J86*Оглавление!$K$21","v":{"v":2552.5,"d":"2,552.50"}},null,{"v":0,"d":"0.00"}]
[null,"GKB2140252","Бак мембранный для водоснабжения GekonWAV12 (16 бар)",null,12,{"v":16,"d":"16.0"},{"v":4,"d":"4.0"},"1\" (НР)",7.9,{"$f":"'Конвертация цен'!H435","v":{"v":13852.10284729004,"d":"13852.10"}},{"$f":"J87-J87*Оглавление!$K$21","v":{"v":13852.10284729004,"d":"13,852.10"}},null,{"v":0,"d":"0.00"}]
[null,"GKB2140352","Бак мембранный для водоснабжения Gekon WAV12 (25 бар)",null,12,{"v":25,"d":"25.0"},{"v":4,"d":"4.0"},"1\" (НР)",12.05,{"$f":"'Конвертация цен'!H436","v":{"v":40362.16174468995,"d":"40362.16"}},{"$f":"J88-J88*Оглавление!$K$21","v":{"v":40362.16174468995,"d":"40,362.16"}},null,{"v":0,"d":"0.00"}]
[null,"GKB0141049","Бак мембранный для водоснабжения Gekon WAV18",null,18,{"v":10,"d":"10.0"},1.5,"3/4\" (НР)",2.8,{"$f":"'Конвертация цен'!H437","v":3072.63},{"$f":"J89-J89*Оглавление!$K$21","v":{"v":3072.63,"d":"3,072.63"}},null,{"v":0,"d":"0.00"}]
[null,"GKB2140354","Бак мембранный для водоснабжения Gekon WAV18 (25 бар)",null,18,{"v":25,"d":"25.0"},{"v":4,"d":"4.0"},"1\" (НР)",12.5,{"$f":"'Конвертация цен'!H438","v":{"v":55288.996709442144,"d":"55289.00"}},{"$f":"J90-J90*Оглавление!$K$21","v":{"v":55288.996709442144,"d":"55,289.00"}},null,{"v":0,"d":"0.00"}]
[null,"GKB0141069","Бак мембранный для водоснабжения Gekon WAV24",null,24,{"v":10,"d":"10.0"},1.5,"3/4\" (НР)",{"v":4.25,"d":"4.3"},{"$f":"'Конвертация цен'!H439","v":3202.33},{"$f":"J91-J91*Оглавление!$K$21","v":{"v":3202.33,"d":"3,202.33"}},null,{"v":0,"d":"0.00"}]
[null,"GKB2140256","Бак мембранный для водоснабжения Gekon WAV24 (16 бар)",null,24,{"v":16,"d":"16.0"},{"v":4,"d":"4.0"},"1\" (НР)",8.3,{"$f":"'Конвертация цен'!H440","v":{"v":19106.348754882813,"d":"19106.35"}},{"$f":"J92-J92*Оглавление!$K$21","v":{"v":19106.348754882813,"d":"19,106.35"}},null,{"v":0,"d":"0.00"}]
[null,"GKB2140356","Бак мембранный для водоснабжения Gekon WAV 24 (25 бар)",null,24,{"v":25,"d":"25.0"},{"v":4,"d":"4.0"},"1\" (НР)",12.8,{"$f":"'Конвертация цен'!H441","v":{"v":55288.996709442144,"d":"55289.00"}},{"$f":"J93-J93*Оглавление!$K$21","v":{"v":55288.996709442144,"d":"55,289.00"}},null,{"v":0,"d":"0.00"}]
[null,"GKB0141080","Бак мембранный для водоснабжения Gekon WAV35",null,35,{"v":10,"d":"10.0"},1.5,"3/4\" (НР)",{"v":5.95,"d":"6"},{"$f":"'Конвертация цен'!H442","v":5258.79},{"$f":"J94-J94*Оглавление!$K$21","v":{"v":5258.79,"d":"5,258.79"}},null,{"v":0,"d":"0.00"}]
[null,"GKB0141100","Бак мембранный для водоснабжения Gekon WAV50",null,50,{"v":10,"d":"10.0"},1.5,"1\" (НР)",9.2,{"$f":"'Конвертация цен'!H443","v":8720.44},{"$f":"J95-J95*Оглавление!$K$21","v":{"v":8720.44,"d":"8,720.44"}},null,{"v":0,"d":"0.00"}]
[null,"GKB2140260","Бак мембранный для водоснабжения Gekon WAV50 (16 бар)",null,50,{"v":16,"d":"16.0"},{"v":4,"d":"4.0"},"1\" (НР)",16.4,{"$f":"'Конвертация цен'!H444","v":{"v":38451.52686920166,"d":"38451.53"}},{"$f":"J96-J96*Оглавление!$K$21","v":{"v":38451.52686920166,"d":"38,451.53"}},null,{"v":0,"d":"0.00"}]
[null,"GKB2140358","Бак мембранный для водоснабжения Gekon WAV 50 (25 бар)",null,50,{"v":25,"d":"25.0"},{"v":4,"d":"4.0"},"1\" (НР)",34.1,{"$f":"'Конвертация цен'!H445","v":{"v":81799.05560684204,"d":"81799.06"}},{"$f":"J97-J97*Оглавление!$K$21","v":{"v":81799.05560684204,"d":"81,799.06"}},null,{"v":0,"d":"0.00"}]
[null,"GKB2140262","Бак мембранный для водоснабжения Gekon WAV60 (16 бар)",null,60,{"v":16,"d":"16.0"},{"v":4,"d":"4.0"},"1\" (НР)",18.1,{"$f":"'Конвертация цен'!H446","v":{"v":42750.4553390503,"d":"42750.46"}},{"$f":"J98-J98*Оглавление!$K$21","v":{"v":42750.4553390503,"d":"42,750.46"}},null,{"v":0,"d":"0.00"}]
[null,"GKB2140359","Бак мембранный для водоснабжения Gekon WAV60 (25 бар)",null,60,{"v":25,"d":"25.0"},{"v":4,"d":"4.0"},"1\" (НР)",42,{"$f":"'Конвертация цен'!H447","v":{"v":92188.13274230958,"d":"92188.13"}},{"$f":"J99-J99*Оглавление!$K$21","v":{"v":92188.13274230958,"d":"92,188.13"}},null,{"v":0,"d":"0.00"}]
[null,"GKB0141120","Бак мембранный для водоснабжения Gekon WAV80",null,80,{"v":10,"d":"10.0"},1.5,"1\" (НР)",11.6,{"$f":"'Конвертация цен'!H448","v":11544.94},{"$f":"J100-J100*Оглавление!$K$21","v":{"v":11544.94,"d":"11,544.94"}},null,{"v":0,"d":"0.00"}]
[null,"GKB2140264","Бак мембранный для водоснабжения Gekon WAV80 (16 бар)",null,80,{"v":16,"d":"16.0"},{"v":4,"d":"4.0"},"1\" (НР)",25.86,{"$f":"'Конвертация цен'!H449","v":{"v":59946.169218444826,"d":"59946.17"}},{"$f":"J101-J101*Оглавление!$K$21","v":{"v":59946.169218444826,"d":"59,946.17"}},null,{"v":0,"d":"0.00"}]
[null,"GKB2140360","Бак мембранный для водоснабжения Gekon WAV 80 (25 бар)",null,80,{"v":25,"d":"25.0"},{"v":4,"d":"4.0"},"1\" (НР)",45,{"$f":"'Конвертация цен'!H450","v":{"v":146760.64137344362,"d":"146760.64"}},{"$f":"J102-J102*Оглавление!$K$21","v":{"v":146760.64137344362,"d":"146,760.64"}},null,{"v":0,"d":"0.00"}]
[null,"GKB0141140","Бак мембранный для водоснабжения Gekon WAV100",null,100,{"v":10,"d":"10.0"},1.5,"1\" (НР)",15.1,{"$f":"'Конвертация цен'!H451","v":15533.15},{"$f":"J103-J103*Оглавление!$K$21","v":{"v":15533.15,"d":"15,533.15"}},null,{"v":0,"d":"0.00"}]
[null,"GKB2140266","Бак мембранный для водоснабжения Gekon WAV100 (16 бар)",null,100,{"v":16,"d":"16.0"},{"v":4,"d":"4.0"},"1\" (НР)",47.3,{"$f":"'Конвертация цен'!H452","v":{"v":64483.9270477295,"d":"64483.93"}},{"$f":"J104-J104*Оглавление!$K$21","v":{"v":64483.9270477295,"d":"64,483.93"}},null,{"v":0,"d":"0.00"}]
[null,"GKB2140362","Бак мембранный для водоснабжения Gekon WAV100 (25 бар)",null,100,{"v":25,"d":"25.0"},{"v":4,"d":"4.0"},"1\" (НР)",67.3,{"$f":"'Конвертация цен'!H453","v":{"v":149148.93496780397,"d":"149148.93"}},{"$f":"J105-J105*Оглавление!$K$21","v":{"v":149148.93496780397,"d":"149,148.93"}},null,{"v":0,"d":"0.00"}]
[null,"GKB0141160","Бак мембранный для водоснабжения Gekon WAV150",null,150,{"v":10,"d":"10.0"},1.5,"1\" (НР)",18.4,{"$f":"'Конвертация цен'!H454","v":19647.75},{"$f":"J106-J106*Оглавление!$K$21","v":{"v":19647.75,"d":"19,647.75"}},null,{"v":0,"d":"0.00"}]
[null,"GKB2140268","Бак мембранный для водоснабжения Gekon WAV150 (16 бар)",null,150,{"v":16,"d":"16.0"},{"v":4,"d":"4.0"},"1\" (НР)",49,{"$f":"'Конвертация цен'!H455","v":{"v":73559.44270629884,"d":"73559.44"}},{"$f":"J107-J107*Оглавление!$K$21","v":{"v":73559.44270629884,"d":"73,559.44"}},null,{"v":0,"d":"0.00"}]
[null,"GKB2140366","Бак мембранный для водоснабжения Gekon WAV150 (25 бар)",null,150,{"v":25,"d":"25.0"},{"v":4,"d":"4.0"},"1\" (НР)",69,{"$f":"'Конвертация цен'!H456","v":{"v":238709.94475631716,"d":"238709.94"}},{"$f":"J108-J108*Оглавление!$K$21","v":{"v":238709.94475631716,"d":"238,709.94"}},null,{"v":0,"d":"0.00"}]
[null,"GKB0141510","Бак мембранный для водоснабжения Gekon WAV200",null,200,{"v":10,"d":"10.0"},1.5,"1 1/4\" (НР)",32.4,{"$f":"'Конвертация цен'!H457","v":36111.79},{"$f":"J109-J109*Оглавление!$K$21","v":{"v":36111.79,"d":"36,111.79"}},null,{"v":0,"d":"0.00"}]
[null,"GKB2140270","Бак мембранный для водоснабжения Gekon WAV200 (16 бар)",null,200,{"v":16,"d":"16.0"},{"v":4,"d":"4.0"},"1 1/4\" (НР)",50.3,{"$f":"'Конвертация цен'!H458","v":{"v":137565.71103515627,"d":"137565.71"}},{"$f":"J110-J110*Оглавление!$K$21","v":{"v":137565.71103515627,"d":"137,565.71"}},null,{"v":0,"d":"0.00"}]
[null,"GKB2140368","Бак мембранный для водоснабжения GekonWAV 200 (25 бар)",null,200,{"v":25,"d":"25.0"},{"v":4,"d":"4.0"},"1 1/4\" (НР)",70.3,{"$f":"'Конвертация цен'!H459","v":{"v":310478.1672668457,"d":"310478.17"}},{"$f":"J111-J111*Оглавление!$K$21","v":{"v":310478.1672668457,"d":"310,478.17"}},null,{"v":0,"d":"0.00"}]
[null,"GKB0141515","Бак мембранный для водоснабжения Gekon WAV300",null,300,{"v":10,"d":"10.0"},1.5,"1 1/4\" (НР)",40.3,{"$f":"'Конвертация цен'!H460","v":43804.54},{"$f":"J112-J112*Оглавление!$K$21","v":{"v":43804.54,"d":"43,804.54"}},null,{"v":0,"d":"0.00"}]
[null,"GKB2140272","Бак мембранный для водоснабжения Gekon WAV300 (16 бар)",null,300,{"v":16,"d":"16.0"},{"v":4,"d":"4.0"},"1 1/4\" (НР)",60.4,{"$f":"'Конвертация цен'!H461","v":{"v":162403.9644165039,"d":"162403.96"}},{"$f":"J113-J113*Оглавление!$K$21","v":{"v":162403.9644165039,"d":"162,403.96"}},null,{"v":0,"d":"0.00"}]
[null,"GKB2140370","Бак мембранный для водоснабжения Gekon WAV 300 (25 бар)",null,300,{"v":25,"d":"25.0"},{"v":4,"d":"4.0"},"1 1/4\" (НР)",80.4,{"$f":"'Конвертация цен'!H462","v":{"v":395859.66326522833,"d":"395859.66"}},{"$f":"J114-J114*Оглавление!$K$21","v":{"v":395859.66326522833,"d":"395,859.66"}},null,{"v":0,"d":"0.00"}]
[null,"GKB0141520","Бак мембранный для водоснабжения Gekon WAV500",null,500,{"v":10,"d":"10.0"},1.5,"1 1/4\" (НР)",55.5,{"$f":"'Конвертация цен'!H463","v":68108.08},{"$f":"J115-J115*Оглавление!$K$21","v":{"v":68108.08,"d":"68,108.08"}},null,{"v":0,"d":"0.00"}]
[null,"GKB2140274","Бак мембранный для водоснабжения Gekon WAV500 (16 бар)",null,500,{"v":16,"d":"16.0"},{"v":4,"d":"4.0"},"1 1/4\" (НР)",91.2,{"$f":"'Конвертация цен'!H464","v":{"v":221991.8895957947,"d":"221991.89"}},{"$f":"J116-J116*Оглавление!$K$21","v":{"v":221991.8895957947,"d":"221,991.89"}},null,{"v":0,"d":"0.00"}]
[null,"GKB2140372","Бак мембранный для водоснабжения Gekon WAV 500 (25 бар)",null,500,{"v":25,"d":"25.0"},{"v":4,"d":"4.0"},"1 1/4\" (НР)",111.2,{"$f":"'Конвертация цен'!H465","v":{"v":537604.8880905152,"d":"537604.89"}},{"$f":"J117-J117*Оглавление!$K$21","v":{"v":537604.8880905152,"d":"537,604.89"}},null,{"v":0,"d":"0.00"}]
[null,"GKB1140300","Бак мембранный для водоснабжения Gekon WAV750",null,750,{"v":10,"d":"10.0"},{"v":4,"d":"4.0"},"1 1/4\" (НР)",130,{"$f":"'Конвертация цен'!H466","v":170759.17},{"$f":"J118-J118*Оглавление!$K$21","v":{"v":170759.17,"d":"170,759.17"}},null,{"v":0,"d":"0.00"}]
[null,"GKB2140276","Бак мембранный для водоснабжения Gekon WAV750 (16 бар)",null,750,{"v":16,"d":"16.0"},{"v":4,"d":"4.0"},"2\" (ВР)",211,{"$f":"'Конвертация цен'!H467","v":{"v":455567.0031242371,"d":"455567.00"}},{"$f":"J119-J119*Оглавление!$K$21","v":{"v":455567.0031242371,"d":"455,567.00"}},null,{"v":0,"d":"0.00"}]
[null,"GKB2140374","Бак мембранный для водоснабжения Gekon WAV750 (25 бар)",null,750,{"v":25,"d":"25.0"},{"v":4,"d":"4.0"},"2\" (ВР)",231,{"$f":"'Конвертация цен'!H468","v":{"v":767955.8052665711,"d":"767955.81"}},{"$f":"J120-J120*Оглавление!$K$21","v":{"v":767955.8052665711,"d":"767,955.81"}},null,{"v":0,"d":"0.00"}]
[null,"GKB1140302","Бак мембранный для водоснабжения Gekon WAV1000",null,1000,{"v":10,"d":"10.0"},{"v":4,"d":"4.0"},"2\" (ВР)",165,{"$f":"'Конвертация цен'!H469","v":291510.64},{"$f":"J121-J121*Оглавление!$K$21","v":{"v":291510.64,"d":"291,510.64"}},null,{"v":0,"d":"0.00"}]
[null,"GKB2140278","Бак мембранный для водоснабжения GekonWAV1000 (16 бар)",null,1000,{"v":16,"d":"16.0"},{"v":4,"d":"4.0"},"2\" (ВР)",245,{"$f":"'Конвертация цен'!H470","v":{"v":573190.4626464844,"d":"573190.46"}},{"$f":"J122-J122*Оглавление!$K$21","v":{"v":573190.4626464844,"d":"573,190.46"}},null,{"v":0,"d":"0.00"}]
[null,"GKB2140376","Бак мембранный для водоснабжения Gekon WAV 1000 (25 бар)",null,1000,{"v":25,"d":"25.0"},{"v":4,"d":"4.0"},"2\" (ВР)",265,{"$f":"'Конвертация цен'!H471","v":{"v":939674.1147010804,"d":"939674.11"}},{"$f":"J123-J123*Оглавление!$K$21","v":{"v":939674.1147010804,"d":"939,674.11"}},null,{"v":0,"d":"0.00"}]
[null,"GKB2140120","Бак мембранный для водоснабжения Gekon WAV1500",null,1500,{"v":10,"d":"10.0"},{"v":4,"d":"4.0"},"2\" (ВР)",257,{"$f":"'Конвертация цен'!H472","v":603769.91},{"$f":"J124-J124*Оглавление!$K$21","v":{"v":603769.91,"d":"603,769.91"}},null,{"v":0,"d":"0.00"}]
[null,"GKB2140280","Бак мембранный для водоснабжения Gekon WAV1500 (16 бар)",null,1500,{"v":16,"d":"16.0"},{"v":4,"d":"4.0"},"2\" (ВР)",390,{"$f":"'Конвертация цен'!H473","v":{"v":784196.2017082215,"d":"784196.20"}},{"$f":"J125-J125*Оглавление!$K$21","v":{"v":784196.2017082215,"d":"784,196.20"}},null,{"v":0,"d":"0.00"}]
[null,"GKB2140378","Бак мембранный для водоснабжения Gekon WAV1500 (25 бар)",null,1500,{"v":25,"d":"25.0"},{"v":4,"d":"4.0"},"2\" (ВР)",410,{"$f":"'Конвертация цен'!H474","v":{"v":1276423.51150589,"d":"1276423.51"}},{"$f":"J126-J126*Оглавление!$K$21","v":{"v":1276423.51150589,"d":"1,276,423.51"}},null,{"v":0,"d":"0.00"}]
[null,"GKB2140122","Бак мембранный для водоснабжения Gekon WAV2000",null,2000,{"v":10,"d":"10.0"},{"v":4,"d":"4.0"},"2\" (ВР)",375,{"$f":"'Конвертация цен'!H475","v":754958.94},{"$f":"J127-J127*Оглавление!$K$21","v":{"v":754958.94,"d":"754,958.94"}},null,{"v":0,"d":"0.00"}]
[null,"GKB2140282","Бак мембранный для водоснабжения Gekon WAV2000 (16 бар)",null,2000,{"v":16,"d":"16.0"},{"v":4,"d":"4.0"},"2\" (ВР)",535,{"$f":"'Конвертация цен'!H476","v":{"v":1297321.080456543,"d":"1297321.08"}},{"$f":"J128-J128*Оглавление!$K$21","v":{"v":1297321.080456543,"d":"1,297,321.08"}},null,{"v":0,"d":"0.00"}]
[null,"GKB2140380","Бак мембранный для водоснабжения Gekon WAV 2000 (25 бар)",null,2000,{"v":25,"d":"25.0"},{"v":4,"d":"4.0"},"2\" (ВР)",555,{"$f":"'Конвертация цен'!H477","v":{"v":2003300.666949463,"d":"2003300.67"}},{"$f":"J129-J129*Оглавление!$K$21","v":{"v":2003300.666949463,"d":"2,003,300.67"}},null,{"v":0,"d":"0.00"}]
[null,"GKB2140124","Бак мембранный для водоснабжения Gekon WAV2500",null,2500,{"v":10,"d":"10.0"},{"v":4,"d":"4.0"},"2\" (ВР)",307,{"$f":"'Конвертация цен'!H478","v":1049994.17},{"$f":"J130-J130*Оглавление!$K$21","v":{"v":1049994.17,"d":"1,049,994.17"}},null,{"v":0,"d":"0.00"}]
[null,"GKB2140382","Бак мембранный для водоснабжения Gekon WAV2500 (25 бар)",null,2500,{"v":25,"d":"25.0"},{"v":4,"d":"4.0"},"2\" (ВР)",720,{"$f":"'Конвертация цен'!H479","v":{"v":2267326.523806,"d":"2267326.52"}},{"$f":"J131-J131*Оглавление!$K$21","v":{"v":2267326.523806,"d":"2,267,326.52"}},null,{"v":0,"d":"0.00"}]
[null,"GKB2140126","Бак мембранный для водоснабжения Gekon WAV3000",null,3000,{"v":10,"d":"10.0"},{"v":4,"d":"4.0"},"2 1/2\" (ВР)",750,{"$f":"'Конвертация цен'!H480","v":1111708.36},{"$f":"J132-J132*Оглавление!$K$21","v":{"v":1111708.36,"d":"1,111,708.36"}},null,{"v":0,"d":"0.00"}]
[null,"GKB2140286","Бак мембранный для водоснабжения Gekon WAV3000 (16 бар)",null,3000,{"v":16,"d":"16.0"},{"v":4,"d":"4.0"},"2 1/2\" (ВР)",825,{"$f":"'Конвертация цен'!H481","v":{"v":1748589.1551109315,"d":"1748589.16"}},{"$f":"J133-J133*Оглавление!$K$21","v":{"v":1748589.1551109315,"d":"1,748,589.16"}},null,{"v":0,"d":"0.00"}]
[null,"GKB2140384","Бак мембранный для водоснабжения Gekon WAV3000 (25 бар)",null,3000,{"v":25,"d":"25.0"},{"v":4,"d":"4.0"},"2 1/2\" (ВР)",845,{"$f":"'Конвертация цен'!H482","v":{"v":2644318.6676757815,"d":"2644318.67"}},{"$f":"J134-J134*Оглавление!$K$21","v":{"v":2644318.6676757815,"d":"2,644,318.67"}},null,{"v":0,"d":"0.00"}]
[null,"GKB2140128","Бак мембранный для водоснабжения Gekon WAV4000",null,4000,{"v":10,"d":"10.0"},{"v":4,"d":"4.0"},"3\" (ВР)",{"v":1003.1,"d":"1003"},{"$f":"'Конвертация цен'!H483","v":{"v":2151852.5285186768,"d":"2151852.53"}},{"$f":"J135-J135*Оглавление!$K$21","v":{"v":2151852.5285186768,"d":"2,151,852.53"}},null,{"$f":"L135*K135","v":{"v":0,"d":"0.00"}}]
[null,"GKB2140288","Бак мембранный для водоснабжения Gekon WAV4000 (16 бар)",null,4000,{"v":16,"d":"16.0"},{"v":4,"d":"4.0"},"3\" (ВР)",{"v":1003.1,"d":"1003"},{"$f":"'Конвертация цен'!H484","v":{"v":2751911.294101715,"d":"2751911.29"}},{"$f":"J136-J136*Оглавление!$K$21","v":{"v":2751911.294101715,"d":"2,751,911.29"}},null,{"v":0,"d":"0.00"}]
[null,"GKB2140386","Бак мембранный для водоснабжения Gekon WAV4000 (25 бар)",null,4000,{"v":25,"d":"25.0"},{"v":4,"d":"4.0"},"3\" (ВР)",{"v":1023.06,"d":"1023"},{"$f":"'Конвертация цен'!H485","v":{"v":3698272.630867005,"d":"3698272.63"}},{"$f":"J137-J137*Оглавление!$K$21","v":{"v":3698272.630867005,"d":"3,698,272.63"}},null,{"v":0,"d":"0.00"}]
[null,"GKB2140130","Бак мембранный для водоснабжения Gekon WAV5000",null,5000,{"v":10,"d":"10.0"},{"v":4,"d":"4.0"},"3\" (ВР)",1139,{"$f":"'Конвертация цен'!H486","v":{"v":2924107.262255097,"d":"2924107.26"}},{"$f":"J138-J138*Оглавление!$K$21","v":{"v":2924107.262255097,"d":"2,924,107.26"}},null,{"v":0,"d":"0.00"}]
[null,"GKB2140290","Бак мембранный для водоснабжения Gekon WAV5000 (16 бар)",null,5000,{"v":16,"d":"16.0"},{"v":4,"d":"4.0"},"3\" (ВР)",1139,{"$f":"'Конвертация цен'!H487","v":{"v":3518195.2938522343,"d":"3518195.29"}},{"$f":"J139-J139*Оглавление!$K$21","v":{"v":3518195.2938522343,"d":"3,518,195.29"}},null,{"v":0,"d":"0.00"}]
[null,"GKB2140388","Бак мембранный для водоснабжения Gekon WAV5000 (25 бар)",null,5000,{"v":25,"d":"25.0"},{"v":4,"d":"4.0"},"3\" (ВР)",1159,{"$f":"'Конвертация цен'!H488","v":{"v":4638543.818966676,"d":"4638543.82"}},{"$f":"J140-J140*Оглавление!$K$21","v":{"v":4638543.818966676,"d":"4,638,543.82"}},null,{"v":0,"d":"0.00"}]
[null,"GKB2140132","Бак мембранный для водоснабжения Gekon WAV8000",null,8000,{"v":10,"d":"10.0"},{"v":4,"d":"4.0"},"3\" (ВР)",1470,{"$f":"'Конвертация цен'!H489","v":{"v":5308699.00154419,"d":"5308699.00"}},{"$f":"J141-J141*Оглавление!$K$21","v":{"v":5308699.00154419,"d":"5,308,699.00"}},null,{"v":0,"d":"0.00"}]
[null,"GKB2140292","Бак мембранный для водоснабжения Gekon WAV 8000 (16 бар)",null,8000,{"v":16,"d":"16.0"},{"v":4,"d":"4.0"},"3\" (ВР)",1637,{"$f":"'Конвертация цен'!H490","v":{"v":7837782.503292085,"d":"7837782.50"}},{"$f":"J142-J142*Оглавление!$K$21","v":{"v":7837782.503292085,"d":"7,837,782.50"}},null,{"v":0,"d":"0.00"}]
[null,"GKB2140390","Бак мембранный для водоснабжения Gekon WAV8000 (25 бар)",null,8000,{"v":25,"d":"25.0"},{"v":4,"d":"4.0"},"3\" (ВР)",1657,{"$f":"'Конвертация цен'!H491","v":{"v":9211887.222807312,"d":"9211887.22"}},{"$f":"J143-J143*Оглавление!$K$21","v":{"v":9211887.222807312,"d":"9,211,887.22"}},null,{"v":0,"d":"0.00"}]
[null,"GKB2140134","Бак мембранный для водоснабжения Gekon WAV10000",null,10000,{"v":10,"d":"10.0"},{"v":4,"d":"4.0"},"4\" (ВР)",1920,{"$f":"'Конвертация цен'!H492","v":{"v":6242641.211618805,"d":"6242641.21"}},{"$f":"J144-J144*Оглавление!$K$21","v":{"v":6242641.211618805,"d":"6,242,641.21"}},null,{"v":0,"d":"0.00"}]
[null,"GKB2140294","Бак мембранный для водоснабжения Gekon WAV 10000 (16 бар)",null,10000,{"v":16,"d":"16.0"},{"v":4,"d":"4.0"},"4\" (ВР)",2500,{"$f":"'Конвертация цен'!H493","v":{"v":9092950.201808168,"d":"9092950.20"}},{"$f":"J145-J145*Оглавление!$K$21","v":{"v":9092950.201808168,"d":"9,092,950.20"}},null,{"v":0,"d":"0.00"}]
[null,"GKB2140392","Бак мембранный для водоснабжения Gekon WAV10000 (25 бар)",null,10000,{"v":25,"d":"25.0"},{"v":4,"d":"4.0"},"4\" (ВР)",2520,{"$f":"'Конвертация цен'!H494","v":{"v":11054336.316176606,"d":"11054336.32"}},{"$f":"J146-J146*Оглавление!$K$21","v":{"v":11054336.316176606,"d":"11,054,336.32"}},null,{"v":0,"d":"0.00"}]
[]
["ГОРИЗОНТАЛЬНЫЕ МЕМБРАННЫЕ РАСШИРИТЕЛЬНЫЕ БАКИ СЕРИИ WAO ДЛЯ СИСТЕМ ВОДОСНАБЖЕНИЯ"]
["• Диапазон рабочих температур теплоносителя: от -10⁰C до +80⁰C (кратковременно до +99⁰C)"]
["• Тип теплоносителя: вода или водные растворы гликоля с концентрацие до 50%"]
["• Материал корпуса и контрфланца: сталь углеродистая с эпоксиполиэфирным покрытием, цвет синий RAL 5015"]
["• Тип мембраны: заменяемая, материал мембраны: EPDM"]
["• Материал ниппеля: латунь"]
["• Тип исполнения: горизонтальный"]
["• Размер держателя мембраны 3/4\"(НР)x1/2\"(ВР)"]
[]
["Фото","Артикул","Наименование товара",null,"Объём бака","Pmax","P     преднастройки","Присоединение к системе","Вес","Цена за шт.","Цена со скидкой, RUB","Кол-во, шт.","Сумма со скидкой, RUB"]
[{"$nulls":4},"л","бар","бар","G или DN","кг","RUB"]
[null,"GKB0140949","Бак мембранный для водоснабжения горизонтальный Gekon WAO19",null,19,{"v":10,"d":"10.0"},1.5,"1\" (НР)",5.2,{"$f":"'Конвертация цен'!H495","v":{"v":3024.6,"d":"3024.60"}},{"$f":"J159-J159*Оглавление!$K$21","v":{"v":3024.6,"d":"3,024.60"}},null,{"$f":"L159*K159","v":{"v":0,"d":"0.00"}}]
[null,"GKB0140959","Бак мембранный для водоснабжения горизонтальный Gekon WAO24",null,24,{"v":10,"d":"10.0"},1.5,"1\" (НР)",5.6,{"$f":"'Конвертация цен'!H496","v":3261.85},{"$f":"J160-J160*Оглавление!$K$21","v":{"v":3261.85,"d":"3,261.85"}},null,{"$f":"L160*K160","v":{"v":0,"d":"0.00"}}]
[null,"GKB2140400","Бак мембранный для водоснабжения горизонтальный Gekon WAO24 (16 бар)",null,24,{"v":16,"d":"16.0"},4,"1\" (НР)",8.3,{"$f":"'Конвертация цен'!H497","v":{"v":19106.348754882813,"d":"19106.35"}},{"$f":"J161-J161*Оглавление!$K$21","v":{"v":19106.348754882813,"d":"19,106.35"}},null,{"v":0,"d":"0.00"}]
[null,"GKB2140500","Бак мембранный для водоснабжения горизонтальный Gekon WAO24 (25 бар)",null,24,{"v":25,"d":"25.0"},4,"1\" (НР)",27.3,{"$f":"'Конвертация цен'!H498","v":{"v":55288.996709442144,"d":"55289.00"}},{"$f":"J162-J162*Оглавление!$K$21","v":{"v":55288.996709442144,"d":"55,289.00"}},null,{"v":0,"d":"0.00"}]
[null,"GKB0140970","Бак мембранный для водоснабжения горизонтальный Gekon WAO50",null,50,{"v":10,"d":"10.0"},1.5,"1\" (НР)",9.4,{"$f":"'Конвертация цен'!H499","v":9221.46},{"$f":"J163-J163*Оглавление!$K$21","v":{"v":9221.46,"d":"9,221.46"}},null,{"v":0,"d":"0.00"}]
[null,"GKB2140402","Бак мембранный для водоснабжения горизонтальный Gekon WAO50 (16 бар)",null,50,{"v":16,"d":"16.0"},4,"1\" (НР)",15.1,{"$f":"'Конвертация цен'!H500","v":{"v":38451.52686920166,"d":"38451.53"}},{"$f":"J164-J164*Оглавление!$K$21","v":{"v":38451.52686920166,"d":"38,451.53"}},null,{"v":0,"d":"0.00"}]
[null,"GKB2140502","Бак мембранный для водоснабжения горизонтальный Gekon WAO50 (25 бар)",null,50,{"v":25,"d":"25.0"},4,"1\" (НР)",34.1,{"$f":"'Конвертация цен'!H501","v":{"v":81799.05560684204,"d":"81799.06"}},{"$f":"J165-J165*Оглавление!$K$21","v":{"v":81799.05560684204,"d":"81,799.06"}},null,{"v":0,"d":"0.00"}]
[null,"GKB0140990","Бак мембранный для водоснабжения горизонтальный Gekon WAO80",null,80,{"v":10,"d":"10.0"},1.5,"1\" (НР)","13,7,",{"$f":"'Конвертация цен'!H502","v":11583.38},{"$f":"J166-J166*Оглавление!$K$21","v":{"v":11583.38,"d":"11,583.38"}},null,{"v":0,"d":"0.00"}]
[null,"GKB2140404","Бак мембранный для водоснабжения горизонтальный Gekon WAO80 (16 бар)",null,80,{"v":16,"d":"16.0"},4,"1\" (НР)",{"v":25.86,"d":"25.9"},{"$f":"'Конвертация цен'!H503","v":{"v":59946.169218444826,"d":"59946.17"}},{"$f":"J167-J167*Оглавление!$K$21","v":{"v":59946.169218444826,"d":"59,946.17"}},null,{"v":0,"d":"0.00"}]
[null,"GKB2140504","Бак мембранный для водоснабжения горизонтальный Gekon WAO80 ( 25 бар)",null,80,{"v":25,"d":"25.0"},4,"1\" (НР)",{"v":45,"d":"45.0"},{"$f":"'Конвертация цен'!H504","v":{"v":146760.64137344362,"d":"146760.64"}},{"$f":"J168-J168*Оглавление!$K$21","v":{"v":146760.64137344362,"d":"146,760.64"}},null,{"v":0,"d":"0.00"}]
[null,"GKB0140995","Бак мембранный для водоснабжения горизонтальный Gekon WAO100",null,100,{"v":10,"d":"10.0"},1.5,"1\" (НР)",16.3,{"$f":"'Конвертация цен'!H505","v":15737.44},{"$f":"J169-J169*Оглавление!$K$21","v":{"v":15737.44,"d":"15,737.44"}},null,{"v":0,"d":"0.00"}]
[null,"GKB2140406","Бак мембранный для водоснабжения горизонтальный Gekon WAO100 (16 бар)",null,100,{"v":16,"d":"16.0"},4,"1\" (НР)",47.3,{"$f":"'Конвертация цен'!H506","v":{"v":64483.9270477295,"d":"64483.93"}},{"$f":"J170-J170*Оглавление!$K$21","v":{"v":64483.9270477295,"d":"64,483.93"}},null,{"v":0,"d":"0.00"}]
[null,"GKB2140506","Бак мембранный для водоснабжения горизонтальный Gekon WAO100 (25 бар)",null,100,{"v":25,"d":"25.0"},4,"1\" (НР)",{"v":51,"d":"51.0"},{"$f":"'Конвертация цен'!H507","v":{"v":149148.93496780397,"d":"149148.93"}},{"$f":"J171-J171*Оглавление!$K$21","v":{"v":149148.93496780397,"d":"149,148.93"}},null,{"v":0,"d":"0.00"}]
[null,"GKB0140997","Бак мембранный для водоснабжения горизонтальный Gekon WAO150",null,150,{"v":10,"d":"10.0"},1.5,"1\" (НР)",21.5,{"$f":"'Конвертация цен'!H508","v":25099.06},{"$f":"J172-J172*Оглавление!$K$21","v":{"v":25099.06,"d":"25,099.06"}},null,{"v":0,"d":"0.00"}]
[]
["ВЕРТИКАЛЬНЫЕ МЕМБРАННЫЕ РАСШИРИТЕЛЬНЫЕ БАКИ СЕРИИ WAV ДЛЯ СИСТЕМ ВОДОСНАБЖЕНИЯ С КОНТРФЛАНЦЕМ ИЗ НЕРЖАВЕЮЩЕЙ СТАЛИ"]
["• Диапазон рабочих температур теплоносителя: от -10⁰C до +80⁰C (кратковременно до +99⁰C)"]
["• Тип теплоносителя: вода или водные растворы гликоля с концентрацие до 50%"]
["• Материал корпуса: сталь углеродистая с эпоксиполиэфирным покрытием, цвет синий RAL 5015; Материал контрфланца: нержавеющая сталь"]
["• Тип мембраны: заменяемая, материал мембраны: EPDM"]
["• Материал ниппеля: латунь"]
["• Тип исполнения: вертикальный"]
["• Размер держателя мембраны у баков 80- 4000 л 3/4\"(НР)x1/2\"(ВР)"]
[]
["Фото","Артикул","Наименование товара",null,"Объём бака","Pmax","P     преднастройки","Присоединение к системе","Вес","Цена за шт.","Цена со скидкой, RUB","Кол-во, шт.","Сумма со скидкой, RUB"]
[{"$nulls":4},"л","бар","бар","G или DN","кг","RUB"]
[null,"GKB1140232","Бак мембранный для водоснабжения Gekon WAV8 с контрфланцем из нерж.стали",null,8,10,1.5,"3/4\" (НР)",1.61,{"$f":"'Конвертация цен'!H509","v":2883.29},{"$f":"J185-J185*Оглавление!$K$21","v":{"v":2883.29,"d":"2,883.29"}},null,{"$f":"L185*K185","v":{"v":0,"d":"0.00"}}]
[null,"GKB1140234","Бак мембранный для водоснабжения Gekon WAV12 с контрфланцем из нерж.стали",null,12,10,1.5,"3/4\" (НР)",2.05,{"$f":"'Конвертация цен'!H510","v":3137.06},{"$f":"J186-J186*Оглавление!$K$21","v":{"v":3137.06,"d":"3,137.06"}},null,{"$f":"L186*K186","v":{"v":0,"d":"0.00"}}]
[null,"GKB1140236","Бак мембранный для водоснабжения Gekon WAV18 с контрфланцем из нерж.стали",null,18,10,1.5,"3/4\" (НР)",2.8,{"$f":"'Конвертация цен'!H511","v":3777.17},{"$f":"J187-J187*Оглавление!$K$21","v":{"v":3777.17,"d":"3,777.17"}},null,{"v":0,"d":"0.00"}]
[null,"GKB1140238","Бак мембранный для водоснабжения Gekon WAV24 с контрфланцем из нерж.стали",null,24,10,1.5,"3/4\" (НР)",4.25,{"$f":"'Конвертация цен'!H512","v":3986.75},{"$f":"J188-J188*Оглавление!$K$21","v":{"v":3986.75,"d":"3,986.75"}},null,{"v":0,"d":"0.00"}]
[null,"GKB1140240","Бак мембранный для водоснабжения Gekon WAV35 с контрфланцем из нерж.стали",null,35,10,1.5,"3/4\" (НР)",5.95,{"$f":"'Конвертация цен'!H513","v":{"v":6328.1,"d":"6328.10"}},{"$f":"J189-J189*Оглавление!$K$21","v":{"v":6328.1,"d":"6,328.10"}},null,{"v":0,"d":"0.00"}]
[null,"GKB1140242","Бак мембранный для водоснабжения Gekon WAV50 с контрфланцем из нерж.стали",null,50,10,1.5,"1\" (НР)",9.2,{"$f":"'Конвертация цен'!H514","v":{"v":11008.5,"d":"11008.50"}},{"$f":"J190-J190*Оглавление!$K$21","v":{"v":11008.5,"d":"11,008.50"}},null,{"v":0,"d":"0.00"}]
[null,"GKB1140244","Бак мембранный для водоснабжения Gekon WAV80 с контрфланцем из нерж.стали",null,80,10,1.5,"1\" (НР)",11.6,{"$f":"'Конвертация цен'!H515","v":14573.81},{"$f":"J191-J191*Оглавление!$K$21","v":{"v":14573.81,"d":"14,573.81"}},null,{"v":0,"d":"0.00"}]
[null,"GKB1140246","Бак мембранный для водоснабжения Gekon WAV100 с контрфланцем из нерж.стали",null,100,10,1.5,"1\" (НР)",15.1,{"$f":"'Конвертация цен'!H516","v":19513.67},{"$f":"J192-J192*Оглавление!$K$21","v":{"v":19513.67,"d":"19,513.67"}},null,{"v":0,"d":"0.00"}]
[null,"GKB1140248","Бак мембранный для водоснабжения Gekon WAV150 с контрфланцем из нерж.стали",null,150,10,1.5,"1\" (НР)",18.4,{"$f":"'Конвертация цен'!H517","v":23646.63},{"$f":"J193-J193*Оглавление!$K$21","v":{"v":23646.63,"d":"23,646.63"}},null,{"v":0,"d":"0.00"}]
[]
["ГОРИЗОНТАЛЬНЫЕ МЕМБРАННЫЕ РАСШИРИТЕЛЬНЫЕ БАКИ СЕРИИ WAO ДЛЯ СИСТЕМ ВОДОСНАБЖЕНИЯ С КОНТРФЛАНЦЕМ ИЗ НЕРЖАВЕЮЩЕЙ СТАЛИ"]
["• Диапазон рабочих температур теплоносителя: от -10⁰C до +80⁰C (кратковременно до +99⁰C)"]
["• Тип теплоносителя: вода или водные растворы гликоля с концентрацие до 50%"]
["• Материал корпуса: сталь углеродистая с эпоксиполиэфирным покрытием, цвет синий RAL 5015; Материал контрфланца: нержавеющая сталь"]
["• Тип мембраны: заменяемая, материал мембраны: EPDM"]
["• Материал ниппеля: латунь"]
["• Тип исполнения: горизонтальный"]
["• Размер держателя мембраны у баков 80- 4000 л 3/4\"(НР)x1/2\"(ВР)"]
[]
["Фото","Артикул","Наименование товара",null,"Объём бака","Pmax","P     преднастройки","Присоединение к системе","Вес","Цена за шт.","Цена со скидкой, RUB","Кол-во, шт.","Сумма со скидкой, RUB"]
[{"$nulls":4},"л","бар","бар","G или DN","кг","RUB"]
[null,"GKB0140410","Бак мембранный для водоснабжения гор-й Gekon WAO24 ",null,24,10,1.5,"1\" (НР)",4.4,{"$f":"'Конвертация цен'!H518","v":{"v":4018.6,"d":"4018.60"}},{"$f":"J206-J206*Оглавление!$K$21","v":{"v":4018.6,"d":"4,018.60"}},null,{"$f":"L206*K206","v":{"v":0,"d":"0.00"}}]
[null,"GKB0140420","Бак мембранный для водоснабжения гор-й Gekon WAO50 с контрфланцем из нерж.стали",null,50,10,1.5,"1\" (НР)",9.4,{"$f":"'Конвертация цен'!H519","v":{"v":11239.1,"d":"11239.10"}},{"$f":"J207-J207*Оглавление!$K$21","v":{"v":11239.1,"d":"11,239.10"}},null,{"$f":"L207*K207","v":{"v":0,"d":"0.00"}}]
[null,"GKB1140250","Бак мембранный для водоснабжения гор-й Gekon WAO80 с контрфланцем из нерж.стали",null,80,10,1.5,"1\" (НР)",13.7,{"$f":"'Конвертация цен'!H520","v":14316.04},{"$f":"J208-J208*Оглавление!$K$21","v":{"v":14316.04,"d":"14,316.04"}},null,{"v":0,"d":"0.00"}]
[null,"GKB1140252","Бак мембранный для водоснабжения гор-й Gekon WAO100 с контрфланцем из нерж.стали",null,100,10,1.5,"1\" (НР)",16.3,{"$f":"'Конвертация цен'!H521","v":19450.23},{"$f":"J209-J209*Оглавление!$K$21","v":{"v":19450.23,"d":"19,450.23"}},null,{"v":0,"d":"0.00"}]
[null,"GKB1140254","Бак мембранный для водоснабжения горй Gekon WAO150 с контрфланцем из нерж.стали",null,150,10,1.5,"1\" (НР)",21.5,{"$f":"'Конвертация цен'!H522","v":29574.94},{"$f":"J210-J210*Оглавление!$K$21","v":{"v":29574.94,"d":"29,574.94"}},null,{"v":0,"d":"0.00"}]
[]
["ВЕРТИКАЛЬНЫЕ МЕМБРАННЫЕ РАСШИРИТЕЛЬНЫЕ БАКИ СЕРИИ WDV ДЛЯ ГВС И ГЕЛИОСИСТЕМ"]
["• Диапазон рабочих температур теплоносителя: от -10⁰C до +80⁰C (кратковременно до +99⁰C)"]
["• Тип теплоносителя: вода или водные растворы гликоля с концентрацие до 50%"]
["• Материал корпуса: сталь углеродистая с эпоксиполиэфирным покрытием, цвет синий RAL 9016; Материал контрфланца: нержавеющая сталь"]
["• Тип мембраны: заменяемая, материал мембраны: EPDM"]
["• Материал ниппеля: латунь"]
["• Тип исполнения: вертикальный"]
[]
["Фото","Артикул","Наименование товара",null,"Объём бака","Pmax","P     преднастройки","Присоединение к системе","Вес","Цена за шт.","Цена со скидкой, RUB","Кол-во, шт.","Сумма со скидкой, RUB"]
[{"$nulls":4},"л","бар","бар","G или DN","кг","RUB"]
[null,"GKB0140350","Бак мембранный для ГВС и гелиосистем Gekon WDV 8 с контрфланцем из нерж.стали",null,8,12,1.5,"3/4\" (НР)",1.7,{"$f":"'Конвертация цен'!H523","v":3439.46},{"$f":"J222-J222*Оглавление!$K$21","v":{"v":3439.46,"d":"3,439.46"}},null,{"$f":"L222*K222","v":{"v":0,"d":"0.00"}}]
[null,"GKB0140360","Бак мембранный для ГВС и гелиосистем Gekon WDV 12 с контрфланцем из нерж.стали",null,12,12,1.5,"3/4\" (НР)",2.1,{"$f":"'Конвертация цен'!H524","v":4041.92},{"$f":"J223-J223*Оглавление!$K$21","v":{"v":4041.92,"d":"4,041.92"}},null,{"$f":"L223*K223","v":{"v":0,"d":"0.00"}}]
[null,"GKB0140370","Бак мембранный для ГВС и гелиосистем Gekon WDV 18 с контрфланцем из нерж.стали",null,18,12,1.5,"3/4\" (НР)",2.9,{"$f":"'Конвертация цен'!H525","v":4820.25},{"$f":"J224-J224*Оглавление!$K$21","v":{"v":4820.25,"d":"4,820.25"}},null,{"v":0,"d":"0.00"}]
[null,"GKB0140380","Бак мембранный для ГВС и гелиосистем Gekon WDV 24 с контрфланцем из нерж.стали",null,24,12,1.5,"3/4\" (НР)",4.4,{"$f":"'Конвертация цен'!H526","v":5243.27},{"$f":"J225-J225*Оглавление!$K$21","v":{"v":5243.27,"d":"5,243.27"}},null,{"v":0,"d":"0.00"}]
[null,"GKB0140390","Бак мембранный для ГВС и гелиосистем Gekon WDV 35 с контрфланцем из нерж.стали",null,35,12,1.5,"3/4\" (НР)",6.3,{"$f":"'Конвертация цен'!H527","v":7588.54},{"$f":"J226-J226*Оглавление!$K$21","v":{"v":7588.54,"d":"7,588.54"}},null,{"v":0,"d":"0.00"}]
[]
["ПРИНАДЛЕЖНОСТИ ДЛЯ МЕМБРАННЫХ БАКОВ"]
[]
["Фото","Артикул","Наименование товара",{"$nulls":6},"Цена за шт.","Цена со скидкой, RUB","Кол-во, шт.","Сумма со скидкой, RUB"]
[{"$nulls":9},"RUB"]
[null,"GKB0143010","Комплект крепления для мембранных баков 8-35 л",{"$nulls":6},{"$f":"'Конвертация цен'!H528","v":{"v":1143,"d":"1143.00"}},{"$f":"J232-J232*Оглавление!$K$21","v":{"v":1143,"d":"1,143.00"}},null,{"$f":"L232*K232","v":{"v":0,"d":"0.00"}}]
[null,"GKBQRVG34","Клапан быстроразъемный для расширительного бака 3/4\"",{"$nulls":6},{"$f":"'Конвертация цен'!H529","v":{"v":970,"d":"970.00"}},{"$f":"J233-J233*Оглавление!$K$21","v":{"v":970,"d":"970.00"}},null,{"$f":"L233*K233","v":{"v":0,"d":"0.00"}}]
[]
["ЗАПАСНЫЕ ЧАСТИ ДЛЯ МЕМБРАННЫХ БАКОВ"]
[]
["Фото","Артикул","Наименование товара",{"$nulls":6},"Цена за шт.","Цена со скидкой, RUB","Кол-во, шт.","Сумма со скидкой, RUB"]
[{"$nulls":9},"RUB"]
[null,"999ME001","Мембрана для баков 8, 12 л. с горловиной диаметром 51,5 мм (для WAV, WRV, WDV)",{"$nulls":6},"по запросу",{"$f":"J239","v":"по запросу"},null,{"$f":"K239","v":"по запросу"}]
[null,"999ME016","Мембрана для баков 18, 24 л. с горловиной диаметром 51,5 мм (для WAV, WRV, WDV)",{"$nulls":6},"по запросу",{"$f":"J240","v":"по запросу"},null,{"$f":"K240","v":"по запросу"}]
[null,"999ME070","Мембрана для баков 24 л. с горловиной диаметром 89 мм (для WAO)",{"$nulls":6},"по запросу","по запросу",null,"по запросу"]
[null,"999ME055","Мембрана для баков 35, 50 л. с горловиной диаметром 89 мм (для WAV, WRV, WAO)",{"$nulls":6},"по запросу","по запросу",null,"по запросу"]
[null,"999ME090","Мембрана для баков 80, 100 л. с горловиной диаметром 89 мм (для WRV)",{"$nulls":6},"по запросу","по запросу",null,"по запросу"]
[null,"999ME089","Мембрана (проходная) для баков 80, 100 л. с горловиной диаметром 89 мм (для WAV, WAO)",{"$nulls":6},"по запросу","по запросу",null,"по запросу"]
[null,"999ME201","Мембрана (проходная) для баков 150 л. с горловиной диаметром 89 мм (для WAV, WAO)",{"$nulls":6},"по запросу","по запросу",null,"по запросу"]
[null,"999ME200","Мембрана для баков 150 л. с горловиной диаметром 89 мм (для WRV)",{"$nulls":6},"по запросу","по запросу",null,"по запросу"]
[null,"999ME120","Мембрана для баков 200 л. (для WAV, WRV)",{"$nulls":6},"по запросу","по запросу",null,"по запросу"]
[null,"999ME700","Мембрана для баков 300 л. (для WAV, WRV)",{"$nulls":6},"по запросу","по запросу",null,"по запросу"]
[null,"999ME750","Мембрана для баков 500 л. (для WAV, WRV)",{"$nulls":6},"по запросу","по запросу",null,"по запросу"]
[null,"FOA0244","Мембрана для водоснабжения, 750 л. (для WAV, WRV)",{"$nulls":6},"по запросу","по запросу",null,"по запросу"]
[null,"FOA0245","Мембрана для водоснабжения, 1000 л. (для WAV, WRV)",{"$nulls":6},"по запросу","по запросу",null,"по запросу"]

{"sheet":"Дымоходы","index":10,"n_rows":126,"n_cols":11,"rows_kept":126,"merged":[[3,0,3,7],[6,8,6,10],[8,9,8,10],[9,0,10,0],[9,1,10,1],[9,2,10,3],[9,8,10,8],[9,9,10,9],[9,10,10,10],[9,13,9,36],[11,0,14,0],[11,2,11,3],[12,2,12,3],[13,2,13,3],[14,2,14,3],[15,0,16,0],[15,2,15,3],[16,2,16,3],[17,0,32,0],[17,2,17,3],[18,2,18,3],[19,2,19,3],[20,2,20,3],[21,2,21,3],[22,2,22,3],[23,2,23,3],[24,2,24,3],[25,2,25,3],[26,2,26,3],[27,2,27,3],[28,2,28,3],[29,2,29,3],[30,2,30,3],[31,2,31,3],[32,2,32,3],[33,0,34,0],[33,2,33,3],[34,2,34,3],[35,0,37,0],[35,2,35,3],[36,2,36,3],[37,2,37,3],[38,2,38,3],[39,0,40,0],[39,2,39,3],[40,2,40,3],[41,0,42,0],[41,2,41,3],[42,2,42,3],[43,2,43,3],[44,2,44,3],[45,2,45,3],[46,2,46,3],[48,0,49,0],[48,1,49,1],[48,2,49,3],[48,8,49,8],[48,9,49,9],[48,10,49,10],[48,13,48,36],[50,0,52,0],[50,2,50,3],[51,2,51,3],[52,2,52,3],[53,0,55,0],[53,2,53,3],[54,2,54,3],[55,2,55,3],[56,2,56,3],[63,0,64,0],[63,1,64,1],[63,2,64,3],[63,8,64,8],[63,9,64,9],[63,10,64,10],[65,0,72,0],[65,2,65,3],[66,2,66,3],[67,2,67,3],[68,2,68,3],[69,2,69,3],[70,2,70,3],[71,2,71,3],[72,2,72,3],[73,2,73,3],[74,2,74,3],[75,2,75,3],[76,2,76,3],[78,0,79,0],[78,1,79,1],[78,2,79,3],[78,8,79,8],[78,9,79,9],[78,10,79,10],[78,13,78,36],[80,2,80,3],[81,2,81,3],[87,0,88,0],[87,1,88,1],[87,2,88,3],[87,8,88,8],[87,9,88,9],[87,10,88,10],[89,0,90,0],[89,2,89,3],[90,2,90,3],[91,0,97,0],[91,2,91,3],[92,2,92,3],[93,2,93,3],[94,2,94,3],[95,2,95,3],[96,2,96,3],[97,2,97,3],[98,2,98,3],[99,2,99,3],[101,0,102,0],[101,1,102,1],[101,2,102,3],[101,8,102,8],[101,9,102,9],[101,10,102,10],[103,0,105,0],[103,2,103,3],[104,2,104,3],[105,2,105,3],[106,0,108,0],[106,2,106,3],[107,2,107,3],[108,2,108,3],[112,0,113,0],[112,1,113,1],[112,2,113,3],[112,4,112,5],[112,8,113,8],[112,9,113,9],[112,10,113,10],[113,4,113,5],[114,2,114,3],[114,4,114,5],[115,0,118,0],[115,2,115,3],[115,4,115,5],[116,2,116,3],[116,4,116,5],[117,2,117,3],[117,4,117,5],[118,2,118,3],[118,4,118,5],[119,0,120,0],[119,2,119,3],[119,4,119,5],[120,2,120,3],[120,4,120,5],[121,0,123,0],[121,2,121,3],[121,4,121,5],[122,2,122,3],[122,4,122,5],[123,2,123,3],[123,4,123,5],[124,2,124,3],[124,4,124,5],[125,2,125,3],[125,4,125,5]]}
[]
[]
[]
["Дымоходы"]
[]
["ДЫМОХОДЫ КОАКСИАЛЬНЫЕ ДЛЯ КЛАССИЧЕСКИХ КОТЛОВ"]
["• Универсальные комплекты Ø60/100 и Ø80/125 мм",{"$nulls":7},"На главную страницу"]
["• Основные элементы изготовлены из АЛЮМИНИЯ, АЛЮМИНИЯ С ОЦИНКОВАННОЙ СТАЛИ или СТАЛИ"]
[{"$nulls":8},"Итого:",{"$f":"SUM(K12:K47)+SUM(K51:K57)+SUM(K66:K77)+SUM(K81:K82)","v":{"v":0,"d":"0.00"}}]
["Фото","Артикул","Наименование товара",null,"Диаметр","Длина","Вес","Цена за шт.","Цена со скидкой, RUB","Кол-во, шт.","Сумма со скидкой, RUB"]
[{"$nulls":4},"мм","м","кг","RUB"]
[null,"GKD K60100L1ALPA","Универсальный комплект Gekon Ø60/100 мм L=1,0 м (хомут, фланец, проставка 60 мм), Алюминий, система Антилед",null,"60/100",{"v":1,"d":"1.0"},1.8,{"$f":"'Конвертация цен'!H533","v":{"v":3752.1388413590807,"d":"3752.14"}},{"$f":"H12-H12*Оглавление!$K$22","v":{"v":3752.1388413590807,"d":"3,752.14"}},null,{"$f":"J12*I12","v":{"v":0,"d":"0.00"}}]
[null,"GKD K60100L1GSPA","Универсальный комплект Gekon Ø60/100 мм       L=1,0 м (хомут, фланец, проставка 60 мм), Алюминий и Оц.сталь, система Антилёд",null,"60/100",{"v":1,"d":"1.0"},1.7,{"$f":"'Конвертация цен'!H534","v":{"v":3497.9222683940357,"d":"3497.92"}},{"$f":"H13-H13*Оглавление!$K$22","v":{"v":3497.9222683940357,"d":"3,497.92"}},null,{"$f":"J13*I13","v":{"v":0,"d":"0.00"}}]
[null,"GKD K60100L3ALPA","Универсальный комплект Gekon Ø60/100 мм L=1,35 м (хомут, фланец, проставка 60 мм), Алюминий, система Антилед",null,"60/100",1.35,2.4,{"$f":"'Конвертация цен'!H535","v":{"v":4179.907113175263,"d":"4179.91"}},{"$f":"H14-H14*Оглавление!$K$22","v":{"v":4179.907113175263,"d":"4,179.91"}},null,{"v":0,"d":"0.00"}]
[null,"GKD K60100L3GSPA","Универсальный комплект Gekon Ø60/100 мм, L=1,35 м (хомут, фланец, проставка 60 мм), Алюминий и Оц.сталь, система Антилёд",null,"60/100",1.35,2.3,{"$f":"'Конвертация цен'!H536","v":{"v":3849.9144463456364,"d":"3849.91"}},{"$f":"H15-H15*Оглавление!$K$22","v":{"v":3849.9144463456364,"d":"3,849.91"}},null,{"v":0,"d":"0.00"}]
[null,"GKD 60100L1000GS","Труба выпускная с наконечником Gekon Ø60/100 мм, L=1190 мм, Алюминий и Оц.сталь, система Антилёд",null,"60/100",1.19,1.9,{"$f":"'Конвертация цен'!H537","v":{"v":2309.9486678073818,"d":"2309.95"}},{"$f":"H16-H16*Оглавление!$K$22","v":{"v":2309.9486678073818,"d":"2,309.95"}},null,{"$f":"J16*I16","v":{"v":0,"d":"0.00"}}]
[null,"GKD 80125L1000GS","Труба выпускная с наконечником Gekon Ø80/125 мм, L=1000 мм, Алюминий и Оц.сталь, система Антилед",null,"80/125",{"v":1,"d":"1.0"},3.1,{"$f":"'Конвертация цен'!H538","v":{"v":3629.919335125886,"d":"3629.92"}},{"$f":"H17-H17*Оглавление!$K$22","v":{"v":3629.919335125886,"d":"3,629.92"}},null,{"v":0,"d":"0.00"}]
[null,"GKD 60100L025AL","Удлинение дымохода Gekon Ø60/100 мм, L=250 мм, Алюминий",null,"60/100",0.25,{"v":0.44,"d":"0.4"},{"$f":"'Конвертация цен'!H539","v":{"v":857.9809337570276,"d":"857.98"}},{"$f":"H18-H18*Оглавление!$K$22","v":{"v":857.9809337570276,"d":"857.98"}},null,{"v":0,"d":"0.00"}]
[null,"GKD 60100L025","Удлинение дымохода Gekon Ø60/100 мм, L=250 мм, Алюминий и Оц.сталь",null,"60/100",0.25,0.4,{"$f":"'Конвертация цен'!H540","v":{"v":716.2063065265216,"d":"716.21"}},{"$f":"H19-H19*Оглавление!$K$22","v":{"v":716.2063065265216,"d":"716.21"}},null,{"v":0,"d":"0.00"}]
[null,"GKD 80L025AL","Удлинение дымохода Gekon Ø80 мм, L=250 мм, Алюминий",null,80,0.25,0.2,{"$f":"'Конвертация цен'!H541","v":{"v":474.2116841847959,"d":"474.21"}},{"$f":"H20-H20*Оглавление!$K$22","v":{"v":474.2116841847959,"d":"474.21"}},null,{"$f":"J20*I20","v":{"v":0,"d":"0.00"}}]
[null,"GKD 80125L025","Удлинение дымохода Gekon Ø80/125 мм, L=250 мм, Алюминий и Оц.сталь",null,"80/125",0.25,0.7,{"$f":"'Конвертация цен'!H542","v":{"v":1737.9613786360303,"d":"1737.96"}},{"$f":"H21-H21*Оглавление!$K$22","v":{"v":1737.9613786360303,"d":"1,737.96"}},null,{"v":0,"d":"0.00"}]
[null,"GKD 60100L050AL","Удлинение дымохода Gekon Ø60/100 мм, L=500 мм, Алюминий",null,"60/100",0.5,{"v":0.98,"d":"1.0"},{"$f":"'Конвертация цен'!H543","v":{"v":1473.9672451723295,"d":"1473.97"}},{"$f":"H22-H22*Оглавление!$K$22","v":{"v":1473.9672451723295,"d":"1,473.97"}},null,{"v":0,"d":"0.00"}]
[null,"GKD 60100L050","Удлинение дымохода Gekon Ø60/100 мм, L=500 мм, Алюминий и Оц.сталь",null,"60/100",0.5,0.9,{"$f":"'Конвертация цен'!H544","v":{"v":1033.9770227328281,"d":"1033.98"}},{"$f":"H23-H23*Оглавление!$K$22","v":{"v":1033.9770227328281,"d":"1,033.98"}},null,{"v":0,"d":"0.00"}]
[null,"GKD 80L050AL","Удлинение дымохода Gekon Ø80 мм, L=500 мм, Алюминий",null,80,0.5,0.4,{"$f":"'Конвертация цен'!H545","v":{"v":725.9838670251772,"d":"725.98"}},{"$f":"H24-H24*Оглавление!$K$22","v":{"v":725.9838670251772,"d":"725.98"}},null,{"v":0,"d":"0.00"}]
[null,"GKD 80125L050","Удлинение дымохода Gekon Ø80/125 мм, L=500 мм, Алюминий и Оц.сталь",null,"80/125",0.5,1.6,{"$f":"'Конвертация цен'!H546","v":{"v":2397.9467122952824,"d":"2397.95"}},{"$f":"H25-H25*Оглавление!$K$22","v":{"v":2397.9467122952824,"d":"2,397.95"}},null,{"v":0,"d":"0.00"}]
[null,"GKD 60100L100AL","Удлинение дымохода Gekon Ø60/100 мм, L=1000 мм, Алюминий",null,"60/100",{"v":1,"d":"1.0"},{"v":1.74,"d":"1.7"},{"$f":"'Конвертация цен'!H547","v":{"v":2463.9452456612075,"d":"2463.95"}},{"$f":"H26-H26*Оглавление!$K$22","v":{"v":2463.9452456612075,"d":"2,463.95"}},null,{"v":0,"d":"0.00"}]
[null,"GKD 60100L100","Удлинение дымохода Gekon Ø60/100 мм, L=1000 мм, Алюминий и Оц.сталь",null,"60/100",{"v":1,"d":"1.0"},1.7,{"$f":"'Конвертация цен'!H548","v":{"v":1737.9613786360303,"d":"1737.96"}},{"$f":"H27-H27*Оглавление!$K$22","v":{"v":1737.9613786360303,"d":"1,737.96"}},null,{"v":0,"d":"0.00"}]
[null,"GKD 80L100AL","Удлинение дымохода Gekon Ø80 мм, L=1000 мм, Алюминий",null,80,{"v":1,"d":"1.0"},0.7,{"$f":"'Конвертация цен'!H549","v":{"v":1275.9716450745539,"d":"1275.97"}},{"$f":"H28-H28*Оглавление!$K$22","v":{"v":1275.9716450745539,"d":"1,275.97"}},null,{"v":0,"d":"0.00"}]
[null,"GKD 80125L100","Удлинение дымохода Gekon Ø80/125 мм, L=1000 мм, Алюминий и Оц.сталь",null,"80/125",{"v":1,"d":"1.0"},3.2,{"$f":"'Конвертация цен'!H550","v":{"v":3959.912001955512,"d":"3959.91"}},{"$f":"H29-H29*Оглавление!$K$22","v":{"v":3959.912001955512,"d":"3,959.91"}},null,{"v":0,"d":"0.00"}]
[null,"GKD 60100L150AL","Удлинение дымохода Gekon Ø60/100 мм, L=1500 мм, Алюминий",null,"60/100",1.5,{"v":2.94,"d":"2.9"},{"$f":"'Конвертация цен'!H551","v":{"v":3686.1403079931556,"d":"3686.14"}},{"$f":"H30-H30*Оглавление!$K$22","v":{"v":3686.1403079931556,"d":"3,686.14"}},null,{"v":0,"d":"0.00"}]
[null,"GKD 80L150AL","Удлинение дымохода Gekon Ø80 мм, L=1500 мм, Алюминий",null,80,1.5,1.1,{"$f":"'Конвертация цен'!H552","v":{"v":2045.9545343436812,"d":"2045.95"}},{"$f":"H31-H31*Оглавление!$K$22","v":{"v":2045.9545343436812,"d":"2,045.95"}},null,{"v":0,"d":"0.00"}]
[null,"GKD 60100L200AL","Удлинение дымохода Gekon Ø60/100 мм, L=2000 мм, Алюминий",null,"60/100",{"v":2,"d":"2.0"},{"v":3.92,"d":"3.9"},{"$f":"'Конвертация цен'!H553","v":{"v":4773.89391346859,"d":"4773.89"}},{"$f":"H32-H32*Оглавление!$K$22","v":{"v":4773.89391346859,"d":"4,773.89"}},null,{"v":0,"d":"0.00"}]
[null,"GKD 80L200AL","Удлинение дымохода Gekon Ø80 мм, L=2000 мм, Алюминий",null,80,{"v":2,"d":"2.0"},1.5,{"$f":"'Конвертация цен'!H554","v":{"v":2661.940845758983,"d":"2661.94"}},{"$f":"H33-H33*Оглавление!$K$22","v":{"v":2661.940845758983,"d":"2,661.94"}},null,{"v":0,"d":"0.00"}]
[null,"GKD 60100VDAG","Дымоход вертикальный Gekon Ø60/100 мм, L=1000 мм, черный, Алюминий и Оц.сталь",null,"60/100",1,{"v":3,"d":"3.0"},{"$f":"'Конвертация цен'!H562","v":{"v":6313.859692006844,"d":"6313.86"}},{"$f":"H34-H34*Оглавление!$K$22","v":{"v":6313.859692006844,"d":"6,313.86"}},null,{"v":0,"d":"0.00"}]
[null,"GKD 80125VD","Дымоход вертикальный Gekon Ø80/125 мм, L=1000 мм, черный, Алюминий и сталь",null,"80/125",1,1.7,{"$f":"'Конвертация цен'!H563","v":{"v":10119.77511610853,"d":"10119.78"}},{"$f":"H35-H35*Оглавление!$K$22","v":{"v":10119.77511610853,"d":"10,119.78"}},null,{"v":0,"d":"0.00"}]
[null,"GKD 60100VNPG","Наконечник для вертикального дымохода Gekon Ø60/100 мм, черный, Полиамид и Оц.сталь",null,"60/100",0.43,{"v":1,"d":"1.0"},{"$f":"'Конвертация цен'!H564","v":{"v":3893.9134685895865,"d":"3893.91"}},{"$f":"H36-H36*Оглавление!$K$22","v":{"v":3893.9134685895865,"d":"3,893.91"}},null,{"v":0,"d":"0.00"}]
[null,"GKD 80125VN","Наконечник для вертикального дымохода Gekon Ø80/125 мм, черный, Алюминий и Сталь",null,"80/125",0.43,1.3,{"$f":"'Конвертация цен'!H565","v":{"v":7325.837203617697,"d":"7325.84"}},{"$f":"H37-H37*Оглавление!$K$22","v":{"v":7325.837203617697,"d":"7,325.84"}},null,{"v":0,"d":"0.00"}]
[null,"GKD 80VERTN","Наконечник для вертикального дымохода Gekon Ø80 мм, черный, Оц.cталь",null,80,0.43,0.4,{"$f":"'Конвертация цен'!H566","v":{"v":923.9794671229528,"d":"923.98"}},{"$f":"H38-H38*Оглавление!$K$22","v":{"v":923.9794671229528,"d":"923.98"}},null,{"$f":"J38*I38","v":{"v":0,"d":"0.00"}}]
[null,"GKD 60100M01AL","Муфта Gekon Ø60/100 мм, L=100 мм, Алюминий",null,"60/100",0.1,0.4,{"$f":"'Конвертация цен'!H567","v":{"v":1143.9745783427034,"d":"1143.97"}},{"$f":"H39-H39*Оглавление!$K$22","v":{"v":1143.9745783427034,"d":"1,143.97"}},null,{"$f":"J39*I39","v":{"v":0,"d":"0.00"}}]
[null,"GKD 60100KOAL","Конденсатоотводчик Gekon Ø60/100 мм, L=155 мм, Алюминий",null,"60/100",0.155,0.3,{"$f":"'Конвертация цен'!H568","v":{"v":1957.956489855781,"d":"1957.96"}},{"$f":"H40-H40*Оглавление!$K$22","v":{"v":1957.956489855781,"d":"1,957.96"}},null,{"$f":"J40*I40","v":{"v":0,"d":"0.00"}}]
[null,"GKD 80OTVAL","Конденсатоотводчик Gekon Ø80 мм, L=120 мм, Алюминий",null,80,0.12,0.2,{"$f":"'Конвертация цен'!H569","v":{"v":1429.9682229283792,"d":"1429.97"}},{"$f":"H41-H41*Оглавление!$K$22","v":{"v":1429.9682229283792,"d":"1,429.97"}},null,{"$f":"J41*I41","v":{"v":0,"d":"0.00"}}]
[null,"GKD 80125P01AL","Переходник Gekon Ø60/100х80/125 мм, папа-мама, Алюминий",null,"60/100*80/125",0.3,0.2,{"$f":"'Конвертация цен'!H570","v":{"v":2419.9462234172574,"d":"2419.95"}},{"$f":"H42-H42*Оглавление!$K$22","v":{"v":2419.9462234172574,"d":"2,419.95"}},null,{"$f":"J42*I42","v":{"v":0,"d":"0.00"}}]
[null,"GKD 6080AL","Переход Gekon Ø60-80 мм, L=100 мм, Алюминий",null,"60*80",0.1,0.1,{"$f":"'Конвертация цен'!H571","v":{"v":835.9814226350525,"d":"835.98"}},{"$f":"H43-H43*Оглавление!$K$22","v":{"v":835.9814226350525,"d":"835.98"}},null,{"$f":"J43*I43","v":{"v":0,"d":"0.00"}}]
[null,"GKD 80VZWAL","Решётка воздухозабора Gekon Ø80 мм, белый окрас, Алюминий и Сталь",null,80,0.03,0.1,{"$f":"'Конвертация цен'!H572","v":{"v":461.9897335614764,"d":"461.99"}},{"$f":"H44-H44*Оглавление!$K$22","v":{"v":461.9897335614764,"d":"461.99"}},null,{"$f":"J44*I44","v":{"v":0,"d":"0.00"}}]
[null,"GKD 80VOWN","Решётка газоотвода Gekon Ø80 мм, белый окрас, Нержавеющая сталь",null,80,0.07,0.1,{"$f":"'Конвертация цен'!H573","v":{"v":857.9809337570276,"d":"857.98"}},{"$f":"H45-H45*Оглавление!$K$22","v":{"v":857.9809337570276,"d":"857.98"}},null,{"v":0,"d":"0.00"}]
[null,"GKD 60100/80","Комплект дымохода, адаптер Gekon Ø60/100х80/80 мм (хомут, фланец, проставка 60 мм), Алюминий",null,"60/100*80/80",0.3,0.8,{"$f":"'Конвертация цен'!H574","v":{"v":2925.934979222684,"d":"2925.93"}},{"$f":"H46-H46*Оглавление!$K$22","v":{"v":2925.934979222684,"d":"2,925.93"}},null,{"$f":"J46*I46","v":{"v":0,"d":"0.00"}}]
[null,"GKD 60100ASTRAL","Адаптер стартовый вертикальный Gekon Ø60/100 мм, L=150 мм, Алюминий",null,"60/100",0.15,0.6,{"$f":"'Конвертация цен'!H575","v":{"v":1627.9638230261548,"d":"1627.96"}},{"$f":"H47-H47*Оглавление!$K$22","v":{"v":1627.9638230261548,"d":"1,627.96"}},null,{"$f":"J47*I47","v":{"v":0,"d":"0.00"}}]
[]
["Фото","Артикул","Наименование товара",null,"Диаметр","Угол","Вес","Цена за шт.","Цена со скидкой, RUB","Кол-во, шт.","Сумма со скидкой, RUB"]
[{"$nulls":4},"мм","⁰ (градус)","кг","RUB"]
[null,"GKD 60100K45AL","Колено Gekon Ø60/100 мм, угол 45 гр., Алюминий",null,"60/100",45,0.4,{"$f":"'Конвертация цен'!H555","v":{"v":1517.9662674162796,"d":"1517.97"}},{"$f":"H51-H51*Оглавление!$K$22","v":{"v":1517.9662674162796,"d":"1,517.97"}},null,{"v":0,"d":"0.00"}]
[null,"GKD 80K45AL","Колено Gekon Ø80 мм, угол 45 гр., Алюминий",null,80,45,0.2,{"$f":"'Конвертация цен'!H556","v":{"v":1077.9760449767782,"d":"1077.98"}},{"$f":"H52-H52*Оглавление!$K$22","v":{"v":1077.9760449767782,"d":"1,077.98"}},null,{"$f":"J52*I52","v":{"v":0,"d":"0.00"}}]
[null,"GKD 80125K45AL","Колено Gekon Ø80/125 мм, угол 45 гр., Алюминий",null,"80/125",45,0.7,{"$f":"'Конвертация цен'!H557","v":{"v":4619.8973356147635,"d":"4619.90"}},{"$f":"H53-H53*Оглавление!$K$22","v":{"v":4619.8973356147635,"d":"4,619.90"}},null,{"v":0,"d":"0.00"}]
[null,"GKD 60100K90AL","Колено Gekon Ø60/100 мм, угол 90 гр., Алюминий",null,"60/100",90,0.6,{"$f":"'Конвертация цен'!H558","v":{"v":1451.9677340503545,"d":"1451.97"}},{"$f":"H54-H54*Оглавление!$K$22","v":{"v":1451.9677340503545,"d":"1,451.97"}},null,{"v":0,"d":"0.00"}]
[null,"GKD 80K90AL","Колено Gekon Ø80 мм, угол 90 гр., Алюминий",null,80,90,0.3,{"$f":"'Конвертация цен'!H559","v":{"v":835.9814226350525,"d":"835.98"}},{"$f":"H55-H55*Оглавление!$K$22","v":{"v":835.9814226350525,"d":"835.98"}},null,{"v":0,"d":"0.00"}]
[null,"GKD 80125K90AL","Колено Gekon Ø80/125 мм, угол 90 гр., Алюминий",null,"80/125",90,{"v":1,"d":"1.0"},{"$f":"'Конвертация цен'!H560","v":{"v":4619.8973356147635,"d":"4619.90"}},{"$f":"H56-H56*Оглавление!$K$22","v":{"v":4619.8973356147635,"d":"4,619.90"}},null,{"v":0,"d":"0.00"}]
[null,"GKD 60100KSTRAL","Колено стартовое Gekon Ø60/100 мм, угол 90 гр., Алюминий",null,"60/100",90,0.8,{"$f":"'Конвертация цен'!H561","v":{"v":1913.9574676118307,"d":"1913.96"}},{"$f":"H57-H57*Оглавление!$K$22","v":{"v":1913.9574676118307,"d":"1,913.96"}},null,{"v":0,"d":"0.00"}]
[]
["ДЫМОХОДЫ КОАКСИАЛЬНЫЕ ДЛЯ КЛАССИЧЕСКИХ КОТЛОВ УТЕПЛЁННЫЕ"]
["• Универсальные комплекты Ø80 мм"]
["• Основные элементы изготовлены из АЛЮМИНИЯ, АЛЮМИНИЯ С ОЦИНКОВАННОЙ СТАЛИ или СТАЛИ"]
["• Утеплитель из минеральной ваты толщиной 10 мм"]
[]
["Фото","Артикул","Наименование товара",null,"Диаметр","Длина","Вес","Цена за шт.","Цена со скидкой, RUB","Кол-во, шт.","Сумма со скидкой, RUB"]
[{"$nulls":4},"мм","м","кг","RUB"]
[null,"GKD 80100025TAL","Удлинение дымохода утепленное Gekon Ø80 мм, δут=10 мм, L=250 мм, Алюминий",null,80,0.25,0.5,{"$f":"'Конвертация цен'!H576","v":{"v":1957.956489855781,"d":"1957.96"}},{"$f":"H66-H66*Оглавление!$K$22","v":{"v":1957.956489855781,"d":"1,957.96"}},null,{"$f":"J66*I66","v":{"v":0,"d":"0.00"}}]
[null,"GKD 80100025T","Удлинение дымохода утепленное Gekon Ø80 мм, δут=10 мм, L=250 мм, Алюминий и Оц.сталь",null,80,0.25,0.4,{"$f":"'Конвертация цен'!H577","v":{"v":1671.962845270105,"d":"1671.96"}},{"$f":"H67-H67*Оглавление!$K$22","v":{"v":1671.962845270105,"d":"1,671.96"}},null,{"$f":"J67*I67","v":{"v":0,"d":"0.00"}}]
[null,"GKD 80100050TAL","Удлинение дымохода утепленное Gekon Ø80 мм, δут=10 мм, L=500 мм, Алюминий",null,80,0.5,1.1,{"$f":"'Конвертация цен'!H578","v":{"v":2485.9447567831826,"d":"2485.94"}},{"$f":"H68-H68*Оглавление!$K$22","v":{"v":2485.9447567831826,"d":"2,485.94"}},null,{"$f":"J68*I68","v":{"v":0,"d":"0.00"}}]
[null,"GKD 80100050T","Удлинение дымохода утепленное Gekon Ø80 мм, δут=10 мм, L=500 мм, Алюминий и Оц.сталь",null,80,0.5,{"v":1,"d":"1.0"},{"$f":"'Конвертация цен'!H579","v":{"v":2375.9472011733073,"d":"2375.95"}},{"$f":"H69-H69*Оглавление!$K$22","v":{"v":2375.9472011733073,"d":"2,375.95"}},null,{"v":0,"d":"0.00"}]
[null,"GKD 80100100TAL","Удлинение дымохода утепленное Gekon Ø80 мм, δут=10 мм, L=1000 мм, Алюминий",null,80,1,2.2,{"$f":"'Конвертация цен'!H580","v":{"v":4135.9080909313125,"d":"4135.91"}},{"$f":"H70-H70*Оглавление!$K$22","v":{"v":4135.9080909313125,"d":"4,135.91"}},null,{"$f":"J70*I70","v":{"v":0,"d":"0.00"}}]
[null,"GKD 80100100T","Удлинение дымохода утепленное Gekon Ø80 мм, δут=10 мм, L=1000 мм, Ал/Оц.Ст.",null,80,1,{"v":2,"d":"2.0"},{"$f":"'Конвертация цен'!H581","v":{"v":3959.912001955512,"d":"3959.91"}},{"$f":"H71-H71*Оглавление!$K$22","v":{"v":3959.912001955512,"d":"3,959.91"}},null,{"v":0,"d":"0.00"}]
[null,"GKD 80100150TAL","Удлинение дымохода утепленное Gekon Ø80 мм, δут=10 мм, L=1500 мм, Алюминий",null,80,{"v":1.5,"d":"2"},3.3,{"$f":"'Конвертация цен'!H582","v":{"v":5939.868002933268,"d":"5939.87"}},{"$f":"H72-H72*Оглавление!$K$22","v":{"v":5939.868002933268,"d":"5,939.87"}},null,{"v":0,"d":"0.00"}]
[null,"GKD 80100200TAL","Удлинение дымохода утепленное Gekon Ø80 мм, δут=10 мм, L=2000 мм, Алюминий",null,80,2,4.4,{"$f":"'Конвертация цен'!H583","v":{"v":7149.841114641897,"d":"7149.84"}},{"$f":"H73-H73*Оглавление!$K$22","v":{"v":7149.841114641897,"d":"7,149.84"}},null,{"v":0,"d":"0.00"}]
[null,"GKD 80100VDAL","Дымоход вертикальный утеплённый Gekon Ø80 мм, δут=10 мм, L=1000 мм, черный, Алюминий",null,80,1,2.2,{"$f":"'Конвертация цен'!H584","v":{"v":10119.77511610853,"d":"10119.78"}},{"$f":"H74-H74*Оглавление!$K$22","v":{"v":10119.77511610853,"d":"10,119.78"}},null,{"v":0,"d":"0.00"}]
[null,"GKD 80100VNAS","Наконечник для вертикального утеплённого дымохода Gekon Ø80 мм, δут=10 мм, черный, Алюминий и Сталь",null,80,1,0.5,{"$f":"'Конвертация цен'!H585","v":{"v":2111.9530677096063,"d":"2111.95"}},{"$f":"H75-H75*Оглавление!$K$22","v":{"v":2111.9530677096063,"d":"2,111.95"}},null,{"v":0,"d":"0.00"}]
[null,"GKD 80VZBAL","Решётка воздухозабора для утеплённого дымохода Gekon Ø80 мм, δут=10 мм, черный, Алюминий",null,80,0.03,0.2,{"$f":"'Конвертация цен'!H586","v":{"v":1385.969200684429,"d":"1385.97"}},{"$f":"H76-H76*Оглавление!$K$22","v":{"v":1385.969200684429,"d":"1,385.97"}},null,{"$f":"J76*I76","v":{"v":0,"d":"0.00"}}]
[null,"GKD 80VOBN","Решётка газоотвода для утепл-го дымохода Gekon Ø80 мм, δут=10 мм, черный окрас, Алюминий и Сталь",null,80,0.07,0.3,{"$f":"'Конвертация цен'!H587","v":{"v":1957.956489855781,"d":"1957.96"}},{"$f":"H77-H77*Оглавление!$K$22","v":{"v":1957.956489855781,"d":"1,957.96"}},null,{"v":0,"d":"0.00"}]
[]
["Фото","Артикул","Наименование товара",null,"Диаметр","Угол","Вес","Цена за шт.","Цена со скидкой, RUB","Кол-во, шт.","Сумма со скидкой, RUB"]
[{"$nulls":4},"мм","⁰ (градус)","кг","RUB"]
[null,"GKD 80100K45T","Колено утепленное Gekon Ø80, δут=10 мм, угол 45 гр., Алюминий",null,80,45,0.7,{"$f":"'Конвертация цен'!H588","v":{"v":3959.912001955512,"d":"3959.91"}},{"$f":"H81-H81*Оглавление!$K$22","v":{"v":3959.912001955512,"d":"3,959.91"}},null,{"$f":"I81*J81","v":{"v":0,"d":"0.00"}}]
[null,"GKD 80100K90T","Колено утепленное Gekon Ø80, δут=10 мм, угол 90 гр., Алюминий",null,80,90,0.7,{"$f":"'Конвертация цен'!H589","v":{"v":3959.912001955512,"d":"3959.91"}},{"$f":"H82-H82*Оглавление!$K$22","v":{"v":3959.912001955512,"d":"3,959.91"}},null,{"$f":"I82*J82","v":{"v":0,"d":"0.00"}}]
[]
["ДЫМОХОДЫ КОАКСИАЛЬНЫЕ ДЛЯ КОНДЕНСАЦИОННЫХ КОТЛОВ"]
["• Универсальные комплекты Ø60/100 и Ø80/125 мм"]
["• Основные элементы изготовлены из PP-R(ПОЛИПРОПИЛЕНА), АЛЮМИНИЯ, АЛЮМИНИЯ и ОЦИНКОВАННОЙ СТАЛИ или СТАЛИ"]
[]
["Фото","Артикул","Наименование товара",null,"Диаметр","Длина","Вес","Цена за шт.","Цена со скидкой, RUB","Кол-во, шт.","Сумма со скидкой, RUB"]
[{"$nulls":4},"мм","м","кг","RUB"]
[null,"GKD 015100PAL","Универсальный комплект конденсационный Gekon Ø60/100 мм, L=1000 мм, PP-R и Алюминий, система Антилёд",null,"60/100",1,1.9,{"$f":"'Конвертация цен'!H590","v":{"v":6027.866047421168,"d":"6027.87"}},{"$f":"H90-H90*Оглавление!$K$22","v":{"v":6027.866047421168,"d":"6,027.87"}},null,{"$f":"I90*J90","v":{"v":0,"d":"0.00"}}]
[null,"GKD 016100PAL","Универсальный комплект конденсационный Gekon Ø80/125 мм, L=1240 мм, PP-R и Сталь, система Антилёд",null,"80/125",1.24,2.8,{"$f":"'Конвертация цен'!H591","v":{"v":9371.791737961377,"d":"9371.79"}},{"$f":"H91-H91*Оглавление!$K$22","v":{"v":9371.791737961377,"d":"9,371.79"}},null,{"$f":"I91*J91","v":{"v":0,"d":"0.00"}}]
[null,"GKD 80125025PAL","Удлинитель конденсационный Gekon Ø80/125 мм, L=250 мм, PP-R и Оц.сталь",null,"80/125",0.25,0.7,{"$f":"'Конвертация цен'!H592","v":{"v":2199.9511121975065,"d":"2199.95"}},{"$f":"H92-H92*Оглавление!$K$22","v":{"v":2199.9511121975065,"d":"2,199.95"}},null,{"$f":"I92*J92","v":{"v":0,"d":"0.00"}}]
[null,"GKD 6010005PAL","Удлинитель конденсационный Gekon Ø60/100 мм, L=500 мм, PP-R и Оц.сталь",null,"60/100",0.5,{"v":1,"d":"1.0"},{"$f":"'Конвертация цен'!H593","v":{"v":3233.9281349303346,"d":"3233.93"}},{"$f":"H93-H93*Оглавление!$K$22","v":{"v":3233.9281349303346,"d":"3,233.93"}},null,{"v":0,"d":"0.00"}]
[null,"GKD 8012505PAL","Удлинитель конденсационный Gekon Ø80/125 мм, L=500 мм, PP-R и Оц.сталь",null,"80/125",0.5,1.6,{"$f":"'Конвертация цен'!H594","v":{"v":3629.919335125886,"d":"3629.92"}},{"$f":"H94-H94*Оглавление!$K$22","v":{"v":3629.919335125886,"d":"3,629.92"}},null,{"v":0,"d":"0.00"}]
[null,"GKD 80005PAL","Удлинитель конденсационный Gekon Ø80 мм, L=500 мм, PP-R",null,80,0.5,0.4,{"$f":"'Конвертация цен'!H595","v":{"v":1693.9623563920802,"d":"1693.96"}},{"$f":"H95-H95*Оглавление!$K$22","v":{"v":1693.9623563920802,"d":"1,693.96"}},null,{"$f":"I95*J95","v":{"v":0,"d":"0.00"}}]
[null,"GKD 601001PAL","Удлинитель конденсационный Gekon Ø60/100 мм, L=1000 мм, PP-R и Оц.сталь.",null,"60/100",1,1.7,{"$f":"'Конвертация цен'!H596","v":{"v":5103.886580298215,"d":"5103.89"}},{"$f":"H96-H96*Оглавление!$K$22","v":{"v":5103.886580298215,"d":"5,103.89"}},null,{"v":0,"d":"0.00"}]
[null,"GKD 801251PAL","Удлинитель конденсационный Gekon Ø80/125 мм, L=1000 мм, PP-R и Оц.сталь",null,"80/125",1,3.2,{"$f":"'Конвертация цен'!H597","v":{"v":5235.883647030066,"d":"5235.88"}},{"$f":"H97-H97*Оглавление!$K$22","v":{"v":5235.883647030066,"d":"5,235.88"}},null,{"v":0,"d":"0.00"}]
[null,"GKD 8001PAL","Удлинитель конденсационный Gekon Ø80 мм, L=1000 мм, PP-R",null,80,1,0.6,{"$f":"'Конвертация цен'!H598","v":{"v":2397.9467122952824,"d":"2397.95"}},{"$f":"H98-H98*Оглавление!$K$22","v":{"v":2397.9467122952824,"d":"2,397.95"}},null,{"$f":"I98*J98","v":{"v":0,"d":"0.00"}}]
[null,"GKD 806104PAL","Комплект дымохода, адаптер конденсационный Gekon 60-100х2/80 мм, PP-R/Алюминий",null,"60/100*80/80",0.3,0.6,{"$f":"'Конвертация цен'!H599","v":{"v":5719.872891713517,"d":"5719.87"}},{"$f":"H99-H99*Оглавление!$K$22","v":{"v":5719.872891713517,"d":"5,719.87"}},null,{"$f":"I99*J99","v":{"v":0,"d":"0.00"}}]
[null,"GKD 6080PAL","Адаптер переход конденсационный Gekon 60-80 мм, PP-R",null,"60-80",0.1,0.2,{"$f":"'Конвертация цен'!H600","v":{"v":1715.9618675140553,"d":"1715.96"}},{"$f":"H100-H100*Оглавление!$K$22","v":{"v":1715.9618675140553,"d":"1,715.96"}},null,{"v":0,"d":"0.00"}]
[]
["Фото","Артикул","Наименование товара",null,"Диаметр","Угол","Вес","Цена за шт.","Цена со скидкой, RUB","Кол-во, шт.","Сумма со скидкой, RUB"]
[{"$nulls":4},"мм","⁰ (градус)","кг","RUB"]
[null,"GKD 60100045PAL","Колено конденсационное Gekon 60/100 мм, угол 45 гр., PP-R/Сталь",null,"60/100",45,0.5,{"$f":"'Конвертация цен'!H601","v":{"v":2529.9437790271327,"d":"2529.94"}},{"$f":"H104-H104*Оглавление!$K$22","v":{"v":2529.9437790271327,"d":"2,529.94"}},null,{"$f":"I104*J104","v":{"v":0,"d":"0.00"}}]
[null,"GKD 80125045PAL","Колено конденсационное Gekon 80/125 мм, угол 45 гр., PP-R/Сталь",null,"80/125",45,0.6,{"$f":"'Конвертация цен'!H602","v":{"v":4795.893424590565,"d":"4795.89"}},{"$f":"H105-H105*Оглавление!$K$22","v":{"v":4795.893424590565,"d":"4,795.89"}},null,{"$f":"I105*J105","v":{"v":0,"d":"0.00"}}]
[null,"GKD 80045PAL","Колено конденсационное Gekon 80 мм, угол 45 гр., PP-R",null,80,45,0.2,{"$f":"'Конвертация цен'!H603","v":{"v":1605.9643119041798,"d":"1605.96"}},{"$f":"H106-H106*Оглавление!$K$22","v":{"v":1605.9643119041798,"d":"1,605.96"}},null,{"v":0,"d":"0.00"}]
[null,"GKD 60100090PAL","Колено конденсационное Gekon 60/100 мм, угол 90 гр., PP-R/Сталь",null,"60/100",90,0.6,{"$f":"'Конвертация цен'!H604","v":{"v":2529.9437790271327,"d":"2529.94"}},{"$f":"H107-H107*Оглавление!$K$22","v":{"v":2529.9437790271327,"d":"2,529.94"}},null,{"v":0,"d":"0.00"}]
[null,"GKD 10080090PAL","Колено конденсационное Gekon 80/125 мм, угол 90 гр., PP-R/Сталь",null,"80/125",90,0.8,{"$f":"'Конвертация цен'!H605","v":{"v":4795.893424590565,"d":"4795.89"}},{"$f":"H108-H108*Оглавление!$K$22","v":{"v":4795.893424590565,"d":"4,795.89"}},null,{"v":0,"d":"0.00"}]
[null,"GKD 80090PAL","Колено конденсационное Gekon 80 мм, угол 90 гр., PP-R",null,80,90,0.2,{"$f":"'Конвертация цен'!H606","v":{"v":1605.9643119041798,"d":"1605.96"}},{"$f":"H109-H109*Оглавление!$K$22","v":{"v":1605.9643119041798,"d":"1,605.96"}},null,{"v":0,"d":"0.00"}]
[]
["ЗАПАСНЫЕ ЧАСТИ ДЛЯ ДЫМОХОДОВ"]
[]
["Фото","Артикул","Наименование товара",null,"Диаметр",null,"Вес","Цена за шт.","Цена со скидкой, RUB","Кол-во, шт.","Сумма со скидкой, RUB"]
[{"$nulls":4},"мм",null,"кг","RUB"]
[null,"GKD 60100AINPB","Наконечник 60/100 мм, Система Антилед, Система Антиворобей, черный",null,"60/100",null,0.2,{"$f":"'Конвертация цен'!H607","v":{"v":725.9838670251772,"d":"725.98"}},{"$f":"H115-H115*Оглавление!$K$22","v":{"v":725.9838670251772,"d":"725.98"}},null,{"$f":"J115*I115","v":{"v":0,"d":"0.00"}}]
[null,"GKD 60OR","Уплотнительное кольцо на внутреннюю трубу Gekon 60 мм",null,60,null,0.1,{"$f":"'Конвертация цен'!H608","v":{"v":219.99511121975067,"d":"220.00"}},{"$f":"H116-H116*Оглавление!$K$22","v":{"v":219.99511121975067,"d":"220.00"}},null,{"$f":"J116*I116","v":{"v":0,"d":"0.00"}}]
[null,"GKD 80OR","Уплотнительное кольцо на внутреннюю трубу Gekon 80 мм",null,80,null,0.1,{"$f":"'Конвертация цен'!H609","v":{"v":263.9941334637008,"d":"263.99"}},{"$f":"H117-H117*Оглавление!$K$22","v":{"v":263.9941334637008,"d":"263.99"}},null,{"v":0,"d":"0.00"}]
[null,"GKD 100OR","Уплотнительное кольцо на внешнюю трубу Gekon 100 мм",null,100,null,0.1,{"$f":"'Конвертация цен'!H610","v":{"v":285.99364458567584,"d":"285.99"}},{"$f":"H118-H118*Оглавление!$K$22","v":{"v":285.99364458567584,"d":"285.99"}},null,{"v":0,"d":"0.00"}]
[null,"GKD 125OR","Уплотнительное кольцо на внешнюю трубу Gekon 125 мм",null,125,null,0.1,{"$f":"'Конвертация цен'!H611","v":{"v":439.99022243950134,"d":"439.99"}},{"$f":"H119-H119*Оглавление!$K$22","v":{"v":439.99022243950134,"d":"439.99"}},null,{"v":0,"d":"0.00"}]
[null,"GKD 80H","Хомут Gekon 80 мм со шпилькой",null,80,null,0.1,{"$f":"'Конвертация цен'!H612","v":{"v":373.99168907357614,"d":"373.99"}},{"$f":"H120-H120*Оглавление!$K$22","v":{"v":373.99168907357614,"d":"373.99"}},null,{"v":0,"d":"0.00"}]
[null,"GKD 100H","Хомут Gekon 100 мм со шпилькой",null,100,null,0.1,{"$f":"'Конвертация цен'!H613","v":{"v":395.9912001955512,"d":"395.99"}},{"$f":"H121-H121*Оглавление!$K$22","v":{"v":395.9912001955512,"d":"395.99"}},null,{"v":0,"d":"0.00"}]
[null,"GKD 80MS","Накладка декоративная Gekon 80 мм",null,80,null,0.1,{"$f":"'Конвертация цен'!H614","v":{"v":254.2165729650452,"d":"254.22"}},{"$f":"H122-H122*Оглавление!$K$22","v":{"v":254.2165729650452,"d":"254.22"}},null,{"v":0,"d":"0.00"}]
[null,"GKD 60100M","Накладка декоративная Gekon 100 мм",null,100,null,0.1,{"$f":"'Конвертация цен'!H615","v":{"v":219.99511121975067,"d":"220.00"}},{"$f":"H123-H123*Оглавление!$K$22","v":{"v":219.99511121975067,"d":"220.00"}},null,{"v":0,"d":"0.00"}]
[null,"GKD 60125M","Накладка декоративная Gekon 125 мм",null,125,null,0.1,{"$f":"'Конвертация цен'!H616","v":{"v":285.99364458567584,"d":"285.99"}},{"$f":"H124-H124*Оглавление!$K$22","v":{"v":285.99364458567584,"d":"285.99"}},null,{"v":0,"d":"0.00"}]
[null,"GKD 110UF","Фланец Gekon с прокладкой, винтами и гайкой, 100 мм",null,100,null,0.1,{"$f":"'Конвертация цен'!H617","v":{"v":263.9941334637008,"d":"263.99"}},{"$f":"H125-H125*Оглавление!$K$22","v":{"v":263.9941334637008,"d":"263.99"}},null,{"v":0,"d":"0.00"}]
[null,"GKD 60100H","Хомут обжимной Gekon (труба-труба) 100 мм",null,100,null,0.1,{"$f":"'Конвертация цен'!H618","v":{"v":263.9941334637008,"d":"263.99"}},{"$f":"H126-H126*Оглавление!$K$22","v":{"v":263.9941334637008,"d":"263.99"}},null,{"v":0,"d":"0.00"}]

{"sheet":"Теплоноситель","index":11,"n_rows":21,"n_cols":11,"rows_kept":21,"merged":[[3,0,3,8],[7,10,7,12],[9,8,9,10],[14,0,14,7],[14,9,14,10],[15,0,16,0],[15,1,16,1],[15,2,16,2],[15,5,15,6],[15,9,16,9],[15,10,16,10],[16,5,16,6],[17,0,22,0],[17,1,19,1],[17,2,19,2],[17,3,19,3],[17,4,19,4],[17,5,19,6],[17,7,19,7],[17,8,19,8],[17,9,19,9],[17,10,19,10],[20,1,22,1],[20,2,22,2],[20,3,22,3],[20,4,22,4],[20,5,22,6],[20,7,22,7],[20,8,22,8],[20,9,22,9],[20,10,22,10]]}
[]
[]
[]
["Теплохладоноситель"]
[]
["ТЕПЛОНОСИТЕЛЬ GEKON ECOSAVE - 30"]
["• Теплохладоноситель GEKON ECOSAVE -30 изготовлен на основе ПРОПИЛЕНГЛИКОЛЯ"]
["• В составе присутствует сбалансированный пакет присадок: антикоррозионные, антипенные,"]
["    антиокислительные и повышающие инертность к уплотнительным материалам"]
["• Не содержит нитритов, аминов и фосфатов",{"$nulls":7},"На главную страницу"]
["• Температурный диапазон применения: от -30⁰C до +106⁰C"]
["• Срок эксплуатации не менее 5 лет"]
["• Соответствует ГОСТ 28084-89 по коррозионному воздействию на металлы"]
["• Страна производства: Россия"]
[{"$nulls":8},"Итого:",{"$f":"SUM(K18:K23)","v":{"v":0,"d":"0.00"}}]
["Фото","Артикул","Наименование товара","Объём","Содержание основного вещества","Диапазон рабочих температур",null,"Цена за шт","Цена за шт со скидкой","Кол-во, шт","Сумма со скидкой, RUB"]
[{"$nulls":3},"л","%","⁰C",null,"RUB","RUB"]
[null,"GK 569214"," Теплоноситель GEKON ECOSAVE - 30°С, 10 кг.",10,45,"от -30 до +106",null,{"$f":"'Конвертация цен'!H302","v":{"v":2483,"d":"2483.00"}},{"$f":"H18-H18*Оглавление!$K$23","v":{"v":2483,"d":"2,483.00"}},null,{"$f":"J18*I18","v":{"v":0,"d":"0.00"}}]
[]
[]
[null,"GK 873256"," Теплоноситель GEKON ECOSAVE - 30°С, 20 кг.",20,45,"от -30 до +106",null,{"$f":"'Конвертация цен'!H303","v":{"v":4967,"d":"4967.00"}},{"$f":"H21-H21*Оглавление!$K$23","v":{"v":4967,"d":"4,967.00"}},null,{"$f":"J21*I21","v":{"v":0,"d":"0.00"}}]

{"sheet":"Конвертация цен","index":12,"n_rows":618,"n_cols":12,"rows_kept":618,"hidden":true,"merged":[[2,0,2,7],[3,2,4,2],[3,3,4,4],[3,5,4,5],[5,3,10,4],[11,3,14,4],[15,3,20,4],[21,3,24,4],[25,3,28,4],[29,3,31,4],[32,3,34,4],[35,2,37,2],[35,3,37,4],[35,5,37,5],[35,6,37,6],[35,7,37,7],[38,3,43,4],[44,3,49,4],[50,0,50,7],[51,2,52,2],[51,3,52,4],[53,3,53,4],[54,3,54,4],[55,3,55,4],[56,3,56,4],[57,3,57,4],[58,3,58,4],[59,3,59,4],[60,3,60,4],[61,3,61,4],[62,3,62,4],[63,3,63,4],[64,3,64,4],[65,3,65,4],[66,3,66,4],[67,3,67,4],[68,3,68,4],[69,3,69,4],[70,3,70,4],[71,3,71,4],[72,0,72,7],[73,2,74,2],[73,3,74,4],[73,5,74,5],[75,3,75,4],[76,3,76,4],[77,3,77,4],[78,3,78,4],[79,3,79,4],[80,3,80,4],[81,3,81,4],[82,3,82,4],[83,3,83,4],[84,3,84,4],[85,3,85,4],[86,3,86,4],[87,3,87,4],[88,3,88,4],[89,3,89,4],[90,3,90,4],[91,3,91,4],[92,3,92,4],[93,3,93,4],[94,3,94,4],[95,3,95,4],[96,3,96,4],[97,3,97,4],[98,3,98,4],[99,3,99,4],[100,3,100,4],[101,3,101,4],[102,3,102,4],[103,3,103,4],[104,3,104,4],[105,3,105,4],[106,3,106,4],[107,3,107,4],[108,3,108,4],[109,3,109,4],[110,3,110,4],[111,3,111,4],[112,3,112,4],[113,3,113,4],[114,3,114,4],[115,3,115,4],[116,3,116,4],[117,3,117,4],[118,3,118,4],[119,3,119,4],[120,3,120,4],[121,3,121,4],[122,3,122,4],[123,3,123,4],[124,3,124,4],[125,3,125,4],[126,3,126,4],[127,3,127,4],[128,3,128,4],[129,3,129,4],[130,3,130,4],[131,3,131,4],[132,3,132,4],[133,3,133,4],[134,3,134,4],[135,3,135,4],[136,3,136,4],[137,3,137,4],[138,3,138,4],[139,3,139,4],[140,3,140,4],[141,3,141,4],[142,3,142,4],[143,3,143,4],[144,3,144,4],[145,3,145,4],[146,3,146,4],[147,3,147,4],[148,3,148,4],[149,3,149,4],[150,3,150,4],[151,3,151,4],[152,3,152,4],[153,3,153,4],[154,3,154,4],[155,3,155,4],[156,3,156,4],[157,3,157,4],[158,3,158,4],[159,3,159,4],[160,3,160,4],[161,3,161,4],[162,3,162,4],[163,3,163,4],[164,3,164,4],[165,3,165,4],[166,3,166,4],[167,3,167,4],[168,3,168,4],[169,3,169,4],[170,3,170,4],[171,3,171,4],[172,3,172,4],[173,3,173,4],[174,3,174,4],[175,3,175,4],[176,3,176,4],[177,3,177,4],[178,3,178,4],[179,3,179,4],[180,3,180,4],[181,3,181,4],[182,3,182,4],[183,3,183,4],[184,3,184,4],[185,3,185,4],[186,0,186,7],[187,2,188,2],[187,3,188,4],[187,5,188,5],[189,3,195,4],[196,3,202,4],[203,3,209,4],[210,0,210,7],[211,2,212,2],[211,3,212,4],[211,5,212,5],[213,3,213,4],[214,3,214,4],[215,3,215,4],[216,3,216,4],[217,3,217,4],[218,3,218,4],[219,3,229,4],[230,3,240,4],[241,3,251,4],[252,3,262,4],[263,3,263,4],[264,3,264,4],[265,3,265,4],[266,3,266,4],[267,3,267,4],[268,3,269,4],[270,3,270,4],[271,3,271,4],[272,3,272,4],[273,0,273,7],[274,2,275,2],[274,3,275,4],[274,5,275,5],[276,3,276,4],[277,3,277,4],[278,3,279,4],[280,3,281,4],[282,3,283,4],[284,3,285,4],[286,3,286,4],[287,3,287,4],[288,3,289,4],[290,3,291,4],[292,3,292,4],[293,3,293,4],[294,3,294,4],[295,3,295,4],[296,3,296,4],[297,3,297,4],[298,0,298,7],[299,2,300,2],[299,3,300,4],[299,5,300,5],[301,3,301,4],[302,3,302,4],[303,0,303,7],[304,2,305,2],[304,3,305,4],[304,5,305,5],[306,3,306,4],[307,3,307,4],[308,3,308,4],[309,3,309,4],[310,3,310,4],[311,3,311,4],[312,3,312,4],[313,3,313,4],[314,3,314,4],[315,3,315,4],[316,3,316,4],[317,3,317,4],[318,3,318,4],[319,3,319,4],[320,3,320,4],[321,3,321,4],[322,3,322,4],[323,3,323,4],[324,3,324,4],[325,3,325,4],[326,3,326,4],[327,0,327,7],[328,2,329,2],[328,3,329,4],[328,5,329,5],[330,3,330,4],[331,3,331,4],[332,3,332,4],[333,3,333,4],[334,3,334,4],[335,3,335,4],[336,3,336,4],[337,3,337,4],[338,3,338,4],[339,3,339,4],[340,3,340,4],[341,3,341,4],[342,3,342,4],[343,3,343,4],[344,3,344,4],[345,3,345,4],[346,3,346,4],[347,3,347,4],[348,3,348,4],[349,3,349,4],[350,3,350,4],[351,3,351,4],[352,3,352,4],[353,3,353,4],[354,3,354,4],[355,3,355,4],[356,3,356,4],[357,3,357,4],[358,3,358,4],[359,3,359,4],[360,3,360,4],[361,3,361,4],[362,3,362,4],[363,3,363,4],[364,3,364,4],[365,3,365,4],[366,3,366,4],[367,3,367,4],[368,3,368,4],[369,3,369,4],[370,3,370,4],[371,3,371,4],[372,3,372,4],[373,0,373,7],[374,2,375,2],[374,3,375,4],[374,5,375,5],[376,3,376,4],[377,3,377,4],[378,3,378,4],[379,3,379,4],[380,3,380,4],[381,3,381,4],[382,3,382,4],[383,3,383,4],[384,3,384,4],[385,3,385,4],[386,3,386,4],[387,3,387,4],[388,3,388,4],[389,3,389,4],[390,3,390,4],[391,3,391,4],[392,3,392,4],[393,3,393,4],[394,3,394,4],[395,3,395,4],[396,3,396,4],[397,3,397,4],[398,3,398,4],[399,3,399,4],[400,3,400,4],[401,3,401,4],[402,3,402,4],[403,3,403,4],[404,3,404,4],[405,3,405,4],[406,3,406,4],[407,3,407,4],[408,3,408,4],[409,3,409,4],[410,3,410,4],[411,3,411,4],[412,3,412,4],[413,3,413,4],[414,3,414,4],[415,3,415,4],[416,3,416,4],[417,3,417,4],[418,3,418,4],[419,3,419,4],[420,3,420,4],[421,3,421,4],[422,3,422,4],[423,3,423,4],[424,3,424,4],[425,3,425,4],[426,3,426,4],[427,3,427,4],[428,3,428,4],[429,3,429,4],[430,3,430,4],[431,3,431,4],[432,3,432,4],[433,3,433,4],[434,3,434,4],[435,3,435,4],[436,3,436,4],[437,3,437,4],[438,3,438,4],[439,3,439,4],[440,3,440,4],[441,3,441,4],[442,3,442,4],[443,3,443,4],[444,3,444,4],[445,3,445,4],[446,3,446,4],[447,3,447,4],[448,3,448,4],[449,3,449,4],[450,3,450,4],[451,3,451,4],[452,3,452,4],[453,3,453,4],[454,3,454,4],[455,3,455,4],[456,3,456,4],[457,3,457,4],[458,3,458,4],[459,3,459,4],[460,3,460,4],[461,3,461,4],[462,3,462,4],[463,3,463,4],[464,3,464,4],[465,3,465,4],[466,3,466,4],[467,3,467,4],[468,3,468,4],[469,3,469,4],[470,3,470,4],[471,3,471,4],[472,3,472,4],[473,3,473,4],[474,3,474,4],[475,3,475,4],[476,3,476,4],[477,3,477,4],[478,3,478,4],[479,3,479,4],[480,3,480,4],[481,3,481,4],[482,3,482,4],[483,3,483,4],[484,3,484,4],[485,3,485,4],[486,3,486,4],[487,3,487,4],[488,3,488,4],[489,3,489,4],[490,3,490,4],[491,3,491,4],[492,3,492,4],[493,3,493,4],[494,3,494,4],[495,3,495,4],[496,3,496,4],[497,3,497,4],[498,3,498,4],[499,3,499,4],[500,3,500,4],[501,3,501,4],[502,3,502,4],[503,3,503,4],[504,3,504,4],[505,3,505,4],[506,3,506,4],[507,3,507,4],[508,3,508,4],[509,3,509,4],[510,3,510,4],[511,3,511,4],[512,3,512,4],[513,3,513,4],[514,3,514,4],[515,3,515,4],[516,3,516,4],[517,3,517,4],[518,3,518,4],[519,3,519,4],[520,3,520,4],[521,3,521,4],[522,3,522,4],[523,3,523,4],[524,3,524,4],[525,3,525,4],[526,3,526,4],[527,3,527,4],[528,3,528,4],[529,0,529,7],[530,2,531,2],[530,3,531,4],[530,5,531,5],[532,3,532,4],[533,3,533,4],[534,3,534,4],[535,3,535,4],[536,3,536,4],[537,3,537,4],[538,3,538,4],[539,3,539,4],[540,3,540,4],[541,3,541,4],[542,3,542,4],[543,3,543,4],[544,3,544,4],[545,3,545,4],[546,3,546,4],[547,3,547,4],[548,3,548,4],[549,3,549,4],[550,3,550,4],[551,3,551,4],[552,3,552,4],[553,3,553,4],[554,3,554,4],[555,3,555,4],[556,3,556,4],[557,3,557,4],[558,3,558,4],[559,3,559,4],[560,3,560,4],[561,3,561,4],[562,3,562,4],[563,3,563,4],[564,3,564,4],[565,3,565,4],[566,3,566,4],[567,3,567,4],[568,3,568,4],[569,3,569,4],[570,3,570,4],[571,3,571,4],[572,3,572,4],[573,3,573,4],[574,3,574,4],[575,3,575,4],[576,3,576,4],[577,3,577,4],[578,3,578,4],[579,3,579,4],[580,3,580,4],[581,3,581,4],[582,3,582,4],[583,3,583,4],[584,3,584,4],[585,3,585,4],[586,3,586,4],[587,3,587,4],[588,3,588,4],[589,3,589,4],[590,3,590,4],[591,3,591,4],[592,3,592,4],[593,3,593,4],[594,3,594,4],[595,3,595,4],[596,3,596,4],[597,3,597,4],[598,3,598,4],[599,3,599,4],[600,3,600,4],[601,3,601,4],[602,3,602,4],[603,3,603,4],[604,3,604,4],[605,3,605,4],[606,3,606,4],[607,3,607,4],[608,3,608,4],[609,3,609,4],[610,3,610,4],[611,3,611,4],[612,3,612,4],[613,3,613,4],[614,3,614,4],[615,3,615,4],[616,3,616,4],[617,3,617,4]]}
[" EUR","RUB",{"$nulls":6},"EUR","Евро",{"$f":"TODAY()","v":"2024-12-12"},{"$f":"GetRate(I1,K1)","v":{"v":108.55879974365234,"d":"108.5588"}}]
[1,115]
["Шаровые краны, ОК, Сетч.фильтры"]
[null,null,"Артикул","Наименование товара",null,"Размер","Цена за шт.","Цена за шт."]
[{"$nulls":6},"EUR","RUB"]
[null,null,"GK 550 12","Кран шаровой (ручка -  рычаг), внутренняя-внутренняя резьба",null,"1/2\"",{"v":5.089468085106384,"d":"5.09"},{"$f":"G6*$B$2","v":{"v":585.2888297872341,"d":"585.29"}}]
[null,null,"GK 550 34",null,null,"3/4\"",{"v":7.69108843537415,"d":"7.69"},{"v":884.4751700680272,"d":"884.48"}]
[null,null,"GK 550 1",null,null,"1\"",{"v":12.088640350877194,"d":"12.09"},{"v":1390.1936403508773,"d":"1390.19"}]
[null,null,"GK 550 114",null,null,"1 1/4\"",{"v":17.786607929515416,"d":"17.79"},{"v":2045.4599118942729,"d":"2045.46"}]
[null,null,"GK 550 112",null,null,"1 1/2\"",{"v":28.124137291280153,"d":"28.12"},{"v":3234.2757884972175,"d":"3234.28"}]
[null,null,"GK 550 2",null,null,"2\"",{"v":43.39356197352588,"d":"43.39"},{"v":4990.259626955476,"d":"4990.26"}]
[null,null,"GK 551 12","Кран шаровой (ручка -  бабочка), внутренняя-внутренняя резьба",null,"1/2\"",{"v":5.089468085106384,"d":"5.09"},{"v":585.2888297872341,"d":"585.29"}]
[null,null,"GK 551 34",null,null,"3/4\"",{"v":7.69108843537415,"d":"7.69"},{"v":884.4751700680272,"d":"884.48"}]
[null,null,"GK 551 1",null,null,"1\"",{"v":12.088640350877194,"d":"12.09"},{"v":1390.1936403508773,"d":"1390.19"}]
[null,null,"GK 551 114",null,null,"1 1/4\"",{"v":17.786607929515416,"d":"17.79"},{"v":2045.4599118942729,"d":"2045.46"}]
[null,null,"GK 554L 12","Кран шаровой (ручка -  рычаг), внутренняя-наружная резьба",null,"1/2\"",{"v":5.486896551724137,"d":"5.49"},{"v":630.9931034482757,"d":"630.99"}]
[null,null,"GK 554L 34",null,null,"3/4\"",{"v":8.1743949044586,"d":"8.17"},{"v":940.055414012739,"d":"940.06"}]
[null,null,"GK 554L 1",null,null,"1\"",{"v":13.06886454183267,"d":"13.07"},{"v":1502.9194223107572,"d":"1502.92"}]
[null,null,"GK 554L 114",null,null,"1 1/4\"",{"v":20.19572327044025,"d":"20.20"},{"v":2322.508176100629,"d":"2322.51"}]
[null,null,"GK 554L 112",null,null,"1 1/2\"",{"v":32.862494208494205,"d":"32.86"},{"v":3779.1868339768334,"d":"3779.19"}]
[null,null,"GK 554L 2",null,null,"2\"",{"v":52.58845634346358,"d":"52.59"},{"v":6047.672479498311,"d":"6047.67"}]
[null,null,"GK 554 12","Кран шаровой (ручка - бабочка), внутренняя-наружная резьба",null,"1/2\"",{"v":5.648275862068966,"d":"5.65"},{"v":649.5517241379312,"d":"649.55"}]
[null,null,"GK 554 34",null,null,"3/4\"",{"v":8.404012738853503,"d":"8.40"},{"v":966.4614649681528,"d":"966.46"}]
[null,null,"GK 554 1",null,null,"1\"",{"v":13.06886454183267,"d":"13.07"},{"v":1502.9194223107572,"d":"1502.92"}]
[null,null,"GK 554 114",null,null,"1 1/4\"",{"v":21.859880525686982,"d":"21.86"},{"v":2513.886260454003,"d":"2513.89"}]
[null,null,"GK 559 12","Кран шаровой (ручка-бабочка), внутренняя-американка",null,"1/2\"",{"v":7.178586956521739,"d":"7.18"},{"v":825.5375,"d":"825.54"}]
[null,null,"GK 559 34",null,null,"3/4\"",{"v":11.04424170616114,"d":"11.04"},{"v":1270.087796208531,"d":"1270.09"}]
[null,null,"GK 559 1",null,null,"1\"",{"v":17.401276276276274,"d":"17.40"},{"v":2001.1467717717715,"d":"2001.15"}]
[null,null,"GK 559 114",null,null,"1\" 1/4",{"v":26.236666666666665,"d":"26.24"},{"v":3017.2166666666662,"d":"3017.22"}]
[null,null,"GK 7954 12","Кран шаровой с возможностью установки термосенсора (ручка-бабочка), внутренняя-внутренняя резьба",null,"1/2\"",7.34,{"v":844.1,"d":"844.10"}]
[null,null,"GK 7954 34",null,null,"3/4\"",9.23,1061.45]
[null,null,"GK 7954 1",null,null,"1\"",14.87,1710.05]
[null,null,"GK 7966 12","Кран шаровой поливочный с насадкой под шланг (ручка-рычаг), наружная резьба",null,"1/2\"",6.95,799.25]
[null,null,"GK 7966 34",null,null,"3/4\"",9.73,1118.95]
[null,null,"GK 7966 1",null,null,"1\"",17.21,1979.15]
[null,null,"GK 7961 1","Кран шаровой  угловой  с полусгоном (ручка-бабочка), внутренняя-наружная резьба",null,"1/2\"",26.57,3055.55]
[]
[]
[null,null,"GK 30 12","Клапан обратный с латунным золотником, внутренняя-внутренняя резьба",null,"1/2\"",5.19,{"$f":"G39*$B$2","v":596.85}]
[null,null,"GK 30 34",null,null,"3/4\"",6.96,{"v":800.4,"d":"800.40"}]
[null,null,"GK 30 1",null,null,"1\"",9.76,{"v":1122.3999999999999,"d":"1122.40"}]
[null,null,"GK 30 114",null,null,"1 1/4\"",14.53,{"v":1670.9499999999998,"d":"1670.95"}]
[null,null,"GK 30 112",null,null,"1 1/2\"",18.98,{"v":2182.7000000000003,"d":"2182.70"}]
[null,null,"GK 30 2",null,null,"2\"",28.68,{"v":3298.2,"d":"3298.20"}]
[null,null,"GK 44N 12","Фильтр тонкой механической очистки косой, сетка 500 мкм, внутренняя-внутренняя резьба",null,"1/2\"",5.75,{"$f":"G45*$B$2","v":661.25}]
[null,null,"GK 44N 34",null,null,"3/4\"",8.99,{"v":1033.8500000000001,"d":"1033.85"}]
[null,null,"GK 44N 1",null,null,"1\"",11.16,{"v":1283.4,"d":"1283.40"}]
[null,null,"GK 44N 114",null,null,"1 1/4\"",21.59,2482.85]
[null,null,"GK 44N 112",null,null,"1 1/2\"",{"v":32.4,"d":"32.40"},{"v":3726,"d":"3726.00"}]
[null,null,"GK 44N 2",null,null,"2\"",53.74,{"v":6180.1,"d":"6180.10"}]
["Трубы"]
[null,null,"Артикул","Наименование товара",null,"Диаметр","Цена за метр","Цена за метр"]
[{"$nulls":5},"мм","руб.","руб."]
[null,null,"GK 71640006","Труба Gekon TRITHERM универсальная PE-Xa/EVOH 16х2,0, бухта 400 м",null,16,{"v":104,"d":"104.00"},{"$f":"G54*1.02","v":106.08}]
[null,null,"GK 71630006","Труба Gekon TRITHERM универсальная PE-Xa/EVOH 16х2,0, бухта 300 м",null,16,{"v":104,"d":"104.00"},{"$f":"G55*1.02","v":106.08}]
[null,null,"GK 71620006","Труба Gekon TRITHERM универсальная PE-Xa/EVOH 16х2,0, бухта 200 м",null,16,{"v":104,"d":"104.00"},106.08]
[null,null,"GK 71610006","Труба Gekon TRITHERM универсальная PE-Xa/EVOH 16х2,0, бухта 100 м",null,16,{"v":104,"d":"104.00"},106.08]
[null,null,"GK 71620010","Труба Gekon TRITHERM универсальная PE-Xa/EVOH 16х2,2, бухта 200 м",null,16,{"v":110,"d":"110.00"},{"v":112.2,"d":"112.20"}]
[null,null,"GK 71610010","Труба Gekon TRITHERM универсальная PE-Xa/EVOH 16х2,2, бухта 100 м",null,16,{"v":110,"d":"110.00"},{"v":112.2,"d":"112.20"}]
[null,null,"GK 72020006","Труба Gekon TRITHERM универсальная PE-Xa/EVOH 20х2,0, бухта 200 м",null,20,{"v":149,"d":"149.00"},151.98]
[null,null,"GK 72010006","Труба Gekon TRITHERM универсальная PE-Xa/EVOH 20х2,0, бухта 100 м",null,20,{"v":149,"d":"149.00"},151.98]
[null,null,"GK 72010010","Труба Gekon TRITHERM универсальная PE-Xa/EVOH 20х2,8, бухта 100 м",null,20,{"v":164,"d":"164.00"},167.28]
[null,null,"GK 72505010","Труба Gekon TRITHERM универсальная PE-Xa/EVOH 25х3,5, бухта 50 м",null,25,{"v":280,"d":"280.00"},{"v":285.6,"d":"285.60"}]
[null,null,"GK 73205010","Труба Gekon TRITHERM универсальная PE-Xa/EVOH 32х4,4, бухта 50 м",null,32,{"v":466,"d":"466.00"},475.32]
[null,null,"GK 716050R","Труба гофрированная ПНД для 16-й полимерной трубы, красная, бухта 50 метров",null,21,25.96,{"$f":"G65*1","v":25.96}]
[null,null,"GK 720050R","Труба гофрированная ПНД для 20-й полимерной трубы, красная, бухта 50 метров",null,25,32.34,{"$f":"G66*1","v":32.34}]
[null,null,"GK 725030R","Труба гофрированная ПНД для 25-й полимерной трубы, красная, бухта 30 метров",null,32,{"v":44,"d":"44.00"},{"v":44,"d":"44.00"}]
[null,null,"GK 732030R","Труба гофрированная ПНД для 32-й полимерной трубы, красная, бухта 30 метров",null,40,57.48,57.48]
[null,null,"GK 716050B","Труба гофрированная ПНД для 16-й полимерной трубы, синяя, бухта 50 метров",null,21,25.96,25.96]
[null,null,"GK 720050B","Труба гофрированная ПНД для 20-й полимерной трубы, синяя, бухта 50 метров",null,25,32.34,32.34]
[null,null,"GK 725030B","Труба гофрированная ПНД для 25-й полимерной трубы, синяя, бухта 30 метров",null,32,{"v":44,"d":"44.00"},{"v":44,"d":"44.00"}]
[null,null,"GK 732030B","Труба гофрированная ПНД для 32-й полимерной трубы, синяя, бухта 30 метров",null,40,57.48,57.48]
["Аксиальные фитинги"]
[null,null,"Артикул","Наименование товара",null,"Размер","Цена за шт.","Цена за шт."]
[{"$nulls":6},"EUR","RUB",null,"Нет в 1С"]
[null,null,"GK 7GX001000016","Кольцо монтажное GX 16",null,16,0.35,{"$f":"G76*$B$2","v":40.25},null,"GK   7GX002004040"]
[null,null,"GK 7GX001000020","Кольцо монтажное GX 20",null,20,{"v":0.4,"d":"0.40"},{"$f":"G77*$B$2","v":{"v":46,"d":"46.00"}},null,"GK   7GX002004025"]
[null,null,"GK 7GX001000025","Кольцо монтажное GX 25",null,25,0.67,{"v":77.05000000000001,"d":"77.05"},null,"GK   7GX002004032"]
[null,null,"GK 7GX001000032","Кольцо монтажное GX 32",null,32,1.09,{"v":125.35000000000001,"d":"125.35"},null,"GK   7GX005040114"]
[null,null,"GK 7GX002001616","Прямой фитинг GX 16x16",null,"16x16",1.67,{"v":192.04999999999998,"d":"192.05"},null,"GK   7GX005040112"]
[null,null,"GK 7GX002002020","Прямой фитинг GX 20x20",null,"20x20",3.15,362.25,null,"GK   7GX006040114"]
[null,null,"GK 7GX002002525","Прямой фитинг GX 25x25",null,"25x25",4.47,514.05,null,"GK   7GX006040112"]
[null,null,"GK 7GX002003232","Прямой фитинг GX 32x32",null,"32x32",10.87,1250.05,null,"GK   7GX003004040"]
[null,null,"GK 7GX002004040","Прямой фитинг GX 40x40",null,"40x40",26.51,3048.65,null,"GK   7GX004404040"]
[null,null,"GK 7GX002002016","Прямой переходный фитинг GX 20x16",null,"20x16",2.64,{"v":303.6,"d":"303.60"},null,"GK   7GX004402040"]
[null,null,"GK 7GX002002516","Прямой переходный фитинг GX 25x16",null,"25x16",4.15,{"v":477.25000000000006,"d":"477.25"},null,"GK   7GX004402540"]
[null,null,"GK 7GX002002520","Прямой переходный фитинг GX 25x20",null,"25x20",4.15,{"v":477.25000000000006,"d":"477.25"},null,"GK   7GX004403232"]
[null,null,"GK 7GX002003220","Прямой переходный фитинг GX 32x20",null,"32x20",14.11,{"v":1622.6499999999999,"d":"1622.65"},null,"GK   7GX004403240"]
[null,null,"GK 7GX002003225","Прямой переходный фитинг GX 32x25",null,"32x25",11.04,{"v":1269.6,"d":"1269.60"},null,"GK   7GX016201220"]
[null,null,"GK 7GX002004025","Прямой переходный фитинг GX 40x25",null,"40x25",24.55,2823.25,null,"GK   7GX016203420"]
[null,null,"GK 7GX002004032","Прямой переходный фитинг GX 40x32",null,"40x32",24.25,2788.75,null,"GK   7GX016253425"]
[null,null,"GK 7GX005001612","Прямой фитинг GX с наружной резьбой 16x1/2\"M",null,"16x1/2\"M",1.91,{"v":219.64999999999998,"d":"219.65"},null,"GK   7GX016320132"]
[null,null,"GK 7GX005002012","Прямой фитинг GX с наружной резьбой 20x1/2\"M",null,"20x1/2\"M",2.42,{"v":278.3,"d":"278.30"},null,"GK   7GX017201220"]
[null,null,"GK 7GX005002512","Прямой фитинг GX с наружной резьбой 25x1/2\"M",null,"25x1/2\"M",3.67,422.05,null,"GK   7GX017203420"]
[null,null,"GK 7GX005001634","Прямой фитинг GX с наружной резьбой 16x3/4\"M",null,"16x3/4\"M",3.05,350.75,null,"GK   7GX017253425"]
[null,null,"GK 7GX005002034","Прямой фитинг GX с наружной резьбой 20x3/4\"M",null,"20x3/4\"M",3.33,382.95,null,"GK   7GX017320132"]
[null,null,"GK 7GX005002534","Прямой фитинг GX с наружной резьбой 25x3/4\"M",null,"25x3/4\"M",3.56,{"v":409.40000000000003,"d":"409.40"},null,"GK   7GX011002534"]
[null,null,"GK 7GX005002010","Прямой фитинг GX с наружной резьбой 20x1\"M",null,"20x1\"M",4.84,{"v":556.6,"d":"556.60"}]
[null,null,"GK 7GX005002510","Прямой фитинг GX с наружной резьбой 25x1\"M",null,"25x1\"M",{"v":5.6,"d":"5.60"},{"v":644,"d":"644.00"}]
[null,null,"GK 7GX005003210","Прямой фитинг GX с наружной резьбой 32x1\"M",null,"32x1\"M",9.78,{"v":1124.6999999999998,"d":"1124.70"}]
[null,null,"GK 7GX005040114","Прямой фитинг GX с наружной резьбой 40x1\"1/4M",null,"40x1\"1/4M",15.62,{"v":1796.3,"d":"1796.30"}]
[null,null,"GK 7GX005040112","Прямой фитинг GX с наружной резьбой 40x1\"1/2M",null,"40x1\"1/2M",18.47,{"v":2124.0499999999997,"d":"2124.05"}]
[null,null,"GK 7GX006001612","Прямой фитинг GX с внутренней резьбой 16x1/2\"F",null,"16x1/2\"F",3.38,{"v":388.7,"d":"388.70"}]
[null,null,"GK 7GX006002012","Прямой фитинг GX с внутренней резьбой 20x1/2\"F",null,"20x1/2\"F",3.65,419.75]
[null,null,"GK 7GX006001634","Прямой фитинг GX с внутренней резьбой 16x3/4\"F",null,"16x3/4\"F",{"v":4,"d":"4.00"},{"v":460,"d":"460.00"}]
[null,null,"GK 7GX006002034","Прямой фитинг GX с внутренней резьбой 20x3/4\"F",null,"20x3/4\"F",5.35,615.25]
[null,null,"GK 7GX006002534","Прямой фитинг GX с внутренней резьбой 25x3/4\"F",null,"25x3/4\"F",5.84,{"v":671.6,"d":"671.60"}]
[null,null,"GK 7GX006002510","Прямой фитинг GX с внутренней резьбой 25x1\"F",null,"25x1\"F",7.98,{"v":917.7,"d":"917.70"}]
[null,null,"GK 7GX006003210","Прямой фитинг GX с внутренней резьбой 32x1\"F",null,"32x1\"F",14.96,{"v":1720.4,"d":"1720.40"}]
[null,null,"GK 7GX006040114","Прямой фитинг GX с внутренней резьбой 40x1\"1/4F",null,"40x1\"1/4F",{"v":15.4,"d":"15.40"},{"v":1771,"d":"1771.00"}]
[null,null,"GK 7GX006040112","Прямой фитинг GX с внутренней резьбой 40x1\"1/2F",null,"40x1\"1/2F",17.76,{"v":2042.4,"d":"2042.40"}]
[null,null,"GK 7GX003001616","Угольник 90° GX 16x16",null,"16x16",{"v":2.6,"d":"2.60"},{"v":299,"d":"299.00"}]
[null,null,"GK 7GX003002020","Угольник 90° GX 20x20",null,"20x20",3.84,{"v":441.59999999999997,"d":"441.60"}]
[null,null,"GK 7GX003002525","Угольник 90° GX 25x25",null,"25x25",{"v":5.6,"d":"5.60"},{"v":644,"d":"644.00"}]
[null,null,"GK 7GX003003232","Угольник 90° GX 32x32",null,"32x32",11.55,1328.25]
[null,null,"GK 7GX003004040","Угольник 90° GX 40x40",null,"40x40",24.75,2846.25]
[null,null,"GK 7GX009001612","Угольник 90° GX с наружной резьбой",null,"16x1/2\"M",3.25,373.75]
[null,null,"GK 7GX009002012","Угольник 90° GX с наружной резьбой",null,"20x1/2\"M",4.38,{"v":503.7,"d":"503.70"}]
[null,null,"GK 7GX009001634","Угольник 90° GX с наружной резьбой",null,"16x3/4\"M",4.67,537.05]
[null,null,"GK 7GX009002534","Угольник 90° GX с наружной резьбой",null,"25x3/4\"M",7.89,{"v":907.3499999999999,"d":"907.35"}]
[null,null,"GK 7GX009002034","Угольник 90° GX с наружной резьбой",null,"20x3/4\"M",5.67,652.05]
[null,null,"GK 7GX009002510","Угольник 90° GX с наружной резьбой",null,"25x1\"M",{"v":9.2,"d":"9.20"},{"v":1058,"d":"1058.00"}]
[null,null,"GK 7GX009003210","Угольник 90° GX с наружной резьбой",null,"32x1\"M",14.96,{"v":1720.4,"d":"1720.40"}]
[null,null,"GK 7GX010001612","Угольник 90° GX с внутренней резьбой",null,"16x1/2\"F",3.47,399.05]
[null,null,"GK 7GX010002012","Угольник 90° GX с внутренней резьбой",null,"20x1/2\"F",4.45,511.75]
[null,null,"GK 7GX010001634","Угольник 90° GX с внутренней резьбой",null,"16x3/4\"F",5.29,608.35]
[null,null,"GK 7GX010002034","Угольник 90° GX с внутренней резьбой",null,"20x3/4\"F",5.36,{"v":616.4000000000001,"d":"616.40"}]
[null,null,"GK 7GX010002534","Угольник 90° GX с внутренней резьбой",null,"25x3/4\"F",{"v":6.4,"d":"6.40"},{"v":736,"d":"736.00"}]
[null,null,"GK 7GX010002510","Угольник 90° GX с внутренней резьбой",null,"25x1\"F",11.62,{"v":1336.3,"d":"1336.30"}]
[null,null,"GK 7GX010003210","Угольник 90° GX с внутренней резьбой",null,"32x1\"F",{"v":19.6,"d":"19.60"},{"v":2254,"d":"2254.00"}]
[null,null,"GK 7GX004161616","Тройник соединительный GX 16х16х16",null,"16x16x16",3.33,382.95]
[null,null,"GK 7GX004202020","Тройник соединительный GX 20х20х20",null,"20x20x20",5.02,{"v":577.3,"d":"577.30"}]
[null,null,"GK 7GX004252525","Тройник соединительный GX 25х25х25",null,"25x25x25",7.51,863.65]
[null,null,"GK 7GX004323232","Тройник соединительный GX 32х32х32",null,"32x32x32",15.24,{"v":1752.6000000000001,"d":"1752.60"}]
[null,null,"GK 7GX004404040","Тройник соединительный GX 40х40х40",null,"40x40x40",33.36,{"v":3836.4,"d":"3836.40"}]
[null,null,"GK 7GX004162016","Тройник переходной GX 16х20х16",null,"16x20x16",4.73,543.95]
[null,null,"GK 7GX004201616","Тройник переходной GX 20х16х16",null,"20x16X16",4.73,543.95]
[null,null,"GK 7GX004201620","Тройник переходной GX 20х16х20",null,"20x16x20",5.16,{"v":593.4,"d":"593.40"}]
[null,null,"GK 7GX004202016","Тройник переходной GX 20х20х16",null,"20x20x16",5.45,626.75]
[null,null,"GK 7GX004202520","Тройник переходной GX 20х25х20",null,"20x25x20",{"v":7.4,"d":"7.40"},{"v":851,"d":"851.00"}]
[null,null,"GK 7GX004251616","Тройник переходной GX 25х16х16",null,"25x16x16",5.89,{"$f":"G141*$B$2","v":{"v":677.3499999999999,"d":"677.35"}}]
[null,null,"GK 7GX004251620","Тройник переходной GX 25х16х20",null,"25x16x20",7.11,{"v":817.6500000000001,"d":"817.65"}]
[null,null,"GK 7GX004251625","Тройник переходной GX 25х16х25",null,"25x16x25",7.27,836.05]
[null,null,"GK 7GX004252020","Тройник переходной GX 25х20х20",null,"25x20x20",7.35,845.25]
[null,null,"GK 7GX004252025","Тройник переходной GX 25х20х25",null,"25x20x25",8.05,{"v":925.7500000000001,"d":"925.75"}]
[null,null,"GK 7GX004252520","Тройник переходной GX 25х25х20",null,"25x25x20",8.64,{"v":993.6,"d":"993.60"}]
[null,null,"GK 7GX004252516","Тройник переходной GX 25х25х16",null,"25x25x16",8.64,{"v":993.6,"d":"993.60"}]
[null,null,"GK 7GX004322020","Тройник переходной GX 32х20х20",null,"32x20x20",15.96,{"v":1835.4,"d":"1835.40"}]
[null,null,"GK 7GX004322025","Тройник переходной GX 32х20х25",null,"32x20x25",15.56,{"v":1789.4,"d":"1789.40"}]
[null,null,"GK 7GX004322525","Тройник переходной GX 32х25х25",null,"32x25x25",15.47,{"v":1779.0500000000002,"d":"1779.05"}]
[null,null,"GK 7GX004322532","Тройник переходной GX 32х25х32",null,"32x25x32",15.75,1811.25]
[null,null,"GK 7GX004323220","Тройник переходной GX 32х32х20",null,"32x32x20",{"v":19.8,"d":"19.80"},{"v":2277,"d":"2277.00"}]
[null,null,"GK 7GX004323225","Тройник переходной GX 32х32х25",null,"32x32x25",16.31,{"v":1875.6499999999999,"d":"1875.65"}]
[null,null,"GK 7GX004402040","Тройник переходной GX 40х20х40",null,"40x20x40",23.69,{"v":2724.3500000000004,"d":"2724.35"}]
[null,null,"GK 7GX004402540","Тройник переходной GX 40х25х40",null,"40x25x40",25.09,2885.35]
[null,null,"GK 7GX004403232","Тройник переходной GX 40х32х32",null,"40x32x32",24.55,2823.25]
[null,null,"GK 7GX004403240","Тройник переходной GX 40х32х40",null,"40x32x40",27.95,3214.25]
[null,null,"GK 7GX016161216","Тройник с наружной резьбой GX 16x1/2\"Mx16",null,"16x1/2\"Mx16",4.73,543.95]
[null,null,"GK 7GX016201220","Тройник с наружной резьбой GX 20x1/2\"Mx20",null,"20x1/2\"Mx20",5.84,{"v":671.6,"d":"671.60"}]
[null,null,"GK 7GX016203420","Тройник с наружной резьбой GX 20x3/4\"Mx20",null,"20x3/4\"Mx20",7.44,{"v":855.6,"d":"855.60"}]
[null,null,"GK 7GX016253425","Тройник с наружной резьбой GX 25x3/4\"Mx25",null,"25x3/4\"Mx25",10.05,1155.75]
[null,null,"GK 7GX016320132","Тройник с наружной резьбой GX 32x1\"Mx32",null,"32x1\"Mx32",16.85,{"v":1937.7500000000002,"d":"1937.75"}]
[null,null,"GK 7GX017161216","Тройник GX с внутренней резьбой",null,"16x1/2\"Fx16",4.29,493.35]
[null,null,"GK 7GX017201220","Тройник GX с внутренней резьбой",null,"20x1/2\"Fx20",5.45,626.75]
[null,null,"GK 7GX017203420","Тройник GX с внутренней резьбой",null,"20x3/4\"Fx20",7.82,{"v":899.3000000000001,"d":"899.30"}]
[null,null,"GK 7GX017253425","Тройник GX с внутренней резьбой",null,"25x3/4\"Fx25",8.31,{"v":955.6500000000001,"d":"955.65"}]
[null,null,"GK 7GX017320132","Тройник GX с внутренней резьбой",null,"32x1\"Fx32",16.64,{"v":1913.6000000000001,"d":"1913.60"}]
[null,null,"GK 7GX011001612","Угольник установочный GX с внутренней резьбой",null,"16x1/2\"F",5.62,{"v":646.3000000000001,"d":"646.30"}]
[null,null,"GK 7GX018001612","Угольник установочный GX с внутренней резьбой",null,"16x1/2\"F (45 мм)",5.53,635.95]
[null,null,"GK 7GX011002012","Угольник установочный GX с внутренней резьбой",null,"20x1/2\"F",6.87,{"v":790.0500000000001,"d":"790.05"}]
[null,null,"GK 7GX018002012","Угольник установочный GX с внутренней резьбой",null,"20x1/2\"F (45 мм)",6.78,{"v":779.7,"d":"779.70"}]
[null,null,"GK 7GX011002034","Угольник установочный GX с внутренней резьбой",null,"20x3/4\"F",{"v":9.2,"d":"9.20"},{"v":1058,"d":"1058.00"}]
[null,null,"GK 7GX011002534","Угольник установочный GX с внутренней резьбой",null,"25x3/4\"F",9.13,1049.95]
[null,null,"GK 7GX012001625","Угольник GX с хромированной трубкой (250 мм)",null,"16x15(L-250 мм)",10.53,{"v":1210.9499999999998,"d":"1210.95"}]
[null,null,"GK 7GX012002025","Угольник GX с хромированной трубкой (250 мм)",null,"20x15(L-250 мм)",12.53,{"v":1440.9499999999998,"d":"1440.95"}]
[null,null,"GK 7GX019001625","Тройник GX с хромированной трубкой (250 мм)",null,"16x15(L-250 мм)x16",14.53,{"v":1670.9499999999998,"d":"1670.95"}]
[null,null,"GK 7GX019002025","Тройник GX с хромированной трубкой (250 мм)",null,"20x15(L-250 мм)x20",16.47,1894.05]
[null,null,"GK 7GX020000016","Заглушка GX 16",null,16,1.25,143.75]
[null,null,"GK 7GX020000020","Заглушка GX 20",null,20,2.38,{"v":273.7,"d":"273.70"}]
[null,null,"GK 7GX020000025","Заглушка GX 25",null,25,3.58,{"v":411.7,"d":"411.70"}]
[null,null,"GK 7GX008001612","Фитинг с накидной гайкой GX 1/2\"E x 16 PEX",null,"1/2\"Ex16 PEX",{"v":4.4,"d":"4.40"},{"v":506.00000000000006,"d":"506.00"}]
[null,null,"GK 7GX008001634","Фитинг с накидной гайкой GX 3/4\"E x 16 PEX",null,"3/4\"Ex16 PEX",3.85,442.75]
[null,null,"GK 7GX008002034","Фитинг с накидной гайкой GX 3/4\"E x 20 PEX",null,"3/4\"Ex20 PEX",{"v":5.8,"d":"5.80"},{"v":667,"d":"667.00"}]
[null,null,"GK 7GX013002034","Переходник для пластиковой трубы с соединением евроконус, 3/4\"E x(16x2,2)",null,"3/4\"E x 16 PEX (16*2,2)",3.47,399.05]
[null,null,"GK 7GX013001534","Переходник для пластиковой трубы с соединением евроконус, 3/4\"E x(20x2,8)",null,"3/4\"E x 20 PEX (20*2,8)",4.11,{"v":472.65000000000003,"d":"472.65"}]
[null,null,"GK 7GX013001634","Переходник для медной трубы с соединением евроконус, 3/4\"E x15",null,"3/4\"E x 15",2.45,281.75]
["Шкафы коллекторные"]
[null,null,"Артикул","Наименование товара",null,"Высота х ширина","Цена за шт.","Цена за шт."]
[{"$nulls":6},"RUB","RUB"]
[null,null,"GK SHV-0","Шкаф встроенный (ШРВ) с накладной дверцей, регулируемая глубина от 125 до 195 мм",null,"668 x 402",3840.75,{"$f":"G190*1.06","v":{"v":4071.195,"d":"4071.20"}}]
[null,null,"GK SHV-1",null,null,"668 x 492",4098.41,{"$f":"G191*1.06","v":{"v":4344.3146,"d":"4344.31"}}]
[null,null,"GK SHV-2",null,null,"668 x 592",{"v":4770,"d":"4770.00"},{"v":5056.2,"d":"5056.20"}]
[null,null,"GK SHV-3",null,null,"668 x 742",5865.75,{"v":6217.695000000001,"d":"6217.70"}]
[null,null,"GK SHV-4",null,null,"668 x 892",{"v":6862.5,"d":"6862.50"},7274.25]
[null,null,"GK SHV-5",null,null,"668 x 1042",{"v":7582.5,"d":"7582.50"},{"v":8037.450000000001,"d":"8037.45"}]
[null,null,"GK SHV-6",null,null,"668 x 1192",{"v":8302.5,"d":"8302.50"},8800.65]
[null,null,"GK SHN-0","Шкаф наружный (ШРН) с накладной дверцей, стандартная глубина 120 мм",null,"652 x 367",{"v":3217.5,"d":"3217.50"},3410.55]
[null,null,"GK SHN-1",null,null,"652 x 457",3881.82,{"v":4114.729200000001,"d":"4114.73"}]
[null,null,"GK SHN-2",null,null,"652 x 557",4154.81,{"v":4404.0986,"d":"4404.10"}]
[null,null,"GK SHN-3",null,null,"652 x 707",{"v":4954.2,"d":"4954.20"},{"v":5251.452,"d":"5251.45"}]
[null,null,"GK SHN-4",null,null,"652 x 857",5898.96,{"v":6252.8976,"d":"6252.90"}]
[null,null,"GK SHN-5",null,null,"652 x 1007",6716.01,{"v":7118.970600000001,"d":"7118.97"}]
[null,null,"GK SHN-6","Трехходовой фитинг для установки в поток датчика температуры",null,"652 x 1157",7933.47,{"v":8409.478200000001,"d":"8409.48"}]
[null,null,"GK SHN-150-0","Шкаф наружный (ШРН) с накладной дверцей, увеличенная глубина 150 мм",null,"652 x 367",{"v":3712.5,"d":"3712.50"},3935.25]
[null,null,"GK SHN-150-1",null,null,"652 x 457",{"v":4185,"d":"4185.00"},{"v":4436.1,"d":"4436.10"}]
[null,null,"GK SHN-150-2",null,null,"652 x 557",4538.48,{"v":4810.788799999999,"d":"4810.79"}]
[null,null,"GK SHN-150-3",null,null,"652 x 707",5496.32,{"v":5826.0992,"d":"5826.10"}]
[null,null,"GK SHN-150-4",null,null,"652 x 857",{"v":6304.5,"d":"6304.50"},6682.77]
[null,null,"GK SHN-150-5",null,null,"652 x 1007",7543.42,{"v":7996.0252,"d":"7996.03"}]
[null,null,"GK SHN-150-6","Трехходовой фитинг для установки в поток датчика температуры",null,"652 x 1157",8340.75,{"v":8841.195,"d":"8841.20"}]
["Узлы ТП, коллекторы"]
[null,null,"Артикул","Наименование товара",null,"Присоединение к ТП","Цена за шт.","Цена за шт."]
[{"$nulls":6},"EUR","RUB"]
[null,null,"GK 7686-F30","Насосно-смесительнаый узел для напольного отопления по фиксированной температуре смешения",null,"1\"",152.55,{"$f":"G214*$B$2","v":17543.25}]
[null,null,"GK 7686G-F30","Насосно-смесительная группа для напольного отопления по фиксированной температуре смешения c фитингом для подключения байпаса и накидной гайкой для насоса G1",null,"1\"",{"v":201,"d":"201.00"},{"$f":"G215*$B$2","v":{"v":23115,"d":"23115.00"}}]
[null,null,"GK 7686G-F3","Насосно-смесительная группа для напольного отопления по фиксированной температуре смешения c фитингом для подключения байпаса и накидной гайкой для насоса G1 ½",null,"1\"",{"v":201,"d":"201.00"},{"v":23115,"d":"23115.00"}]
[null,null,"GK 7686901","Байпасная линия для узлов GK 7686G-F30, GK 7686G-F3 (диапазон 0÷0.5 бар, Kvs 5,0 м3/ч, Межосевое расстояние 210 мм)",null,"1/2\"",55.23,6351.45]
[null,null,"GK 7685","Насосно-смесительный узел для напольного отопления с термостатической головкой",null,"3/4\"",127.48,{"v":14660.2,"d":"14660.20"}]
[null,null,"GK 714R","Трехходовой фитинг для установки в поток датчика температуры",null,"1\"",{"v":23.2,"d":"23.20"},{"v":2668,"d":"2668.00"}]
[null,null,"GK 72102","Коллекторный блок с расходомерами, термостатическими клапанами и ручными воздухоотводчиками",null,"1\"x3/4\"х2",95.62,{"v":10996.300000000001,"d":"10996.30"}]
[null,null,"GK 72103",null,null,"1\"x3/4\"х3",117.42,{"v":13503.300000000001,"d":"13503.30"}]
[null,null,"GK 72104",null,null,"1\"x3/4\"х4",139.46,{"v":16037.900000000001,"d":"16037.90"}]
[null,null,"GK 72105",null,null,"1\"x3/4\"х5",{"v":164.5,"d":"164.50"},{"v":18917.5,"d":"18917.50"}]
[null,null,"GK 72106",null,null,"1\"x3/4\"х6",{"v":186.6,"d":"186.60"},{"v":21459,"d":"21459.00"}]
[null,null,"GK 72107",null,null,"1\"x3/4\"х7",216.21,24864.15]
[null,null,"GK 72108",null,null,"1\"x3/4\"х8",242.07,27838.05]
[null,null,"GK 72109",null,null,"1\"x3/4\"х9",265.44,{"v":30525.6,"d":"30525.60"}]
[null,null,"GK 72110",null,null,"1\"x3/4\"х10",290.92,{"v":33455.8,"d":"33455.80"}]
[null,null,"GK 72111",null,null,"1\"x3/4\"х11",314.22,{"v":36135.3,"d":"36135.30"}]
[null,null,"GK 72112",null,null,"1\"x3/4\"х12",{"v":337.1,"d":"337.10"},{"v":38766.5,"d":"38766.50"}]
[null,null,"GK 73102","Коллекторный блок с микрометрическими вентилями, термостатическими клапанами и ручными воздухоотводчиками",null,"1\"x3/4\"х2",99.44,{"v":11435.6,"d":"11435.60"}]
[null,null,"GK 73103",null,null,"1\"x3/4\"х3",117.13,{"v":13469.949999999999,"d":"13469.95"}]
[null,null,"GK 73104",null,null,"1\"x3/4\"х4",{"v":135,"d":"135.00"},{"v":15525,"d":"15525.00"}]
[null,null,"GK 73105",null,null,"1\"x3/4\"х5",155.29,17858.35]
[null,null,"GK 73106",null,null,"1\"x3/4\"х6",174.28,{"v":20042.2,"d":"20042.20"}]
[null,null,"GK 73107",null,null,"1\"x3/4\"х7",{"v":197.7,"d":"197.70"},{"v":22735.5,"d":"22735.50"}]
[null,null,"GK 73108",null,null,"1\"x3/4\"х8",218.92,{"v":25175.8,"d":"25175.80"}]
[null,null,"GK 73109",null,null,"1\"x3/4\"х9",{"v":237.5,"d":"237.50"},{"v":27312.5,"d":"27312.50"}]
[null,null,"GK 73110",null,null,"1\"x3/4\"х10",258.43,29719.45]
[null,null,"GK 73111",null,null,"1\"x3/4\"х11",{"v":276.8,"d":"276.80"},{"v":31832,"d":"31832.00"}]
[null,null,"GK 73112",null,null,"1\"x3/4\"х12",294.89,33912.35]
[null,null,"GK 74102","Коллекторный блок с расходомерами, термостатическими клапанами без воздухоотводчиков                                                           ",null,"1\"x3/4\"х2",{"v":82.8,"d":"82.80"},{"v":9522,"d":"9522.00"}]
[null,null,"GK 74103",null,null,"1\"x3/4\"х3",104.64,{"v":12033.6,"d":"12033.60"}]
[null,null,"GK 74104",null,null,"1\"x3/4\"х4",126.66,{"v":14565.9,"d":"14565.90"}]
[null,null,"GK 74105",null,null,"1\"x3/4\"х5",151.66,{"v":17440.899999999998,"d":"17440.90"}]
[null,null,"GK 74106",null,null,"1\"x3/4\"х6",173.76,{"v":19982.399999999998,"d":"19982.40"}]
[null,null,"GK 74107",null,null,"1\"x3/4\"х7",203.39,23389.85]
[null,null,"GK 74108",null,null,"1\"x3/4\"х8",229.25,26363.75]
[null,null,"GK 74109",null,null,"1\"x3/4\"х9",252.63,29052.45]
[null,null,"GK 74110",null,null,"1\"x3/4\"х10",278.08,{"v":31979.199999999997,"d":"31979.20"}]
[null,null,"GK 74111",null,null,"1\"x3/4\"х11",301.39,34659.85]
[null,null,"GK 74112",null,null,"1\"x3/4\"х12",324.26,{"v":37289.9,"d":"37289.90"}]
[null,null,"GK 75102","Коллекторный блок с микрометрическими вентилями, термостатическими клапанами без воздухоотводчиков",null,"1\"x3/4\"х2",74.01,{"v":8511.150000000001,"d":"8511.15"}]
[null,null,"GK 75103",null,null,"1\"x3/4\"х3",91.72,{"v":10547.8,"d":"10547.80"}]
[null,null,"GK 75104",null,null,"1\"x3/4\"х4",109.56,{"v":12599.4,"d":"12599.40"}]
[null,null,"GK 75105",null,null,"1\"x3/4\"х5",129.91,14939.65]
[null,null,"GK 75106",null,null,"1\"x3/4\"х6",148.86,{"v":17118.9,"d":"17118.90"}]
[null,null,"GK 75107",null,null,"1\"x3/4\"х7",172.25,19808.75]
[null,null,"GK 75108",null,null,"1\"x3/4\"х8",193.51,{"v":22253.649999999998,"d":"22253.65"}]
[null,null,"GK 75109",null,null,"1\"x3/4\"х9",216.11,24852.65]
[null,null,"GK 75110",null,null,"1\"x3/4\"х10",232.99,{"v":26793.850000000002,"d":"26793.85"}]
[null,null,"GK 75111",null,null,"1\"x3/4\"х11",256.15,{"v":29457.249999999996,"d":"29457.25"}]
[null,null,"GK 75112",null,null,"1\"x3/4\"х12",{"v":282.3,"d":"282.30"},{"v":32464.5,"d":"32464.50"}]
[null,null,"GK 7590","Комплект коллекторных фитингов со сливным краном и ручным воздухоотводчиком",null,"1\"",31.53,{"v":3625.9500000000003,"d":"3625.95"}]
[null,null,"GK 7591","Комплект коллекторных фитингов со сливным краном и автоматическим воздухоотводчиком",null,"1\"",41.11,4727.65]
[null,null,"GK 79115","Латунный расходомер для коллекторных блоков напольного и радиаторного отопления",null,"1/2\"",8.87,1020.05]
[null,null,"GK 1903N","Электротермическая головка 230В, нормально закрытая ",null,"М30х1,5",30.24,{"v":3477.6,"d":"3477.60"}]
[null,null,"GK 1904N","Электротермическая головка 24В, нормально закрытая ",null,"М30х1,5",31.68,{"v":3643.2,"d":"3643.20"}]
[null,null,"GK 71602","Концовка для металлопластиковых труб и труб РЕХ, 3/4\" Евроконус",null,"16*2 x 3/4\"",{"v":2.9,"d":"2.90"},{"v":333.5,"d":"333.50"}]
[null,null,"GK 72002",null,null,"20*2 x 3/4\"",4.42,{"v":508.3,"d":"508.30"}]
[null,null,"GK 79181","Комплект (2 шт) шаровых кранов для коллекторов: с \"американкой\", термометром и отводом для температурного зонда, ручки - красная и синяя \"бабочка\"",null,"1\"",72.19,8301.85]
[null,null,"GK 7534","Группа безопасности бойлера с прямым сливом, рабочее давление 10 бар, давление настройки предохранительного клапана 7 ± 0,1 бар",null,"3/4\"",47.23,5431.45]
[null,null,"GK 7535","Группа безопасности бойлера с угловым сливом, рабочее давление 10 бар, давление настройки предохранительного клапана 7 ± 0,1 бар",null,"3/4\"",62.46,{"v":7182.900000000001,"d":"7182.90"}]
["Клапаны для отоп.приборов"]
[null,null,"Артикул","Наименование товара",null,"Размер","Цена за шт.","Цена за шт."]
[{"$nulls":6},"EUR","RUB"]
[null,null,"GK 7423","Узел нижнего подключения для стальных панельных радиаторов в двухтрубных системах прямой, с ручным управлением",null,"3/4\"",14.22,{"$f":"G277*$B$2","v":{"v":1635.3000000000002,"d":"1635.30"}}]
[null,null,"GK 7421","Узел нижнего подключения для стальных панельных радиаторов в двухтрубных системах угловой, с ручным управлением",null,"3/4\"",13.29,{"$f":"G278*$B$2","v":1528.35}]
[null,null,"GK 7400 12","Клапан запорный прямой",null,"1/2\"",8.08,{"v":929.2,"d":"929.20"}]
[null,null,"GK 7400 34",null,null,"3/4\"",12.18,{"v":1400.7,"d":"1400.70"}]
[null,null,"GK 7200 12","Клапан запорный угловой",null,"1/2\"",6.96,{"v":800.4,"d":"800.40"}]
[null,null,"GK 7200 34",null,null,"3/4\"",11.05,1270.75]
[null,null,"GK 7350 12","Клапан регулирующий прямой",null,"1/2\"",9.01,{"v":1036.1499999999999,"d":"1036.15"}]
[null,null,"GK 7350 34",null,null,"3/4\"",15.84,{"v":1821.6,"d":"1821.60"}]
[null,null,"GK 7150 12","Клапан регулирующий угловой",null,"1/2\"",8.19,{"v":941.8499999999999,"d":"941.85"}]
[null,null,"GK 7150 34",null,null,"3/4\"",14.89,{"v":1712.3500000000001,"d":"1712.35"}]
[null,null,"GK 7355 12","Клапан регулирующий прямой компактной серии",null,"1/2\"",8.18,{"v":940.6999999999999,"d":"940.70"}]
[null,null,"GK 7155 12","Клапан регулирующий угловой компактной серии",null,"1/2\"",7.26,{"v":834.9,"d":"834.90"}]
[null,null,"GK 7640 12","Клапан терморегулирующий прямой",null,"1/2\"",11.45,1316.75]
[null,null,"GK 7640 34",null,null,"3/4\"",14.07,1618.05]
[null,null,"GK 7620 12","Клапан терморегулирующий угловой",null,"1/2\"",10.15,1167.25]
[null,null,"GK 7620 34",null,null,"3/4\"",12.97,{"v":1491.5500000000002,"d":"1491.55"}]
[null,null,"GK 7625 12","Клапан терморегулирующий   осевой",null,"1/2\"",13.15,1512.25]
[null,null,"GK 7824","Термостатическая головка с внутренним жидкостным датчиком, с настройкой против замораживания",null,"CLIP-CLAP",10.64,{"v":1223.6000000000001,"d":"1223.60"}]
[null,null,"GK 7825","Термостатическая головка с внутренним жидкостным датчиком, с настройкой против замораживания",null,"M30x1,5",{"v":12,"d":"12.00"},{"v":1380,"d":"1380.00"}]
[null,null,"GK 76407400 12","Комплект для подключения отопительных приборов прямой",null,"1/2\"",{"v":31,"d":"31.00"},{"v":3565,"d":"3565.00"}]
[null,null,"GK 76207200 12","Комплект для подключения отопительных приборов угловой",null,"1/2\"",{"v":35,"d":"35.00"},{"v":4025,"d":"4025.00"}]
[null,null,"GK 7081","Переходник для узлов нижнего подключения в радиаторы с внутренней резьбой 1/2''",null,"1/2''x3/4''",2.13,244.95]
["Теплоноситель"]
[null,null,"Артикул","Наименование товара",null,"Размер","Цена за шт.","Цена за шт."]
[{"$nulls":6},"RUB","RUB"]
[null,null,"GK 569214"," Теплоноситель GEKON ECOSAVE - 30°С, 10 кг.",null,"3/4\"",{"v":2483,"d":"2483.00"},{"$f":"G302*1","v":{"v":2483,"d":"2483.00"}}]
[null,null,"GK 873256"," Теплоноситель GEKON ECOSAVE - 30°С, 20 кг.",null,"3/4\"",{"v":4967,"d":"4967.00"},{"$f":"G303*1","v":{"v":4967,"d":"4967.00"}}]
["Бойлеры, накопители, теплоаккумуляторы OLD (до сентября 2024) "]
[null,null,"Артикул","Наименование товара",null,"Объём","Цена за шт.","Цена за шт."]
[{"$nulls":6},"RUB","RUB"]
[null,null,"GKB1501N","Бойлер Gekon HWB 150 1HE INOX, 30 кВт",null,150,{"v":78481,"d":"78481.00"},{"$f":"G307*1","v":{"v":78481,"d":"78481.00"}}]
[null,null,"GKB2001N","Бойлер Gekon HWB 200 1HE INOX, 30 кВт",null,200,{"v":86816,"d":"86816.00"},{"$f":"G308*1","v":{"v":86816,"d":"86816.00"}}]
[null,null,"GKB3001N","Бойлер Gekon HWB 300 1HE INOX, 45 кВт",null,300,{"v":121300,"d":"121300.00"},{"v":121300,"d":"121300.00"}]
[null,null,"GKB4001N","Бойлер Gekon HWB 400 1HE INOX, 53 кВт",null,400,{"v":137354,"d":"137354.00"},{"v":137354,"d":"137354.00"}]
[null,null,"GKB5001N","Бойлер Gekon HWB 500 1HE INOX, 70 кВт",null,500,{"v":180930,"d":"180930.00"},{"v":180930,"d":"180930.00"}]
[null,null,"GKB120TC","Бойлер Gekon HWB 120 1HE TC INOX, 30 кВт с верхним подключением",null,120,{"v":83150,"d":"83150.00"},{"v":83150,"d":"83150.00"}]
[null,null,"GKB300XL","Бойлер Gekon HWB 300 1HE XL INOX, 129 кВт",null,300,{"v":154392,"d":"154392.00"},{"v":154392,"d":"154392.00"}]
[null,null,"GKB400XL","Бойлер Gekon HWB 400 1HE XL INOX, 120кВт",null,400,{"v":161432,"d":"161432.00"},{"v":161432,"d":"161432.00"}]
[null,null,"GKB2002N","Бойлер Gekon HWB 200 2HE INOX, 15/33 кВт",null,200,{"v":100570,"d":"100570.00"},{"v":100570,"d":"100570.00"}]
[null,null,"GKB3002N","Бойлер Gekon HWB 300 2HE INOX, 30/45 кВт",null,300,{"v":142417,"d":"142417.00"},{"v":142417,"d":"142417.00"}]
[null,null,"GKB4002N","Бойлер Gekon HWB 400 2HE INOX, 30/53 кВт",null,400,{"v":158470,"d":"158470.00"},{"v":158470,"d":"158470.00"}]
[null,null,"GKB80WL","Бойлер Gekon HWB 80 1HE WL INOX, 15,3 кВт с левым подключением",null,80,{"v":50271,"d":"50271.00"},{"v":50271,"d":"50271.00"}]
[null,null,"GKB100WL","Бойлер Gekon HWB 100 1HE WL INOX, 15,3 кВт с левым подключением",null,100,{"v":55500,"d":"55500.00"},{"v":55500,"d":"55500.00"}]
[null,null,"GKB150WL","Бойлер Gekon HWB 150 1HE WL INOX, 33 кВт с левым подключением",null,150,{"v":72430,"d":"72430.00"},{"v":72430,"d":"72430.00"}]
[null,null,"GKB80WR","Бойлер Gekon HWB 80 1HE WL INOX, 15,3 кВт с правым подключением",null,80,{"v":50271,"d":"50271.00"},{"v":50271,"d":"50271.00"}]
[null,null,"GKB100WR","Бойлер Gekon HWB 100 1HE WL INOX, 15,3 кВт с правым подключением",null,100,{"v":55500,"d":"55500.00"},{"v":55500,"d":"55500.00"}]
[null,null,"GKB150WR","Бойлер Gekon HWB 150 1HE WL INOX, 33 кВт с правым подключением",null,150,{"v":72430,"d":"72430.00"},{"v":72430,"d":"72430.00"}]
[null,null,"GKB150ZN","Накопитель горячей воды Gekon HWB 150 ZHE INOX",null,150,{"v":58842,"d":"58842.00"},{"v":58842,"d":"58842.00"}]
[null,null,"GKB200ZN","Накопитель горячей воды Gekon HWB 200 ZHE INOX",null,200,{"v":67364,"d":"67364.00"},{"v":67364,"d":"67364.00"}]
[null,null,"GKB300ZN","Накопитель горячей воды Gekon HWB 300 ZHE INOX",null,300,{"v":93819,"d":"93819.00"},{"v":93819,"d":"93819.00"}]
[null,null,"GKB400ZN","Накопитель горячей воды Gekon HWB 400 ZHE INOX",null,400,{"v":107844,"d":"107844.00"},{"v":107844,"d":"107844.00"}]
["Бойлеры, накопители, теплоаккумуляторы NEW (с сентября 2024)"]
[null,null,"Артикул","Наименование товара",null,"Объём","Цена за шт.","Цена за шт."]
[{"$nulls":6},"RUB","RUB"]
[null,null,"GK1501","Бойлер напольный B01 150 л, с 1-м ТО, 30 кВт, INOX, Gekon",null,150,{"v":78481.26018468224,"d":"78481.26"},{"$f":"G331*1","v":{"v":78481.26018468224,"d":"78481.26"}}]
[null,null,"GK2001","Бойлер напольный B01 200 л, с 1-м ТО, 30 кВт, INOX, Gekon",null,200,{"v":86815.86094513851,"d":"86815.86"},{"$f":"G332*1","v":{"v":86815.86094513851,"d":"86815.86"}}]
[null,null,"GK3001","Бойлер напольный B01 300 л, с 1-м ТО, 40 кВт, INOX, Gekon",null,300,{"v":121300.38022813688,"d":"121300.38"},{"v":121300.38022813688,"d":"121300.38"}]
[null,null,"GK4001","Бойлер напольный B01 400 л, с 1-м ТО, 51 кВт, INOX, Gekon",null,400,{"v":137353.6121673004,"d":"137353.61"},{"v":137353.6121673004,"d":"137353.61"}]
[null,null,"GK5001","Бойлер напольный B01 500 л, с 1-м ТО, 60 кВт, INOX, Gekon",null,500,{"v":180929.92938620315,"d":"180929.93"},{"v":180929.92938620315,"d":"180929.93"}]
[null,null,"GK8001","Бойлер напольный B01 800 л, с 1-м ТО, 90 кВт, INOX, Gekon",null,800,{"v":305535.6855163525,"d":"305535.69"},{"v":305535.6855163525,"d":"305535.69"}]
[null,null,"GK10001","Бойлер напольный B01 1000 л, с 1-м ТО, 98 кВт, INOX, Gekon",null,1000,{"v":351996.1333977767,"d":"351996.13"},{"v":351996.1333977767,"d":"351996.13"}]
[null,null,"GK1201TC","Бойлер напольный BTC 120 л, с 1-м ТО, 28 кВт, INOX, Gekon",null,120,{"v":83150,"d":"83150.00"},{"v":83150,"d":"83150.00"}]
[null,null,"GK2001XL","Бойлер напольный BXL 200 л, с 1-м ТО, 60 кВт, INOX, Gekon",null,200,{"v":109750.00542994287,"d":"109750.01"},{"v":109750.00542994287,"d":"109750.01"}]
[null,null,"GK3001XL","Бойлер напольный BXL 300 л, с 1-м ТО, 115 кВт, INOX, Gekon",null,300,{"v":154392.17816404128,"d":"154392.18"},{"v":154392.17816404128,"d":"154392.18"}]
[null,null,"GK4001XL","Бойлер напольный BXL 400 л, с 1-м ТО, 100 кВт, INOX, Gekon",null,400,{"v":161431.83052688756,"d":"161431.83"},{"v":161431.83052688756,"d":"161431.83"}]
[null,null,"GK5001XL","Бойлер напольный BXL 500 л, с 1-м ТО, 127 кВт, INOX, Gekon",null,500,{"v":225560.23083758928,"d":"225560.23"},{"v":225560.23083758928,"d":"225560.23"}]
[null,null,"GK8001XL","Бойлер напольный BXL 800 л, с 1-м ТО, 120 кВт, INOX, Gekon",null,800,{"v":325539.981741045,"d":"325539.98"},{"v":325539.981741045,"d":"325539.98"}]
[null,null,"GK10001XL","Бойлер напольный BXL 1000 л, с 1-м ТО, 150 кВт, INOX, Gekon",null,1000,{"v":390900.59610117605,"d":"390900.60"},{"v":390900.59610117605,"d":"390900.60"}]
[null,null,"GK2002","Бойлер напольный B02 200 л, с 2-я ТО, 30/15 кВт, INOX, Gekon",null,200,{"v":100570.34220532319,"d":"100570.34"},{"v":100570.34220532319,"d":"100570.34"}]
[null,null,"GK3002","Бойлер напольный B02 300 л, с 2-я ТО, 40/28 кВт, INOX, Gekon",null,300,{"v":142417.16458446498,"d":"142417.16"},{"v":142417.16458446498,"d":"142417.16"}]
[null,null,"GK4002","Бойлер напольный B02 400 л, с 2-я ТО, 51/23 кВт, INOX, Gekon",null,400,{"v":158470.39652362847,"d":"158470.40"},{"v":158470.39652362847,"d":"158470.40"}]
[null,null,"GK5002","Бойлер напольный B02 500 л, с 2-я ТО, 60/23 кВт, INOX, Gekon",null,500,{"v":206707.70877944323,"d":"206707.71"},{"v":206707.70877944323,"d":"206707.71"}]
[null,null,"GK8002","Бойлер напольный B02 800 л, с 2-я ТО, 90/28 кВт, INOX, Gekon",null,800,{"v":324936.36217174155,"d":"324936.36"},{"v":324936.36217174155,"d":"324936.36"}]
[null,null,"GK10002","Бойлер напольный B02 1000 л, с 2-я ТО, 98/45 кВт, INOX, Gekon",null,1000,{"v":371394.66194081947,"d":"371394.66"},{"v":371394.66194081947,"d":"371394.66"}]
[null,null,"GK801WL","Бойлер настенный BW 80 л, с 1-м ТО, 15 кВт, подключение слева, INOX, Gekon",null,80,{"v":50270.505160239,"d":"50270.51"},{"v":50270.505160239,"d":"50270.51"}]
[null,null,"GK1001WL","Бойлер настенный BW 100 л, с 1-м ТО, 15 кВт, подключение слева, INOX, Gekon",null,100,{"v":55500.27159152635,"d":"55500.27"},{"v":55500.27159152635,"d":"55500.27"}]
[null,null,"GK1501WL","Бойлер настенный BW 150 л, с 1-м ТО, 30 кВт, подключение слева, INOX, Gekon",null,150,{"v":72430.2009777295,"d":"72430.20"},{"v":72430.2009777295,"d":"72430.20"}]
[null,null,"GK801WR","Бойлер настенный BW 80 л, с 1-м ТО, 15 кВт, подключение справа, INOX, Gekon",null,80,{"v":50270.505160239,"d":"50270.51"},{"v":50270.505160239,"d":"50270.51"}]
[null,null,"GK1001WR","Бойлер настенный BW 100 л, с 1-м ТО, 15 кВт, подключение справа, INOX, Gekon",null,100,{"v":55500.27159152635,"d":"55500.27"},{"v":55500.27159152635,"d":"55500.27"}]
[null,null,"GK1501WR","Бойлер настенный BW 150 л, с 1-м ТО, 30 кВт, подключение справа, INOX, Gekon",null,150,{"v":72430.2009777295,"d":"72430.20"},{"v":72430.2009777295,"d":"72430.20"}]
[null,null,"GK1201WB","Бойлер настенный BW 120 л, с 1-м ТО, 28 кВт, подключение нижнее, INOX, Gekon",null,120,{"v":83058.82352941176,"d":"83058.82"},{"v":83058.82352941176,"d":"83058.82"}]
[null,null,"GK150","Накопитель горячей воды напольный BT 150 л, INOX, Gekon",null,150,{"v":58841.933731667574,"d":"58841.93"},{"v":58841.933731667574,"d":"58841.93"}]
[null,null,"GK200","Накопитель горячей воды напольный BT 200 л, INOX, Gekon",null,200,{"v":67364.47582835416,"d":"67364.48"},{"v":67364.47582835416,"d":"67364.48"}]
[null,null,"GK300","Накопитель горячей воды напольный BT 300 л, INOX, Gekon",null,300,{"v":93818.57686040195,"d":"93818.58"},{"v":93818.57686040195,"d":"93818.58"}]
[null,null,"GK400","Накопитель горячей воды напольный BT 400 л, INOX, Gekon",null,400,{"v":107843.56328082563,"d":"107843.56"},{"v":107843.56328082563,"d":"107843.56"}]
[null,null,"GK500","Накопитель горячей воды напольный BT 500 л, INOX, Gekon",null,500,{"v":149364.02569593146,"d":"149364.03"},{"v":149364.02569593146,"d":"149364.03"}]
[null,null,"GK800","Накопитель горячей воды напольный BT 800 л, INOX, Gekon",null,800,{"v":242432.74729930097,"d":"242432.75"},{"v":242432.74729930097,"d":"242432.75"}]
[null,null,"GK1000","Накопитель горячей воды напольный BT 1000 л, INOX, Gekon",null,1000,{"v":279095.7041179461,"d":"279095.70"},{"v":279095.7041179461,"d":"279095.70"}]
[null,null,"GK100P","Накопитель горячей воды напольный BP 100 л, с насосом ГВС, INOX, Gekon",null,100,{"v":61539.9471437284,"d":"61539.95"},{"v":61539.9471437284,"d":"61539.95"}]
[null,null,"GK500BS","Теплоаккумулятор Buffer S 500 л, одностороннее расположение патрубков, Gekon",null,500,{"v":63530.906990179086,"d":"63530.91"},{"v":63530.906990179086,"d":"63530.91"}]
[null,null,"GK800BS","Теплоаккумулятор Buffer S 800 л, одностороннее расположение патрубков, Gekon",null,800,{"v":85370.30618139803,"d":"85370.31"},{"v":85370.30618139803,"d":"85370.31"}]
[null,null,"GK1000BS","Теплоаккумулятор Buffer S 1000 л, одностороннее расположение патрубков, Gekon",null,1000,{"v":96481.80242634314,"d":"96481.80"},{"v":96481.80242634314,"d":"96481.80"}]
[null,null,"GK500BA","Теплоаккумулятор Buffer A 500 л, расположение патрубков под углом 90 градусов, Gekon",null,500,{"v":63530.906990179086,"d":"63530.91"},{"v":63530.906990179086,"d":"63530.91"}]
[null,null,"GK800BA","Теплоаккумулятор Buffer A 800 л, расположение патрубков под углом 90 градусов, Gekon",null,800,{"v":85370.30618139803,"d":"85370.31"},{"v":85370.30618139803,"d":"85370.31"}]
[null,null,"GK1000BA","Теплоаккумулятор Buffer A 1000 л, расположение патрубков под углом 90 градусов, Gekon",null,1000,{"v":96481.80242634314,"d":"96481.80"},{"v":96481.80242634314,"d":"96481.80"}]
[null,null,"GKMA8D2140","Анод магниевый L=400 мм, D21 мм,  М8х10 ",null,21,{"v":736.7441860465117,"d":"736.74"},{"v":736.7441860465117,"d":"736.74"}]
[null,null,"GKMA8D2145","Анод магниевый L=450 мм, D21 мм,  М8х10 ",null,21,{"v":803.7209302325582,"d":"803.72"},{"v":803.7209302325582,"d":"803.72"}]
["Мембранные баки"]
[null,null,"Артикул","Наименование товара",null,"Объём, л","Цена за шт.","Цена за шт."]
[{"$nulls":6},"EUR / RUB","RUB"]
[null,null,"GKB0140029","Бак мембранный для отопления Gekon WRV8",null,8,{"v":2334.29,"d":"2,334.29 ₽"},{"$f":"G377*1","v":2334.29}]
[null,null,"GKB2140200","Бак мембранный для отопления Gekon WRV8 (16 бар)",null,8,{"v":116,"d":"116.00 €"},{"$f":"G378*$L$1*1.1","v":{"v":13852.10284729004,"d":"13852.10"}}]
[null,null,"GKB2140300","Бак мембранный для отопления Gekon WRV8 (25 бар)",null,8,{"v":338,"d":"338.00 €"},{"$f":"G379*$L$1*1.1","v":{"v":40362.16174468995,"d":"40362.16"}}]
[null,null,"GKB0140049","Бак мембранный для отопления Gekon WRV12",null,12,{"v":2544.54,"d":"2,544.54 ₽"},{"$f":"G380*1","v":2544.54}]
[null,null,"GKB2140302","Бак мембранный для отопления Gekon WRV12 (25 бар)",null,12,{"v":338,"d":"338.00 €"},{"$f":"G381*$L$1*1.1","v":{"v":40362.16174468995,"d":"40362.16"}}]
[null,null,"GKB0140059","Бак мембранный для отопления Gekon WRV18",null,18,{"v":2782.31,"d":"2,782.31 ₽"},2782.31]
[null,null,"GKB2140304","Бак мембранный для отопления Gekon WRV18 (25 бар)",null,18,{"v":463,"d":"463.00 €"},{"$f":"G383*$L$1*1.1","v":{"v":55288.996709442144,"d":"55289.00"}}]
[null,null,"GKB0140069","Бак мембранный для отопления Gekon WRV24",null,24,{"v":2998.79,"d":"2,998.79 ₽"},2998.79]
[null,null,"GKB2140206","Бак мембранный для отопления Gekon WRV24 (16 бар)",null,24,{"v":160,"d":"160.00 €"},{"$f":"G385*$L$1*1.1","v":{"v":19106.348754882813,"d":"19106.35"}}]
[null,null,"GKB2140306","Бак мембранный для отопления Gekon WRV24 (25 бар)",null,24,{"v":463,"d":"463.00 €"},{"$f":"G386*$L$1*1.1","v":{"v":55288.996709442144,"d":"55289.00"}}]
[null,null,"GKB0140080","Бак мембранный для отопления Gekon WRV35",null,35,{"v":5083.81,"d":"5,083.81 ₽"},5083.81]
[null,null,"GKB0140100","Бак мембранный для отопления Gekon WRV50",null,50,{"v":6259.08,"d":"6,259.08 ₽"},6259.08]
[null,null,"GKB2140208","Бак мембранный для отопления Gekon WRV50 (16 бар)",null,50,{"v":322,"d":"322.00 €"},{"$f":"G389*$L$1*1.1","v":{"v":38451.52686920166,"d":"38451.53"}}]
[null,null,"GKB0140120","Бак мембранный для отопления Gekon WRV80",null,80,{"v":8706.48,"d":"8,706.48 ₽"},8706.48]
[null,null,"GKB2140212","Бак мембранный для отопления Gekon WRV80 (16 бар)",null,80,{"v":502,"d":"502.00 €"},{"$f":"G391*$L$1*1.1","v":{"v":59946.169218444826,"d":"59946.17"}}]
[null,null,"GKB0140140","Бак мембранный для отопления Gekon WRV100",null,100,{"v":12513.58,"d":"12,513.58 ₽"},12513.58]
[null,null,"GKB2140214","Бак мембранный для отопления Gekon WRV100 (16 бар)",null,100,{"v":540,"d":"540.00 €"},{"$f":"G393*$L$1*1.1","v":{"v":64483.9270477295,"d":"64483.93"}}]
[null,null,"GKB2140314","Бак мембранный для отопления Gekon WRV100 (25 бар)",null,100,{"v":1249,"d":"1,249.00 €"},{"$f":"G394*$L$1*1.1","v":{"v":149148.93496780397,"d":"149148.93"}}]
[null,null,"GKB0140160","Бак мембранный для отопления Gekon WRV150",null,150,{"v":18956.77,"d":"18,956.77 ₽"},18956.77]
[null,null,"GKB2140216","Бак мембранный для отопления Gekon WRV150 (16 бар)",null,150,{"v":616,"d":"616.00 €"},{"$f":"G396*$L$1*1.1","v":{"v":73559.44270629884,"d":"73559.44"}}]
[null,null,"GKB2140316","Бак мембранный для отопления Gekon WRV150 (25 бар)",null,150,{"v":1999,"d":"1,999.00 €"},{"$f":"G397*$L$1*1.1","v":{"v":238709.94475631716,"d":"238709.94"}}]
[null,null,"GKB0140180","Бак мембранный для отопления Gekon WRV200",null,200,{"v":32108.6,"d":"32,108.60 ₽"},{"v":32108.6,"d":"32108.60"}]
[null,null,"GKB2140218","Бак мембранный для отопления Gekon WRV200 (16 бар)",null,200,{"v":1152,"d":"1,152.00 €"},{"$f":"G399*$L$1*1.1","v":{"v":137565.71103515627,"d":"137565.71"}}]
[null,null,"GKB2140318","Бак мембранный для отопления Gekon WRV200 (25 бар)",null,200,{"v":2600,"d":"2,600.00 €"},{"$f":"G400*$L$1*1.1","v":{"v":310478.1672668457,"d":"310478.17"}}]
[null,null,"GKB0140190","Бак мембранный для отопления Gekon WRV300",null,300,{"v":38272.4,"d":"38,272.40 ₽"},{"v":38272.4,"d":"38272.40"}]
[null,null,"GKB2140220","Бак мембранный для отопления Gekon WRV300 (16 бар)",null,300,{"v":1360,"d":"1,360.00 €"},{"$f":"G402*$L$1*1.1","v":{"v":162403.9644165039,"d":"162403.96"}}]
[null,null,"GKB2140320","Бак мембранный для отопления Gekon WRV300 (25 бар)",null,300,{"v":3315,"d":"3,315.00 €"},{"$f":"G403*$L$1*1.1","v":{"v":395859.66326522833,"d":"395859.66"}}]
[null,null,"GKB0140200","Бак мембранный для отопления Gekon WRV500",null,500,{"v":67749.6,"d":"67,749.60 ₽"},{"v":67749.6,"d":"67749.60"}]
[null,null,"GKB2140222","Бак мембранный для отопления Gekon WRV500 (16 бар)",null,500,{"v":1859,"d":"1,859.00 €"},{"$f":"G405*$L$1*1.1","v":{"v":221991.8895957947,"d":"221991.89"}}]
[null,null,"GKB2140322","Бак мембранный для отопления Gekon WRV500 (25 бар)",null,500,{"v":4502,"d":"4,502.00 €"},{"$f":"G406*$L$1*1.1","v":{"v":537604.8880905152,"d":"537604.89"}}]
[null,null,"GKB0140210","Бак мембранный для отопления Gekon WRV750",null,750,{"v":151772.25,"d":"151,772.25 ₽"},151772.25]
[null,null,"GKB2140224","Бак мембранный для отопления Gekon WRV750 (16 бар)",null,750,{"v":3815,"d":"3,815.00 €"},{"$f":"G408*$L$1*1.1","v":{"v":455567.0031242371,"d":"455567.00"}}]
[null,null,"GKB0140220","Бак мембранный для отопления Gekon WRV1000",null,1000,{"v":220806.4,"d":"220,806.40 ₽"},{"v":220806.4,"d":"220806.40"}]
[null,null,"GKB2140226","Бак мембранный для отопления Gekon WRV1000 (16 бар)",null,1000,{"v":4800,"d":"4,800.00 €"},{"$f":"G410*$L$1*1.1","v":{"v":573190.4626464844,"d":"573190.46"}}]
[null,null,"GKB2140326","Бак мембранный для отопления Gekon WRV1000(25 бар)",null,1000,{"v":7869,"d":"7,869.00 €"},{"$f":"G411*$L$1*1.1","v":{"v":939674.1147010804,"d":"939674.11"}}]
[null,null,"GKB1140312","Бак мембранный для отопления Gekon WRV1500",null,1500,{"v":603769.91,"d":"603,769.91 ₽"},603769.91]
[null,null,"GKB2140228","Бак мембранный для отопления Gekon WRV1500 (16 бар)",null,1500,{"v":6567,"d":"6,567.00 €"},{"$f":"G413*$L$1*1.1","v":{"v":784196.2017082215,"d":"784196.20"}}]
[null,null,"GKB2140328","Бак мембранный для отопления Gekon WRV1500(25 бар)",null,1500,{"v":10689,"d":"10,689.00 €"},{"$f":"G414*$L$1*1.1","v":{"v":1276423.51150589,"d":"1276423.51"}}]
[null,null,"GKB1140315","Бак мембранный для отопления Gekon WRV2000",null,2000,{"v":754958.94,"d":"754,958.94 ₽"},754958.94]
[null,null,"GKB2140230","Бак мембранный для отопления Gekon WRV2000 (16 бар)",null,2000,{"v":10864,"d":"10,864.00 €"},{"$f":"G416*$L$1*1.1","v":{"v":1297321.080456543,"d":"1297321.08"}}]
[null,null,"GKB2140330","Бак мембранный для отопления Gekon WRV2000 (25 бар)",null,2000,{"v":16776,"d":"16,776.00 €"},{"$f":"G417*$L$1*1.1","v":{"v":2003300.666949463,"d":"2003300.67"}}]
[null,null,"GKB2140104","Бак мембранный для отопления Gekon WRV2500",null,2500,{"v":833021.21,"d":"833,021.21 ₽"},833021.21]
[null,null,"GKB1140320","Бак мембранный для отопления Gekon WRV3000",null,3000,{"v":881982.66,"d":"881,982.66 ₽"},881982.66]
[null,null,"GKB2140234","Бак мембранный для отопления Gekon WRV3000 (16 бар)",null,3000,{"v":14643,"d":"14,643.00 €"},{"$f":"G420*$L$1*1.1","v":{"v":1748589.1551109315,"d":"1748589.16"}}]
[null,null,"GKB2140332","Бак мембранный для отопления Gekon WRV3000 (25 бар)",null,3000,{"v":22144,"d":"22,144.00 €"},{"$f":"G421*$L$1*1.1","v":{"v":2644318.6676757815,"d":"2644318.67"}}]
[null,null,"GKB2140108","Бак мембранный для отопления Gekon WRV4000",null,4000,{"v":18020,"d":"18,020.00 €"},{"v":2151852.5285186768,"d":"2151852.53"}]
[null,null,"GKB2140236","Бак мембранный для отопления Gekon WRV4000 (16 бар)",null,4000,{"v":23045,"d":"23,045.00 €"},{"v":2751911.294101715,"d":"2751911.29"}]
[null,null,"GKB1140330","Бак мембранный для отопления Gekon WRV5000",null,5000,{"v":24487,"d":"24,487.00 €"},{"v":2924107.262255097,"d":"2924107.26"}]
[null,null,"GKB2140238","Бак мембранный для отопления Gekon WRV5000 (16 бар)",null,5000,{"v":29462,"d":"29,462.00 €"},{"v":3518195.2938522343,"d":"3518195.29"}]
[null,null,"GKB2140112","Бак мембранный для отопления Gekon WRV8000",null,8000,{"v":44456,"d":"44,456.00 €"},{"v":5308699.00154419,"d":"5308699.00"}]
[null,null,"GKB2140240","Бак мембранный для отопления Gekon WRV8000 (16 бар)",null,8000,{"v":65635,"d":"65,635.00 €"},{"v":7837782.503292085,"d":"7837782.50"}]
[null,null,"GKB2140340","Бак мембранный для отопления Gekon WRV8000 (25 бар)",null,8000,{"v":77142,"d":"77,142.00 €"},{"v":9211887.222807312,"d":"9211887.22"}]
[null,null,"GKB2140114","Бак мембранный для отопления Gekon WRV10000",null,10000,{"v":52277,"d":"52,277.00 €"},{"v":6242641.211618805,"d":"6242641.21"}]
[null,null,"GKB2140242","Бак мембранный для отопления Gekon WRV 10000 (16 бар)",null,10000,"по запросу",{"$f":"G430","v":"по запросу"}]
[null,null,"GKB0141029","Бак мембранный для водоснабжения Gekon WAV8",null,8,{"v":2346.06,"d":"2,346.06 ₽"},{"$f":"G431*1","v":2346.06}]
[null,null,"GKB2140250","Бак мембранный для водоснабжения Gekon WAV8 (16 бар)",null,8,{"v":116,"d":"116.00 €"},{"$f":"G432*$L$1*1.1","v":{"v":13852.10284729004,"d":"13852.10"}}]
[null,null,"GKB2140350","Бак мембранный для водоснабжения Gekon WAV8 (25 бар)",null,8,{"v":338,"d":"338.00 €"},{"$f":"G433*$L$1*1.1","v":{"v":40362.16174468995,"d":"40362.16"}}]
[null,null,"GKB0141039","Бак мембранный для водоснабжения Gekon WAV12",null,12,{"v":2552.5,"d":"2,552.50 ₽"},{"$f":"G434*1","v":{"v":2552.5,"d":"2552.50"}}]
[null,null,"GKB2140252","Бак мембранный для водоснабжения GekonWAV12 (16 бар)",null,12,{"v":116,"d":"116.00 €"},{"$f":"G435*$L$1*1.1","v":{"v":13852.10284729004,"d":"13852.10"}}]
[null,null,"GKB2140352","Бак мембранный для водоснабжения Gekon WAV12 (25 бар)",null,12,{"v":338,"d":"338.00 €"},{"$f":"G436*$L$1*1.1","v":{"v":40362.16174468995,"d":"40362.16"}}]
[null,null,"GKB0141049","Бак мембранный для водоснабжения Gekon WAV18",null,18,{"v":3072.63,"d":"3,072.63 ₽"},3072.63]
[null,null,"GKB2140354","Бак мембранный для водоснабжения Gekon WAV18 (25 бар)",null,18,{"v":463,"d":"463.00 €"},{"$f":"G438*$L$1*1.1","v":{"v":55288.996709442144,"d":"55289.00"}}]
[null,null,"GKB0141069","Бак мембранный для водоснабжения Gekon WAV24",null,24,{"v":3202.33,"d":"3,202.33 ₽"},3202.33]
[null,null,"GKB2140256","Бак мембранный для водоснабжения Gekon WAV24 (16 бар)",null,24,{"v":160,"d":"160.00 €"},{"$f":"G440*$L$1*1.1","v":{"v":19106.348754882813,"d":"19106.35"}}]
[null,null,"GKB2140356","Бак мембранный для водоснабжения Gekon WAV 24 (25 бар)",null,24,{"v":463,"d":"463.00 €"},{"$f":"G441*$L$1*1.1","v":{"v":55288.996709442144,"d":"55289.00"}}]
[null,null,"GKB0141080","Бак мембранный для водоснабжения Gekon WAV35",null,35,{"v":5258.79,"d":"5,258.79 ₽"},5258.79]
[null,null,"GKB0141100","Бак мембранный для водоснабжения Gekon WAV50",null,50,{"v":8720.44,"d":"8,720.44 ₽"},8720.44]
[null,null,"GKB2140260","Бак мембранный для водоснабжения Gekon WAV50 (16 бар)",null,50,{"v":322,"d":"322.00 €"},{"$f":"G444*$L$1*1.1","v":{"v":38451.52686920166,"d":"38451.53"}}]
[null,null,"GKB2140358","Бак мембранный для водоснабжения Gekon WAV 50 (25 бар)",null,50,{"v":685,"d":"685.00 €"},{"$f":"G445*$L$1*1.1","v":{"v":81799.05560684204,"d":"81799.06"}}]
[null,null,"GKB2140262","Бак мембранный для водоснабжения Gekon WAV60 (16 бар)",null,60,{"v":358,"d":"358.00 €"},{"v":42750.4553390503,"d":"42750.46"}]
[null,null,"GKB2140359","Бак мембранный для водоснабжения Gekon WAV60 (25 бар)",null,60,{"v":772,"d":"772.00 €"},{"v":92188.13274230958,"d":"92188.13"}]
[null,null,"GKB0141120","Бак мембранный для водоснабжения Gekon WAV80",null,80,{"v":11544.94,"d":"11,544.94 ₽"},11544.94]
[null,null,"GKB2140264","Бак мембранный для водоснабжения Gekon WAV80 (16 бар)",null,80,{"v":502,"d":"502.00 €"},{"$f":"G449*$L$1*1.1","v":{"v":59946.169218444826,"d":"59946.17"}}]
[null,null,"GKB2140360","Бак мембранный для водоснабжения Gekon WAV 80 (25 бар)",null,80,{"v":1229,"d":"1,229.00 €"},{"$f":"G450*$L$1*1.1","v":{"v":146760.64137344362,"d":"146760.64"}}]
[null,null,"GKB0141140","Бак мембранный для водоснабжения Gekon WAV100",null,100,{"v":15533.15,"d":"15,533.15 ₽"},15533.15]
[null,null,"GKB2140266","Бак мембранный для водоснабжения Gekon WAV100 (16 бар)",null,100,{"v":540,"d":"540.00 €"},{"$f":"G452*$L$1*1.1","v":{"v":64483.9270477295,"d":"64483.93"}}]
[null,null,"GKB2140362","Бак мембранный для водоснабжения Gekon WAV100 (25 бар)",null,100,{"v":1249,"d":"1,249.00 €"},{"$f":"G453*$L$1*1.1","v":{"v":149148.93496780397,"d":"149148.93"}}]
[null,null,"GKB0141160","Бак мембранный для водоснабжения Gekon WAV150",null,150,{"v":19647.75,"d":"19,647.75 ₽"},19647.75]
[null,null,"GKB2140268","Бак мембранный для водоснабжения Gekon WAV150 (16 бар)",null,150,{"v":616,"d":"616.00 €"},{"$f":"G455*$L$1*1.1","v":{"v":73559.44270629884,"d":"73559.44"}}]
[null,null,"GKB2140366","Бак мембранный для водоснабжения Gekon WAV150 (25 бар)",null,150,{"v":1999,"d":"1,999.00 €"},{"$f":"G456*$L$1*1.1","v":{"v":238709.94475631716,"d":"238709.94"}}]
[null,null,"GKB0141510","Бак мембранный для водоснабжения Gekon WAV200",null,200,{"v":36111.79,"d":"36,111.79 ₽"},36111.79]
[null,null,"GKB2140270","Бак мембранный для водоснабжения Gekon WAV200 (16 бар)",null,200,{"v":1152,"d":"1,152.00 €"},{"$f":"G458*$L$1*1.1","v":{"v":137565.71103515627,"d":"137565.71"}}]
[null,null,"GKB2140368","Бак мембранный для водоснабжения GekonWAV 200 (25 бар)",null,200,{"v":2600,"d":"2,600.00 €"},{"$f":"G459*$L$1*1.1","v":{"v":310478.1672668457,"d":"310478.17"}}]
[null,null,"GKB0141515","Бак мембранный для водоснабжения Gekon WAV300",null,300,{"v":43804.54,"d":"43,804.54 ₽"},43804.54]
[null,null,"GKB2140272","Бак мембранный для водоснабжения Gekon WAV300 (16 бар)",null,300,{"v":1360,"d":"1,360.00 €"},{"$f":"G461*$L$1*1.1","v":{"v":162403.9644165039,"d":"162403.96"}}]
[null,null,"GKB2140370","Бак мембранный для водоснабжения Gekon WAV 300 (25 бар)",null,300,{"v":3315,"d":"3,315.00 €"},{"$f":"G462*$L$1*1.1","v":{"v":395859.66326522833,"d":"395859.66"}}]
[null,null,"GKB0141520","Бак мембранный для водоснабжения Gekon WAV500",null,500,{"v":68108.08,"d":"68,108.08 ₽"},68108.08]
[null,null,"GKB2140274","Бак мембранный для водоснабжения Gekon WAV500 (16 бар)",null,500,{"v":1859,"d":"1,859.00 €"},{"$f":"G464*$L$1*1.1","v":{"v":221991.8895957947,"d":"221991.89"}}]
[null,null,"GKB2140372","Бак мембранный для водоснабжения Gekon WAV 500 (25 бар)",null,500,{"v":4502,"d":"4,502.00 €"},{"$f":"G465*$L$1*1.1","v":{"v":537604.8880905152,"d":"537604.89"}}]
[null,null,"GKB1140300","Бак мембранный для водоснабжения Gekon WAV750",null,750,{"v":170759.17,"d":"170,759.17 ₽"},170759.17]
[null,null,"GKB2140276","Бак мембранный для водоснабжения Gekon WAV750 (16 бар)",null,750,{"v":3815,"d":"3,815.00 €"},{"$f":"G467*$L$1*1.1","v":{"v":455567.0031242371,"d":"455567.00"}}]
[null,null,"GKB2140374","Бак мембранный для водоснабжения Gekon WAV750 (25 бар)",null,750,{"v":6431,"d":"6,431.00 €"},{"$f":"G468*$L$1*1.1","v":{"v":767955.8052665711,"d":"767955.81"}}]
[null,null,"GKB1140302","Бак мембранный для водоснабжения Gekon WAV1000",null,1000,{"v":291510.64,"d":"291,510.64 ₽"},291510.64]
[null,null,"GKB2140278","Бак мембранный для водоснабжения GekonWAV1000 (16 бар)",null,1000,{"v":4800,"d":"4,800.00 €"},{"$f":"G470*$L$1*1.1","v":{"v":573190.4626464844,"d":"573190.46"}}]
[null,null,"GKB2140376","Бак мембранный для водоснабжения Gekon WAV 1000 (25 бар)",null,1000,{"v":7869,"d":"7,869.00 €"},{"$f":"G471*$L$1*1.1","v":{"v":939674.1147010804,"d":"939674.11"}}]
[null,null,"GKB2140120","Бак мембранный для водоснабжения Gekon WAV1500",null,1500,{"v":603769.91,"d":"603,769.91 ₽"},603769.91]
[null,null,"GKB2140280","Бак мембранный для водоснабжения Gekon WAV1500 (16 бар)",null,1500,{"v":6567,"d":"6,567.00 €"},{"$f":"G473*$L$1*1.1","v":{"v":784196.2017082215,"d":"784196.20"}}]
[null,null,"GKB2140378","Бак мембранный для водоснабжения Gekon WAV1500 (25 бар)",null,1500,{"v":10689,"d":"10,689.00 €"},{"$f":"G474*$L$1*1.1","v":{"v":1276423.51150589,"d":"1276423.51"}}]
[null,null,"GKB2140122","Бак мембранный для водоснабжения Gekon WAV2000",null,2000,{"v":754958.94,"d":"754,958.94 ₽"},754958.94]
[null,null,"GKB2140282","Бак мембранный для водоснабжения Gekon WAV2000 (16 бар)",null,2000,{"v":10864,"d":"10,864.00 €"},{"$f":"G476*$L$1*1.1","v":{"v":1297321.080456543,"d":"1297321.08"}}]
[null,null,"GKB2140380","Бак мембранный для водоснабжения Gekon WAV 2000 (25 бар)",null,2000,{"v":16776,"d":"16,776.00 €"},{"$f":"G477*$L$1*1.1","v":{"v":2003300.666949463,"d":"2003300.67"}}]
[null,null,"GKB2140124","Бак мембранный для водоснабжения Gekon WAV2500",null,2500,{"v":1049994.17,"d":"1,049,994.17 ₽"},1049994.17]
[null,null,"GKB2140382","Бак мембранный для водоснабжения Gekon WAV2500 (25 бар)",null,2500,{"v":18987,"d":"18,987.00 €"},{"$f":"G479*$L$1*1.1","v":{"v":2267326.523806,"d":"2267326.52"}}]
[null,null,"GKB2140126","Бак мембранный для водоснабжения Gekon WAV3000",null,3000,{"v":1111708.36,"d":"1,111,708.36 ₽"},1111708.36]
[null,null,"GKB2140286","Бак мембранный для водоснабжения Gekon WAV3000 (16 бар)",null,3000,{"v":14643,"d":"14,643.00 €"},{"$f":"G481*$L$1*1.1","v":{"v":1748589.1551109315,"d":"1748589.16"}}]
[null,null,"GKB2140384","Бак мембранный для водоснабжения Gekon WAV3000 (25 бар)",null,3000,{"v":22144,"d":"22,144.00 €"},{"$f":"G482*$L$1*1.1","v":{"v":2644318.6676757815,"d":"2644318.67"}}]
[null,null,"GKB2140128","Бак мембранный для водоснабжения Gekon WAV4000",null,4000,{"v":18020,"d":"18,020.00 €"},{"v":2151852.5285186768,"d":"2151852.53"}]
[null,null,"GKB2140288","Бак мембранный для водоснабжения Gekon WAV4000 (16 бар)",null,4000,{"v":23045,"d":"23,045.00 €"},{"v":2751911.294101715,"d":"2751911.29"}]
[null,null,"GKB2140386","Бак мембранный для водоснабжения Gekon WAV4000 (25 бар)",null,4000,{"v":30970,"d":"30,970.00 €"},{"v":3698272.630867005,"d":"3698272.63"}]
[null,null,"GKB2140130","Бак мембранный для водоснабжения Gekon WAV5000",null,5000,{"v":24487,"d":"24,487.00 €"},{"v":2924107.262255097,"d":"2924107.26"}]
[null,null,"GKB2140290","Бак мембранный для водоснабжения Gekon WAV5000 (16 бар)",null,5000,{"v":29462,"d":"29,462.00 €"},{"v":3518195.2938522343,"d":"3518195.29"}]
[null,null,"GKB2140388","Бак мембранный для водоснабжения Gekon WAV5000 (25 бар)",null,5000,{"v":38844,"d":"38,844.00 €"},{"v":4638543.818966676,"d":"4638543.82"}]
[null,null,"GKB2140132","Бак мембранный для водоснабжения Gekon WAV8000",null,8000,{"v":44456,"d":"44,456.00 €"},{"v":5308699.00154419,"d":"5308699.00"}]
[null,null,"GKB2140292","Бак мембранный для водоснабжения Gekon WAV 8000 (16 бар)",null,8000,{"v":65635,"d":"65,635.00 €"},{"v":7837782.503292085,"d":"7837782.50"}]
[null,null,"GKB2140390","Бак мембранный для водоснабжения Gekon WAV8000 (25 бар)",null,8000,{"v":77142,"d":"77,142.00 €"},{"v":9211887.222807312,"d":"9211887.22"}]
[null,null,"GKB2140134","Бак мембранный для водоснабжения Gekon WAV10000",null,10000,{"v":52277,"d":"52,277.00 €"},{"v":6242641.211618805,"d":"6242641.21"}]
[null,null,"GKB2140294","Бак мембранный для водоснабжения Gekon WAV 10000 (16 бар)",null,10000,{"v":76146,"d":"76,146.00 €"},{"v":9092950.201808168,"d":"9092950.20"}]
[null,null,"GKB2140392","Бак мембранный для водоснабжения Gekon WAV10000 (25 бар)",null,10000,{"v":92571,"d":"92,571.00 €"},{"v":11054336.316176606,"d":"11054336.32"}]
[null,null,"GKB0140949","Бак мембранный для водоснабжения горизонтальный Gekon WAO19",null,19,{"v":3024.6,"d":"3,024.60 ₽"},{"$f":"G495*1","v":{"v":3024.6,"d":"3024.60"}}]
[null,null,"GKB0140959","Бак мембранный для водоснабжения горизонтальный Gekon WAO24",null,24,{"v":3261.85,"d":"3,261.85 ₽"},{"$f":"G496*1","v":3261.85}]
[null,null,"GKB2140400","Бак мембранный для водоснабжения горизонтальный Gekon WAO24 (16 бар)",null,24,{"v":160,"d":"160.00 €"},{"$f":"G497*$L$1*1.1","v":{"v":19106.348754882813,"d":"19106.35"}}]
[null,null,"GKB2140500","Бак мембранный для водоснабжения горизонтальный Gekon WAO24 (25 бар)",null,24,{"v":463,"d":"463.00 €"},{"$f":"G498*$L$1*1.1","v":{"v":55288.996709442144,"d":"55289.00"}}]
[null,null,"GKB0140970","Бак мембранный для водоснабжения горизонтальный Gekon WAO50",null,50,{"v":9221.46,"d":"9,221.46 ₽"},9221.46]
[null,null,"GKB2140402","Бак мембранный для водоснабжения горизонтальный Gekon WAO50 (16 бар)",null,50,{"v":322,"d":"322.00 €"},{"$f":"G500*$L$1*1.1","v":{"v":38451.52686920166,"d":"38451.53"}}]
[null,null,"GKB2140502","Бак мембранный для водоснабжения горизонтальный Gekon WAO50 (25 бар)",null,50,{"v":685,"d":"685.00 €"},{"$f":"G501*$L$1*1.1","v":{"v":81799.05560684204,"d":"81799.06"}}]
[null,null,"GKB0140990","Бак мембранный для водоснабжения горизонтальный Gekon WAO80",null,80,{"v":11583.38,"d":"11,583.38 ₽"},11583.38]
[null,null,"GKB2140404","Бак мембранный для водоснабжения горизонтальный Gekon WAO80 (16 бар)",null,80,{"v":502,"d":"502.00 €"},{"$f":"G503*$L$1*1.1","v":{"v":59946.169218444826,"d":"59946.17"}}]
[null,null,"GKB2140504","Бак мембранный для водоснабжения горизонтальный Gekon WAO80 ( 25 бар)",null,80,{"v":1229,"d":"1,229.00 €"},{"$f":"G504*$L$1*1.1","v":{"v":146760.64137344362,"d":"146760.64"}}]
[null,null,"GKB0140995","Бак мембранный для водоснабжения горизонтальный Gekon WAO100",null,100,{"v":15737.44,"d":"15,737.44 ₽"},15737.44]
[null,null,"GKB2140406","Бак мембранный для водоснабжения горизонтальный Gekon WAO100 (16 бар)",null,100,{"v":540,"d":"540.00 €"},{"$f":"G506*$L$1*1.1","v":{"v":64483.9270477295,"d":"64483.93"}}]
[null,null,"GKB2140506","Бак мембранный для водоснабжения горизонтальный Gekon WAO100 (25 бар)",null,100,{"v":1249,"d":"1,249.00 €"},{"$f":"G507*$L$1*1.1","v":{"v":149148.93496780397,"d":"149148.93"}}]
[null,null,"GKB0140997","Бак мембранный для водоснабжения горизонтальный Gekon WAO150",null,150,{"v":25099.06,"d":"25,099.06 ₽"},25099.06]
[null,null,"GKB1140232","Бак мембранный для водоснабжения Gekon WAV8 с контрфланцем из нерж.стали",null,8,{"v":2883.29,"d":"2,883.29 ₽"},2883.29]
[null,null,"GKB1140234","Бак мембранный для водоснабжения Gekon WAV12 с контрфланцем из нерж.стали",null,12,{"v":3137.06,"d":"3,137.06 ₽"},3137.06]
[null,null,"GKB1140236","Бак мембранный для водоснабжения Gekon WAV18 с контрфланцем из нерж.стали",null,18,{"v":3777.17,"d":"3,777.17 ₽"},3777.17]
[null,null,"GKB1140238","Бак мембранный для водоснабжения Gekon WAV24 с контрфланцем из нерж.стали",null,24,{"v":3986.75,"d":"3,986.75 ₽"},3986.75]
[null,null,"GKB1140240","Бак мембранный для водоснабжения Gekon WAV35 с контрфланцем из нерж.стали",null,35,{"v":6328.1,"d":"6,328.10 ₽"},{"v":6328.1,"d":"6328.10"}]
[null,null,"GKB1140242","Бак мембранный для водоснабжения Gekon WAV50 с контрфланцем из нерж.стали",null,50,{"v":11008.5,"d":"11,008.50 ₽"},{"v":11008.5,"d":"11008.50"}]
[null,null,"GKB1140244","Бак мембранный для водоснабжения Gekon WAV80 с контрфланцем из нерж.стали",null,80,{"v":14573.81,"d":"14,573.81 ₽"},14573.81]
[null,null,"GKB1140246","Бак мембранный для водоснабжения Gekon WAV100 с контрфланцем из нерж.стали",null,100,{"v":19513.67,"d":"19,513.67 ₽"},19513.67]
[null,null,"GKB1140248","Бак мембранный для водоснабжения Gekon WAV150 с контрфланцем из нерж.стали",null,150,{"v":23646.63,"d":"23,646.63 ₽"},23646.63]
[null,null,"GKB0140410","Бак мембранный для водоснабжения гор-й Gekon WAO24 ",null,24,{"v":4018.6,"d":"4,018.60 ₽"},{"v":4018.6,"d":"4018.60"}]
[null,null,"GKB0140420","Бак мембранный для водоснабжения гор-й Gekon WAO50 с контрфланцем из нерж.стали",null,50,{"v":11239.1,"d":"11,239.10 ₽"},{"v":11239.1,"d":"11239.10"}]
[null,null,"GKB1140250","Бак мембранный для водоснабжения гор-й Gekon WAO80 с контрфланцем из нерж.стали",null,80,{"v":14316.04,"d":"14,316.04 ₽"},14316.04]
[null,null,"GKB1140252","Бак мембранный для водоснабжения гор-й Gekon WAO100 с контрфланцем из нерж.стали",null,100,{"v":19450.23,"d":"19,450.23 ₽"},19450.23]
[null,null,"GKB1140254","Бак мембранный для водоснабжения горй Gekon WAO150 с контрфланцем из нерж.стали",null,150,{"v":29574.94,"d":"29,574.94 ₽"},29574.94]
[null,null,"GKB0140350","Бак мембранный для ГВС и гелиосистем Gekon WDV 8 с контрфланцем из нерж.стали",null,8,{"v":3439.46,"d":"3,439.46 ₽"},3439.46]
[null,null,"GKB0140360","Бак мембранный для ГВС и гелиосистем Gekon WDV 12 с контрфланцем из нерж.стали",null,12,{"v":4041.92,"d":"4,041.92 ₽"},4041.92]
[null,null,"GKB0140370","Бак мембранный для ГВС и гелиосистем Gekon WDV 18 с контрфланцем из нерж.стали",null,18,{"v":4820.25,"d":"4,820.25 ₽"},4820.25]
[null,null,"GKB0140380","Бак мембранный для ГВС и гелиосистем Gekon WDV 24 с контрфланцем из нерж.стали",null,24,{"v":5243.27,"d":"5,243.27 ₽"},5243.27]
[null,null,"GKB0140390","Бак мембранный для ГВС и гелиосистем Gekon WDV 35 с контрфланцем из нерж.стали",null,35,{"v":7588.54,"d":"7,588.54 ₽"},7588.54]
[null,null,"GKB0143010","Комплект крепления для мембранных баков 8-35 л",null,"8-35",{"v":1143,"d":"1,143.00 ₽"},{"v":1143,"d":"1143.00"}]
[null,null,"GKBQRVG34","Клапан быстроразъемный для расширительного бака 3/4\"",null,"3/4\"",{"v":970,"d":"970.00 ₽"},{"v":970,"d":"970.00"}]
["Дымоходы"]
[null,null,"Артикул","Наименование товара",null,"Размер","Цена за шт.","Цена за шт."]
[{"$nulls":6},"RUB","RUB"]
[null,null,"GKD K60100L1ALPA","Универсальный комплект Gekon Ø60/100 мм L=1,0 м (хомут, фланец, проставка 60 мм), Алюминий, система Антилед",null,"60/100",{"v":3752.1388413590807,"d":"3752.14"},{"$f":"G533*1","v":{"v":3752.1388413590807,"d":"3752.14"}}]
[null,null,"GKD K60100L1GSPA","Универсальный комплект Gekon Ø60/100 мм       L=1,0 м (хомут, фланец, проставка 60 мм), Алюминий и Оц.сталь, система Антилёд",null,"60/100",{"v":3497.9222683940357,"d":"3497.92"},{"v":3497.9222683940357,"d":"3497.92"}]
[null,null,"GKD K60100L3ALPA","Универсальный комплект Gekon Ø60/100 мм L=1,35 м (хомут, фланец, проставка 60 мм), Алюминий, система Антилед",null,"60/100",{"v":4179.907113175263,"d":"4179.91"},{"v":4179.907113175263,"d":"4179.91"}]
[null,null,"GKD K60100L3GSPA","Универсальный комплект Gekon Ø60/100 мм, L=1,35 м (хомут, фл-ц, пр-а 60 мм), Ал/Оц.Ст., (Антилёд)",null,"60/100",{"v":3849.9144463456364,"d":"3849.91"},{"v":3849.9144463456364,"d":"3849.91"}]
[null,null,"GKD 60100L1000GS","Труба выпускная с наконечником Gekon 60/100 мм, L=1190 мм, Ал/Оц.Ст., (Антилёд)",null,"60/100",{"v":2309.9486678073818,"d":"2309.95"},{"v":2309.9486678073818,"d":"2309.95"}]
[null,null,"GKD 80125L1000GS","Труба выпускная с наконечником Gekon 80/125 мм, L=1000 мм, Алюминий и Оц.сталь, система Антилед",null,"80/125",{"v":3629.919335125886,"d":"3629.92"},{"v":3629.919335125886,"d":"3629.92"}]
[null,null,"GKD 60100L025AL","Удлинение дымохода Gekon Ø60/100 мм, L=250 мм, Алюминий",null,"60/100",{"v":857.9809337570276,"d":"857.98"},{"v":857.9809337570276,"d":"857.98"}]
[null,null,"GKD 60100L025","Удлинение дымохода Gekon Ø60/100 мм, L=250 мм, Алюминий и Оц.сталь",null,"60/100",{"v":716.2063065265216,"d":"716.21"},{"v":716.2063065265216,"d":"716.21"}]
[null,null,"GKD 80L025AL","Удлинение дымохода Gekon Ø80 мм, L=250 мм, Алюминий",null,80,{"v":474.2116841847959,"d":"474.21"},{"v":474.2116841847959,"d":"474.21"}]
[null,null,"GKD 80125L025","Удлинение дымохода Gekon Ø80/125 мм, L=250 мм, Алюминий и Оц.сталь",null,"80/125",{"v":1737.9613786360303,"d":"1737.96"},{"v":1737.9613786360303,"d":"1737.96"}]
[null,null,"GKD 60100L050AL","Удлинение дымохода Gekon Ø60/100 мм, L=500 мм, Алюминий",null,"60/100",{"v":1473.9672451723295,"d":"1473.97"},{"v":1473.9672451723295,"d":"1473.97"}]
[null,null,"GKD 60100L050","Удлинение дымохода Gekon Ø60/100 мм, L=500 мм, Алюминий и Оц.сталь",null,"60/100",{"v":1033.9770227328281,"d":"1033.98"},{"v":1033.9770227328281,"d":"1033.98"}]
[null,null,"GKD 80L050AL","Удлинение дымохода Gekon Ø80 мм, L=500 мм, Алюминий",null,80,{"v":725.9838670251772,"d":"725.98"},{"v":725.9838670251772,"d":"725.98"}]
[null,null,"GKD 80125L050","Удлинение дымохода Gekon Ø80/125 мм, L=500 мм, Алюминий и Оц.сталь",null,"80/125",{"v":2397.9467122952824,"d":"2397.95"},{"v":2397.9467122952824,"d":"2397.95"}]
[null,null,"GKD 60100L100AL","Удлинение дымохода Gekon Ø60/100 мм, L=1000 мм, Алюминий",null,"60/100",{"v":2463.9452456612075,"d":"2463.95"},{"v":2463.9452456612075,"d":"2463.95"}]
[null,null,"GKD 60100L100","Удлинение дымохода Gekon Ø60/100 мм, L=1000 мм, Алюминий и Оц.сталь",null,"60/100",{"v":1737.9613786360303,"d":"1737.96"},{"v":1737.9613786360303,"d":"1737.96"}]
[null,null,"GKD 80L100AL","Удлинение дымохода Gekon Ø80 мм, L=1000 мм, Алюминий",null,80,{"v":1275.9716450745539,"d":"1275.97"},{"v":1275.9716450745539,"d":"1275.97"}]
[null,null,"GKD 80125L100","Удлинение дымохода Gekon Ø80/125 мм, L=1000 мм, Алюминий и Оц.сталь",null,"80/125",{"v":3959.912001955512,"d":"3959.91"},{"v":3959.912001955512,"d":"3959.91"}]
[null,null,"GKD 60100L150AL","Удлинение дымохода Gekon Ø60/100 мм, L=1500 мм, Алюминий",null,"60/100",{"v":3686.1403079931556,"d":"3686.14"},{"v":3686.1403079931556,"d":"3686.14"}]
[null,null,"GKD 80L150AL","Удлинение дымохода Gekon Ø80 мм, L=1500 мм, Алюминий",null,80,{"v":2045.9545343436812,"d":"2045.95"},{"v":2045.9545343436812,"d":"2045.95"}]
[null,null,"GKD 60100L200AL","Удлинение дымохода Gekon Ø60/100 мм, L=2000 мм, Алюминий",null,"60/100",{"v":4773.89391346859,"d":"4773.89"},{"v":4773.89391346859,"d":"4773.89"}]
[null,null,"GKD 80L200AL","Удлинение дымохода Gekon Ø80 мм, L=2000 мм, Алюминий",null,80,{"v":2661.940845758983,"d":"2661.94"},{"v":2661.940845758983,"d":"2661.94"}]
[null,null,"GKD 60100K45AL","Колено Gekon Ø60/100 мм, угол 45 гр., Алюминий",null,"60/100",{"v":1517.9662674162796,"d":"1517.97"},{"v":1517.9662674162796,"d":"1517.97"}]
[null,null,"GKD 80K45AL","Колено Gekon 80 мм, угол 45 гр., Алюминий",null,80,{"v":1077.9760449767782,"d":"1077.98"},{"v":1077.9760449767782,"d":"1077.98"}]
[null,null,"GKD 80125K45AL","Колено Gekon Ø80/125 мм, угол 45 гр., Алюминий",null,"80/125",{"v":4619.8973356147635,"d":"4619.90"},{"v":4619.8973356147635,"d":"4619.90"}]
[null,null,"GKD 60100K90AL","Колено Gekon Ø60/100 мм, угол 90 гр., Алюминий",null,"60/100",{"v":1451.9677340503545,"d":"1451.97"},{"v":1451.9677340503545,"d":"1451.97"}]
[null,null,"GKD 80K90AL","Колено Gekon 80 мм, угол 90 гр., Алюминий",null,80,{"v":835.9814226350525,"d":"835.98"},{"v":835.9814226350525,"d":"835.98"}]
[null,null,"GKD 80125K90AL","Колено Gekon Ø80/125 мм, угол 90 гр., Алюминий",null,"80/125",{"v":4619.8973356147635,"d":"4619.90"},{"v":4619.8973356147635,"d":"4619.90"}]
[null,null,"GKD 60100KSTRAL","Колено стартовое Gekon Ø60/100 мм, угол 90 гр., Алюминий",null,"60/100",{"v":1913.9574676118307,"d":"1913.96"},{"v":1913.9574676118307,"d":"1913.96"}]
[null,null,"GKD 60100VDAG","Дымоход вертикальный Gekon Ø60/100 мм, L=1000 мм, черный, Алюминий и Оц.сталь",null,"60/100",{"v":6313.859692006844,"d":"6313.86"},{"v":6313.859692006844,"d":"6313.86"}]
[null,null,"GKD 80125VD","Дымоход вертикальный Gekon Ø80/125 мм, L=1000 мм, черный, Алюминий и сталь",null,"80/125",{"v":10119.77511610853,"d":"10119.78"},{"v":10119.77511610853,"d":"10119.78"}]
[null,null,"GKD 60100VNPG","Наконечник для вертикального дымохода Gekon Ø60/100 мм, черный, Полиамид и Оц.сталь",null,"60/100",{"v":3893.9134685895865,"d":"3893.91"},{"v":3893.9134685895865,"d":"3893.91"}]
[null,null,"GKD 80125VN","Наконечник для вертикального дымохода Gekon Ø80/125 мм, черный, Алюминий и Сталь",null,"80/125",{"v":7325.837203617697,"d":"7325.84"},{"$f":"G565*1","v":{"v":7325.837203617697,"d":"7325.84"}}]
[null,null,"GKD 80VERTN","Наконечник для вертикального дымохода Gekon Ø80 мм, черный, Оц.cталь",null,80,{"v":923.9794671229528,"d":"923.98"},{"v":923.9794671229528,"d":"923.98"}]
[null,null,"GKD 60100M01AL","Муфта Gekon Ø60/100 мм, L=100 мм, Алюминий",null,"60/100",{"v":1143.9745783427034,"d":"1143.97"},{"v":1143.9745783427034,"d":"1143.97"}]
[null,null,"GKD 60100KOAL","Конденсатоотводчик Gekon Ø60/100 мм, L=155 мм, Алюминий",null,"60/100",{"v":1957.956489855781,"d":"1957.96"},{"v":1957.956489855781,"d":"1957.96"}]
[null,null,"GKD 80OTVAL","Конденсатоотводчик Gekon Ø80 мм, L=120 мм, Алюминий",null,80,{"v":1429.9682229283792,"d":"1429.97"},{"v":1429.9682229283792,"d":"1429.97"}]
[null,null,"GKD 80125P01AL","Переходник Gekon Ø60/100х80/125 мм, папа-мама, Алюминий",null,"60/100*80/125",{"v":2419.9462234172574,"d":"2419.95"},{"v":2419.9462234172574,"d":"2419.95"}]
[null,null,"GKD 6080AL","Переход Gekon Ø60-80 мм, L=100 мм, Алюминий",null,"60*80",{"v":835.9814226350525,"d":"835.98"},{"v":835.9814226350525,"d":"835.98"}]
[null,null,"GKD 80VZWAL","Решётка воздухозабора Gekon Ø80 мм, белый окрас, Алюминий и Сталь",null,80,{"v":461.9897335614764,"d":"461.99"},{"v":461.9897335614764,"d":"461.99"}]
[null,null,"GKD 80VOWN","Решётка газоотвода Gekon Ø80 мм, белый окрас, Нержавеющая сталь",null,80,{"v":857.9809337570276,"d":"857.98"},{"v":857.9809337570276,"d":"857.98"}]
[null,null,"GKD 60100/80","Комплект дымохода, адаптер Gekon Ø60/100х80/80 мм (хомут, фланец, проставка 60 мм), Алюминий",null,"60/100*80/80",{"v":2925.934979222684,"d":"2925.93"},{"v":2925.934979222684,"d":"2925.93"}]
[null,null,"GKD 60100ASTRAL","Адаптер стартовый вертикальный Gekon Ø60/100 мм, L=150 мм, Алюминий",null,"60/100",{"v":1627.9638230261548,"d":"1627.96"},{"v":1627.9638230261548,"d":"1627.96"}]
[null,null,"GKD 80100025TAL","Удлинение дымохода утепленное Gekon Ø80 мм, δут=10 мм, L=250 мм, Алюминий",null,80,{"v":1957.956489855781,"d":"1957.96"},{"v":1957.956489855781,"d":"1957.96"}]
[null,null,"GKD 80100025T","Удлинение дымохода утепленное Gekon Ø80 мм, δут=10 мм, L=250 мм, Алюминий и Оц.сталь",null,80,{"v":1671.962845270105,"d":"1671.96"},{"v":1671.962845270105,"d":"1671.96"}]
[null,null,"GKD 80100050TAL","Удлинение дымохода утепленное Gekon 80 мм, δут=10 мм, L=500 мм, Алюминий",null,80,{"v":2485.9447567831826,"d":"2485.94"},{"v":2485.9447567831826,"d":"2485.94"}]
[null,null,"GKD 80100050T","Удлинение дымохода утепленное Gekon 80 мм, δут=10 мм, L=500 мм, Алюминий и Оц.сталь",null,80,{"v":2375.9472011733073,"d":"2375.95"},{"v":2375.9472011733073,"d":"2375.95"}]
[null,null,"GKD 80100100TAL","Удлинение дымохода утепленное Gekon 80 мм, δут=10 мм, L=1000 мм, Алюминий",null,80,{"v":4135.9080909313125,"d":"4135.91"},{"v":4135.9080909313125,"d":"4135.91"}]
[null,null,"GKD 80100100T","Удлинение дымохода утепленное Gekon 80 мм, δут=10 мм, L=1000 мм, Ал/Оц.Ст.",null,80,{"v":3959.912001955512,"d":"3959.91"},{"v":3959.912001955512,"d":"3959.91"}]
[null,null,"GKD 80100150TAL","Удлинение дымохода утепленное Gekon 80 мм, δут=10 мм, L=1500 мм, Алюминий",null,80,{"v":5939.868002933268,"d":"5939.87"},{"v":5939.868002933268,"d":"5939.87"}]
[null,null,"GKD 80100200TAL","Удлинение дымохода утепленное Gekon 80 мм, δут=10 мм, L=2000 мм, Алюминий",null,80,{"v":7149.841114641897,"d":"7149.84"},{"v":7149.841114641897,"d":"7149.84"}]
[null,null,"GKD 80100VDAL","Дымоход вертикальный утеплённый Gekon Ø80 мм, δут=10 мм, L=1000 мм, черный, Алюминий",null,80,{"v":10119.77511610853,"d":"10119.78"},{"v":10119.77511610853,"d":"10119.78"}]
[null,null,"GKD 80100VNAS","Наконечник для вертикального утеплённого дымохода Gekon Ø80 мм, δут=10 мм, черный, Ал/Ст",null,80,{"v":2111.9530677096063,"d":"2111.95"},{"v":2111.9530677096063,"d":"2111.95"}]
[null,null,"GKD 80VZBAL","Решётка воздухозабора для утепл-го дымохода Gekon Ø80 мм, δут=10 мм, черный окрас, Алюминий",null,80,{"v":1385.969200684429,"d":"1385.97"},{"v":1385.969200684429,"d":"1385.97"}]
[null,null,"GKD 80VOBN","Решётка газоотвода для утепл-го дымохода Gekon Ø80 мм, δут=10 мм, черный окрас, Алюминий и Сталь",null,80,{"v":1957.956489855781,"d":"1957.96"},{"v":1957.956489855781,"d":"1957.96"}]
[null,null,"GKD 80100K45T","Колено утепленное Gekon 80, δут=10 мм, угол 45 гр., Алюминий",null,80,{"v":3959.912001955512,"d":"3959.91"},{"v":3959.912001955512,"d":"3959.91"}]
[null,null,"GKD 80100K90T","Колено утепленное Gekon 80, δут=10 мм, угол 90 гр., Алюминий",null,80,{"v":3959.912001955512,"d":"3959.91"},{"v":3959.912001955512,"d":"3959.91"}]
[null,null,"GKD 015100PAL","Универсальный комплект конденсационный Gekon Ø60/100 мм, L=1000 мм, PP-R и Алюминий, система Антилёд",null,"60/100",{"v":6027.866047421168,"d":"6027.87"},{"v":6027.866047421168,"d":"6027.87"}]
[null,null,"GKD 016100PAL","Универсальный комплект конденсационный Gekon Ø80/125 мм, L=1240 мм, PP-R/Сталь, (Антилёд)",null,"80/125",{"v":9371.791737961377,"d":"9371.79"},{"v":9371.791737961377,"d":"9371.79"}]
[null,null,"GKD 80125025PAL","Удлинитель конденсационный Gekon Ø80/125 мм, L=250 мм, PP-R и Оц.сталь",null,"80/125",{"v":2199.9511121975065,"d":"2199.95"},{"v":2199.9511121975065,"d":"2199.95"}]
[null,null,"GKD 6010005PAL","Удлинитель конденсационный Gekon Ø60/100 мм, L=500 мм, PP-R и Оц.сталь",null,"60/100",{"v":3233.9281349303346,"d":"3233.93"},{"v":3233.9281349303346,"d":"3233.93"}]
[null,null,"GKD 8012505PAL","Удлинитель конденсационный Gekon Ø80/125 мм, L=500 мм, PP-R и Оц.сталь",null,"80/125",{"v":3629.919335125886,"d":"3629.92"},{"v":3629.919335125886,"d":"3629.92"}]
[null,null,"GKD 80005PAL","Удлинитель конденсационный Gekon Ø80 мм, L=500 мм, PP-R",null,80,{"v":1693.9623563920802,"d":"1693.96"},{"v":1693.9623563920802,"d":"1693.96"}]
[null,null,"GKD 601001PAL","Удлинитель конденсационный Gekon Ø60/100 мм, L=1000 мм, PP-R и Оц.сталь.",null,"60/100",{"v":5103.886580298215,"d":"5103.89"},{"v":5103.886580298215,"d":"5103.89"}]
[null,null,"GKD 801251PAL","Удлинитель конденсационный Gekon Ø80/125 мм, L=1000 мм, PP-R и Оц.сталь",null,"80/125",{"v":5235.883647030066,"d":"5235.88"},{"$f":"G597*1","v":{"v":5235.883647030066,"d":"5235.88"}}]
[null,null,"GKD 8001PAL","Удлинитель конденсационный Gekon Ø80 мм, L=1000 мм, PP-R",null,80,{"v":2397.9467122952824,"d":"2397.95"},{"v":2397.9467122952824,"d":"2397.95"}]
[null,null,"GKD 806104PAL","Комплект дымохода, адаптер конденсационный Gekon 60-100х2/80 мм, PP-R/Алюминий",null,"60/100*80/80",{"v":5719.872891713517,"d":"5719.87"},{"v":5719.872891713517,"d":"5719.87"}]
[null,null,"GKD 6080PAL","Адаптер переход конденсационный Gekon 60-80 мм, PP-R",null,"60-80",{"v":1715.9618675140553,"d":"1715.96"},{"v":1715.9618675140553,"d":"1715.96"}]
[null,null,"GKD 60100045PAL","Колено конденсационное Gekon 60/100 мм, угол 45 гр., PP-R/Сталь",null,"60/100",{"v":2529.9437790271327,"d":"2529.94"},{"v":2529.9437790271327,"d":"2529.94"}]
[null,null,"GKD 80125045PAL","Колено конденсационное Gekon 80/125 мм, угол 45 гр., PP-R/Сталь",null,"80/125",{"v":4795.893424590565,"d":"4795.89"},{"v":4795.893424590565,"d":"4795.89"}]
[null,null,"GKD 80045PAL","Колено конденсационное Gekon 80 мм, угол 45 гр., PP-R",null,80,{"v":1605.9643119041798,"d":"1605.96"},{"v":1605.9643119041798,"d":"1605.96"}]
[null,null,"GKD 60100090PAL","Колено конденсационное Gekon 60/100 мм, угол 90 гр., PP-R/Сталь",null,"60/100",{"v":2529.9437790271327,"d":"2529.94"},{"v":2529.9437790271327,"d":"2529.94"}]
[null,null,"GKD 10080090PAL","Колено конденсационное Gekon 80/125 мм, угол 90 гр., PP-R/Сталь",null,"80/125",{"v":4795.893424590565,"d":"4795.89"},{"v":4795.893424590565,"d":"4795.89"}]
[null,null,"GKD 80090PAL","Колено конденсационное Gekon 80 мм, угол 90 гр., PP-R",null,80,{"v":1605.9643119041798,"d":"1605.96"},{"v":1605.9643119041798,"d":"1605.96"}]
[null,null,"GKD 60100AINPB","Наконечник 60/100 мм, Система Антилед, Система Антиворобей, черный",null,"60/100",{"v":725.9838670251772,"d":"725.98"},{"v":725.9838670251772,"d":"725.98"}]
[null,null,"GKD 60OR","Уплотнительное кольцо на внутреннюю трубу Gekon 60 мм",null,60,{"v":219.99511121975067,"d":"220.00"},{"v":219.99511121975067,"d":"220.00"}]
[null,null,"GKD 80OR","Уплотнительное кольцо на внутреннюю трубу Gekon 80 мм",null,80,{"v":263.9941334637008,"d":"263.99"},{"v":263.9941334637008,"d":"263.99"}]
[null,null,"GKD 100OR","Уплотнительное кольцо на внешнюю трубу Gekon 100 мм",null,100,{"v":285.99364458567584,"d":"285.99"},{"v":285.99364458567584,"d":"285.99"}]
[null,null,"GKD 125OR","Уплотнительное кольцо на внешнюю трубу Gekon 125 мм",null,125,{"v":439.99022243950134,"d":"439.99"},{"v":439.99022243950134,"d":"439.99"}]
[null,null,"GKD 80H","Хомут Gekon 80 мм со шпилькой",null,80,{"v":373.99168907357614,"d":"373.99"},{"v":373.99168907357614,"d":"373.99"}]
[null,null,"GKD 100H","Хомут Gekon 100 мм со шпилькой",null,100,{"v":395.9912001955512,"d":"395.99"},{"v":395.9912001955512,"d":"395.99"}]
[null,null,"GKD 80MS","Накладка декоративная Gekon 80 мм",null,80,{"v":254.2165729650452,"d":"254.22"},{"v":254.2165729650452,"d":"254.22"}]
[null,null,"GKD 60100M","Накладка декоративная Gekon 100 мм",null,100,{"v":219.99511121975067,"d":"220.00"},{"v":219.99511121975067,"d":"220.00"}]
[null,null,"GKD 60125M","Накладка декоративная Gekon 125 мм",null,125,{"v":285.99364458567584,"d":"285.99"},{"v":285.99364458567584,"d":"285.99"}]
[null,null,"GKD 110UF","Фланец Gekon с прокладкой, винтами и гайкой, 100 мм",null,100,{"v":263.9941334637008,"d":"263.99"},{"v":263.9941334637008,"d":"263.99"}]
[null,null,"GKD 60100H","Хомут обжимной Gekon (труба-труба) 100 мм",null,100,{"v":263.9941334637008,"d":"263.99"},{"v":263.9941334637008,"d":"263.99"}]