{"text_format":"3","workbook":"xlsx","n_sheets":13,"sheets":["Оглавление","Шаровые краны, ОК, Сетч.фильтры","Трубы","Аксиальные фитинги","Шкафы коллекторные","Узлы ТП, коллекторы","Клапаны для отоп.приборов","Мембранные баки","Бойлеры OLD","Бойлеры NEW","Конвертация цен","Дымоходы","Теплоноситель"],"not_rendered":{"images":135,"macros":1,"external_links":1,"defined_names":11},"read":"whole","date_system":"1900"}

{"sheet":"Оглавление","index":0,"n_rows":36,"n_cols":11,"rows_kept":36,"merged":[[5,0,5,13],[6,0,7,13],[8,0,8,13],[11,9,11,10],[12,0,12,8],[13,0,13,8],[14,0,14,8],[15,0,15,8],[16,0,16,8],[17,0,17,8],[18,0,18,8],[19,0,19,8],[20,0,20,8],[21,0,21,8],[22,0,22,8],[24,0,24,8],[25,0,25,7],[26,0,26,7],[27,0,27,7],[28,0,28,7],[29,0,29,13],[30,0,30,13],[31,0,31,7],[32,0,32,13],[33,0,33,13],[34,0,34,13],[35,0,35,13]]}
[]
[]
[]
[]
[]
["ПРАЙС-ЛИСТ ОТ 16/09/2024"]
["Проставьте, пожалуйста, обозначенную Вашим менеджером скидку в  поле \"Ваша скидка\" "]
[]
["Внимание! На позиции с признаком \"специальное предложение \" и \"акция\" скидка не распространяется!"]
[]
[]
[{"$nulls":9},"Ваша скидка"]
["Трубопроводная арматура",{"$nulls":9},{"v":0,"d":"0%"}]
["Трубы, Защитные гофротрубы",{"$nulls":9},{"v":0,"d":"0%"}]
["Аксиальные фитинги",{"$nulls":9},{"v":0,"d":"0%"}]
["Шкафы коллекторные",{"$nulls":9},{"v":0,"d":"0%"}]
["Оборудование для тёплого пола",{"$nulls":9},{"v":0,"d":"0%"}]
["Коллекторные блоки для систем отопления",{"$nulls":9},{"v":0,"d":"0%"}]
["Клапаны для отопительных приборов",{"$nulls":9},{"v":0,"d":"0%"}]
["Бойлеры, Накопители, Теплоаккумуляторы",{"$nulls":9},{"v":0,"d":"0%"}]
["Мембранные расширительные баки",{"$nulls":9},{"v":0,"d":"0%"}]
["Дымоходы",{"$nulls":9},{"v":0,"d":"0%"}]
["Теплохладоноситель ",{"$nulls":9},{"v":0,"d":"0%"}]
[]
["Быстрые ссылки"]
["Шаровые краны, обратные клапаны, фильтры"]
["Трубы, Защитные гофротрубы"]
["Фитинги для аксиальной запресовки"]
["Коллекторные шкафы"]
["Смесительные узлы и комплектующие для напольного отопления"]
["Коллекторные блоки и комплектующие"]
["Клапаны для отопительных приборов"]
["Байлеры, Накопители, Теплоаккумуляторы"]
["Мембранные расширительные баки"]
["Дымоходы"]
["Теплохладоноситель"]

{"sheet":"Шаровые краны, ОК, Сетч.фильтры","index":1,"n_rows":79,"n_cols":12,"rows_kept":79,"merged":[[3,0,3,7],[7,9,7,11],[12,10,12,11],[13,0,14,0],[13,1,14,1],[13,2,14,3],[13,4,14,4],[13,5,14,5],[13,6,14,6],[13,7,14,7],[13,9,14,9],[13,10,14,10],[13,11,14,11],[15,0,20,0],[15,2,20,3],[21,0,24,0],[21,2,24,3],[25,0,30,0],[25,2,30,3],[31,0,34,0],[31,2,34,3],[35,0,38,0],[35,2,38,3],[39,0,41,0],[39,2,41,3],[42,0,44,0],[42,2,44,3],[45,0,47,0],[45,1,47,1],[45,2,47,3],[45,4,47,4],[45,5,47,5],[45,6,47,6],[45,7,47,7],[45,8,47,8],[45,9,47,9],[45,10,47,10],[45,11,47,11],[58,0,63,0],[58,2,63,3],[73,0,78,0],[73,2,78,3]]}
[]
[]
[]
["Шаровые краны, обратные клапаны, фильтры"]
[]
["ПОЛНОПРОХОДНЫЕ ШАРОВЫЕ КРАНЫ"]
["• Седельные уплотнительные кольца шара изготовлены из фторопласта (PTFE)"]
["• Кольцевые прокладки штока изготовлены из фтористого каучука (FPM)",{"$nulls":8},"На главную страницу"]
["• Корпус: латунь хромированная горячепресованная (CW617N) "]
["• Рукоятка: рычаг - сталь с полимерным покрытием, бабочка - алюминий "]
["• Максимальное рабочее давление : 35 бар для Ду 15-20, 28 бар для Ду 25-50"]
["• Диапазон рабочих температур: от -20 до +180⁰C"]
[{"$nulls":9},"Итого:",{"$f":"SUM(L16:L48)+SUM(L59:L64)+SUM(L74:L79)","v":{"v":0,"d":"0.00"}}]
["Фото","Артикул","Наименование товара",null,"Размер","Вес, г","Упаковка, шт.","Коробка, шт.","Цена за шт.","Цена со скидкой, RUB","Кол-во, шт.","Сумма со скидкой, RUB"]
[{"$nulls":8},"RUB"]
[null,"GK 550 12","Кран шаровой (ручка -  рычаг), внутренняя-внутренняя резьба",null,"1/2\"",175,10,100,{"$f":"'Конвертация цен'!H6","v":{"v":498.76787234042564,"d":"498.77"}},{"$f":"I16-I16*Оглавление!$K$13","v":{"v":498.76787234042564,"d":"498.77"}},null,{"$f":"K16*J16","v":{"v":0,"d":"0.00"}}]
[null,"GK 550 34",null,null,"3/4\"",265,5,50,{"$f":"'Конвертация цен'!H7","v":{"v":753.7266666666667,"d":"753.73"}},{"$f":"I17-I17*Оглавление!$K$13","v":{"v":753.7266666666667,"d":"753.73"}},null,{"$f":"K17*J17","v":{"v":0,"d":"0.00"}}]
[null,"GK 550 1",null,null,"1\"",400,5,25,{"$f":"'Конвертация цен'!H8","v":{"v":1184.686754385965,"d":"1184.69"}},{"$f":"I18-I18*Оглавление!$K$13","v":{"v":1184.686754385965,"d":"1,184.69"}},null,{"v":0,"d":"0.00"}]
[null,"GK 550 114",null,null,"1 1/4\"",560,4,20,{"$f":"'Конвертация цен'!H9","v":{"v":1743.0875770925109,"d":"1743.09"}},{"$f":"I19-I19*Оглавление!$K$13","v":{"v":1743.0875770925109,"d":"1,743.09"}},null,{"v":0,"d":"0.00"}]
[null,"GK 550 112",null,null,"1 1/2\"",980,4,15,{"$f":"'Конвертация цен'!H10","v":{"v":2756.165454545455,"d":"2756.17"}},{"$f":"I20-I20*Оглавление!$K$13","v":{"v":2756.165454545455,"d":"2,756.17"}},null,{"v":0,"d":"0.00"}]
[null,"GK 550 2",null,null,"2\"",1550,2,10,{"$f":"'Конвертация цен'!H11","v":{"v":4252.569073405536,"d":"4252.57"}},{"$f":"I21-I21*Оглавление!$K$13","v":{"v":4252.569073405536,"d":"4,252.57"}},null,{"v":0,"d":"0.00"}]
[null,"GK 551 12","Кран шаровой (ручка -  бабочка), внутренняя-внутренняя резьба",null,"1/2\"",178,10,100,{"$f":"'Конвертация цен'!H12","v":{"v":498.76787234042564,"d":"498.77"}},{"$f":"I22-I22*Оглавление!$K$13","v":{"v":498.76787234042564,"d":"498.77"}},null,{"v":0,"d":"0.00"}]
[null,"GK 551 34",null,null,"3/4\"",255,5,50,{"$f":"'Конвертация цен'!H13","v":{"v":753.7266666666667,"d":"753.73"}},{"$f":"I23-I23*Оглавление!$K$13","v":{"v":753.7266666666667,"d":"753.73"}},null,{"v":0,"d":"0.00"}]
[null,"GK 551 1",null,null,"1\"",390,5,50,{"$f":"'Конвертация цен'!H14","v":{"v":1184.686754385965,"d":"1184.69"}},{"$f":"I24-I24*Оглавление!$K$13","v":{"v":1184.686754385965,"d":"1,184.69"}},null,{"v":0,"d":"0.00"}]
[null,"GK 551 114",null,null,"1 1/4\"",530,5,25,{"$f":"'Конвертация цен'!H15","v":{"v":1743.0875770925109,"d":"1743.09"}},{"$f":"I25-I25*Оглавление!$K$13","v":{"v":1743.0875770925109,"d":"1,743.09"}},null,{"v":0,"d":"0.00"}]
[null,"GK 554L 12","Кран шаровой (ручка -  рычаг), внутренняя-наружная резьба",null,"1/2\"",190,5,50,{"$f":"'Конвертация цен'!H16","v":{"v":537.7158620689654,"d":"537.72"}},{"$f":"I26-I26*Оглавление!$K$13","v":{"v":537.7158620689654,"d":"537.72"}},null,{"v":0,"d":"0.00"}]
[null,"GK 554L 34",null,null,"3/4\"",300,5,50,{"$f":"'Конвертация цен'!H17","v":{"v":801.0907006369428,"d":"801.09"}},{"$f":"I27-I27*Оглавление!$K$13","v":{"v":801.0907006369428,"d":"801.09"}},null,{"v":0,"d":"0.00"}]
[null,"GK 554L 1",null,null,"1\"",435,2,20,{"$f":"'Конвертация цен'!H18","v":{"v":1280.7487250996016,"d":"1280.75"}},{"$f":"I28-I28*Оглавление!$K$13","v":{"v":1280.7487250996016,"d":"1,280.75"}},null,{"v":0,"d":"0.00"}]
[null,"GK 554L 114",null,null,"1 1/4\"",650,2,20,{"$f":"'Конвертация цен'!H19","v":{"v":1979.1808805031446,"d":"1979.18"}},{"$f":"I29-I29*Оглавление!$K$13","v":{"v":1979.1808805031446,"d":"1,979.18"}},null,{"v":0,"d":"0.00"}]
[null,"GK 554L 112",null,null,"1 1/2\"",1040,4,20,{"$f":"'Конвертация цен'!H20","v":{"v":3220.524432432432,"d":"3220.52"}},{"$f":"I30-I30*Оглавление!$K$13","v":{"v":3220.524432432432,"d":"3,220.52"}},null,{"v":0,"d":"0.00"}]
[null,"GK 554L 2",null,null,"2\"",1680,2,10,{"$f":"'Конвертация цен'!H21","v":{"v":5153.668721659431,"d":"5153.67"}},{"$f":"I31-I31*Оглавление!$K$13","v":{"v":5153.668721659431,"d":"5,153.67"}},null,{"v":0,"d":"0.00"}]
[null,"GK 554 12","Кран шаровой (ручка - бабочка), внутренняя-наружная резьба",null,"1/2\"",180,10,100,{"$f":"'Конвертация цен'!H22","v":{"v":553.5310344827587,"d":"553.53"}},{"$f":"I32-I32*Оглавление!$K$13","v":{"v":553.5310344827587,"d":"553.53"}},null,{"v":0,"d":"0.00"}]
[null,"GK 554 34",null,null,"3/4\"",285,5,50,{"$f":"'Конвертация цен'!H23","v":{"v":823.5932484076433,"d":"823.59"}},{"$f":"I33-I33*Оглавление!$K$13","v":{"v":823.5932484076433,"d":"823.59"}},null,{"v":0,"d":"0.00"}]
[null,"GK 554 1",null,null,"1\"",420,5,25,{"$f":"'Конвертация цен'!H24","v":{"v":1280.7487250996016,"d":"1280.75"}},{"$f":"I34-I34*Оглавление!$K$13","v":{"v":1280.7487250996016,"d":"1,280.75"}},null,{"v":0,"d":"0.00"}]
[null,"GK 554 114",null,null,"1 1/4\"",620,4,20,{"$f":"'Конвертация цен'!H25","v":{"v":2142.268291517324,"d":"2142.27"}},{"$f":"I35-I35*Оглавление!$K$13","v":{"v":2142.268291517324,"d":"2,142.27"}},null,{"v":0,"d":"0.00"}]
[null,"GK 559 12","Кран шаровой (ручка-бабочка), внутренняя-американка",null,"1/2\"",253,1,50,{"$f":"'Конвертация цен'!H26","v":{"v":703.5015217391305,"d":"703.50"}},{"$f":"I36-I36*Оглавление!$K$13","v":{"v":703.5015217391305,"d":"703.50"}},null,{"v":0,"d":"0.00"}]
[null,"GK 559 34",null,null,"3/4\"",405,1,25,{"$f":"'Конвертация цен'!H27","v":{"v":1082.3356872037916,"d":"1082.34"}},{"$f":"I37-I37*Оглавление!$K$13","v":{"v":1082.3356872037916,"d":"1,082.34"}},null,{"v":0,"d":"0.00"}]
[null,"GK 559 1",null,null,"1\"",592,1,20,{"$f":"'Конвертация цен'!H28","v":{"v":1705.325075075075,"d":"1705.33"}},{"$f":"I38-I38*Оглавление!$K$13","v":{"v":1705.325075075075,"d":"1,705.33"}},null,{"v":0,"d":"0.00"}]
[null,"GK 559 114",null,null,"1\" 1/4",835,1,20,{"$f":"'Конвертация цен'!H29","v":{"v":2571.193333333333,"d":"2571.19"}},{"$f":"I39-I39*Оглавление!$K$13","v":{"v":2571.193333333333,"d":"2,571.19"}},null,{"v":0,"d":"0.00"}]
[null,"GK 7954 12","Кран шаровой с возможностью установки термосенсора (ручка-бабочка), внутренняя-внутренняя резьба, резьба под датчик M10*1",null,"1/2\"",185,15,90,{"$f":"'Конвертация цен'!H30","v":{"v":719.3199999999999,"d":"719.32"}},{"$f":"I40-I40*Оглавление!$K$13","v":{"v":719.3199999999999,"d":"719.32"}},null,{"v":0,"d":"0.00"}]
[null,"GK 7954 34",null,null,"3/4\"",280,20,80,{"$f":"'Конвертация цен'!H31","v":{"v":904.5400000000001,"d":"904.54"}},{"$f":"I41-I41*Оглавление!$K$13","v":{"v":904.5400000000001,"d":"904.54"}},null,{"v":0,"d":"0.00"}]
[null,"GK 7954 1",null,null,"1\"",430,12,48,{"$f":"'Конвертация цен'!H32","v":1457.26},{"$f":"I42-I42*Оглавление!$K$13","v":{"v":1457.26,"d":"1,457.26"}},null,{"v":0,"d":"0.00"}]
[null,"GK 7966 12","Кран шаровой поливочный с насадкой под шланг (ручка-рычаг), наружная резьба",null,"1/2\"",255,25,100,{"$f":"'Конвертация цен'!H33","v":{"v":681.1,"d":"681.10"}},{"$f":"I43-I43*Оглавление!$K$13","v":{"v":681.1,"d":"681.10"}},null,{"v":0,"d":"0.00"}]
[null,"GK 7966 34",null,null,"3/4\"",450,16,64,{"$f":"'Конвертация цен'!H34","v":{"v":953.5400000000001,"d":"953.54"}},{"$f":"I44-I44*Оглавление!$K$13","v":{"v":953.5400000000001,"d":"953.54"}},null,{"v":0,"d":"0.00"}]
[null,"GK 7966 1",null,null,"1\"",530,8,48,{"$f":"'Конвертация цен'!H35","v":{"v":1686.5800000000002,"d":"1686.58"}},{"$f":"I45-I45*Оглавление!$K$13","v":{"v":1686.5800000000002,"d":"1,686.58"}},null,{"v":0,"d":"0.00"}]
[null,"GK 7961 1","Кран шаровой  угловой  с полусгоном (ручка-бабочка), внутренняя-наружная резьба",null,"1/2\"",300,20,80,{"$f":"'Конвертация цен'!H36","v":2603.86},{"$f":"I46-I46*Оглавление!$K$13","v":{"v":2603.86,"d":"2,603.86"}},null,{"$f":"K46*J46","v":{"v":0,"d":"0.00"}}]
[]
[]
[]
["ОБРАТНЫЕ КЛАПАНЫ"]
["• Корпус: латунь горячепресованная (CW617N) "]
["• Золотник, верхняя и нижняя тарелка изготовлены из нейлона (РА)"]
["• Уплотнение между тарелок нитрил бутадиеновый каучук (NBR)"]
["• Возвратная пружина из нержавеющей стали (AISI 302)"]
["• Максимальное рабочее давление : 16 бар для Ду 15-25, 10 бар для Ду 32-50"]
["• Макс. рабочая температура: 100 °C "]
["• Дифференциальное давление срабатывания 0,02 бар"]
[]
[null,"GK 30 12","Клапан обратный с латунным золотником, внутренняя-внутренняя резьба",null,"1/2\"",100,30,120,{"$f":"'Конвертация цен'!H39","v":{"v":508.62000000000006,"d":"508.62"}},{"$f":"I59-I59*Оглавление!$K$13","v":{"v":508.62000000000006,"d":"508.62"}},null,{"$f":"K59*J59","v":{"v":0,"d":"0.00"}}]
[null,"GK 30 34",null,null,"3/4\"",155,30,120,{"$f":"'Конвертация цен'!H40","v":682.08},{"$f":"I60-I60*Оглавление!$K$13","v":682.08},null,{"$f":"K60*J60","v":{"v":0,"d":"0.00"}}]
[null,"GK 30 1",null,null,"1\"",235,18,72,{"$f":"'Конвертация цен'!H41","v":956.48},{"$f":"I61-I61*Оглавление!$K$13","v":956.48},null,{"$f":"K61*J61","v":{"v":0,"d":"0.00"}}]
[null,"GK 30 114",null,null,"1 1/4\"",386,14,42,{"$f":"'Конвертация цен'!H42","v":{"v":1423.9399999999998,"d":"1423.94"}},{"$f":"I62-I62*Оглавление!$K$13","v":{"v":1423.9399999999998,"d":"1,423.94"}},null,{"v":0,"d":"0.00"}]
[null,"GK 30 112",null,null,"1 1/2\"",524,12,24,{"$f":"'Конвертация цен'!H43","v":1860.04},{"$f":"I63-I63*Оглавление!$K$13","v":{"v":1860.04,"d":"1,860.04"}},null,{"$f":"K63*J63","v":{"v":0,"d":"0.00"}}]
[null,"GK 30 2",null,null,"2\"",740,10,20,{"$f":"'Конвертация цен'!H44","v":2810.64},{"$f":"I64-I64*Оглавление!$K$13","v":{"v":2810.64,"d":"2,810.64"}},null,{"$f":"K64*J64","v":{"v":0,"d":"0.00"}}]
[]
["СЕТЧАТЫЕ ФИЛЬТРЫ ТОНКОЙ ОЧИСТКИ"]
["• Корпус и заглушка: латунь горячепресованная (CW617N) "]
["• Уплотнение заглушки фторопласт (PTFE)"]
["• Фильтрующий элемент из нержавеющей стали (AISI 304)"]
["• Максимальное рабочее давление : 16 бар "]
["• Макс. рабочая температура: 110 °C "]
["• Размер ячейки фильтрующего элемента 0,5 мм"]
[]
[null,"GK 44N 12","Фильтр тонкой механической очистки косой, сетка 500 мкм, внутренняя-внутренняя резьба",null,"1/2\"",130,20,180,{"$f":"'Конвертация цен'!H45","v":{"v":563.5,"d":"563.50"}},{"$f":"I74-I74*Оглавление!K13","v":{"v":563.5,"d":"563.50"}},null,{"$f":"K74*J74","v":{"v":0,"d":"0.00"}}]
[null,"GK 44N 34",null,null,"3/4\"",190,20,120,{"$f":"'Конвертация цен'!H46","v":881.02},{"$f":"I75-I75*Оглавление!K14","v":881.02},null,{"$f":"K75*J75","v":{"v":0,"d":"0.00"}}]
[null,"GK 44N 1",null,null,"1\"",280,15,90,{"$f":"'Конвертация цен'!H47","v":1093.68},{"$f":"I76-I76*Оглавление!K15","v":{"v":1093.68,"d":"1,093.68"}},null,{"v":0,"d":"0.00"}]
[null,"GK 44N 114",null,null,"1 1/4\"",540,6,36,{"$f":"'Конвертация цен'!H48","v":2115.82},{"$f":"I77-I77*Оглавление!$K$13","v":{"v":2115.82,"d":"2,115.82"}},null,{"v":0,"d":"0.00"}]
[null,"GK 44N 112",null,null,"1 1/2\"",650,2,24,{"$f":"'Конвертация цен'!H49","v":{"v":3175.2,"d":"3175.20"}},{"$f":"I78-I78*Оглавление!K16","v":{"v":3175.2,"d":"3,175.20"}},null,{"v":0,"d":"0.00"}]
[null,"GK 44N 2",null,null,"2\"",1158,2,12,{"$f":"'Конвертация цен'!H50","v":5266.52},{"$f":"I79-I79*Оглавление!K17","v":{"v":5266.52,"d":"5,266.52"}},null,{"v":0,"d":"0.00"}]

{"sheet":"Трубы","index":2,"n_rows":40,"n_cols":11,"rows_kept":40,"merged":[[3,0,3,8],[7,10,7,12],[8,8,8,10],[12,0,12,7],[12,9,12,10],[13,0,14,0],[13,1,14,1],[13,2,14,2],[13,9,14,9],[13,10,14,10],[15,0,25,0],[30,0,31,0],[30,1,31,1],[30,2,31,2],[30,5,30,6],[30,9,31,9],[30,10,31,10],[31,5,31,6],[32,0,35,0],[32,5,32,6],[33,5,33,6],[34,5,34,6],[35,5,35,6],[36,0,39,0],[36,5,36,6],[37,5,37,6],[38,5,38,6],[39,5,39,6]]}
[]
[]
[]
["Трубы, Защитные гофротрубы"]
[]
["ТРУБА GEKON TRITHERM УНИВЕРСАЛЬНАЯ PE-Xa/EVOH "]
["• Материал: сшитый полиэтилен, способ сшивки - пероксидный (PE-Xa)"]
["• Наружный кислородозащитный барьер EVOH,  кислородопроницаемость не более 0,1 г/м3 в сутки"]
["• Рабочая температура от -20 до +95⁰C",{"$nulls":7},"На главную страницу"]
["• Максимальный кратковременный нагрев +110⁰C"]
["• Номинальное рабочее давление 6 бар, 10 бар"]
["• Страна производства: Россия"]
[{"$nulls":8},"Итого:",{"$f":"SUM(K16:K26)+SUM(K33:K40)","v":{"v":0,"d":"0.00"}}]
["Фото","Артикул","Наименование товара","Диаметр","Толщина стенки","PN","Упаковка","Цена за метр","Цена за метр со скидкой","Кол-во, м.","Сумма со скидкой, RUB"]
[{"$nulls":3},"мм","мм","бар","м","RUB","RUB"]
[null,"GK 71640006","Труба Gekon TRITHERM универсальная PE-Xa/EVOH 16х2,0, бухта 400 м",16,2,6,400,{"$f":"'Конвертация цен'!H54","v":{"v":104,"d":"104.00"}},{"$f":"H16-H16*Оглавление!$K$14","v":{"v":104,"d":"104.00"}},null,{"$f":"J16*I16","v":{"v":0,"d":"0.00"}}]
[null,"GK 71630006","Труба Gekon TRITHERM универсальная PE-Xa/EVOH 16х2,0, бухта 300 м",16,2,6,300,{"$f":"'Конвертация цен'!H55","v":{"v":104,"d":"104.00"}},{"$f":"H17-H17*Оглавление!$K$14","v":{"v":104,"d":"104.00"}},null,{"$f":"J17*I17","v":{"v":0,"d":"0.00"}}]
[null,"GK 71620006","Труба Gekon TRITHERM универсальная PE-Xa/EVOH 16х2,0, бухта 200 м",16,2,6,200,{"$f":"'Конвертация цен'!H56","v":{"v":104,"d":"104.00"}},{"$f":"H18-H18*Оглавление!$K$14","v":{"v":104,"d":"104.00"}},null,{"v":0,"d":"0.00"}]
[null,"GK 71610006","Труба Gekon TRITHERM универсальная PE-Xa/EVOH 16х2,0, бухта 100 м",16,2,6,100,{"$f":"'Конвертация цен'!H57","v":{"v":104,"d":"104.00"}},{"$f":"H19-H19*Оглавление!$K$14","v":{"v":104,"d":"104.00"}},null,{"v":0,"d":"0.00"}]
[null,"GK 71620010","Труба Gekon TRITHERM универсальная PE-Xa/EVOH 16х2,2, бухта 200 м",16,2.2,10,200,{"$f":"'Конвертация цен'!H58","v":{"v":110,"d":"110.00"}},{"$f":"H20-H20*Оглавление!$K$14","v":{"v":110,"d":"110.00"}},null,{"v":0,"d":"0.00"}]
[null,"GK 71610010","Труба Gekon TRITHERM универсальная PE-Xa/EVOH 16х2,2, бухта 100 м",16,2.2,10,100,{"$f":"'Конвертация цен'!H59","v":{"v":110,"d":"110.00"}},{"$f":"H21-H21*Оглавление!$K$14","v":{"v":110,"d":"110.00"}},null,{"v":0,"d":"0.00"}]
[null,"GK 72020006","Труба Gekon TRITHERM универсальная PE-Xa/EVOH 20х2,0, бухта 200 м",20,2,6,200,{"$f":"'Конвертация цен'!H60","v":{"v":149,"d":"149.00"}},{"$f":"H22-H22*Оглавление!$K$14","v":{"v":149,"d":"149.00"}},null,{"$f":"J22*I22","v":{"v":0,"d":"0.00"}}]
[null,"GK 72010006","Труба Gekon TRITHERM универсальная PE-Xa/EVOH 20х2,0, бухта 100 м",20,2,6,100,{"$f":"'Конвертация цен'!H61","v":{"v":149,"d":"149.00"}},{"$f":"H23-H23*Оглавление!$K$14","v":{"v":149,"d":"149.00"}},null,{"v":0,"d":"0.00"}]
[null,"GK 72010010","Труба Gekon TRITHERM универсальная PE-Xa/EVOH 20х2,8, бухта 100 м",20,2.8,10,100,{"$f":"'Конвертация цен'!H62","v":{"v":164,"d":"164.00"}},{"$f":"H24-H24*Оглавление!$K$14","v":{"v":164,"d":"164.00"}},null,{"v":0,"d":"0.00"}]
[null,"GK 72505010","Труба Gekon TRITHERM универсальная PE-Xa/EVOH 25х3,5, бухта 50 м",25,3.5,10,50,{"$f":"'Конвертация цен'!H63","v":{"v":280,"d":"280.00"}},{"$f":"H25-H25*Оглавление!$K$14","v":{"v":280,"d":"280.00"}},null,{"v":0,"d":"0.00"}]
[null,"GK 73205010","Труба Gekon TRITHERM универсальная PE-Xa/EVOH 32х4,4, бухта 50 м",32,4.4,10,50,{"$f":"'Конвертация цен'!H64","v":{"v":466,"d":"466.00"}},{"$f":"H26-H26*Оглавление!$K$14","v":{"v":466,"d":"466.00"}},null,{"v":0,"d":"0.00"}]
[]
["ТРУБА ГОФРИРОВАННАЯ ПНД"]
["• Для механической защиты полимерных труб"]
[]
["Фото","Артикул","Наименование товара","Наружный диаметр","Внутренний диаметр","Упаковка",null,"Цена за метр","Цена за метр со скидкой","Кол-во, м.","Сумма со скидкой, RUB"]
[{"$nulls":3},"мм","мм","м",null,"RUB","RUB"]
[null,"GK 716050R","Труба гофрированная ПНД для 16-й полимерной трубы, красная, бухта 50 метров",21,18.3,50,null,{"$f":"'Конвертация цен'!H65","v":25.96},{"$f":"H33-H33*Оглавление!$K$14","v":25.96},null,{"$f":"I33*J33","v":{"v":0,"d":"0.00"}}]
[null,"GK 720050R","Труба гофрированная ПНД для 20-й полимерной трубы, красная, бухта 50 метров",25,21.8,50,50,{"$f":"'Конвертация цен'!H66","v":32.34},{"$f":"H34-H34*Оглавление!$K$14","v":32.34},null,{"$f":"I34*J34","v":{"v":0,"d":"0.00"}}]
[null,"GK 725030R","Труба гофрированная ПНД для 25-й полимерной трубы, красная, бухта 30 метров",32,27,30,30,{"$f":"'Конвертация цен'!H67","v":{"v":44,"d":"44.00"}},{"$f":"H35-H35*Оглавление!$K$14","v":{"v":44,"d":"44.00"}},null,{"v":0,"d":"0.00"}]
[null,"GK 732030R","Труба гофрированная ПНД для 32-й полимерной трубы, красная, бухта 30 метров",40,35,30,30,{"$f":"'Конвертация цен'!H68","v":57.48},{"$f":"H36-H36*Оглавление!$K$14","v":57.48},null,{"v":0,"d":"0.00"}]
[null,"GK 716050B","Труба гофрированная ПНД для 16-й полимерной трубы, синяя, бухта 50 метров",21,18.3,50,null,{"$f":"'Конвертация цен'!H69","v":25.96},{"$f":"H37-H37*Оглавление!$K$14","v":25.96},null,{"v":0,"d":"0.00"}]
[null,"GK 720050B","Труба гофрированная ПНД для 20-й полимерной трубы, синяя, бухта 50 метров",25,21.8,50,50,{"$f":"'Конвертация цен'!H70","v":32.34},{"$f":"H38-H38*Оглавление!$K$14","v":32.34},null,{"v":0,"d":"0.00"}]
[null,"GK 725030B","Труба гофрированная ПНД для 25-й полимерной трубы, синяя, бухта 30 метров",32,27,30,30,{"$f":"'Конвертация цен'!H71","v":{"v":44,"d":"44.00"}},{"$f":"H39-H39*Оглавление!$K$14","v":{"v":44,"d":"44.00"}},null,{"v":0,"d":"0.00"}]
[null,"GK 732030B","Труба гофрированная ПНД для 32-й полимерной трубы, синяя, бухта 30 метров",40,35,30,30,{"$f":"'Конвертация цен'!H72","v":57.48},{"$f":"H40-H40*Оглавление!$K$14","v":57.48},null,{"v":0,"d":"0.00"}]

{"sheet":"Аксиальные фитинги","index":3,"n_rows":102,"n_cols":11,"rows_kept":102,"merged":[[3,0,3,7],[6,8,6,10],[10,9,10,10],[11,0,12,0],[11,1,12,1],[11,2,12,3],[11,4,12,4],[11,5,12,5],[11,6,12,6],[11,8,12,8],[11,9,12,9],[11,10,12,10],[13,0,16,0],[13,2,13,3],[14,2,14,3],[15,2,15,3],[16,2,16,3],[17,0,20,0],[17,2,17,3],[18,2,18,3],[19,2,19,3],[20,2,20,3],[21,0,25,0],[21,2,21,3],[22,2,22,3],[23,2,23,3],[24,2,24,3],[25,2,25,3],[26,0,34,0],[26,2,26,3],[27,2,27,3],[28,2,28,3],[29,2,29,3],[30,2,30,3],[31,2,31,3],[32,2,32,3],[33,2,33,3],[34,2,34,3],[35,0,41,0],[35,2,35,3],[36,2,36,3],[37,2,37,3],[38,2,38,3],[39,2,39,3],[40,2,40,3],[41,2,41,3],[42,0,45,0],[42,2,42,3],[43,2,43,3],[44,2,44,3],[45,2,45,3],[46,0,52,0],[46,2,46,3],[47,2,47,3],[48,2,48,3],[49,2,49,3],[50,2,50,3],[51,2,51,3],[52,2,52,3],[53,0,59,0],[53,2,53,3],[54,2,54,3],[55,2,55,3],[56,2,56,3],[57,2,57,3],[58,2,58,3],[59,2,59,3],[60,0,63,0],[60,2,60,3],[61,2,61,3],[62,2,62,3],[63,2,63,3],[64,0,81,0],[64,2,64,3],[65,2,65,3],[66,2,66,3],[67,2,67,3],[68,2,68,3],[69,2,69,3],[70,2,70,3],[71,2,71,3],[72,2,72,3],[73,2,73,3],[74,2,74,3],[75,2,75,3],[76,2,76,3],[77,2,77,3],[78,2,78,3],[79,2,79,3],[80,2,80,3],[81,2,81,3],[82,2,82,3],[83,2,83,3],[84,0,88,0],[84,2,84,3],[85,2,85,3],[86,2,86,3],[87,2,87,3],[88,2,88,3],[89,0,90,0],[89,2,89,3],[90,2,90,3],[91,0,92,0],[91,2,91,3],[92,2,92,3],[93,0,95,0],[93,2,93,3],[94,2,94,3],[95,2,95,3],[96,0,98,0],[96,2,96,3],[97,2,97,3],[98,2,98,3],[99,0,100,0],[99,2,99,3],[100,2,100,3],[101,2,101,3]]}
[]
[]
[]
["Фитинги для аксиальной запресовки"]
[]
["• Материал: фитинги - латунь ЛС 59-1, монтажная гильза - ПВДФ (PVDF)"]
["• Номинальное рабочее давление: 10 бар ",{"$nulls":7},"На главную страницу"]
["• Макс. рабочая температура: 95⁰C"]
["• Фитинги аксиальной заперсовки Gekon соответствуют ГОСТ 32415-2013"]
["• Фитинги аксиальной запрессовки относят к неразъёмным соединениям, что позволяет использовать их для\nскрытой прокладки систем (заливки в бетон)"]
[{"$nulls":8},"Итого:",{"$f":"SUM(K14:K102)","v":{"v":0,"d":"0.00"}}]
["Фото","Артикул","Наименование товара",null,"Размер","Упаковка, шт.","Коробка, шт.","Цена за шт.","Цена со скидкой, RUB","Кол-во, шт.","Сумма со скидкой, RUB"]
[{"$nulls":7},"RUB"]
[null,"GK 7GX001000016","Кольцо монтажное GX 16",null,16,20,300,{"$f":"'Конвертация цен'!H76","v":{"v":34.3,"d":"34.30"}},{"$f":"H14-H14*Оглавление!$K$15","v":{"v":34.3,"d":"34.30"}},null,{"$f":"J14*I14","v":{"v":0,"d":"0.00"}}]
[null,"GK 7GX001000020","Кольцо монтажное GX 20",null,20,20,300,{"$f":"'Конвертация цен'!H77","v":{"v":39.2,"d":"39.20"}},{"$f":"H15-H15*Оглавление!$K$15","v":{"v":39.2,"d":"39.20"}},null,{"$f":"J15*I15","v":{"v":0,"d":"0.00"}}]
[null,"GK 7GX001000025","Кольцо монтажное GX 25",null,25,20,200,{"$f":"'Конвертация цен'!H78","v":{"v":65.66000000000001,"d":"65.66"}},{"$f":"H16-H16*Оглавление!$K$15","v":{"v":65.66000000000001,"d":"65.66"}},null,{"v":0,"d":"0.00"}]
[null,"GK 7GX001000032","Кольцо монтажное GX 32",null,32,5,100,{"$f":"'Конвертация цен'!H79","v":{"v":106.82000000000001,"d":"106.82"}},{"$f":"H17-H17*Оглавление!$K$15","v":{"v":106.82000000000001,"d":"106.82"}},null,{"$f":"J17*I17","v":{"v":0,"d":"0.00"}}]
[null,"GK 7GX002001616","Прямой фитинг GX 16x16",null,"16x16",10,250,{"$f":"'Конвертация цен'!H80","v":163.66},{"$f":"H18-H18*Оглавление!$K$15","v":163.66},null,{"$f":"J18*I18","v":{"v":0,"d":"0.00"}}]
[null,"GK 7GX002002020","Прямой фитинг GX 20x20",null,"20x20",10,250,{"$f":"'Конвертация цен'!H81","v":{"v":308.7,"d":"308.70"}},{"$f":"H19-H19*Оглавление!$K$15","v":{"v":308.7,"d":"308.70"}},null,{"v":0,"d":"0.00"}]
[null,"GK 7GX002002525","Прямой фитинг GX 25x25",null,"25x25",10,100,{"$f":"'Конвертация цен'!H82","v":438.06},{"$f":"H20-H20*Оглавление!$K$15","v":438.06},null,{"v":0,"d":"0.00"}]
[null,"GK 7GX002003232","Прямой фитинг GX 32x32",null,"32x32",5,100,{"$f":"'Конвертация цен'!H83","v":1065.26},{"$f":"H21-H21*Оглавление!$K$15","v":{"v":1065.26,"d":"1,065.26"}},null,{"v":0,"d":"0.00"}]
[null,"GK 7GX002002016","Прямой переходный фитинг GX 20x16",null,"20x16",10,250,{"$f":"'Конвертация цен'!H85","v":258.72},{"$f":"H22-H22*Оглавление!$K$15","v":258.72},null,{"v":0,"d":"0.00"}]
[null,"GK 7GX002002516","Прямой переходный фитинг GX 25x16",null,"25x16",10,100,{"$f":"'Конвертация цен'!H86","v":{"v":406.70000000000005,"d":"406.70"}},{"$f":"H23-H23*Оглавление!$K$15","v":{"v":406.70000000000005,"d":"406.70"}},null,{"v":0,"d":"0.00"}]
[null,"GK 7GX002002520","Прямой переходный фитинг GX 25x20",null,"25x20",10,100,{"$f":"'Конвертация цен'!H87","v":{"v":406.70000000000005,"d":"406.70"}},{"$f":"H24-H24*Оглавление!$K$15","v":{"v":406.70000000000005,"d":"406.70"}},null,{"v":0,"d":"0.00"}]
[null,"GK 7GX002003220","Прямой переходный фитинг GX 32x20",null,"32x20",5,100,{"$f":"'Конвертация цен'!H88","v":1382.78},{"$f":"H25-H25*Оглавление!$K$15","v":{"v":1382.78,"d":"1,382.78"}},null,{"v":0,"d":"0.00"}]
[null,"GK 7GX002003225","Прямой переходный фитинг GX 32x25",null,"32x25",5,100,{"$f":"'Конвертация цен'!H89","v":{"v":1081.9199999999998,"d":"1081.92"}},{"$f":"H26-H26*Оглавление!$K$15","v":{"v":1081.9199999999998,"d":"1,081.92"}},null,{"v":0,"d":"0.00"}]
[null,"GK 7GX005001612","Прямой фитинг GX с наружной резьбой 16x1/2\"M",null,"16x1/2\"M",10,250,{"$f":"'Конвертация цен'!H92","v":{"v":187.17999999999998,"d":"187.18"}},{"$f":"H27-H27*Оглавление!$K$15","v":{"v":187.17999999999998,"d":"187.18"}},null,{"v":0,"d":"0.00"}]
[null,"GK 7GX005002012","Прямой фитинг GX с наружной резьбой 20x1/2\"M",null,"20x1/2\"M",10,250,{"$f":"'Конвертация цен'!H93","v":237.16},{"$f":"H28-H28*Оглавление!$K$15","v":237.16},null,{"v":0,"d":"0.00"}]
[null,"GK 7GX005002512","Прямой фитинг GX с наружной резьбой 25x1/2\"M",null,"25x1/2\"M",10,250,{"$f":"'Конвертация цен'!H94","v":{"v":359.65999999999997,"d":"359.66"}},{"$f":"H29-H29*Оглавление!$K$15","v":{"v":359.65999999999997,"d":"359.66"}},null,{"v":0,"d":"0.00"}]
[null,"GK 7GX005001634","Прямой фитинг GX с наружной резьбой 16x3/4\"M",null,"16x3/4\"M",10,250,{"$f":"'Конвертация цен'!H95","v":{"v":298.9,"d":"298.90"}},{"$f":"H30-H30*Оглавление!$K$15","v":{"v":298.9,"d":"298.90"}},null,{"v":0,"d":"0.00"}]
[null,"GK 7GX005002034","Прямой фитинг GX с наружной резьбой 20x3/4\"M",null,"20x3/4\"M",10,250,{"$f":"'Конвертация цен'!H96","v":{"v":326.34000000000003,"d":"326.34"}},{"$f":"H31-H31*Оглавление!$K$15","v":{"v":326.34000000000003,"d":"326.34"}},null,{"v":0,"d":"0.00"}]
[null,"GK 7GX005002534","Прямой фитинг GX с наружной резьбой 25x3/4\"M",null,"25x3/4\"M",10,250,{"$f":"'Конвертация цен'!H97","v":348.88},{"$f":"H32-H32*Оглавление!$K$15","v":348.88},null,{"v":0,"d":"0.00"}]
[null,"GK 7GX005002010","Прямой фитинг GX с наружной резьбой 20x1\"M",null,"20x1\"M",5,100,{"$f":"'Конвертация цен'!H98","v":474.32},{"$f":"H33-H33*Оглавление!$K$15","v":474.32},null,{"v":0,"d":"0.00"}]
[null,"GK 7GX005002510","Прямой фитинг GX с наружной резьбой 25x1\"M",null,"25x1\"M",5,100,{"$f":"'Конвертация цен'!H99","v":{"v":548.8,"d":"548.80"}},{"$f":"H34-H34*Оглавление!$K$15","v":{"v":548.8,"d":"548.80"}},null,{"v":0,"d":"0.00"}]
[null,"GK 7GX005003210","Прямой фитинг GX с наружной резьбой 32x1\"M",null,"32x1\"M",5,100,{"$f":"'Конвертация цен'!H100","v":{"v":958.4399999999999,"d":"958.44"}},{"$f":"H35-H35*Оглавление!$K$15","v":{"v":958.4399999999999,"d":"958.44"}},null,{"v":0,"d":"0.00"}]
[null,"GK 7GX006001612","Прямой фитинг GX с внутренней резьбой 16x1/2\"F",null,"16x1/2\"F",10,250,{"$f":"'Конвертация цен'!H103","v":331.24},{"$f":"H36-H36*Оглавление!$K$15","v":331.24},null,{"v":0,"d":"0.00"}]
[null,"GK 7GX006002012","Прямой фитинг GX с внутренней резьбой 20x1/2\"F",null,"20x1/2\"F",10,250,{"$f":"'Конвертация цен'!H104","v":{"v":357.7,"d":"357.70"}},{"$f":"H37-H37*Оглавление!$K$15","v":{"v":357.7,"d":"357.70"}},null,{"v":0,"d":"0.00"}]
[null,"GK 7GX006001634","Прямой фитинг GX с внутренней резьбой 16x3/4\"F",null,"16x3/4\"F",10,250,{"$f":"'Конвертация цен'!H105","v":{"v":392,"d":"392.00"}},{"$f":"H38-H38*Оглавление!$K$15","v":{"v":392,"d":"392.00"}},null,{"v":0,"d":"0.00"}]
[null,"GK 7GX006002034","Прямой фитинг GX с внутренней резьбой 20x3/4\"F",null,"20x3/4\"F",10,250,{"$f":"'Конвертация цен'!H106","v":{"v":524.3,"d":"524.30"}},{"$f":"H39-H39*Оглавление!$K$15","v":{"v":524.3,"d":"524.30"}},null,{"v":0,"d":"0.00"}]
[null,"GK 7GX006002534","Прямой фитинг GX с внутренней резьбой 25x3/4\"F",null,"25x3/4\"F",10,100,{"$f":"'Конвертация цен'!H107","v":{"v":572.3199999999999,"d":"572.32"}},{"$f":"H40-H40*Оглавление!$K$15","v":{"v":572.3199999999999,"d":"572.32"}},null,{"v":0,"d":"0.00"}]
[null,"GK 7GX006002510","Прямой фитинг GX с внутренней резьбой 25x1\"F",null,"25x1\"F",5,100,{"$f":"'Конвертация цен'!H108","v":{"v":782.0400000000001,"d":"782.04"}},{"$f":"H41-H41*Оглавление!$K$15","v":{"v":782.0400000000001,"d":"782.04"}},null,{"v":0,"d":"0.00"}]
[null,"GK 7GX006003210","Прямой фитинг GX с внутренней резьбой 32x1\"F",null,"32x1\"F",5,100,{"$f":"'Конвертация цен'!H109","v":{"v":1466.0800000000002,"d":"1466.08"}},{"$f":"H42-H42*Оглавление!$K$15","v":{"v":1466.0800000000002,"d":"1,466.08"}},null,{"v":0,"d":"0.00"}]
[null,"GK 7GX003001616","Угольник 90° GX 16x16",null,"16x16",10,250,{"$f":"'Конвертация цен'!H112","v":{"v":254.8,"d":"254.80"}},{"$f":"H43-H43*Оглавление!$K$15","v":{"v":254.8,"d":"254.80"}},null,{"v":0,"d":"0.00"}]
[null,"GK 7GX003002020","Угольник 90° GX 20x20",null,"20x20",10,100,{"$f":"'Конвертация цен'!H113","v":376.32},{"$f":"H44-H44*Оглавление!$K$15","v":376.32},null,{"v":0,"d":"0.00"}]
[null,"GK 7GX003002525","Угольник 90° GX 25x25",null,"25x25",5,50,{"$f":"'Конвертация цен'!H114","v":{"v":548.8,"d":"548.80"}},{"$f":"H45-H45*Оглавление!$K$15","v":{"v":548.8,"d":"548.80"}},null,{"v":0,"d":"0.00"}]
[null,"GK 7GX003003232","Угольник 90° GX 32x32",null,"32x32",5,50,{"$f":"'Конвертация цен'!H115","v":{"v":1131.9,"d":"1131.90"}},{"$f":"H46-H46*Оглавление!$K$15","v":{"v":1131.9,"d":"1,131.90"}},null,{"v":0,"d":"0.00"}]
[null,"GK 7GX009001612","Угольник 90° GX с наружной резьбой",null,"16x1/2\"M",10,150,{"$f":"'Конвертация цен'!H117","v":{"v":318.5,"d":"318.50"}},{"$f":"H47-H47*Оглавление!$K$15","v":{"v":318.5,"d":"318.50"}},null,{"v":0,"d":"0.00"}]
[null,"GK 7GX009002012","Угольник 90° GX с наружной резьбой",null,"20x1/2\"M",10,150,{"$f":"'Конвертация цен'!H118","v":429.24},{"$f":"H48-H48*Оглавление!$K$15","v":429.24},null,{"v":0,"d":"0.00"}]
[null,"GK 7GX009001634","Угольник 90° GX с наружной резьбой",null,"16x3/4\"M",10,50,{"$f":"'Конвертация цен'!H119","v":{"v":457.65999999999997,"d":"457.66"}},{"$f":"H49-H49*Оглавление!$K$15","v":{"v":457.65999999999997,"d":"457.66"}},null,{"v":0,"d":"0.00"}]
[null,"GK 7GX009002034","Угольник 90° GX с наружной резьбой",null,"20x3/4\"M",10,50,{"$f":"'Конвертация цен'!H121","v":555.66},{"$f":"H50-H50*Оглавление!$K$15","v":555.66},null,{"v":0,"d":"0.00"}]
[null,"GK 7GX009002534","Угольник 90° GX с наружной резьбой",null,"25x3/4\"M",10,50,{"$f":"'Конвертация цен'!H120","v":{"v":773.2199999999999,"d":"773.22"}},{"$f":"H51-H51*Оглавление!$K$15","v":{"v":773.2199999999999,"d":"773.22"}},null,{"v":0,"d":"0.00"}]
[null,"GK 7GX009002510","Угольник 90° GX с наружной резьбой",null,"25x1\"M",5,50,{"$f":"'Конвертация цен'!H122","v":{"v":901.5999999999999,"d":"901.60"}},{"$f":"H52-H52*Оглавление!$K$15","v":{"v":901.5999999999999,"d":"901.60"}},null,{"v":0,"d":"0.00"}]
[null,"GK 7GX009003210","Угольник 90° GX с наружной резьбой",null,"32x1\"M",5,50,{"$f":"'Конвертация цен'!H123","v":{"v":1466.0800000000002,"d":"1466.08"}},{"$f":"H53-H53*Оглавление!$K$15","v":{"v":1466.0800000000002,"d":"1,466.08"}},null,{"v":0,"d":"0.00"}]
[null,"GK 7GX010001612","Угольник 90° GX с внутренней резьбой",null,"16x1/2\"F",10,150,{"$f":"'Конвертация цен'!H124","v":340.06},{"$f":"H54-H54*Оглавление!$K$15","v":340.06},null,{"v":0,"d":"0.00"}]
[null,"GK 7GX010002012","Угольник 90° GX с внутренней резьбой",null,"20x1/2\"F",10,150,{"$f":"'Конвертация цен'!H125","v":{"v":436.1,"d":"436.10"}},{"$f":"H55-H55*Оглавление!$K$15","v":{"v":436.1,"d":"436.10"}},null,{"v":0,"d":"0.00"}]
[null,"GK 7GX010001634","Угольник 90° GX с внутренней резьбой",null,"16x3/4\"F",10,50,{"$f":"'Конвертация цен'!H126","v":518.42},{"$f":"H56-H56*Оглавление!$K$15","v":518.42},null,{"v":0,"d":"0.00"}]
[null,"GK 7GX010002034","Угольник 90° GX с внутренней резьбой",null,"20x3/4\"F",10,50,{"$f":"'Конвертация цен'!H127","v":{"v":525.2800000000001,"d":"525.28"}},{"$f":"H57-H57*Оглавление!$K$15","v":{"v":525.2800000000001,"d":"525.28"}},null,{"v":0,"d":"0.00"}]
[null,"GK 7GX010002534","Угольник 90° GX с внутренней резьбой",null,"25x3/4\"F",10,50,{"$f":"'Конвертация цен'!H128","v":{"v":627.2,"d":"627.20"}},{"$f":"H58-H58*Оглавление!$K$15","v":{"v":627.2,"d":"627.20"}},null,{"v":0,"d":"0.00"}]
[null,"GK 7GX010002510","Угольник 90° GX с внутренней резьбой",null,"25x1\"F",5,50,{"$f":"'Конвертация цен'!H129","v":1138.76},{"$f":"H59-H59*Оглавление!$K$15","v":{"v":1138.76,"d":"1,138.76"}},null,{"v":0,"d":"0.00"}]
[null,"GK 7GX010003210","Угольник 90° GX с внутренней резьбой",null,"32x1\"F",5,50,{"$f":"'Конвертация цен'!H130","v":{"v":1920.8000000000002,"d":"1920.80"}},{"$f":"H60-H60*Оглавление!$K$15","v":{"v":1920.8000000000002,"d":"1,920.80"}},null,{"v":0,"d":"0.00"}]
[null,"GK 7GX004161616","Тройник соединительный GX 16х16х16",null,"16x16x16",10,100,{"$f":"'Конвертация цен'!H131","v":{"v":326.34000000000003,"d":"326.34"}},{"$f":"H61-H61*Оглавление!$K$15","v":{"v":326.34000000000003,"d":"326.34"}},null,{"v":0,"d":"0.00"}]
[null,"GK 7GX004202020","Тройник соединительный GX 20х20х20",null,"20x20x20",5,100,{"$f":"'Конвертация цен'!H132","v":491.96},{"$f":"H62-H62*Оглавление!$K$15","v":491.96},null,{"v":0,"d":"0.00"}]
[null,"GK 7GX004252525","Тройник соединительный GX 25х25х25",null,"25x25x25",5,50,{"$f":"'Конвертация цен'!H133","v":735.98},{"$f":"H63-H63*Оглавление!$K$15","v":735.98},null,{"v":0,"d":"0.00"}]
[null,"GK 7GX004323232","Тройник соединительный GX 32х32х32",null,"32x32x32",5,40,{"$f":"'Конвертация цен'!H134","v":1493.52},{"$f":"H64-H64*Оглавление!$K$15","v":{"v":1493.52,"d":"1,493.52"}},null,{"v":0,"d":"0.00"}]
[null,"GK 7GX004162016","Тройник переходной GX 16х20х16",null,"16x20x16",10,100,{"$f":"'Конвертация цен'!H136","v":463.54},{"$f":"H65-H65*Оглавление!$K$15","v":463.54},null,{"v":0,"d":"0.00"}]
[null,"GK 7GX004201616","Тройник переходной GX 20х16х16",null,"20x16X16",10,100,{"$f":"'Конвертация цен'!H137","v":463.54},{"$f":"H66-H66*Оглавление!$K$15","v":463.54},null,{"v":0,"d":"0.00"}]
[null,"GK 7GX004201620","Тройник переходной GX 20х16х20",null,"20x16x20",10,100,{"$f":"'Конвертация цен'!H138","v":505.68},{"$f":"H67-H67*Оглавление!$K$15","v":505.68},null,{"v":0,"d":"0.00"}]
[null,"GK 7GX004202016","Тройник переходной GX 20х20х16",null,"20x20x16",10,100,{"$f":"'Конвертация цен'!H139","v":{"v":534.1,"d":"534.10"}},{"$f":"H68-H68*Оглавление!$K$15","v":{"v":534.1,"d":"534.10"}},null,{"v":0,"d":"0.00"}]
[null,"GK 7GX004202520","Тройник переходной GX 20х25х20",null,"20x25x20",10,100,{"$f":"'Конвертация цен'!H140","v":{"v":725.2,"d":"725.20"}},{"$f":"H69-H69*Оглавление!$K$15","v":{"v":725.2,"d":"725.20"}},null,{"v":0,"d":"0.00"}]
[null,"GK 7GX004251616","Тройник переходной GX 25х16х16",null,"25x16x16",5,100,{"$f":"'Конвертация цен'!H141","v":{"v":577.2199999999999,"d":"577.22"}},{"$f":"H70-H70*Оглавление!$K$15","v":{"v":577.2199999999999,"d":"577.22"}},null,{"v":0,"d":"0.00"}]
[null,"GK 7GX004251620","Тройник переходной GX 25х16х20",null,"25x16x20",5,100,{"$f":"'Конвертация цен'!H142","v":{"v":696.7800000000001,"d":"696.78"}},{"$f":"H71-H71*Оглавление!$K$15","v":{"v":696.7800000000001,"d":"696.78"}},null,{"v":0,"d":"0.00"}]
[null,"GK 7GX004251625","Тройник переходной GX 25х16х25",null,"25x16x25",5,100,{"$f":"'Конвертация цен'!H143","v":{"v":712.4599999999999,"d":"712.46"}},{"$f":"H72-H72*Оглавление!$K$15","v":{"v":712.4599999999999,"d":"712.46"}},null,{"$f":"J72*I72","v":{"v":0,"d":"0.00"}}]
[null,"GK 7GX004252020","Тройник переходной GX 25х20х20",null,"25x20x20",5,100,{"$f":"'Конвертация цен'!H144","v":{"v":720.3,"d":"720.30"}},{"$f":"H73-H73*Оглавление!$K$15","v":{"v":720.3,"d":"720.30"}},null,{"v":0,"d":"0.00"}]
[null,"GK 7GX004252025","Тройник переходной GX 25х20х25",null,"25x20x25",5,100,{"$f":"'Конвертация цен'!H145","v":{"v":788.9000000000001,"d":"788.90"}},{"$f":"H74-H74*Оглавление!$K$15","v":{"v":788.9000000000001,"d":"788.90"}},null,{"v":0,"d":"0.00"}]
[null,"GK 7GX004252520","Тройник переходной GX 25х25х20",null,"25x25x20",5,100,{"$f":"'Конвертация цен'!H146","v":846.72},{"$f":"H75-H75*Оглавление!$K$15","v":846.72},null,{"v":0,"d":"0.00"}]
[null,"GK 7GX004252516","Тройник переходной GX 25х25х16",null,"25x25x16",5,100,{"$f":"'Конвертация цен'!H147","v":846.72},{"$f":"H76-H76*Оглавление!$K$15","v":846.72},null,{"v":0,"d":"0.00"}]
[null,"GK 7GX004322020","Тройник переходной GX 32х20х20",null,"32x20x20",5,50,{"$f":"'Конвертация цен'!H148","v":{"v":1564.0800000000002,"d":"1564.08"}},{"$f":"H77-H77*Оглавление!$K$15","v":{"v":1564.0800000000002,"d":"1,564.08"}},null,{"v":0,"d":"0.00"}]
[null,"GK 7GX004322025","Тройник переходной GX 32х20х25",null,"32x20x25",5,50,{"$f":"'Конвертация цен'!H149","v":1524.88},{"$f":"H78-H78*Оглавление!$K$15","v":{"v":1524.88,"d":"1,524.88"}},null,{"v":0,"d":"0.00"}]
[null,"GK 7GX004322525","Тройник переходной GX 32х25х25",null,"32x25x25",5,50,{"$f":"'Конвертация цен'!H150","v":{"v":1516.0600000000002,"d":"1516.06"}},{"$f":"H79-H79*Оглавление!$K$15","v":{"v":1516.0600000000002,"d":"1,516.06"}},null,{"v":0,"d":"0.00"}]
[null,"GK 7GX004322532","Тройник переходной GX 32х25х32",null,"32x25x32",5,50,{"$f":"'Конвертация цен'!H151","v":{"v":1543.5,"d":"1543.50"}},{"$f":"H80-H80*Оглавление!$K$15","v":{"v":1543.5,"d":"1,543.50"}},null,{"v":0,"d":"0.00"}]
[null,"GK 7GX004323220","Тройник переходной GX 32х32х20",null,"32x32x20",5,40,{"$f":"'Конвертация цен'!H152","v":{"v":1940.4,"d":"1940.40"}},{"$f":"H81-H81*Оглавление!$K$15","v":{"v":1940.4,"d":"1,940.40"}},null,{"v":0,"d":"0.00"}]
[null,"GK 7GX004323225","Тройник переходной GX 32х32х25",null,"32x32x25",5,40,{"$f":"'Конвертация цен'!H153","v":{"v":1598.3799999999999,"d":"1598.38"}},{"$f":"H82-H82*Оглавление!$K$15","v":{"v":1598.3799999999999,"d":"1,598.38"}},null,{"v":0,"d":"0.00"}]
[null,"GK 7GX016161216","Тройник с наружной резьбой GX 16x1/2\"Mx16",null,"16x1/2\"Mx16",5,100,{"$f":"'Конвертация цен'!H158","v":463.54},{"$f":"H83-H83*Оглавление!$K$15","v":463.54},null,{"v":0,"d":"0.00"}]
[null,"GK 7GX017161216","Тройник GX с внутренней резьбой",null,"16x1/2\"Fx16",5,100,{"$f":"'Конвертация цен'!H163","v":420.42},{"$f":"H84-H84*Оглавление!$K$15","v":420.42},null,{"v":0,"d":"0.00"}]
[null,"GK 7GX011001612","Угольник установочный GX с внутренней резьбой",null,"16x1/2\"F",5,50,{"$f":"'Конвертация цен'!H168","v":550.76},{"$f":"H85-H85*Оглавление!$K$15","v":550.76},null,{"v":0,"d":"0.00"}]
[null,"GK 7GX018001612","Угольник установочный GX с внутренней резьбой",null,"16x1/2\"F (45 мм)",5,50,{"$f":"'Конвертация цен'!H169","v":541.94},{"$f":"H86-H86*Оглавление!$K$15","v":541.94},null,{"v":0,"d":"0.00"}]
[null,"GK 7GX011002012","Угольник установочный GX с внутренней резьбой",null,"20x1/2\"F",5,50,{"$f":"'Конвертация цен'!H170","v":673.26},{"$f":"H87-H87*Оглавление!$K$15","v":673.26},null,{"v":0,"d":"0.00"}]
[null,"GK 7GX018002012","Угольник установочный GX с внутренней резьбой",null,"20x1/2\"F (45 мм)",5,50,{"$f":"'Конвертация цен'!H171","v":664.44},{"$f":"H88-H88*Оглавление!$K$15","v":664.44},null,{"v":0,"d":"0.00"}]
[null,"GK 7GX011002034","Угольник установочный GX с внутренней резьбой",null,"20x3/4\"F",5,50,{"$f":"'Конвертация цен'!H172","v":{"v":901.5999999999999,"d":"901.60"}},{"$f":"H89-H89*Оглавление!$K$15","v":{"v":901.5999999999999,"d":"901.60"}},null,{"v":0,"d":"0.00"}]
[null,"GK 7GX012001625","Угольник GX с хромированной трубкой (250 мм)",null,"16x15(L-250 мм)",1,50,{"$f":"'Конвертация цен'!H174","v":{"v":1031.9399999999998,"d":"1031.94"}},{"$f":"H90-H90*Оглавление!$K$15","v":{"v":1031.9399999999998,"d":"1,031.94"}},null,{"v":0,"d":"0.00"}]
[null,"GK 7GX012002025","Угольник GX с хромированной трубкой (250 мм)",null,"20x15(L-250 мм)",1,50,{"$f":"'Конвертация цен'!H175","v":{"v":1227.9399999999998,"d":"1227.94"}},{"$f":"H91-H91*Оглавление!$K$15","v":{"v":1227.9399999999998,"d":"1,227.94"}},null,{"v":0,"d":"0.00"}]
[null,"GK 7GX019001625","Тройник GX с хромированной трубкой (250 мм)",null,"16x15(L-250 мм)x16",1,50,{"$f":"'Конвертация цен'!H176","v":{"v":1423.9399999999998,"d":"1423.94"}},{"$f":"H92-H92*Оглавление!$K$15","v":{"v":1423.9399999999998,"d":"1,423.94"}},null,{"v":0,"d":"0.00"}]
[null,"GK 7GX019002025","Тройник GX с хромированной трубкой (250 мм)",null,"20x15(L-250 мм)x20",1,50,{"$f":"'Конвертация цен'!H177","v":1614.06},{"$f":"H93-H93*Оглавление!$K$15","v":{"v":1614.06,"d":"1,614.06"}},null,{"v":0,"d":"0.00"}]
[null,"GK 7GX020000016","Заглушка GX 16",null,16,10,500,{"$f":"'Конвертация цен'!H178","v":{"v":122.5,"d":"122.50"}},{"$f":"H94-H94*Оглавление!$K$15","v":{"v":122.5,"d":"122.50"}},null,{"v":0,"d":"0.00"}]
[null,"GK 7GX020000020","Заглушка GX 20",null,20,10,250,{"$f":"'Конвертация цен'!H179","v":{"v":233.23999999999998,"d":"233.24"}},{"$f":"H95-H95*Оглавление!$K$15","v":{"v":233.23999999999998,"d":"233.24"}},null,{"v":0,"d":"0.00"}]
[null,"GK 7GX020000025","Заглушка GX 25",null,25,10,250,{"$f":"'Конвертация цен'!H180","v":{"v":350.84000000000003,"d":"350.84"}},{"$f":"H96-H96*Оглавление!$K$15","v":{"v":350.84000000000003,"d":"350.84"}},null,{"v":0,"d":"0.00"}]
[null,"GK 7GX008001612","Фитинг с накидной гайкой GX 1/2\"E x 16 PEX",null,"1/2\"Ex16 PEX",10,250,{"$f":"'Конвертация цен'!H181","v":{"v":431.20000000000005,"d":"431.20"}},{"$f":"H97-H97*Оглавление!$K$15","v":{"v":431.20000000000005,"d":"431.20"}},null,{"v":0,"d":"0.00"}]
[null,"GK 7GX008001634","Фитинг с накидной гайкой GX 3/4\"E x 16 PEX",null,"3/4\"Ex16 PEX",10,250,{"$f":"'Конвертация цен'!H182","v":{"v":377.3,"d":"377.30"}},{"$f":"H98-H98*Оглавление!$K$15","v":{"v":377.3,"d":"377.30"}},null,{"v":0,"d":"0.00"}]
[null,"GK 7GX008002034","Фитинг с накидной гайкой GX 3/4\"E x 20 PEX",null,"3/4\"Ex20 PEX",10,250,{"$f":"'Конвертация цен'!H183","v":{"v":568.4,"d":"568.40"}},{"$f":"H99-H99*Оглавление!$K$15","v":{"v":568.4,"d":"568.40"}},null,{"v":0,"d":"0.00"}]
[null,"GK 7GX013002034","Переходник для пластиковой трубы с соединением евроконус, 3/4\"E x(16x2,2)",null,"3/4\"E x 16 PEX (16*2,2)",25,250,{"$f":"'Конвертация цен'!H184","v":340.06},{"$f":"H100-H100*Оглавление!$K$15","v":340.06},null,{"v":0,"d":"0.00"}]
[null,"GK 7GX013001634","Переходник для пластиковой трубы с соединением евроконус, 3/4\"E x(20x2,8)",null,"3/4\"E x 20 PEX (20*2,8)",25,250,{"$f":"'Конвертация цен'!H185","v":{"v":402.78000000000003,"d":"402.78"}},{"$f":"H101-H101*Оглавление!$K$15","v":{"v":402.78000000000003,"d":"402.78"}},null,{"v":0,"d":"0.00"}]
[null,"GK 7GX013001534","Переходник для медной трубы с соединением евроконус, 3/4\"E x15",null,"3/4\"E x 15",25,250,{"$f":"'Конвертация цен'!H186","v":{"v":240.10000000000002,"d":"240.10"}},{"$f":"H102-H102*Оглавление!$K$15","v":{"v":240.10000000000002,"d":"240.10"}},null,{"v":0,"d":"0.00"}]

{"sheet":"Шкафы коллекторные","index":4,"n_rows":52,"n_cols":11,"rows_kept":52,"merged":[[3,0,3,7],[5,8,5,10],[14,9,14,10],[15,0,16,0],[15,1,16,1],[15,2,16,3],[15,4,16,4],[15,5,16,5],[15,6,16,6],[15,8,16,8],[15,9,16,9],[15,10,16,10],[17,0,23,0],[17,2,23,3],[36,0,37,0],[36,1,37,1],[36,2,37,3],[36,4,37,4],[36,5,37,5],[36,6,37,6],[36,8,37,8],[36,9,37,9],[36,10,37,10],[38,0,44,0],[38,2,44,3],[45,0,51,0],[45,2,51,3]]}
[]
[]
[]
["Коллекторные шкафы"]
[]
["ШКАФ ВСТРОЕННЫЙ (ШРВ) С НАКЛАДНОЙ ДВЕРЦЕЙ",{"$nulls":7},"На главную страницу"]
["• Страна производства: Россия"]
["• Внутри шкафа установлены передвижные монтажные рейки, к которым крепится оборудование"]
["• Ножки регулируются по высоте до 40мм"]
["• Выдвижная рамка позволяет регулировать глубину от 125 мм до 195 мм"]
["• В боковых стенах корпуса предусмотрена перфорация для удобного пропуска присоединительных трубопроводов"]
["• Корпус шкафа изготовлен из стали толщиной 0,8 мм"]
["• Лицевые поверхности шкафа окрашены порошковой эмалью с предварительной фосфатной подготовкой"]
["• Откидная дверца закрывается на замок"]
[{"$nulls":8},"Итого:",{"$f":"SUM(K18:K24)+SUM(K39:K52)","v":{"v":0,"d":"0.00"}}]
["Фото","Артикул","Наименование товара",null,"Высота х ширина","Вес, кг","Упаковка, шт.","Цена за шт.","Цена со скидкой, RUB","Кол-во, шт.","Сумма со скидкой, RUB"]
[{"$nulls":7},"RUB"]
[null,"GK SHV-0","Шкаф встроенный (ШРВ) с накладной дверцей, регулируемая глубина от 125 до 195 мм",null,"668 x 402",6.77,1,3840.75,{"$f":"H18-H18*Оглавление!$K$16","v":{"v":3840.75,"d":"3,840.75"}},null,{"$f":"J18*I18","v":{"v":0,"d":"0.00"}}]
[null,"GK SHV-1",null,null,"668 x 492",7.45,1,4098.41,{"$f":"H19-H19*Оглавление!$K$16","v":{"v":4098.41,"d":"4,098.41"}},null,{"v":0,"d":"0.00"}]
[null,"GK SHV-2",null,null,"668 x 592",8.15,1,{"v":4770,"d":"4770.00"},{"$f":"H20-H20*Оглавление!$K$16","v":{"v":4770,"d":"4,770.00"}},null,{"v":0,"d":"0.00"}]
[null,"GK SHV-3",null,null,"668 x 742",10.49,1,5865.75,{"$f":"H21-H21*Оглавление!$K$16","v":{"v":5865.75,"d":"5,865.75"}},null,{"v":0,"d":"0.00"}]
[null,"GK SHV-4",null,null,"668 x 892",10.91,1,{"v":6862.5,"d":"6862.50"},{"$f":"H22-H22*Оглавление!$K$17","v":{"v":6862.5,"d":"6,862.50"}},null,{"v":0,"d":"0.00"}]
[null,"GK SHV-5",null,null,"668 x 1042",11.33,1,{"v":7582.5,"d":"7582.50"},{"$f":"H23-H23*Оглавление!$K$17","v":{"v":7582.5,"d":"7,582.50"}},null,{"v":0,"d":"0.00"}]
[null,"GK SHV-6",null,null,"668 x 1192",11.75,1,{"v":8302.5,"d":"8302.50"},{"$f":"H24-H24*Оглавление!$K$17","v":{"v":8302.5,"d":"8,302.50"}},null,{"v":0,"d":"0.00"}]
[]
["ШКАФ НАРУЖНЫЙ (ШРН) С НАКЛАДНОЙ ДВЕРЦЕЙ"]
["• Страна производства: Россия"]
["• Внутри шкафа установлены передвижные монтажные рейки, к которым крепится оборудование"]
["• Ножки регулируются по высоте до 40мм"]
["• Стандартная глубина наружного шкафа 120 мм (GK SHN), увеличенная глубина наружного шкафа 150 мм (GK SHN-150)"]
["• В боковых стенах корпуса предусмотрена перфорация для удобного пропуска присоединительных трубопроводов"]
["• Корпус шкафа изготовлен из стали толщиной 0,8 мм"]
["• Лицевые поверхности шкафа окрашены порошковой эмалью с предварительной фосфатной подготовкой"]
["• Откидная дверца закрывается на замок"]
["• Все шкафы наружного типа оборудованы нижней съемной планкой для удобства монтажа трубопровода"]
[]
["Фото","Артикул","Наименование товара",null,"Высота х ширина","Вес, кг","Упаковка, шт.","Цена за шт.","Цена со скидкой, RUB","Кол-во, шт.","Сумма со скидкой, RUB"]
[{"$nulls":7},"RUB"]
[null,"GK SHN-0","Шкаф наружный (ШРН) с накладной дверцей, стандартная глубина 120 мм",null,"652 x 367",5.2,1,{"v":3217.5,"d":"3217.50"},{"$f":"H39-H39*Оглавление!$K$16","v":{"v":3217.5,"d":"3,217.50"}},null,{"$f":"J39*I39","v":{"v":0,"d":"0.00"}}]
[null,"GK SHN-1",null,null,"652 x 457",6.55,1,3881.82,{"$f":"H40-H40*Оглавление!$K$16","v":{"v":3881.82,"d":"3,881.82"}},null,{"$f":"J40*I40","v":{"v":0,"d":"0.00"}}]
[null,"GK SHN-2",null,null,"652 x 557",6.65,1,4154.81,{"$f":"H41-H41*Оглавление!$K$16","v":{"v":4154.81,"d":"4,154.81"}},null,{"v":0,"d":"0.00"}]
[null,"GK SHN-3",null,null,"652 x 707",7.3,1,{"v":4954.2,"d":"4954.20"},{"$f":"H42-H42*Оглавление!$K$16","v":{"v":4954.2,"d":"4,954.20"}},null,{"v":0,"d":"0.00"}]
[null,"GK SHN-4",null,null,"652 x 857",8.25,1,5898.96,{"$f":"H43-H43*Оглавление!$K$16","v":{"v":5898.96,"d":"5,898.96"}},null,{"v":0,"d":"0.00"}]
[null,"GK SHN-5",null,null,"652 x 1007",9.04,1,6716.01,{"$f":"H44-H44*Оглавление!$K$16","v":{"v":6716.01,"d":"6,716.01"}},null,{"v":0,"d":"0.00"}]
[null,"GK SHN-6","Трехходовой фитинг для установки в поток датчика температуры",null,"652 x 1157",9.71,1,7933.47,{"$f":"H45-H45*Оглавление!$K$16","v":{"v":7933.47,"d":"7,933.47"}},null,{"v":0,"d":"0.00"}]
[null,"GK SHN-150-0","Шкаф наружный (ШРН) с накладной дверцей, увеличенная глубина 150 мм",null,"652 x 367",5.5,1,{"v":3712.5,"d":"3712.50"},{"$f":"H46-H46*Оглавление!$K$16","v":{"v":3712.5,"d":"3,712.50"}},null,{"v":0,"d":"0.00"}]
[null,"GK SHN-150-1",null,null,"652 x 457",6.37,1,{"v":4185,"d":"4185.00"},{"$f":"H47-H47*Оглавление!$K$16","v":{"v":4185,"d":"4,185.00"}},null,{"v":0,"d":"0.00"}]
[null,"GK SHN-150-2",null,null,"652 x 557",7.01,1,4538.48,{"$f":"H48-H48*Оглавление!$K$16","v":{"v":4538.48,"d":"4,538.48"}},null,{"v":0,"d":"0.00"}]
[null,"GK SHN-150-3",null,null,"652 x 707",7.91,1,5496.32,{"$f":"H49-H49*Оглавление!$K$16","v":{"v":5496.32,"d":"5,496.32"}},null,{"v":0,"d":"0.00"}]
[null,"GK SHN-150-4",null,null,"652 x 857",9.01,1,{"v":6304.5,"d":"6304.50"},{"$f":"H50-H50*Оглавление!$K$16","v":{"v":6304.5,"d":"6,304.50"}},null,{"v":0,"d":"0.00"}]
[null,"GK SHN-150-5",null,null,"652 x 1007",10.26,1,7543.42,{"$f":"H51-H51*Оглавление!$K$16","v":{"v":7543.42,"d":"7,543.42"}},null,{"v":0,"d":"0.00"}]
[null,"GK SHN-150-6","Трехходовой фитинг для установки в поток датчика температуры",null,"652 x 1157",10.81,1,8340.75,{"$f":"H52-H52*Оглавление!$K$16","v":{"v":8340.75,"d":"8,340.75"}},null,{"v":0,"d":"0.00"}]

{"sheet":"Узлы ТП, коллекторы","index":5,"n_rows":112,"n_cols":11,"rows_kept":112,"merged":[[3,0,5,6],[5,8,5,10],[18,9,18,10],[19,0,20,0],[19,1,20,1],[19,2,20,3],[19,4,20,4],[19,5,20,5],[19,6,20,6],[19,8,20,8],[19,9,20,9],[19,10,20,10],[21,2,21,3],[22,2,22,3],[23,2,23,3],[24,2,24,3],[37,0,38,0],[37,1,38,1],[37,2,38,3],[37,4,38,4],[37,5,38,5],[37,6,38,6],[37,8,38,8],[37,9,38,9],[37,10,38,10],[39,2,39,3],[40,2,40,3],[51,0,52,0],[51,1,52,1],[51,2,52,3],[51,4,52,4],[51,5,52,5],[51,6,52,6],[51,8,52,8],[51,9,52,9],[51,10,52,10],[53,0,63,0],[53,2,63,3],[64,0,74,0],[64,2,74,3],[75,0,85,0],[75,2,85,3],[86,0,96,0],[86,2,96,3],[100,0,101,0],[100,1,101,1],[100,2,101,3],[100,4,101,4],[100,5,101,5],[100,6,101,6],[100,8,101,8],[100,9,101,9],[100,10,101,10],[102,2,102,3],[103,2,103,3],[104,2,104,3],[105,0,106,0],[105,2,105,3],[106,2,106,3],[107,0,108,0],[107,2,108,3],[109,2,109,3],[110,2,110,3],[111,2,111,3]]}
[]
[]
[]
["Смесительные узлы и комплектующие для напольного отопления, коллекторные блоки и комплектующие"]
[]
[{"$nulls":8},"На главную страницу"]
[]
["НАСОСНО-СМЕСИТЕЛЬНЫЕ УЗЛЫ НА ОСНОВЕ ТЕРМОСТАТИЧЕСКОГО СМЕСИТЕЛЯ"]
["• Номинальное давление: 10 бар"]
["• Макс. температура потока на входе смесителя: 110° C"]
["• Температура смешанного потока: 20°C- 45°C"]
["• Материал корпуса латунь CW617N"]
["• Монтажная длина насоса: без установленной байпасной линии - 130 / 180 мм, с байпасной линией - 130 мм"]
["• При установке с коллекторами Gekon монтажная длина насоса - 130 мм"]
["• Расстояние между коллекторами: 210 ÷ 240 мм"]
["• Присоединение к распределительному коллектору: эксцентрик 30 мм, 1\"НР, присоединение к трубопроводу СО: 1\"НР"]
["• Смесительный узел укомплектован Термометром и ручным воздухоотводчиком, имеет возможность установки предохранительного термостата"]
["• Смесительный узел поставляется без насоса"]
[{"$nulls":8},"Итого:",{"$f":"SUM(K22:K25)+SUM(K40:K41)+SUM(K54:K97)+SUM(K103:K112)","v":{"v":0,"d":"0.00"}}]
["Фото","Артикул","Наименование товара",null,"Присоединение к ТП","Упаковка, шт.","Коробка, шт.","Цена за шт.","Цена со скидкой, RUB","Кол-во, шт.","Сумма со скидкой, RUB"]
[{"$nulls":7},"RUB"]
[null,"GK 7686-F30","Насосно-смесительнаый узел для напольного отопления по фиксированной температуре смешения",null,"1\"",1,20,{"$f":"'Конвертация цен'!H214","v":{"v":14949.900000000001,"d":"14949.90"}},{"$f":"H22-H22*Оглавление!$K$17","v":{"v":14949.900000000001,"d":"14,949.90"}},null,{"$f":"J22*I22","v":{"v":0,"d":"0.00"}}]
[null,"GK 7686G-F30","Насосно-смесительная группа для напольного отопления по фиксированной температуре смешения c фитингом для подключения байпаса и накидной гайкой для насоса G1",null,"1\"",1,20,{"$f":"'Конвертация цен'!H215","v":{"v":19698,"d":"19698.00"}},{"$f":"H23-H23*Оглавление!$K$17","v":{"v":19698,"d":"19,698.00"}},null,{"v":0,"d":"0.00"}]
[null,"GK 7686G-F3","Насосно-смесительная группа для напольного отопления по фиксированной температуре смешения c фитингом для подключения байпаса и накидной гайкой для насоса G1 ½",null,"1\"",1,20,{"$f":"'Конвертация цен'!H216","v":{"v":19698,"d":"19698.00"}},{"$f":"H24-H24*Оглавление!$K$17","v":{"v":19698,"d":"19,698.00"}},null,{"v":0,"d":"0.00"}]
[null,"GK 7686901","Байпасная линия для узлов GK 7686G-F30, GK 7686G-F3 (диапазон 0÷0.5 бар, Kvs 5,0 м3/ч, Межосевое расстояние 210 мм)",null,"1/2\"",1,20,{"$f":"'Конвертация цен'!H217","v":5412.54},{"$f":"H25-H25*Оглавление!$K$17","v":{"v":5412.54,"d":"5,412.54"}},null,{"v":0,"d":"0.00"}]
[]
["  НАСОСНО-СМЕСИТЕЛЬНЫЙ УЗЕЛ НА ОСНОВЕ ТЕРМОСТАТИЧЕСКОГО КЛАПАНА С ДАТЧИКОМ ТЕМПЕРАТУРЫ"]
["• Номинальное давление: 6 бар"]
["• Макс. температура потока на входе смесителя: 95° C"]
["• Температура смешанного потока: 20°C- 60°C"]
["• Материал корпуса латунь CW617N"]
["• При установке с коллекторами Gekon монтажная длина насоса - 130 мм"]
["• Расстояние между коллекторами: 277 мм"]
["• Присоединение к распределительному коллектору: 1\"НР, присоединение к трубопроводу СО: 3/4\"НР, присоединение насоса: 1 1/2\" ВР"]
["• Смесительный узел укомплектован термостатической головкой с выносным датчиком температуры"]
["• Смесительный узел поставляется без насоса"]
[]
["Фото","Артикул","Наименование товара",null,"Присоединение к ТП","Упаковка, шт.","Коробка, шт.","Цена за шт.","Цена со скидкой, RUB","Кол-во, шт.","Сумма со скидкой, RUB"]
[{"$nulls":7},"RUB"]
[null,"GK 7685","Насосно-смесительный узел для напольного отопления с термостатической головкой",null,"3/4\"",1,20,{"$f":"'Конвертация цен'!H218","v":12493.04},{"$f":"H40-H40*Оглавление!$K$17","v":{"v":12493.04,"d":"12,493.04"}},null,{"$f":"J40*I40","v":{"v":0,"d":"0.00"}}]
[null,"GK 714R","Трехходовой фитинг для установки в поток датчика температуры",null,"1\"",10,10,{"$f":"'Конвертация цен'!H219","v":{"v":2273.6,"d":"2273.60"}},{"$f":"H41-H41*Оглавление!$K$17","v":{"v":2273.6,"d":"2,273.60"}},null,{"$f":"J41*I41","v":{"v":0,"d":"0.00"}}]
[]
["КОЛЛЕКТОРНЫЕ БЛОКИ ДЛЯ НАПОЛЬНОГО И РАДИАТОРНОГО ОТОПДЛЕНИЯ"]
["• Номинальное давление: 6 бар (GK 721, GK 741), 10 бар (GK 731, GK 751)"]
["• Макс. рабочая температура: 82 °С (GK 721, GK 741), 100 °С (GK 731, GK 751)"]
["• Материал коллектора нержавеющая сталь AISI 304"]
["• Номинальный диаметр коллектора DN 25 (присоединение 1\" ВР), отводы DN 20 (присоединение 3/4\" НР, Евроконус)"]
["• Коллектор подающий с расходомерами (GK 721, GK 741), с микрометрическими вентилями (GK 731, GK 751);  коллектор обратный с термоклапанами"]
["• Максимальное дифференциальное давление: 1 бар"]
["• Межосевое расстояние между выходами 50мм"]
[]
["Фото","Артикул","Наименование товара",null,"Присоединение к ТП","Упаковка, шт.","Коробка, шт.","Цена за шт.","Цена со скидкой, RUB","Кол-во, шт.","Сумма со скидкой, RUB"]
[{"$nulls":7},"RUB"]
[null,"GK 72102","Коллекторный блок с расходомерами, термостатическими клапанами и ручными воздухоотводчиками",null,"1\"x3/4\"х2",1,1,{"$f":"'Конвертация цен'!H220","v":9370.76},{"$f":"H54-H54*Оглавление!$K$18","v":{"v":9370.76,"d":"9,370.76"}},null,{"v":0,"d":"0.00"}]
[null,"GK 72103",null,null,"1\"x3/4\"х3",1,1,{"$f":"'Конвертация цен'!H221","v":11507.16},{"$f":"H55-H55*Оглавление!$K$18","v":{"v":11507.16,"d":"11,507.16"}},null,{"v":0,"d":"0.00"}]
[null,"GK 72104",null,null,"1\"x3/4\"х4",1,1,{"$f":"'Конвертация цен'!H222","v":13667.08},{"$f":"H56-H56*Оглавление!$K$18","v":{"v":13667.08,"d":"13,667.08"}},null,{"v":0,"d":"0.00"}]
[null,"GK 72105",null,null,"1\"x3/4\"х5",1,1,{"$f":"'Конвертация цен'!H223","v":{"v":16121,"d":"16121.00"}},{"$f":"H57-H57*Оглавление!$K$18","v":{"v":16121,"d":"16,121.00"}},null,{"v":0,"d":"0.00"}]
[null,"GK 72106",null,null,"1\"x3/4\"х6",1,1,{"$f":"'Конвертация цен'!H224","v":{"v":18286.8,"d":"18286.80"}},{"$f":"H58-H58*Оглавление!$K$18","v":{"v":18286.8,"d":"18,286.80"}},null,{"v":0,"d":"0.00"}]
[null,"GK 72107",null,null,"1\"x3/4\"х7",1,1,{"$f":"'Конвертация цен'!H225","v":21188.58},{"$f":"H59-H59*Оглавление!$K$18","v":{"v":21188.58,"d":"21,188.58"}},null,{"v":0,"d":"0.00"}]
[null,"GK 72108",null,null,"1\"x3/4\"х8",1,1,{"$f":"'Конвертация цен'!H226","v":23722.86},{"$f":"H60-H60*Оглавление!$K$18","v":{"v":23722.86,"d":"23,722.86"}},null,{"v":0,"d":"0.00"}]
[null,"GK 72109",null,null,"1\"x3/4\"х9",1,1,{"$f":"'Конвертация цен'!H227","v":26013.12},{"$f":"H61-H61*Оглавление!$K$18","v":{"v":26013.12,"d":"26,013.12"}},null,{"v":0,"d":"0.00"}]
[null,"GK 72110",null,null,"1\"x3/4\"х10",1,1,{"$f":"'Конвертация цен'!H228","v":28510.16},{"$f":"H62-H62*Оглавление!$K$18","v":{"v":28510.16,"d":"28,510.16"}},null,{"v":0,"d":"0.00"}]
[null,"GK 72111",null,null,"1\"x3/4\"х11",1,1,{"$f":"'Конвертация цен'!H229","v":30793.56},{"$f":"H63-H63*Оглавление!$K$18","v":{"v":30793.56,"d":"30,793.56"}},null,{"v":0,"d":"0.00"}]
[null,"GK 72112",null,null,"1\"x3/4\"х12",1,1,{"$f":"'Конвертация цен'!H230","v":{"v":33035.8,"d":"33035.80"}},{"$f":"H64-H64*Оглавление!$K$18","v":{"v":33035.8,"d":"33,035.80"}},null,{"v":0,"d":"0.00"}]
[null,"GK 73102","Коллекторный блок с микрометрическими вентилями, термостатическими клапанами и ручными воздухоотводчиками",null,"1\"x3/4\"х2",1,1,{"$f":"'Конвертация цен'!H231","v":{"v":9745.119999999999,"d":"9745.12"}},{"$f":"H65-H65*Оглавление!$K$18","v":{"v":9745.119999999999,"d":"9,745.12"}},null,{"v":0,"d":"0.00"}]
[null,"GK 73103",null,null,"1\"x3/4\"х3",1,1,{"$f":"'Конвертация цен'!H232","v":11478.74},{"$f":"H66-H66*Оглавление!$K$18","v":{"v":11478.74,"d":"11,478.74"}},null,{"v":0,"d":"0.00"}]
[null,"GK 73104",null,null,"1\"x3/4\"х4",1,1,{"$f":"'Конвертация цен'!H233","v":{"v":13230,"d":"13230.00"}},{"$f":"H67-H67*Оглавление!$K$18","v":{"v":13230,"d":"13,230.00"}},null,{"v":0,"d":"0.00"}]
[null,"GK 73105",null,null,"1\"x3/4\"х5",1,1,{"$f":"'Конвертация цен'!H234","v":15218.42},{"$f":"H68-H68*Оглавление!$K$18","v":{"v":15218.42,"d":"15,218.42"}},null,{"v":0,"d":"0.00"}]
[null,"GK 73106",null,null,"1\"x3/4\"х6",1,1,{"$f":"'Конвертация цен'!H235","v":17079.44},{"$f":"H69-H69*Оглавление!$K$18","v":{"v":17079.44,"d":"17,079.44"}},null,{"v":0,"d":"0.00"}]
[null,"GK 73107",null,null,"1\"x3/4\"х7",1,1,{"$f":"'Конвертация цен'!H236","v":{"v":19374.6,"d":"19374.60"}},{"$f":"H70-H70*Оглавление!$K$18","v":{"v":19374.6,"d":"19,374.60"}},null,{"v":0,"d":"0.00"}]
[null,"GK 73108",null,null,"1\"x3/4\"х8",1,1,{"$f":"'Конвертация цен'!H237","v":21454.16},{"$f":"H71-H71*Оглавление!$K$18","v":{"v":21454.16,"d":"21,454.16"}},null,{"v":0,"d":"0.00"}]
[null,"GK 73109",null,null,"1\"x3/4\"х9",1,1,{"$f":"'Конвертация цен'!H238","v":{"v":23275,"d":"23275.00"}},{"$f":"H72-H72*Оглавление!$K$18","v":{"v":23275,"d":"23,275.00"}},null,{"v":0,"d":"0.00"}]
[null,"GK 73110",null,null,"1\"x3/4\"х10",1,1,{"$f":"'Конвертация цен'!H239","v":25326.14},{"$f":"H73-H73*Оглавление!$K$18","v":{"v":25326.14,"d":"25,326.14"}},null,{"v":0,"d":"0.00"}]
[null,"GK 73111",null,null,"1\"x3/4\"х11",1,1,{"$f":"'Конвертация цен'!H240","v":{"v":27126.4,"d":"27126.40"}},{"$f":"H74-H74*Оглавление!$K$18","v":{"v":27126.4,"d":"27,126.40"}},null,{"v":0,"d":"0.00"}]
[null,"GK 73112",null,null,"1\"x3/4\"х12",1,1,{"$f":"'Конвертация цен'!H241","v":{"v":28899.219999999998,"d":"28899.22"}},{"$f":"H75-H75*Оглавление!$K$18","v":{"v":28899.219999999998,"d":"28,899.22"}},null,{"v":0,"d":"0.00"}]
[null,"GK 74102","Коллекторный блок с расходомерами, термостатическими клапанами без воздухоотводчиков                                                           ",null,"1\"x3/4\"х2",1,1,{"$f":"'Конвертация цен'!H242","v":{"v":8114.4,"d":"8114.40"}},{"$f":"H76-H76*Оглавление!$K$18","v":{"v":8114.4,"d":"8,114.40"}},null,{"v":0,"d":"0.00"}]
[null,"GK 74103",null,null,"1\"x3/4\"х3",1,1,{"$f":"'Конвертация цен'!H243","v":10254.72},{"$f":"H77-H77*Оглавление!$K$18","v":{"v":10254.72,"d":"10,254.72"}},null,{"v":0,"d":"0.00"}]
[null,"GK 74104",null,null,"1\"x3/4\"х4",1,1,{"$f":"'Конвертация цен'!H244","v":12412.68},{"$f":"H78-H78*Оглавление!$K$18","v":{"v":12412.68,"d":"12,412.68"}},null,{"v":0,"d":"0.00"}]
[null,"GK 74105",null,null,"1\"x3/4\"х5",1,1,{"$f":"'Конвертация цен'!H245","v":14862.68},{"$f":"H79-H79*Оглавление!$K$18","v":{"v":14862.68,"d":"14,862.68"}},null,{"v":0,"d":"0.00"}]
[null,"GK 74106",null,null,"1\"x3/4\"х6",1,1,{"$f":"'Конвертация цен'!H246","v":17028.48},{"$f":"H80-H80*Оглавление!$K$18","v":{"v":17028.48,"d":"17,028.48"}},null,{"v":0,"d":"0.00"}]
[null,"GK 74107",null,null,"1\"x3/4\"х7",1,1,{"$f":"'Конвертация цен'!H247","v":{"v":19932.219999999998,"d":"19932.22"}},{"$f":"H81-H81*Оглавление!$K$18","v":{"v":19932.219999999998,"d":"19,932.22"}},null,{"v":0,"d":"0.00"}]
[null,"GK 74108",null,null,"1\"x3/4\"х8",1,1,{"$f":"'Конвертация цен'!H248","v":{"v":22466.5,"d":"22466.50"}},{"$f":"H82-H82*Оглавление!$K$18","v":{"v":22466.5,"d":"22,466.50"}},null,{"v":0,"d":"0.00"}]
[null,"GK 74109",null,null,"1\"x3/4\"х9",1,1,{"$f":"'Конвертация цен'!H249","v":{"v":24757.739999999998,"d":"24757.74"}},{"$f":"H83-H83*Оглавление!$K$18","v":{"v":24757.739999999998,"d":"24,757.74"}},null,{"v":0,"d":"0.00"}]
[null,"GK 74110",null,null,"1\"x3/4\"х10",1,1,{"$f":"'Конвертация цен'!H250","v":27251.84},{"$f":"H84-H84*Оглавление!$K$18","v":{"v":27251.84,"d":"27,251.84"}},null,{"v":0,"d":"0.00"}]
[null,"GK 74111",null,null,"1\"x3/4\"х11",1,1,{"$f":"'Конвертация цен'!H251","v":{"v":29536.219999999998,"d":"29536.22"}},{"$f":"H85-H85*Оглавление!$K$18","v":{"v":29536.219999999998,"d":"29,536.22"}},null,{"v":0,"d":"0.00"}]
[null,"GK 74112",null,null,"1\"x3/4\"х12",1,1,{"$f":"'Конвертация цен'!H252","v":31777.48},{"$f":"H86-H86*Оглавление!$K$18","v":{"v":31777.48,"d":"31,777.48"}},null,{"v":0,"d":"0.00"}]
[null,"GK 75102","Коллекторный блок с микрометрическими вентилями, термостатическими клапанами без воздухоотводчиков",null,"1\"x3/4\"х2",1,1,{"$f":"'Конвертация цен'!H253","v":{"v":7252.9800000000005,"d":"7252.98"}},{"$f":"H87-H87*Оглавление!$K$18","v":{"v":7252.9800000000005,"d":"7,252.98"}},null,{"v":0,"d":"0.00"}]
[null,"GK 75103",null,null,"1\"x3/4\"х3",1,1,{"$f":"'Конвертация цен'!H254","v":8988.56},{"$f":"H88-H88*Оглавление!$K$18","v":{"v":8988.56,"d":"8,988.56"}},null,{"v":0,"d":"0.00"}]
[null,"GK 75104",null,null,"1\"x3/4\"х4",1,1,{"$f":"'Конвертация цен'!H255","v":{"v":10736.880000000001,"d":"10736.88"}},{"$f":"H89-H89*Оглавление!$K$18","v":{"v":10736.880000000001,"d":"10,736.88"}},null,{"v":0,"d":"0.00"}]
[null,"GK 75105",null,null,"1\"x3/4\"х5",1,1,{"$f":"'Конвертация цен'!H256","v":12731.18},{"$f":"H90-H90*Оглавление!$K$18","v":{"v":12731.18,"d":"12,731.18"}},null,{"v":0,"d":"0.00"}]
[null,"GK 75106",null,null,"1\"x3/4\"х6",1,1,{"$f":"'Конвертация цен'!H257","v":14588.28},{"$f":"H91-H91*Оглавление!$K$18","v":{"v":14588.28,"d":"14,588.28"}},null,{"v":0,"d":"0.00"}]
[null,"GK 75107",null,null,"1\"x3/4\"х7",1,1,{"$f":"'Конвертация цен'!H258","v":{"v":16880.5,"d":"16880.50"}},{"$f":"H92-H92*Оглавление!$K$18","v":{"v":16880.5,"d":"16,880.50"}},null,{"v":0,"d":"0.00"}]
[null,"GK 75108",null,null,"1\"x3/4\"х8",1,1,{"$f":"'Конвертация цен'!H259","v":18963.98},{"$f":"H93-H93*Оглавление!$K$18","v":{"v":18963.98,"d":"18,963.98"}},null,{"v":0,"d":"0.00"}]
[null,"GK 75109",null,null,"1\"x3/4\"х9",1,1,{"$f":"'Конвертация цен'!H260","v":{"v":21178.780000000002,"d":"21178.78"}},{"$f":"H94-H94*Оглавление!$K$18","v":{"v":21178.780000000002,"d":"21,178.78"}},null,{"v":0,"d":"0.00"}]
[null,"GK 75110",null,null,"1\"x3/4\"х10",1,1,{"$f":"'Конвертация цен'!H261","v":22833.02},{"$f":"H95-H95*Оглавление!$K$18","v":{"v":22833.02,"d":"22,833.02"}},null,{"v":0,"d":"0.00"}]
[null,"GK 75111",null,null,"1\"x3/4\"х11",1,1,{"$f":"'Конвертация цен'!H262","v":{"v":25102.699999999997,"d":"25102.70"}},{"$f":"H96-H96*Оглавление!$K$18","v":{"v":25102.699999999997,"d":"25,102.70"}},null,{"v":0,"d":"0.00"}]
[null,"GK 75112",null,null,"1\"x3/4\"х12",1,1,{"$f":"'Конвертация цен'!H263","v":{"v":27665.4,"d":"27665.40"}},{"$f":"H97-H97*Оглавление!$K$18","v":{"v":27665.4,"d":"27,665.40"}},null,{"v":0,"d":"0.00"}]
[]
["КОМПЛЕКТУЮЩИЕ ДЛЯ КОЛЛЕКТОРОВ НАПОЛЬНОГО И РАДИАТОРНОГО ОТПЛЕНИЯ"]
[]
["Фото","Артикул","Наименование товара",null,"Присоединение к ТП","Упаковка, шт.","Коробка, шт.","Цена за шт.","Цена со скидкой, RUB","Кол-во, шт.","Сумма со скидкой, RUB"]
[{"$nulls":7},"RUB"]
[null,"GK 7590","Комплект коллекторных фитингов со сливным краном и ручным воздухоотводчиком",null,"1\"",1,18,{"$f":"'Конвертация цен'!H264","v":3089.94},{"$f":"H103-H103*Оглавление!$K$17","v":{"v":3089.94,"d":"3,089.94"}},null,{"v":0,"d":"0.00"}]
[null,"GK 7591","Комплект коллекторных фитингов со сливным краном и автоматическим воздухоотводчиком",null,"1\"",1,15,{"$f":"'Конвертация цен'!H265","v":4028.7799999999997},{"$f":"H104-H104*Оглавление!$K$17","v":{"v":4028.7799999999997,"d":"4,028.78"}},null,{"v":0,"d":"0.00"}]
[null,"GK 79115","Латунный расходомер для коллекторных блоков напольного и радиаторного отопления",null,"1/2\"",1,10,{"$f":"'Конвертация цен'!H266","v":869.2599999999999},{"$f":"H105-H105*Оглавление!$K$17","v":{"v":869.2599999999999,"d":"869.26"}},null,{"v":0,"d":"0.00"}]
[null,"GK 1903N","Электротермическая головка 230В, нормально закрытая ",null,"М30х1,5",1,60,{"$f":"'Конвертация цен'!H267","v":2963.52},{"$f":"H106-H106*Оглавление!$K$17","v":{"v":2963.52,"d":"2,963.52"}},null,{"v":0,"d":"0.00"}]
[null,"GK 1904N","Электротермическая головка 24В, нормально закрытая ",null,"М30х1,5",1,60,{"$f":"'Конвертация цен'!H268","v":3104.64},{"$f":"H107-H107*Оглавление!$K$17","v":{"v":3104.64,"d":"3,104.64"}},null,{"v":0,"d":"0.00"}]
[null,"GK 71602","Концовка для металлопластиковых труб и труб РЕХ, 3/4\" Евроконус",null,"16*2 x 3/4\"",30,30,{"$f":"'Конвертация цен'!H269","v":284.2},{"$f":"H108-H108*Оглавление!$K$17","v":{"v":284.2,"d":"284.20"}},null,{"v":0,"d":"0.00"}]
[null,"GK 72002",null,null,"20*2 x 3/4\"",30,30,{"$f":"'Конвертация цен'!H270","v":433.15999999999997},{"$f":"H109-H109*Оглавление!$K$17","v":{"v":433.15999999999997,"d":"433.16"}},null,{"v":0,"d":"0.00"}]
[null,"GK 79181","Комплект (2 шт) шаровых кранов для коллекторов: с \"американкой\", термометром и отводом для температурного зонда, ручки - красная и синяя \"бабочка\"",null,"1\"",1,10,{"$f":"'Конвертация цен'!H271","v":7074.62},{"$f":"H110-H110*Оглавление!$K$17","v":{"v":7074.62,"d":"7,074.62"}},null,{"v":0,"d":"0.00"}]
[null,"GK 7534","Группа безопасности бойлера с прямым сливом, рабочее давление 10 бар, давление настройки предохранительного клапана 7 ± 0,1 бар",null,"3/4\"",1,15,{"$f":"'Конвертация цен'!H272","v":4628.54},{"$f":"H111-H111*Оглавление!$K$17","v":{"v":4628.54,"d":"4,628.54"}},null,{"v":0,"d":"0.00"}]
[null,"GK 7535","Группа безопасности бойлера с угловых сливом, рабочее давление 10 бар, давление настройки предохранительного клапана 7 ± 0,1 бар",null,"3/4\"",1,15,{"$f":"'Конвертация цен'!H273","v":6121.08},{"$f":"H112-H112*Оглавление!$K$17","v":{"v":6121.08,"d":"6,121.08"}},null,{"$f":"J112*I112","v":{"v":0,"d":"0.00"}}]

{"sheet":"Клапаны для отоп.приборов","index":6,"n_rows":41,"n_cols":13,"rows_kept":41,"merged":[[3,0,3,8],[4,8,4,10],[6,11,6,12],[7,0,8,0],[7,1,8,1],[7,2,8,4],[7,5,8,5],[7,6,8,6],[7,7,8,7],[7,8,8,8],[7,10,8,10],[7,11,8,11],[7,12,8,12],[9,2,9,4],[10,2,10,4],[11,0,12,0],[11,2,12,4],[13,0,14,0],[13,2,14,4],[15,0,16,0],[15,2,16,4],[17,0,18,0],[17,2,18,4],[19,2,19,4],[20,2,20,4],[21,0,22,0],[21,2,22,4],[23,0,24,0],[23,2,24,4],[25,2,25,4],[29,0,30,0],[29,1,30,1],[29,2,30,4],[29,5,30,5],[29,6,30,6],[29,7,30,7],[29,8,30,8],[29,10,30,10],[29,11,30,11],[29,12,30,12],[31,2,31,4],[32,2,32,4],[36,0,37,0],[36,1,37,1],[36,2,37,4],[36,5,37,5],[36,6,37,6],[36,7,37,7],[36,8,37,8],[36,10,37,10],[36,11,37,11],[36,12,37,12],[38,2,38,4],[39,2,39,4],[40,2,40,4]]}
[]
[]
[]
["Клапаны для отопительных приборов"]
[{"$nulls":8},"На главную страницу"]
["РАДИАТОРНЫЕ УЗЛЫ ПОДКЛЮЧЕНИЯ И КЛАПАНЫ"]
[{"$nulls":10},"Итого:",{"$f":"SUM(M10:M26)+SUM(M32:M33)+SUM(M39:M41)","v":{"v":0,"d":"0.00"}}]
["Фото","Артикул","Наименование товара",null,null,"Размер","Вес, г","Упаковка, шт.","Коробка, шт.","Цена за шт.","Цена со скидкой, RUB","Кол-во, шт.","Сумма со скидкой, RUB"]
[{"$nulls":9},"RUB"]
[null,"GK 7423","Узел нижнего подключения для стальных панельных радиаторов в двухтрубных системах прямой, с ручным управлением",null,null,"3/4\"",291,5,50,{"$f":"'Конвертация цен'!H277","v":{"v":1393.5600000000002,"d":"1393.56"}},{"$f":"J10-J10*Оглавление!$K$19","v":{"v":1393.5600000000002,"d":"1393.56"}},null,{"$f":"L10*K10","v":{"v":0,"d":"0.00"}}]
[null,"GK 7421","Узел нижнего подключения для стальных панельных радиаторов в двухтрубных системах угловой, с ручным управлением",null,null,"3/4\"",323,5,50,{"$f":"'Конвертация цен'!H278","v":{"v":1302.4199999999998,"d":"1302.42"}},{"$f":"J11-J11*Оглавление!$K$19","v":{"v":1302.4199999999998,"d":"1302.42"}},null,{"v":0,"d":"0.00"}]
[null,"GK 7400 12","Клапан запорный прямой",null,null,"1/2\"",178,1,50,{"$f":"'Конвертация цен'!H279","v":791.84},{"$f":"J12-J12*Оглавление!$K$19","v":791.84},null,{"$f":"L12*K12","v":{"v":0,"d":"0.00"}}]
[null,"GK 7400 34",{"$nulls":3},"3/4\"",198,5,50,{"$f":"'Конвертация цен'!H280","v":{"v":1193.6399999999999,"d":"1193.64"}},{"$f":"J13-J13*Оглавление!$K$19","v":{"v":1193.6399999999999,"d":"1193.64"}},null,{"$f":"L13*K13","v":{"v":0,"d":"0.00"}}]
[null,"GK 7200 12","Клапан запорный угловой",null,null,"1/2\"",164,1,50,{"$f":"'Конвертация цен'!H281","v":682.08},{"$f":"J14-J14*Оглавление!$K$19","v":682.08},null,{"$f":"L14*K14","v":{"v":0,"d":"0.00"}}]
[null,"GK 7200 34",{"$nulls":3},"3/4\"",184,5,50,{"$f":"'Конвертация цен'!H282","v":{"v":1082.9,"d":"1082.90"}},{"$f":"J15-J15*Оглавление!$K$19","v":{"v":1082.9,"d":"1082.90"}},null,{"$f":"L15*K15","v":{"v":0,"d":"0.00"}}]
[null,"GK 7350 12","Клапан регулирующий прямой",null,null,"1/2\"",255,1,50,{"$f":"'Конвертация цен'!H283","v":882.98},{"$f":"J16-J16*Оглавление!$K$19","v":882.98},null,{"$f":"L16*K16","v":{"v":0,"d":"0.00"}}]
[null,"GK 7350 34",{"$nulls":3},"3/4\"",346,5,50,{"$f":"'Конвертация цен'!H284","v":1552.32},{"$f":"J17-J17*Оглавление!$K$19","v":1552.32},null,{"v":0,"d":"0.00"}]
[null,"GK 7150 12","Клапан регулирующий угловой",null,null,"1/2\"",229,1,50,{"$f":"'Конвертация цен'!H285","v":802.62},{"$f":"J18-J18*Оглавление!$K$19","v":802.62},null,{"v":0,"d":"0.00"}]
[null,"GK 7150 34",{"$nulls":3},"3/4\"",337,5,50,{"$f":"'Конвертация цен'!H286","v":1459.22},{"$f":"J19-J19*Оглавление!$K$19","v":1459.22},null,{"v":0,"d":"0.00"}]
[null,"GK 7355 12","Клапан регулирующий прямой компактной серии",null,null,"1/2\"",196,5,50,{"$f":"'Конвертация цен'!H287","v":801.64},{"$f":"J20-J20*Оглавление!$K$19","v":801.64},null,{"v":0,"d":"0.00"}]
[null,"GK 7155 12","Клапан регулирующий угловой компактной серии",null,null,"1/2\"",183,10,100,{"$f":"'Конвертация цен'!H288","v":711.48},{"$f":"J21-J21*Оглавление!$K$19","v":711.48},null,{"v":0,"d":"0.00"}]
[null,"GK 7640 12","Клапан терморегулирующий прямой",null,null,"1/2\"",193,1,50,{"$f":"'Конвертация цен'!H289","v":{"v":1122.1,"d":"1122.10"}},{"$f":"J22-J22*Оглавление!$K$19","v":{"v":1122.1,"d":"1122.10"}},null,{"v":0,"d":"0.00"}]
[null,"GK 7640 34",{"$nulls":3},"3/4\"",271,5,50,{"$f":"'Конвертация цен'!H290","v":{"v":1378.8600000000001,"d":"1378.86"}},{"$f":"J23-J23*Оглавление!$K$19","v":{"v":1378.8600000000001,"d":"1378.86"}},null,{"v":0,"d":"0.00"}]
[null,"GK 7620 12","Клапан терморегулирующий угловой",null,null,"1/2\"",196,1,50,{"$f":"'Конвертация цен'!H291","v":{"v":994.7,"d":"994.70"}},{"$f":"J24-J24*Оглавление!$K$19","v":{"v":994.7,"d":"994.70"}},null,{"v":0,"d":"0.00"}]
[null,"GK 7620 34",{"$nulls":3},"3/4\"",268,5,50,{"$f":"'Конвертация цен'!H292","v":{"v":1271.0600000000002,"d":"1271.06"}},{"$f":"J25-J25*Оглавление!$K$19","v":{"v":1271.0600000000002,"d":"1271.06"}},null,{"v":0,"d":"0.00"}]
[null,"GK 7625 12","Клапан терморегулирующий   осевой",null,null,"1/2\"",217,1,50,{"$f":"'Конвертация цен'!H293","v":{"v":1288.7,"d":"1288.70"}},{"$f":"J26-J26*Оглавление!$K$19","v":{"v":1288.7,"d":"1288.70"}},null,{"v":0,"d":"0.00"}]
[]
["ТЕРМОСТАТИЧЕСКИЕ ГОЛОВКИ"]
[]
["Фото","Артикул","Наименование товара",null,null,"Размер","Вес, г","Упаковка, шт.","Коробка, шт.","Цена за шт.","Цена со скидкой, RUB","Кол-во, шт.","Сумма со скидкой, RUB"]
[{"$nulls":9},"RUB"]
[null,"GK 7824","Термостатическая головка с внутренним жидкостным датчиком, с настройкой против замораживания",null,null,"CLIP-CLAP",130,1,50,{"$f":"'Конвертация цен'!H294","v":1042.72},{"$f":"J32-J32*[1]Оглавление!$K$18","v":1042.72},null,{"$f":"L32*K32","v":{"v":0,"d":"0.00"}}]
[null,"GK 7825","Термостатическая головка с внутренним жидкостным датчиком, с настройкой против замораживания",null,null,"M30x1,5",110,1,50,{"$f":"'Конвертация цен'!H295","v":{"v":1176,"d":"1176.00"}},{"$f":"J33-J33*[1]Оглавление!$K$18","v":{"v":1176,"d":"1176.00"}},null,{"v":0,"d":"0.00"}]
[]
["КОМПЛЕКТЫ ДЛЯ ПОДКЛЮЧЕНИЯ ОТОПИТЕЛЬНЫХ ПРИБОРОВ И КОМПЛЕКТУЮЩИЕ"]
[]
["Фото","Артикул","Наименование товара",null,null,"Размер","Вес, г","Упаковка, шт.","Коробка, шт.","Цена за шт.","Цена со скидкой, RUB","Кол-во, шт.","Сумма со скидкой, RUB"]
[{"$nulls":9},"RUB"]
[null,"GK 76407400 12","Комплект для подключения отопительных приборов прямой",null,null,"1/2\"",560,1,18,{"$f":"'Конвертация цен'!H296","v":{"v":3038,"d":"3038.00"}},{"$f":"J39-J39*[1]Оглавление!$K$13","v":{"v":2734.2,"d":"2734.20"}},null,{"$f":"L39*K39","v":{"v":0,"d":"0.00"}}]
[null,"GK 76207200 12","Комплект для подключения отопительных приборов угловой",null,null,"1/2\"",564,1,18,{"$f":"'Конвертация цен'!H297","v":{"v":3430,"d":"3430.00"}},{"$f":"J40-J40*[1]Оглавление!$K$13","v":{"v":3087,"d":"3087.00"}},null,{"v":0,"d":"0.00"}]
[null,"GK 7081","Переходник для узлов нижнего подключения в радиаторы с внутренней резьбой 1/2''",null,null,"1/2''x3/4''",20,50,500,{"$f":"'Конвертация цен'!H298","v":{"v":208.73999999999998,"d":"208.74"}},{"$f":"J41-J41*[1]Оглавление!$K$18","v":{"v":208.73999999999998,"d":"208.74"}},null,{"$f":"L41*K41","v":{"v":0,"d":"0.00"}}]

{"sheet":"Мембранные баки","index":7,"n_rows":251,"n_cols":13,"rows_kept":251,"merged":[[3,0,3,9],[9,10,9,12],[13,11,13,12],[14,0,15,0],[14,1,15,1],[14,2,15,3],[14,10,15,10],[14,11,15,11],[14,12,15,12],[16,0,26,0],[16,2,16,3],[17,2,17,3],[18,2,18,3],[19,2,19,3],[20,2,20,3],[21,2,21,3],[22,2,22,3],[23,2,23,3],[24,2,24,3],[25,2,25,3],[26,2,26,3],[27,0,36,0],[27,2,27,3],[28,2,28,3],[29,2,29,3],[30,2,30,3],[31,2,31,3],[32,2,32,3],[33,2,33,3],[34,2,34,3],[35,2,35,3],[36,2,36,3],[37,0,45,0],[37,2,37,3],[38,2,38,3],[39,2,39,3],[40,2,40,3],[41,2,41,3],[42,2,42,3],[43,2,43,3],[44,2,44,3],[45,2,45,3],[46,0,69,0],[46,2,46,3],[47,2,47,3],[48,2,48,3],[49,2,49,3],[50,2,50,3],[51,2,51,3],[52,2,52,3],[53,2,53,3],[54,2,54,3],[55,2,55,3],[56,2,56,3],[57,2,57,3],[58,2,58,3],[59,2,59,3],[60,2,60,3],[61,2,61,3],[62,2,62,3],[63,2,63,3],[64,2,64,3],[65,2,65,3],[66,2,66,3],[67,2,67,3],[68,2,68,3],[69,2,69,3],[80,0,81,0],[80,1,81,1],[80,2,81,3],[80,10,81,10],[80,11,81,11],[80,12,81,12],[82,0,93,0],[82,2,82,3],[83,2,83,3],[84,2,84,3],[85,2,85,3],[86,2,86,3],[87,2,87,3],[88,2,88,3],[89,2,89,3],[90,2,90,3],[91,2,91,3],[92,2,92,3],[93,2,93,3],[94,0,107,0],[94,2,94,3],[95,2,95,3],[96,2,96,3],[97,2,97,3],[98,2,98,3],[99,2,99,3],[100,2,100,3],[101,2,101,3],[102,2,102,3],[103,2,103,3],[104,2,104,3],[105,2,105,3],[106,2,106,3],[107,2,107,3],[108,0,116,0],[108,2,108,3],[109,2,109,3],[110,2,110,3],[111,2,111,3],[112,2,112,3],[113,2,113,3],[114,2,114,3],[115,2,115,3],[116,2,116,3],[117,0,145,0],[117,2,117,3],[118,2,118,3],[119,2,119,3],[120,2,120,3],[121,2,121,3],[122,2,122,3],[123,2,123,3],[124,2,124,3],[125,2,125,3],[126,2,126,3],[127,2,127,3],[128,2,128,3],[129,2,129,3],[130,2,130,3],[131,2,131,3],[132,2,132,3],[133,2,133,3],[134,2,134,3],[135,2,135,3],[136,2,136,3],[137,2,137,3],[138,2,138,3],[139,2,139,3],[140,2,140,3],[141,2,141,3],[142,2,142,3],[143,2,143,3],[144,2,144,3],[145,2,145,3],[156,0,157,0],[156,1,157,1],[156,2,157,3],[156,10,157,10],[156,11,157,11],[156,12,157,12],[158,0,171,0],[158,2,158,3],[159,2,159,3],[160,2,160,3],[161,2,161,3],[162,2,162,3],[163,2,163,3],[164,2,164,3],[165,2,165,3],[166,2,166,3],[167,2,167,3],[168,2,168,3],[169,2,169,3],[170,2,170,3],[171,2,171,3],[182,0,183,0],[182,1,183,1],[182,2,183,3],[182,10,183,10],[182,11,183,11],[182,12,183,12],[184,0,188,0],[184,2,184,3],[185,2,185,3],[186,2,186,3],[187,2,187,3],[188,2,188,3],[189,0,192,0],[189,2,189,3],[190,2,190,3],[191,2,191,3],[192,2,192,3],[203,0,204,0],[203,1,204,1],[203,2,204,3],[203,10,204,10],[203,11,204,11],[203,12,204,12],[205,0,209,0],[205,2,205,3],[206,2,206,3],[207,2,207,3],[208,2,208,3],[209,2,209,3],[219,0,220,0],[219,1,220,1],[219,2,220,3],[219,10,220,10],[219,11,220,11],[219,12,220,12],[221,0,225,0],[221,2,221,3],[222,2,222,3],[223,2,223,3],[224,2,224,3],[225,2,225,3],[229,0,230,0],[229,1,230,1],[229,2,230,8],[229,10,230,10],[229,11,230,11],[229,12,230,12],[231,2,231,8],[232,2,232,8],[236,0,237,0],[236,1,237,1],[236,2,237,8],[236,10,237,10],[236,11,237,11],[236,12,237,12],[238,0,250,0],[238,2,238,8],[239,2,239,8],[240,2,240,8],[241,2,241,8],[242,2,242,8],[243,2,243,8],[244,2,244,8],[245,2,245,8],[246,2,246,8],[247,2,247,8],[248,2,248,8],[249,2,249,8],[250,2,250,8]]}
[]
[]
[]
["Мембранные расширительные баки"]
[]
["ВЕРТИКАЛЬНЫЕ МЕМБРАННЫЕ РАСШИРИТЕЛЬНЫЕ БАКИ СЕРИИ WRV ДЛЯ СИСТЕМ ОТОПЛЕНИЯ ЗАКРЫТОГО ТИПА"]
["• Диапазон рабочих температур теплоносителя: от -10⁰C до +80⁰C (кратковременно до +99⁰C)"]
["• Тип теплоносителя: вода или водные растворы гликоля с концентрацие до 50%"]
["• Материал корпуса и контрфланца: сталь углеродистая с эпоксиполиэфирным покрытием, цвет красный RAL 3002"]
["• Тип мембраны: заменяемая, материал мембраны: EPDM",{"$nulls":9},"На главную страницу"]
["• Материал ниппеля: латунь"]
["• Тип исполнения: вертикальный"]
["• Размер держателя мембраны у баков 200- 4000 л 3/4\"(НР)x1/2\"(ВР); Размер держателя мембраны у баков 5000- 10000 л 1 1/4\"(ВР)"]
[{"$nulls":10},"Итого:",{"$f":"SUM(M17:M69,M83:M146,M159:M172,M185:M193,M206:M210,M222:M226,M232:M233)","v":{"v":0,"d":"0.00"}}]
["Фото","Артикул","Наименование товара",null,"Объём бака","Pmax","P     преднастройки","Присоединение к системе","Вес","Цена за шт.","Цена со скидкой, RUB","Кол-во, шт.","Сумма со скидкой, RUB"]
[{"$nulls":4},"л","бар","бар","G или DN","кг","RUB"]
[null,"GKB0140029","Бак мембранный для отопления Gekon WRV8",null,8,{"v":5,"d":"5.0"},1.5,"3/4\" (НР)",1.6,{"$f":"'Конвертация цен'!H377","v":2334.29},{"$f":"J17-J17*Оглавление!$K$21","v":{"v":2334.29,"d":"2,334.29"}},null,{"$f":"L17*K17","v":{"v":0,"d":"0.00"}}]
[null,"GKB2140200","Бак мембранный для отопления Gekon WRV8 (16 бар)",null,8,{"v":16,"d":"16.0"},{"v":4,"d":"4.0"},"1\" (НР)",7,{"$f":"'Конвертация цен'!H378","v":{"v":12861.543984985352,"d":"12861.54"}},{"$f":"J18-J18*Оглавление!$K$21","v":{"v":12861.543984985352,"d":"12,861.54"}},null,{"$f":"L18*K18","v":{"v":0,"d":"0.00"}}]
[null,"GKB2140300","Бак мембранный для отопления Gekon WRV8 (25 бар)",null,8,{"v":25,"d":"25.0"},{"v":4,"d":"4.0"},"1\" (НР)",11,{"$f":"'Конвертация цен'!H379","v":{"v":37475.878163146976,"d":"37475.88"}},{"$f":"J19-J19*Оглавление!$K$21","v":{"v":37475.878163146976,"d":"37,475.88"}},null,{"v":0,"d":"0.00"}]
[null,"GKB0140049","Бак мембранный для отопления Gekon WRV12",null,12,{"v":5,"d":"5.0"},1.5,"3/4\" (НР)",2.05,{"$f":"'Конвертация цен'!H380","v":2544.54},{"$f":"J20-J20*Оглавление!$K$21","v":{"v":2544.54,"d":"2,544.54"}},null,{"v":0,"d":"0.00"}]
[null,"GKB2140302","Бак мембранный для отопления Gekon WRV12 (25 бар)",null,12,{"v":25,"d":"25.0"},{"v":4,"d":"4.0"},"1\" (НР)",12,{"$f":"'Конвертация цен'!H381","v":{"v":37475.878163146976,"d":"37475.88"}},{"$f":"J21-J21*Оглавление!$K$21","v":{"v":37475.878163146976,"d":"37,475.88"}},null,{"v":0,"d":"0.00"}]
[null,"GKB0140059","Бак мембранный для отопления Gekon WRV18",null,18,{"v":5,"d":"5.0"},1.5,"3/4\" (НР)",2.8,{"$f":"'Конвертация цен'!H382","v":2782.31},{"$f":"J22-J22*Оглавление!$K$21","v":{"v":2782.31,"d":"2,782.31"}},null,{"v":0,"d":"0.00"}]
[null,"GKB2140304","Бак мембранный для отопления Gekon WRV18 (25 бар)",null,18,{"v":25,"d":"25.0"},{"v":4,"d":"4.0"},"1\" (НР)",13,{"$f":"'Конвертация цен'!H383","v":{"v":51335.3005607605,"d":"51335.30"}},{"$f":"J23-J23*Оглавление!$K$21","v":{"v":51335.3005607605,"d":"51,335.30"}},null,{"v":0,"d":"0.00"}]
[null,"GKB0140069","Бак мембранный для отопления Gekon WRV24",null,24,{"v":5,"d":"5.0"},1.5,"3/4\" (НР)",4.25,{"$f":"'Конвертация цен'!H384","v":2998.79},{"$f":"J24-J24*Оглавление!$K$21","v":{"v":2998.79,"d":"2,998.79"}},null,{"v":0,"d":"0.00"}]
[null,"GKB2140206","Бак мембранный для отопления Gekon WRV24 (16 бар)",null,24,{"v":16,"d":"16.0"},{"v":4,"d":"4.0"},"1\" (НР)",8,{"$f":"'Конвертация цен'!H385","v":{"v":17740.060668945313,"d":"17740.06"}},{"$f":"J25-J25*Оглавление!$K$21","v":{"v":17740.060668945313,"d":"17,740.06"}},null,{"v":0,"d":"0.00"}]
[null,"GKB2140306","Бак мембранный для отопления Gekon WRV24 (25 бар)",null,24,{"v":25,"d":"25.0"},{"v":4,"d":"4.0"},"1\" (НР)",13,{"$f":"'Конвертация цен'!H386","v":{"v":51335.3005607605,"d":"51335.30"}},{"$f":"J26-J26*Оглавление!$K$21","v":{"v":51335.3005607605,"d":"51,335.30"}},null,{"v":0,"d":"0.00"}]
[null,"GKB0140080","Бак мембранный для отопления Gekon WRV35",null,35,{"v":5,"d":"5.0"},1.5,"3/4\" (НР)",5.95,{"$f":"'Конвертация цен'!H387","v":5083.81},{"$f":"J27-J27*Оглавление!$K$21","v":{"v":5083.81,"d":"5,083.81"}},null,{"v":0,"d":"0.00"}]
[null,"GKB0140100","Бак мембранный для отопления Gekon WRV50",null,50,{"v":5,"d":"5.0"},1.5,"3/4\" (НР)",7.75,{"$f":"'Конвертация цен'!H388","v":6259.08},{"$f":"J28-J28*Оглавление!$K$21","v":{"v":6259.08,"d":"6,259.08"}},null,{"$f":"L28*K28","v":{"v":0,"d":"0.00"}}]
[null,"GKB2140208","Бак мембранный для отопления Gekon WRV50 (16 бар)",null,50,{"v":16,"d":"16.0"},{"v":4,"d":"4.0"},"1\" (НР)",16,{"$f":"'Конвертация цен'!H389","v":{"v":35701.872096252446,"d":"35701.87"}},{"$f":"J29-J29*Оглавление!$K$21","v":{"v":35701.872096252446,"d":"35,701.87"}},null,{"$f":"L29*K29","v":{"v":0,"d":"0.00"}}]
[null,"GKB0140120","Бак мембранный для отопления Gekon WRV80",null,80,{"v":5,"d":"5.0"},1.5,"3/4\" (НР)",11.15,{"$f":"'Конвертация цен'!H390","v":8706.48},{"$f":"J30-J30*Оглавление!$K$21","v":{"v":8706.48,"d":"8,706.48"}},null,{"v":0,"d":"0.00"}]
[null,"GKB2140212","Бак мембранный для отопления Gekon WRV80 (16 бар)",null,80,{"v":16,"d":"16.0"},{"v":4,"d":"4.0"},"1\" (НР)",26,{"$f":"'Конвертация цен'!H391","v":{"v":55659.44034881592,"d":"55659.44"}},{"$f":"J31-J31*Оглавление!$K$21","v":{"v":55659.44034881592,"d":"55,659.44"}},null,{"v":0,"d":"0.00"}]
[null,"GKB0140140","Бак мембранный для отопления Gekon WRV100",null,100,{"v":5,"d":"5.0"},1.5,"1\" (НР)",13.25,{"$f":"'Конвертация цен'!H392","v":12513.58},{"$f":"J32-J32*Оглавление!$K$21","v":{"v":12513.58,"d":"12,513.58"}},null,{"v":0,"d":"0.00"}]
[null,"GKB2140214","Бак мембранный для отопления Gekon WRV100 (16 бар)",null,100,{"v":16,"d":"16.0"},{"v":4,"d":"4.0"},"1\" (НР)",47,{"$f":"'Конвертация цен'!H393","v":{"v":59872.70475769044,"d":"59872.70"}},{"$f":"J33-J33*Оглавление!$K$21","v":{"v":59872.70475769044,"d":"59,872.70"}},null,{"v":0,"d":"0.00"}]
[null,"GKB2140314","Бак мембранный для отопления Gekon WRV100 (25 бар)",null,100,{"v":25,"d":"25.0"},{"v":4,"d":"4.0"},"1\" (НР)",51,{"$f":"'Конвертация цен'!H394","v":{"v":138483.34859695437,"d":"138483.35"}},{"$f":"J34-J34*Оглавление!$K$21","v":{"v":138483.34859695437,"d":"138,483.35"}},null,{"v":0,"d":"0.00"}]
[null,"GKB0140160","Бак мембранный для отопления Gekon WRV150",null,150,{"v":5,"d":"5.0"},1.5,"1\" (НР)",17.2,{"$f":"'Конвертация цен'!H395","v":18956.77},{"$f":"J35-J35*Оглавление!$K$21","v":{"v":18956.77,"d":"18,956.77"}},null,{"v":0,"d":"0.00"}]
[null,"GKB2140216","Бак мембранный для отопления Gekon WRV150 (16 бар)",null,150,{"v":16,"d":"16.0"},{"v":4,"d":"4.0"},"1\" (НР)",47,{"$f":"'Конвертация цен'!H396","v":{"v":68299.23357543946,"d":"68299.23"}},{"$f":"J36-J36*Оглавление!$K$21","v":{"v":68299.23357543946,"d":"68,299.23"}},null,{"v":0,"d":"0.00"}]
[null,"GKB2140316","Бак мембранный для отопления Gekon WRV150 (25 бар)",null,150,{"v":25,"d":"25.0"},{"v":4,"d":"4.0"},"1\" (НР)",45,{"$f":"'Конвертация цен'!H397","v":{"v":221639.88298263552,"d":"221639.88"}},{"$f":"J37-J37*Оглавление!$K$21","v":{"v":221639.88298263552,"d":"221,639.88"}},null,{"v":0,"d":"0.00"}]
[null,"GKB0140180","Бак мембранный для отопления Gekon WRV200",null,200,{"v":10,"d":"10.0"},1.5,"1 1/4\" (НР)",32.4,{"$f":"'Конвертация цен'!H398","v":{"v":32108.6,"d":"32108.60"}},{"$f":"J38-J38*Оглавление!$K$21","v":{"v":32108.6,"d":"32,108.60"}},null,{"v":0,"d":"0.00"}]
[null,"GKB2140218","Бак мембранный для отопления Gekon WRV200 (16 бар)",null,200,{"v":16,"d":"16.0"},{"v":4,"d":"4.0"},"1 1/4\" (НР)",50,{"$f":"'Конвертация цен'!H399","v":{"v":127728.43681640626,"d":"127728.44"}},{"$f":"J39-J39*Оглавление!$K$21","v":{"v":127728.43681640626,"d":"127,728.44"}},null,{"$f":"L39*K39","v":{"v":0,"d":"0.00"}}]
[null,"GKB2140318","Бак мембранный для отопления Gekon WRV200 (25 бар)",null,200,{"v":25,"d":"25.0"},{"v":4,"d":"4.0"},"1 1/4\" (НР)",100,{"$f":"'Конвертация цен'!H400","v":{"v":288275.9858703613,"d":"288275.99"}},{"$f":"J40-J40*Оглавление!$K$21","v":{"v":288275.9858703613,"d":"288,275.99"}},null,{"v":0,"d":"0.00"}]
[null,"GKB0140190","Бак мембранный для отопления Gekon WRV300",null,300,{"v":10,"d":"10.0"},1.5,"1 1/4\" (НР)",40.3,{"$f":"'Конвертация цен'!H401","v":{"v":38272.4,"d":"38272.40"}},{"$f":"J41-J41*Оглавление!$K$21","v":{"v":38272.4,"d":"38,272.40"}},null,{"v":0,"d":"0.00"}]
[null,"GKB2140220","Бак мембранный для отопления Gekon WRV300 (16 бар)",null,300,{"v":16,"d":"16.0"},{"v":4,"d":"4.0"},"1 1/4\" (НР)",60,{"$f":"'Конвертация цен'!H402","v":{"v":150790.51568603516,"d":"150790.52"}},{"$f":"J42-J42*Оглавление!$K$21","v":{"v":150790.51568603516,"d":"150,790.52"}},null,{"v":0,"d":"0.00"}]
[null,"GKB2140320","Бак мембранный для отопления Gekon WRV300 (25 бар)",null,300,{"v":25,"d":"25.0"},{"v":4,"d":"4.0"},"1 1/4\" (НР)",110,{"$f":"'Конвертация цен'!H403","v":{"v":367551.88198471075,"d":"367551.88"}},{"$f":"J43-J43*Оглавление!$K$21","v":{"v":367551.88198471075,"d":"367,551.88"}},null,{"v":0,"d":"0.00"}]
[null,"GKB0140200","Бак мембранный для отопления Gekon WRV500",null,500,{"v":10,"d":"10.0"},1.5,"1 1/4\" (НР)",55.5,{"$f":"'Конвертация цен'!H404","v":{"v":67749.6,"d":"67749.60"}},{"$f":"J44-J44*Оглавление!$K$21","v":{"v":67749.6,"d":"67,749.60"}},null,{"v":0,"d":"0.00"}]
[null,"GKB2140222","Бак мембранный для отопления Gekon WRV500 (16 бар)",null,500,{"v":16,"d":"16.0"},{"v":4,"d":"4.0"},"1 1/4\" (НР)",91,{"$f":"'Конвертация цен'!H405","v":{"v":206117.32989730837,"d":"206117.33"}},{"$f":"J45-J45*Оглавление!$K$21","v":{"v":206117.32989730837,"d":"206,117.33"}},null,{"v":0,"d":"0.00"}]
[null,"GKB2140322","Бак мембранный для отопления Gekon WRV500 (25 бар)",null,500,{"v":25,"d":"25.0"},{"v":4,"d":"4.0"},"1 1/4\" (НР)",141,{"$f":"'Конвертация цен'!H406","v":{"v":499160.95707244874,"d":"499160.96"}},{"$f":"J46-J46*Оглавление!$K$21","v":{"v":499160.95707244874,"d":"499,160.96"}},null,{"v":0,"d":"0.00"}]
[null,"GKB0140210","Бак мембранный для отопления Gekon WRV750",null,750,{"v":10,"d":"10.0"},{"v":4,"d":"4.0"},"1 1/4\" (НР)",130,{"$f":"'Конвертация цен'!H407","v":151772.25},{"$f":"J47-J47*Оглавление!$K$21","v":{"v":151772.25,"d":"151,772.25"}},null,{"v":0,"d":"0.00"}]
[null,"GKB2140224","Бак мембранный для отопления Gekon WRV750 (16 бар)",null,750,{"v":16,"d":"16.0"},{"v":4,"d":"4.0"},"2\" (ВР)",211,{"$f":"'Конвертация цен'!H408","v":{"v":422989.57157516485,"d":"422989.57"}},{"$f":"J48-J48*Оглавление!$K$21","v":{"v":422989.57157516485,"d":"422,989.57"}},null,{"v":0,"d":"0.00"}]
[null,"GKB0140220","Бак мембранный для отопления Gekon WRV1000",null,1000,{"v":10,"d":"10.0"},{"v":4,"d":"4.0"},"2\" (ВР)",165,{"$f":"'Конвертация цен'!H409","v":{"v":220806.4,"d":"220806.40"}},{"$f":"J49-J49*Оглавление!$K$21","v":{"v":220806.4,"d":"220,806.40"}},null,{"v":0,"d":"0.00"}]
[null,"GKB2140226","Бак мембранный для отопления Gekon WRV1000 (16 бар)",null,1000,{"v":16,"d":"16.0"},{"v":4,"d":"4.0"},"2\" (ВР)",245,{"$f":"'Конвертация цен'!H410","v":{"v":532201.8200683594,"d":"532201.82"}},{"$f":"J50-J50*Оглавление!$K$21","v":{"v":532201.8200683594,"d":"532,201.82"}},null,{"v":0,"d":"0.00"}]
[null,"GKB2140326","Бак мембранный для отопления Gekon WRV1000(25 бар)",null,1000,{"v":25,"d":"25.0"},{"v":4,"d":"4.0"},"2\" (ВР)",295,{"$f":"'Конвертация цен'!H411","v":{"v":872478.3587745667,"d":"872478.36"}},{"$f":"J51-J51*Оглавление!$K$21","v":{"v":872478.3587745667,"d":"872,478.36"}},null,{"$f":"L51*K51","v":{"v":0,"d":"0.00"}}]
[null,"GKB1140312","Бак мембранный для отопления Gekon WRV1500",null,1500,{"v":10,"d":"10.0"},{"v":4,"d":"4.0"},"2\" (ВР)",240,{"$f":"'Конвертация цен'!H412","v":603769.91},{"$f":"J52-J52*Оглавление!$K$21","v":{"v":603769.91,"d":"603,769.91"}},null,{"v":0,"d":"0.00"}]
[null,"GKB2140228","Бак мембранный для отопления Gekon WRV1500 (16 бар)",null,1500,{"v":16,"d":"16.0"},{"v":4,"d":"4.0"},"2\" (ВР)",371,{"$f":"'Конвертация цен'!H413","v":{"v":728118.6150810242,"d":"728118.62"}},{"$f":"J53-J53*Оглавление!$K$21","v":{"v":728118.6150810242,"d":"728,118.62"}},null,{"v":0,"d":"0.00"}]
[null,"GKB2140328","Бак мембранный для отопления Gekon WRV1500(25 бар)",null,1500,{"v":25,"d":"25.0"},{"v":4,"d":"4.0"},"2\" (ВР)",421,{"$f":"'Конвертация цен'!H414","v":{"v":1185146.928064728,"d":"1185146.93"}},{"$f":"J54-J54*Оглавление!$K$21","v":{"v":1185146.928064728,"d":"1,185,146.93"}},null,{"v":0,"d":"0.00"}]
[null,"GKB1140315","Бак мембранный для отопления Gekon WRV2000",null,2000,{"v":10,"d":"10.0"},{"v":4,"d":"4.0"},"2\" (ВР)",375,{"$f":"'Конвертация цен'!H415","v":754958.94},{"$f":"J55-J55*Оглавление!$K$21","v":{"v":754958.94,"d":"754,958.94"}},null,{"v":0,"d":"0.00"}]
[null,"GKB2140230","Бак мембранный для отопления Gekon WRV2000 (16 бар)",null,2000,{"v":16,"d":"16.0"},{"v":4,"d":"4.0"},"2\" (ВР)",498,{"$f":"'Конвертация цен'!H416","v":{"v":1204550.1194213869,"d":"1204550.12"}},{"$f":"J56-J56*Оглавление!$K$21","v":{"v":1204550.1194213869,"d":"1,204,550.12"}},null,{"v":0,"d":"0.00"}]
[null,"GKB2140330","Бак мембранный для отопления Gekon WRV2000 (25 бар)",null,2000,{"v":25,"d":"25.0"},{"v":4,"d":"4.0"},"2\" (ВР)",548,{"$f":"'Конвертация цен'!H417","v":{"v":1860045.361138916,"d":"1860045.36"}},{"$f":"J57-J57*Оглавление!$K$21","v":{"v":1860045.361138916,"d":"1,860,045.36"}},null,{"v":0,"d":"0.00"}]
[null,"GKB2140104","Бак мембранный для отопления Gekon WRV2500",null,2500,{"v":10,"d":"10.0"},{"v":4,"d":"4.0"},"2\" (ВР)",307,{"$f":"'Конвертация цен'!H418","v":833021.21},{"$f":"J58-J58*Оглавление!$K$21","v":{"v":833021.21,"d":"833,021.21"}},null,{"v":0,"d":"0.00"}]
[null,"GKB1140320","Бак мембранный для отопления Gekon WRV3000",null,3000,{"v":10,"d":"10.0"},{"v":4,"d":"4.0"},"2 1/2\" (ВР)",550,{"$f":"'Конвертация цен'!H419","v":881982.66},{"$f":"J59-J59*Оглавление!$K$21","v":{"v":881982.66,"d":"881,982.66"}},null,{"v":0,"d":"0.00"}]
[null,"GKB2140234","Бак мембранный для отопления Gekon WRV3000 (16 бар)",null,3000,{"v":16,"d":"16.0"},{"v":4,"d":"4.0"},"2 1/2\" (ВР)",750,{"$f":"'Конвертация цен'!H420","v":{"v":1623548.1773460389,"d":"1623548.18"}},{"$f":"J60-J60*Оглавление!$K$21","v":{"v":1623548.1773460389,"d":"1,623,548.18"}},null,{"v":0,"d":"0.00"}]
[null,"GKB2140332","Бак мембранный для отопления Gekon WRV3000 (25 бар)",null,3000,{"v":25,"d":"25.0"},{"v":4,"d":"4.0"},"2 1/2\" (ВР)",800,{"$f":"'Конвертация цен'!H421","v":{"v":2455224.3965820316,"d":"2455224.40"}},{"$f":"J61-J61*Оглавление!$K$21","v":{"v":2455224.3965820316,"d":"2,455,224.40"}},null,{"v":0,"d":"0.00"}]
[null,"GKB2140108","Бак мембранный для отопления Gekon WRV4000",null,4000,{"v":10,"d":"10.0"},{"v":4,"d":"4.0"},"3\" (ВР)",655,{"$f":"'Конвертация цен'!H422","v":{"v":1997974.332839966,"d":"1997974.33"}},{"$f":"J62-J62*Оглавление!$K$21","v":{"v":1997974.332839966,"d":"1,997,974.33"}},null,{"v":0,"d":"0.00"}]
[null,"GKB2140236","Бак мембранный для отопления Gekon WRV4000 (16 бар)",null,4000,{"v":16,"d":"16.0"},{"v":4,"d":"4.0"},"3\" (ВР)",1003,{"$f":"'Конвертация цен'!H423","v":{"v":2555123.1132240295,"d":"2555123.11"}},{"$f":"J63-J63*Оглавление!$K$21","v":{"v":2555123.1132240295,"d":"2,555,123.11"}},null,{"v":0,"d":"0.00"}]
[null,"GKB1140330","Бак мембранный для отопления Gekon WRV5000",null,5000,{"v":10,"d":"10.0"},{"v":4,"d":"4.0"},"3\" (ВР)",830,{"$f":"'Конвертация цен'!H424","v":{"v":2715005.4100028994,"d":"2715005.41"}},{"$f":"J64-J64*Оглавление!$K$21","v":{"v":2715005.4100028994,"d":"2,715,005.41"}},null,{"v":0,"d":"0.00"}]
[null,"GKB2140238","Бак мембранный для отопления Gekon WRV5000 (16 бар)",null,5000,{"v":16,"d":"16.0"},{"v":4,"d":"4.0"},"3\" (ВР)",1139,{"$f":"'Конвертация цен'!H425","v":{"v":3266610.4214279177,"d":"3266610.42"}},{"$f":"J65-J65*Оглавление!$K$21","v":{"v":3266610.4214279177,"d":"3,266,610.42"}},null,{"v":0,"d":"0.00"}]
[null,"GKB2140112","Бак мембранный для отопления Gekon WRV8000",null,8000,{"v":10,"d":"10.0"},{"v":4,"d":"4.0"},"4\" (ВР)",1470,{"$f":"'Конвертация цен'!H426","v":{"v":4929075.856866456,"d":"4929075.86"}},{"$f":"J66-J66*Оглавление!$K$21","v":{"v":4929075.856866456,"d":"4,929,075.86"}},null,{"v":0,"d":"0.00"}]
[null,"GKB2140240","Бак мембранный для отопления Gekon WRV8000 (16 бар)",null,8000,{"v":16,"d":"16.0"},{"v":4,"d":"4.0"},"4\" (ВР)",1637,{"$f":"'Конвертация цен'!H427","v":{"v":7277305.512538911,"d":"7277305.51"}},{"$f":"J67-J67*Оглавление!$K$21","v":{"v":7277305.512538911,"d":"7,277,305.51"}},null,{"v":0,"d":"0.00"}]
[null,"GKB2140340","Бак мембранный для отопления Gekon WRV8000 (25 бар)",null,8000,{"v":25,"d":"25.0"},{"v":4,"d":"4.0"},"4\" (ВР)",1687,{"$f":"'Конвертация цен'!H428","v":{"v":8553148.500773622,"d":"8553148.50"}},{"$f":"J68-J68*Оглавление!$K$21","v":{"v":8553148.500773622,"d":"8,553,148.50"}},null,{"v":0,"d":"0.00"}]
[null,"GKB2140114","Бак мембранный для отопления Gekon WRV10000",null,10000,{"v":10,"d":"10.0"},{"v":4,"d":"4.0"},"DN 100",1920,{"$f":"'Конвертация цен'!H429","v":{"v":5796232.197440338,"d":"5796232.20"}},{"$f":"J69-J69*Оглавление!$K$21","v":{"v":5796232.197440338,"d":"5,796,232.20"}},null,{"v":0,"d":"0.00"}]
[null,"GKB2140242","Бак мембранный для отопления Gekon WRV 10000 (16 бар)",null,10000,{"v":16,"d":"16.0"},{"v":4,"d":"4.0"},"DN 100",2500,{"$f":"'Конвертация цен'!H430","v":"по запросу"},{"$f":"J70","v":"по запросу"},null,"по запросу"]
[]
["ВЕРТИКАЛЬНЫЕ МЕМБРАННЫЕ РАСШИРИТЕЛЬНЫЕ БАКИ СЕРИИ WAV ДЛЯ СИСТЕМ ВОДОСНАБЖЕНИЯ"]
["• Диапазон рабочих температур теплоносителя: от -10⁰C до +80⁰C (кратковременно до +99⁰C)"]
["• Тип теплоносителя: вода или водные растворы гликоля с концентрацие до 50%"]
["• Материал корпуса и контрфланца: сталь углеродистая с эпоксиполиэфирным покрытием, цвет синий RAL 5015"]
["• Тип мембраны: заменяемая, материал мембраны: EPDM"]
["• Материал ниппеля: латунь"]
["• Тип исполнения: вертикальный"]
["• Размер держателя мембраны у баков 200- 4000 л 3/4\"(НР)x1/2\"(ВР); Размер держателя мембраны у баков 5000- 10000 л 1 1/4\"(ВР)"]
[]
["Фото","Артикул","Наименование товара",null,"Объём бака","Pmax","P     преднастройки","Присоединение к системе","Вес","Цена за шт.","Цена со скидкой, RUB","Кол-во, шт.","Сумма со скидкой, RUB"]
[{"$nulls":4},"л","бар","бар","G или DN","кг","RUB"]
[null,"GKB0141029","Бак мембранный для водоснабжения Gekon WAV8",null,8,{"v":10,"d":"10.0"},1.5,"3/4\" (НР)",{"v":1.61,"d":"1.6"},{"$f":"'Конвертация цен'!H431","v":2346.06},{"$f":"J83-J83*Оглавление!$K$21","v":{"v":2346.06,"d":"2,346.06"}},null,{"$f":"L83*K83","v":{"v":0,"d":"0.00"}}]
[null,"GKB2140250","Бак мембранный для водоснабжения Gekon WAV8 (16 бар)",null,8,{"v":16,"d":"16.0"},{"v":4,"d":"4.0"},"1\" (НР)",7.3,{"$f":"'Конвертация цен'!H432","v":{"v":12861.543984985352,"d":"12861.54"}},{"$f":"J84-J84*Оглавление!$K$21","v":{"v":12861.543984985352,"d":"12,861.54"}},null,{"$f":"L84*K84","v":{"v":0,"d":"0.00"}}]
[null,"GKB2140350","Бак мембранный для водоснабжения Gekon WAV8 (25 бар)",null,8,{"v":25,"d":"25.0"},{"v":4,"d":"4.0"},"1\" (НР)",11.3,{"$f":"'Конвертация цен'!H433","v":{"v":37475.878163146976,"d":"37475.88"}},{"$f":"J85-J85*Оглавление!$K$21","v":{"v":37475.878163146976,"d":"37,475.88"}},null,{"v":0,"d":"0.00"}]
[null,"GKB0141039","Бак мембранный для водоснабжения Gekon WAV12",null,12,{"v":10,"d":"10.0"},1.5,"3/4\" (НР)",{"v":2.05,"d":"2.1"},{"$f":"'Конвертация цен'!H434","v":{"v":2552.5,"d":"2552.50"}},{"$f":"J86-J86*Оглавление!$K$21","v":{"v":2552.5,"d":"2,552.50"}},null,{"v":0,"d":"0.00"}]
[null,"GKB2140252","Бак мембранный для водоснабжения GekonWAV12 (16 бар)",null,12,{"v":16,"d":"16.0"},{"v":4,"d":"4.0"},"1\" (НР)",7.9,{"$f":"'Конвертация цен'!H435","v":{"v":12861.543984985352,"d":"12861.54"}},{"$f":"J87-J87*Оглавление!$K$21","v":{"v":12861.543984985352,"d":"12,861.54"}},null,{"v":0,"d":"0.00"}]
[null,"GKB2140352","Бак мембранный для водоснабжения Gekon WAV12 (25 бар)",null,12,{"v":25,"d":"25.0"},{"v":4,"d":"4.0"},"1\" (НР)",12.05,{"$f":"'Конвертация цен'!H436","v":{"v":37475.878163146976,"d":"37475.88"}},{"$f":"J88-J88*Оглавление!$K$21","v":{"v":37475.878163146976,"d":"37,475.88"}},null,{"v":0,"d":"0.00"}]
[null,"GKB0141049","Бак мембранный для водоснабжения Gekon WAV18",null,18,{"v":10,"d":"10.0"},1.5,"3/4\" (НР)",2.8,{"$f":"'Конвертация цен'!H437","v":3072.63},{"$f":"J89-J89*Оглавление!$K$21","v":{"v":3072.63,"d":"3,072.63"}},null,{"v":0,"d":"0.00"}]
[null,"GKB2140354","Бак мембранный для водоснабжения Gekon WAV18 (25 бар)",null,18,{"v":25,"d":"25.0"},{"v":4,"d":"4.0"},"1\" (НР)",12.5,{"$f":"'Конвертация цен'!H438","v":{"v":51335.3005607605,"d":"51335.30"}},{"$f":"J90-J90*Оглавление!$K$21","v":{"v":51335.3005607605,"d":"51,335.30"}},null,{"v":0,"d":"0.00"}]
[null,"GKB0141069","Бак мембранный для водоснабжения Gekon WAV24",null,24,{"v":10,"d":"10.0"},1.5,"3/4\" (НР)",{"v":4.25,"d":"4.3"},{"$f":"'Конвертация цен'!H439","v":3202.33},{"$f":"J91-J91*Оглавление!$K$21","v":{"v":3202.33,"d":"3,202.33"}},null,{"v":0,"d":"0.00"}]
[null,"GKB2140256","Бак мембранный для водоснабжения Gekon WAV24 (16 бар)",null,24,{"v":16,"d":"16.0"},{"v":4,"d":"4.0"},"1\" (НР)",8.3,{"$f":"'Конвертация цен'!H440","v":{"v":17740.060668945313,"d":"17740.06"}},{"$f":"J92-J92*Оглавление!$K$21","v":{"v":17740.060668945313,"d":"17,740.06"}},null,{"v":0,"d":"0.00"}]
[null,"GKB2140356","Бак мембранный для водоснабжения Gekon WAV 24 (25 бар)",null,24,{"v":25,"d":"25.0"},{"v":4,"d":"4.0"},"1\" (НР)",12.8,{"$f":"'Конвертация цен'!H441","v":{"v":51335.3005607605,"d":"51335.30"}},{"$f":"J93-J93*Оглавление!$K$21","v":{"v":51335.3005607605,"d":"51,335.30"}},null,{"v":0,"d":"0.00"}]
[null,"GKB0141080","Бак мембранный для водоснабжения Gekon WAV35",null,35,{"v":10,"d":"10.0"},1.5,"3/4\" (НР)",{"v":5.95,"d":"6"},{"$f":"'Конвертация цен'!H442","v":5258.79},{"$f":"J94-J94*Оглавление!$K$21","v":{"v":5258.79,"d":"5,258.79"}},null,{"v":0,"d":"0.00"}]
[null,"GKB0141100","Бак мембранный для водоснабжения Gekon WAV50",null,50,{"v":10,"d":"10.0"},1.5,"1\" (НР)",9.2,{"$f":"'Конвертация цен'!H443","v":8720.44},{"$f":"J95-J95*Оглавление!$K$21","v":{"v":8720.44,"d":"8,720.44"}},null,{"v":0,"d":"0.00"}]
[null,"GKB2140260","Бак мембранный для водоснабжения Gekon WAV50 (16 бар)",null,50,{"v":16,"d":"16.0"},{"v":4,"d":"4.0"},"1\" (НР)",16.4,{"$f":"'Конвертация цен'!H444","v":{"v":35701.872096252446,"d":"35701.87"}},{"$f":"J96-J96*Оглавление!$K$21","v":{"v":35701.872096252446,"d":"35,701.87"}},null,{"v":0,"d":"0.00"}]
[null,"GKB2140358","Бак мембранный для водоснабжения Gekon WAV 50 (25 бар)",null,50,{"v":25,"d":"25.0"},{"v":4,"d":"4.0"},"1\" (НР)",34.1,{"$f":"'Конвертация цен'!H445","v":{"v":75949.63473892212,"d":"75949.63"}},{"$f":"J97-J97*Оглавление!$K$21","v":{"v":75949.63473892212,"d":"75,949.63"}},null,{"v":0,"d":"0.00"}]
[null,"GKB2140262","Бак мембранный для водоснабжения Gekon WAV60 (16 бар)",null,60,{"v":16,"d":"16.0"},{"v":4,"d":"4.0"},"1\" (НР)",18.1,{"$f":"'Конвертация цен'!H446","v":{"v":39693.38574676514,"d":"39693.39"}},{"$f":"J98-J98*Оглавление!$K$21","v":{"v":39693.38574676514,"d":"39,693.39"}},null,{"v":0,"d":"0.00"}]
[null,"GKB2140359","Бак мембранный для водоснабжения Gekon WAV60 (25 бар)",null,60,{"v":25,"d":"25.0"},{"v":4,"d":"4.0"},"1\" (НР)",42,{"$f":"'Конвертация цен'!H447","v":{"v":85595.79272766114,"d":"85595.79"}},{"$f":"J99-J99*Оглавление!$K$21","v":{"v":85595.79272766114,"d":"85,595.79"}},null,{"v":0,"d":"0.00"}]
[null,"GKB0141120","Бак мембранный для водоснабжения Gekon WAV80",null,80,{"v":10,"d":"10.0"},1.5,"1\" (НР)",11.6,{"$f":"'Конвертация цен'!H448","v":11544.94},{"$f":"J100-J100*Оглавление!$K$21","v":{"v":11544.94,"d":"11,544.94"}},null,{"v":0,"d":"0.00"}]
[null,"GKB2140264","Бак мембранный для водоснабжения Gekon WAV80 (16 бар)",null,80,{"v":16,"d":"16.0"},{"v":4,"d":"4.0"},"1\" (НР)",25.86,{"$f":"'Конвертация цен'!H449","v":{"v":55659.44034881592,"d":"55659.44"}},{"$f":"J101-J101*Оглавление!$K$21","v":{"v":55659.44034881592,"d":"55,659.44"}},null,{"v":0,"d":"0.00"}]
[null,"GKB2140360","Бак мембранный для водоснабжения Gekon WAV 80 (25 бар)",null,80,{"v":25,"d":"25.0"},{"v":4,"d":"4.0"},"1\" (НР)",45,{"$f":"'Конвертация цен'!H450","v":{"v":136265.8410133362,"d":"136265.84"}},{"$f":"J102-J102*Оглавление!$K$21","v":{"v":136265.8410133362,"d":"136,265.84"}},null,{"v":0,"d":"0.00"}]
[null,"GKB0141140","Бак мембранный для водоснабжения Gekon WAV100",null,100,{"v":10,"d":"10.0"},1.5,"1\" (НР)",15.1,{"$f":"'Конвертация цен'!H451","v":15533.15},{"$f":"J103-J103*Оглавление!$K$21","v":{"v":15533.15,"d":"15,533.15"}},null,{"v":0,"d":"0.00"}]
[null,"GKB2140266","Бак мембранный для водоснабжения Gekon WAV100 (16 бар)",null,100,{"v":16,"d":"16.0"},{"v":4,"d":"4.0"},"1\" (НР)",47.3,{"$f":"'Конвертация цен'!H452","v":{"v":59872.70475769044,"d":"59872.70"}},{"$f":"J104-J104*Оглавление!$K$21","v":{"v":59872.70475769044,"d":"59,872.70"}},null,{"v":0,"d":"0.00"}]
[null,"GKB2140362","Бак мембранный для водоснабжения Gekon WAV100 (25 бар)",null,100,{"v":25,"d":"25.0"},{"v":4,"d":"4.0"},"1\" (НР)",67.3,{"$f":"'Конвертация цен'!H453","v":{"v":138483.34859695437,"d":"138483.35"}},{"$f":"J105-J105*Оглавление!$K$21","v":{"v":138483.34859695437,"d":"138,483.35"}},null,{"v":0,"d":"0.00"}]
[null,"GKB0141160","Бак мембранный для водоснабжения Gekon WAV150",null,150,{"v":10,"d":"10.0"},1.5,"1\" (НР)",18.4,{"$f":"'Конвертация цен'!H454","v":19647.75},{"$f":"J106-J106*Оглавление!$K$21","v":{"v":19647.75,"d":"19,647.75"}},null,{"v":0,"d":"0.00"}]
[null,"GKB2140268","Бак мембранный для водоснабжения Gekon WAV150 (16 бар)",null,150,{"v":16,"d":"16.0"},{"v":4,"d":"4.0"},"1\" (НР)",49,{"$f":"'Конвертация цен'!H455","v":{"v":68299.23357543946,"d":"68299.23"}},{"$f":"J107-J107*Оглавление!$K$21","v":{"v":68299.23357543946,"d":"68,299.23"}},null,{"v":0,"d":"0.00"}]
[null,"GKB2140366","Бак мембранный для водоснабжения Gekon WAV150 (25 бар)",null,150,{"v":25,"d":"25.0"},{"v":4,"d":"4.0"},"1\" (НР)",69,{"$f":"'Конвертация цен'!H456","v":{"v":221639.88298263552,"d":"221639.88"}},{"$f":"J108-J108*Оглавление!$K$21","v":{"v":221639.88298263552,"d":"221,639.88"}},null,{"v":0,"d":"0.00"}]
[null,"GKB0141510","Бак мембранный для водоснабжения Gekon WAV200",null,200,{"v":10,"d":"10.0"},1.5,"1 1/4\" (НР)",32.4,{"$f":"'Конвертация цен'!H457","v":36111.79},{"$f":"J109-J109*Оглавление!$K$21","v":{"v":36111.79,"d":"36,111.79"}},null,{"v":0,"d":"0.00"}]
[null,"GKB2140270","Бак мембранный для водоснабжения Gekon WAV200 (16 бар)",null,200,{"v":16,"d":"16.0"},{"v":4,"d":"4.0"},"1 1/4\" (НР)",50.3,{"$f":"'Конвертация цен'!H458","v":{"v":127728.43681640626,"d":"127728.44"}},{"$f":"J110-J110*Оглавление!$K$21","v":{"v":127728.43681640626,"d":"127,728.44"}},null,{"v":0,"d":"0.00"}]
[null,"GKB2140368","Бак мембранный для водоснабжения GekonWAV 200 (25 бар)",null,200,{"v":25,"d":"25.0"},{"v":4,"d":"4.0"},"1 1/4\" (НР)",70.3,{"$f":"'Конвертация цен'!H459","v":{"v":288275.9858703613,"d":"288275.99"}},{"$f":"J111-J111*Оглавление!$K$21","v":{"v":288275.9858703613,"d":"288,275.99"}},null,{"v":0,"d":"0.00"}]
[null,"GKB0141515","Бак мембранный для водоснабжения Gekon WAV300",null,300,{"v":10,"d":"10.0"},1.5,"1 1/4\" (НР)",40.3,{"$f":"'Конвертация цен'!H460","v":43804.54},{"$f":"J112-J112*Оглавление!$K$21","v":{"v":43804.54,"d":"43,804.54"}},null,{"v":0,"d":"0.00"}]
[null,"GKB2140272","Бак мембранный для водоснабжения Gekon WAV300 (16 бар)",null,300,{"v":16,"d":"16.0"},{"v":4,"d":"4.0"},"1 1/4\" (НР)",60.4,{"$f":"'Конвертация цен'!H461","v":{"v":150790.51568603516,"d":"150790.52"}},{"$f":"J113-J113*Оглавление!$K$21","v":{"v":150790.51568603516,"d":"150,790.52"}},null,{"v":0,"d":"0.00"}]
[null,"GKB2140370","Бак мембранный для водоснабжения Gekon WAV 300 (25 бар)",null,300,{"v":25,"d":"25.0"},{"v":4,"d":"4.0"},"1 1/4\" (НР)",80.4,{"$f":"'Конвертация цен'!H462","v":{"v":367551.88198471075,"d":"367551.88"}},{"$f":"J114-J114*Оглавление!$K$21","v":{"v":367551.88198471075,"d":"367,551.88"}},null,{"v":0,"d":"0.00"}]
[null,"GKB0141520","Бак мембранный для водоснабжения Gekon WAV500",null,500,{"v":10,"d":"10.0"},1.5,"1 1/4\" (НР)",55.5,{"$f":"'Конвертация цен'!H463","v":68108.08},{"$f":"J115-J115*Оглавление!$K$21","v":{"v":68108.08,"d":"68,108.08"}},null,{"v":0,"d":"0.00"}]
[null,"GKB2140274","Бак мембранный для водоснабжения Gekon WAV500 (16 бар)",null,500,{"v":16,"d":"16.0"},{"v":4,"d":"4.0"},"1 1/4\" (НР)",91.2,{"$f":"'Конвертация цен'!H464","v":{"v":206117.32989730837,"d":"206117.33"}},{"$f":"J116-J116*Оглавление!$K$21","v":{"v":206117.32989730837,"d":"206,117.33"}},null,{"v":0,"d":"0.00"}]
[null,"GKB2140372","Бак мембранный для водоснабжения Gekon WAV 500 (25 бар)",null,500,{"v":25,"d":"25.0"},{"v":4,"d":"4.0"},"1 1/4\" (НР)",111.2,{"$f":"'Конвертация цен'!H465","v":{"v":499160.95707244874,"d":"499160.96"}},{"$f":"J117-J117*Оглавление!$K$21","v":{"v":499160.95707244874,"d":"499,160.96"}},null,{"v":0,"d":"0.00"}]
[null,"GKB1140300","Бак мембранный для водоснабжения Gekon WAV750",null,750,{"v":10,"d":"10.0"},{"v":4,"d":"4.0"},"1 1/4\" (НР)",130,{"$f":"'Конвертация цен'!H466","v":170759.17},{"$f":"J118-J118*Оглавление!$K$21","v":{"v":170759.17,"d":"170,759.17"}},null,{"v":0,"d":"0.00"}]
[null,"GKB2140276","Бак мембранный для водоснабжения Gekon WAV750 (16 бар)",null,750,{"v":16,"d":"16.0"},{"v":4,"d":"4.0"},"2\" (ВР)",211,{"$f":"'Конвертация цен'!H467","v":{"v":422989.57157516485,"d":"422989.57"}},{"$f":"J119-J119*Оглавление!$K$21","v":{"v":422989.57157516485,"d":"422,989.57"}},null,{"v":0,"d":"0.00"}]
[null,"GKB2140374","Бак мембранный для водоснабжения Gekon WAV750 (25 бар)",null,750,{"v":25,"d":"25.0"},{"v":4,"d":"4.0"},"2\" (ВР)",231,{"$f":"'Конвертация цен'!H468","v":{"v":713039.5635124207,"d":"713039.56"}},{"$f":"J120-J120*Оглавление!$K$21","v":{"v":713039.5635124207,"d":"713,039.56"}},null,{"v":0,"d":"0.00"}]
[null,"GKB1140302","Бак мембранный для водоснабжения Gekon WAV1000",null,1000,{"v":10,"d":"10.0"},{"v":4,"d":"4.0"},"2\" (ВР)",165,{"$f":"'Конвертация цен'!H469","v":291510.64},{"$f":"J121-J121*Оглавление!$K$21","v":{"v":291510.64,"d":"291,510.64"}},null,{"v":0,"d":"0.00"}]
[null,"GKB2140278","Бак мембранный для водоснабжения GekonWAV1000 (16 бар)",null,1000,{"v":16,"d":"16.0"},{"v":4,"d":"4.0"},"2\" (ВР)",245,{"$f":"'Конвертация цен'!H470","v":{"v":532201.8200683594,"d":"532201.82"}},{"$f":"J122-J122*Оглавление!$K$21","v":{"v":532201.8200683594,"d":"532,201.82"}},null,{"v":0,"d":"0.00"}]
[null,"GKB2140376","Бак мембранный для водоснабжения Gekon WAV 1000 (25 бар)",null,1000,{"v":25,"d":"25.0"},{"v":4,"d":"4.0"},"2\" (ВР)",265,{"$f":"'Конвертация цен'!H471","v":{"v":872478.3587745667,"d":"872478.36"}},{"$f":"J123-J123*Оглавление!$K$21","v":{"v":872478.3587745667,"d":"872,478.36"}},null,{"v":0,"d":"0.00"}]
[null,"GKB2140120","Бак мембранный для водоснабжения Gekon WAV1500",null,1500,{"v":10,"d":"10.0"},{"v":4,"d":"4.0"},"2\" (ВР)",257,{"$f":"'Конвертация цен'!H472","v":603769.91},{"$f":"J124-J124*Оглавление!$K$21","v":{"v":603769.91,"d":"603,769.91"}},null,{"v":0,"d":"0.00"}]
[null,"GKB2140280","Бак мембранный для водоснабжения Gekon WAV1500 (16 бар)",null,1500,{"v":16,"d":"16.0"},{"v":4,"d":"4.0"},"2\" (ВР)",390,{"$f":"'Конвертация цен'!H473","v":{"v":728118.6150810242,"d":"728118.62"}},{"$f":"J125-J125*Оглавление!$K$21","v":{"v":728118.6150810242,"d":"728,118.62"}},null,{"v":0,"d":"0.00"}]
[null,"GKB2140378","Бак мембранный для водоснабжения Gekon WAV1500 (25 бар)",null,1500,{"v":25,"d":"25.0"},{"v":4,"d":"4.0"},"2\" (ВР)",410,{"$f":"'Конвертация цен'!H474","v":{"v":1185146.928064728,"d":"1185146.93"}},{"$f":"J126-J126*Оглавление!$K$21","v":{"v":1185146.928064728,"d":"1,185,146.93"}},null,{"v":0,"d":"0.00"}]
[null,"GKB2140122","Бак мембранный для водоснабжения Gekon WAV2000",null,2000,{"v":10,"d":"10.0"},{"v":4,"d":"4.0"},"2\" (ВР)",375,{"$f":"'Конвертация цен'!H475","v":754958.94},{"$f":"J127-J127*Оглавление!$K$21","v":{"v":754958.94,"d":"754,958.94"}},null,{"v":0,"d":"0.00"}]
[null,"GKB2140282","Бак мембранный для водоснабжения Gekon WAV2000 (16 бар)",null,2000,{"v":16,"d":"16.0"},{"v":4,"d":"4.0"},"2\" (ВР)",535,{"$f":"'Конвертация цен'!H476","v":{"v":1204550.1194213869,"d":"1204550.12"}},{"$f":"J128-J128*Оглавление!$K$21","v":{"v":1204550.1194213869,"d":"1,204,550.12"}},null,{"v":0,"d":"0.00"}]
[null,"GKB2140380","Бак мембранный для водоснабжения Gekon WAV 2000 (25 бар)",null,2000,{"v":25,"d":"25.0"},{"v":4,"d":"4.0"},"2\" (ВР)",555,{"$f":"'Конвертация цен'!H477","v":{"v":1860045.361138916,"d":"1860045.36"}},{"$f":"J129-J129*Оглавление!$K$21","v":{"v":1860045.361138916,"d":"1,860,045.36"}},null,{"v":0,"d":"0.00"}]
[null,"GKB2140124","Бак мембранный для водоснабжения Gekon WAV2500",null,2500,{"v":10,"d":"10.0"},{"v":4,"d":"4.0"},"2\" (ВР)",307,{"$f":"'Конвертация цен'!H478","v":1049994.17},{"$f":"J130-J130*Оглавление!$K$21","v":{"v":1049994.17,"d":"1,049,994.17"}},null,{"v":0,"d":"0.00"}]
[null,"GKB2140382","Бак мембранный для водоснабжения Gekon WAV2500 (25 бар)",null,2500,{"v":25,"d":"25.0"},{"v":4,"d":"4.0"},"2\" (ВР)",720,{"$f":"'Конвертация цен'!H479","v":{"v":2105190.8245079042,"d":"2105190.82"}},{"$f":"J131-J131*Оглавление!$K$21","v":{"v":2105190.8245079042,"d":"2,105,190.82"}},null,{"v":0,"d":"0.00"}]
[null,"GKB2140126","Бак мембранный для водоснабжения Gekon WAV3000",null,3000,{"v":10,"d":"10.0"},{"v":4,"d":"4.0"},"2 1/2\" (ВР)",750,{"$f":"'Конвертация цен'!H480","v":1111708.36},{"$f":"J132-J132*Оглавление!$K$21","v":{"v":1111708.36,"d":"1,111,708.36"}},null,{"v":0,"d":"0.00"}]
[null,"GKB2140286","Бак мембранный для водоснабжения Gekon WAV3000 (16 бар)",null,3000,{"v":16,"d":"16.0"},{"v":4,"d":"4.0"},"2 1/2\" (ВР)",825,{"$f":"'Конвертация цен'!H481","v":{"v":1623548.1773460389,"d":"1623548.18"}},{"$f":"J133-J133*Оглавление!$K$21","v":{"v":1623548.1773460389,"d":"1,623,548.18"}},null,{"v":0,"d":"0.00"}]
[null,"GKB2140384","Бак мембранный для водоснабжения Gekon WAV3000 (25 бар)",null,3000,{"v":25,"d":"25.0"},{"v":4,"d":"4.0"},"2 1/2\" (ВР)",845,{"$f":"'Конвертация цен'!H482","v":{"v":2455224.3965820316,"d":"2455224.40"}},{"$f":"J134-J134*Оглавление!$K$21","v":{"v":2455224.3965820316,"d":"2,455,224.40"}},null,{"v":0,"d":"0.00"}]
[null,"GKB2140128","Бак мембранный для водоснабжения Gekon WAV4000",null,4000,{"v":10,"d":"10.0"},{"v":4,"d":"4.0"},"3\" (ВР)",{"v":1003.1,"d":"1003"},{"$f":"'Конвертация цен'!H483","v":{"v":1997974.332839966,"d":"1997974.33"}},{"$f":"J135-J135*Оглавление!$K$21","v":{"v":1997974.332839966,"d":"1,997,974.33"}},null,{"$f":"L135*K135","v":{"v":0,"d":"0.00"}}]
[null,"GKB2140288","Бак мембранный для водоснабжения Gekon WAV4000 (16 бар)",null,4000,{"v":16,"d":"16.0"},{"v":4,"d":"4.0"},"3\" (ВР)",{"v":1003.1,"d":"1003"},{"$f":"'Конвертация цен'!H484","v":{"v":2555123.1132240295,"d":"2555123.11"}},{"$f":"J136-J136*Оглавление!$K$21","v":{"v":2555123.1132240295,"d":"2,555,123.11"}},null,{"v":0,"d":"0.00"}]
[null,"GKB2140386","Бак мембранный для водоснабжения Gekon WAV4000 (25 бар)",null,4000,{"v":25,"d":"25.0"},{"v":4,"d":"4.0"},"3\" (ВР)",{"v":1023.06,"d":"1023"},{"$f":"'Конвертация цен'!H485","v":{"v":3433810.4932327275,"d":"3433810.49"}},{"$f":"J137-J137*Оглавление!$K$21","v":{"v":3433810.4932327275,"d":"3,433,810.49"}},null,{"v":0,"d":"0.00"}]
[null,"GKB2140130","Бак мембранный для водоснабжения Gekon WAV5000",null,5000,{"v":10,"d":"10.0"},{"v":4,"d":"4.0"},"3\" (ВР)",1139,{"$f":"'Конвертация цен'!H486","v":{"v":2715005.4100028994,"d":"2715005.41"}},{"$f":"J138-J138*Оглавление!$K$21","v":{"v":2715005.4100028994,"d":"2,715,005.41"}},null,{"v":0,"d":"0.00"}]
[null,"GKB2140290","Бак мембранный для водоснабжения Gekon WAV5000 (16 бар)",null,5000,{"v":16,"d":"16.0"},{"v":4,"d":"4.0"},"3\" (ВР)",1139,{"$f":"'Конвертация цен'!H487","v":{"v":3266610.4214279177,"d":"3266610.42"}},{"$f":"J139-J139*Оглавление!$K$21","v":{"v":3266610.4214279177,"d":"3,266,610.42"}},null,{"v":0,"d":"0.00"}]
[null,"GKB2140388","Бак мембранный для водоснабжения Gekon WAV5000 (25 бар)",null,5000,{"v":25,"d":"25.0"},{"v":4,"d":"4.0"},"3\" (ВР)",1159,{"$f":"'Конвертация цен'!H488","v":{"v":4306843.228903199,"d":"4306843.23"}},{"$f":"J140-J140*Оглавление!$K$21","v":{"v":4306843.228903199,"d":"4,306,843.23"}},null,{"v":0,"d":"0.00"}]
[null,"GKB2140132","Бак мембранный для водоснабжения Gekon WAV8000",null,8000,{"v":10,"d":"10.0"},{"v":4,"d":"4.0"},"3\" (ВР)",1470,{"$f":"'Конвертация цен'!H489","v":{"v":4929075.856866456,"d":"4929075.86"}},{"$f":"J141-J141*Оглавление!$K$21","v":{"v":4929075.856866456,"d":"4,929,075.86"}},null,{"v":0,"d":"0.00"}]
[null,"GKB2140292","Бак мембранный для водоснабжения Gekon WAV 8000 (16 бар)",null,8000,{"v":16,"d":"16.0"},{"v":4,"d":"4.0"},"3\" (ВР)",1637,{"$f":"'Конвертация цен'!H490","v":{"v":7277305.512538911,"d":"7277305.51"}},{"$f":"J142-J142*Оглавление!$K$21","v":{"v":7277305.512538911,"d":"7,277,305.51"}},null,{"v":0,"d":"0.00"}]
[null,"GKB2140390","Бак мембранный для водоснабжения Gekon WAV8000 (25 бар)",null,8000,{"v":25,"d":"25.0"},{"v":4,"d":"4.0"},"3\" (ВР)",1657,{"$f":"'Конвертация цен'!H491","v":{"v":8553148.500773622,"d":"8553148.50"}},{"$f":"J143-J143*Оглавление!$K$21","v":{"v":8553148.500773622,"d":"8,553,148.50"}},null,{"v":0,"d":"0.00"}]
[null,"GKB2140134","Бак мембранный для водоснабжения Gekon WAV10000",null,10000,{"v":10,"d":"10.0"},{"v":4,"d":"4.0"},"4\" (ВР)",1920,{"$f":"'Конвертация цен'!H492","v":{"v":5796232.197440338,"d":"5796232.20"}},{"$f":"J144-J144*Оглавление!$K$21","v":{"v":5796232.197440338,"d":"5,796,232.20"}},null,{"v":0,"d":"0.00"}]
[null,"GKB2140294","Бак мембранный для водоснабжения Gekon WAV 10000 (16 бар)",null,10000,{"v":16,"d":"16.0"},{"v":4,"d":"4.0"},"4\" (ВР)",2500,{"$f":"'Конвертация цен'!H493","v":{"v":8442716.623109438,"d":"8442716.62"}},{"$f":"J145-J145*Оглавление!$K$21","v":{"v":8442716.623109438,"d":"8,442,716.62"}},null,{"v":0,"d":"0.00"}]
[null,"GKB2140392","Бак мембранный для водоснабжения Gekon WAV10000 (25 бар)",null,10000,{"v":25,"d":"25.0"},{"v":4,"d":"4.0"},"4\" (ВР)",2520,{"$f":"'Конвертация цен'!H494","v":{"v":10263844.726155855,"d":"10263844.73"}},{"$f":"J146-J146*Оглавление!$K$21","v":{"v":10263844.726155855,"d":"10,263,844.73"}},null,{"v":0,"d":"0.00"}]
[]
["ГОРИЗОНТАЛЬНЫЕ МЕМБРАННЫЕ РАСШИРИТЕЛЬНЫЕ БАКИ СЕРИИ WAO ДЛЯ СИСТЕМ ВОДОСНАБЖЕНИЯ"]
["• Диапазон рабочих температур теплоносителя: от -10⁰C до +80⁰C (кратковременно до +99⁰C)"]
["• Тип теплоносителя: вода или водные растворы гликоля с концентрацие до 50%"]
["• Материал корпуса и контрфланца: сталь углеродистая с эпоксиполиэфирным покрытием, цвет синий RAL 5015"]
["• Тип мембраны: заменяемая, материал мембраны: EPDM"]
["• Материал ниппеля: латунь"]
["• Тип исполнения: горизонтальный"]
["• Размер держателя мембраны 3/4\"(НР)x1/2\"(ВР)"]
[]
["Фото","Артикул","Наименование товара",null,"Объём бака","Pmax","P     преднастройки","Присоединение к системе","Вес","Цена за шт.","Цена со скидкой, RUB","Кол-во, шт.","Сумма со скидкой, RUB"]
[{"$nulls":4},"л","бар","бар","G или DN","кг","RUB"]
[null,"GKB0140949","Бак мембранный для водоснабжения горизонтальный Gekon WAO19",null,19,{"v":10,"d":"10.0"},1.5,"1\" (НР)",5.2,{"$f":"'Конвертация цен'!H495","v":{"v":3024.6,"d":"3024.60"}},{"$f":"J159-J159*Оглавление!$K$21","v":{"v":3024.6,"d":"3,024.60"}},null,{"$f":"L159*K159","v":{"v":0,"d":"0.00"}}]
[null,"GKB0140959","Бак мембранный для водоснабжения горизонтальный Gekon WAO24",null,24,{"v":10,"d":"10.0"},1.5,"1\" (НР)",5.6,{"$f":"'Конвертация цен'!H496","v":3261.85},{"$f":"J160-J160*Оглавление!$K$21","v":{"v":3261.85,"d":"3,261.85"}},null,{"$f":"L160*K160","v":{"v":0,"d":"0.00"}}]
[null,"GKB2140400","Бак мембранный для водоснабжения горизонтальный Gekon WAO24 (16 бар)",null,24,{"v":16,"d":"16.0"},4,"1\" (НР)",8.3,{"$f":"'Конвертация цен'!H497","v":{"v":17740.060668945313,"d":"17740.06"}},{"$f":"J161-J161*Оглавление!$K$21","v":{"v":17740.060668945313,"d":"17,740.06"}},null,{"v":0,"d":"0.00"}]
[null,"GKB2140500","Бак мембранный для водоснабжения горизонтальный Gekon WAO24 (25 бар)",null,24,{"v":25,"d":"25.0"},4,"1\" (НР)",27.3,{"$f":"'Конвертация цен'!H498","v":{"v":51335.3005607605,"d":"51335.30"}},{"$f":"J162-J162*Оглавление!$K$21","v":{"v":51335.3005607605,"d":"51,335.30"}},null,{"v":0,"d":"0.00"}]
[null,"GKB0140970","Бак мембранный для водоснабжения горизонтальный Gekon WAO50",null,50,{"v":10,"d":"10.0"},1.5,"1\" (НР)",9.4,{"$f":"'Конвертация цен'!H499","v":9221.46},{"$f":"J163-J163*Оглавление!$K$21","v":{"v":9221.46,"d":"9,221.46"}},null,{"v":0,"d":"0.00"}]
[null,"GKB2140402","Бак мембранный для водоснабжения горизонтальный Gekon WAO50 (16 бар)",null,50,{"v":16,"d":"16.0"},4,"1\" (НР)",15.1,{"$f":"'Конвертация цен'!H500","v":{"v":35701.872096252446,"d":"35701.87"}},{"$f":"J164-J164*Оглавление!$K$21","v":{"v":35701.872096252446,"d":"35,701.87"}},null,{"v":0,"d":"0.00"}]
[null,"GKB2140502","Бак мембранный для водоснабжения горизонтальный Gekon WAO50 (25 бар)",null,50,{"v":25,"d":"25.0"},4,"1\" (НР)",34.1,{"$f":"'Конвертация цен'!H501","v":{"v":75949.63473892212,"d":"75949.63"}},{"$f":"J165-J165*Оглавление!$K$21","v":{"v":75949.63473892212,"d":"75,949.63"}},null,{"v":0,"d":"0.00"}]
[null,"GKB0140990","Бак мембранный для водоснабжения горизонтальный Gekon WAO80",null,80,{"v":10,"d":"10.0"},1.5,"1\" (НР)","13,7,",{"$f":"'Конвертация цен'!H502","v":11583.38},{"$f":"J166-J166*Оглавление!$K$21","v":{"v":11583.38,"d":"11,583.38"}},null,{"v":0,"d":"0.00"}]
[null,"GKB2140404","Бак мембранный для водоснабжения горизонтальный Gekon WAO80 (16 бар)",null,80,{"v":16,"d":"16.0"},4,"1\" (НР)",{"v":25.86,"d":"25.9"},{"$f":"'Конвертация цен'!H503","v":{"v":55659.44034881592,"d":"55659.44"}},{"$f":"J167-J167*Оглавление!$K$21","v":{"v":55659.44034881592,"d":"55,659.44"}},null,{"v":0,"d":"0.00"}]
[null,"GKB2140504","Бак мембранный для водоснабжения горизонтальный Gekon WAO80 ( 25 бар)",null,80,{"v":25,"d":"25.0"},4,"1\" (НР)",{"v":45,"d":"45.0"},{"$f":"'Конвертация цен'!H504","v":{"v":136265.8410133362,"d":"136265.84"}},{"$f":"J168-J168*Оглавление!$K$21","v":{"v":136265.8410133362,"d":"136,265.84"}},null,{"v":0,"d":"0.00"}]
[null,"GKB0140995","Бак мембранный для водоснабжения горизонтальный Gekon WAO100",null,100,{"v":10,"d":"10.0"},1.5,"1\" (НР)",16.3,{"$f":"'Конвертация цен'!H505","v":15737.44},{"$f":"J169-J169*Оглавление!$K$21","v":{"v":15737.44,"d":"15,737.44"}},null,{"v":0,"d":"0.00"}]
[null,"GKB2140406","Бак мембранный для водоснабжения горизонтальный Gekon WAO100 (16 бар)",null,100,{"v":16,"d":"16.0"},4,"1\" (НР)",47.3,{"$f":"'Конвертация цен'!H506","v":{"v":59872.70475769044,"d":"59872.70"}},{"$f":"J170-J170*Оглавление!$K$21","v":{"v":59872.70475769044,"d":"59,872.70"}},null,{"v":0,"d":"0.00"}]
[null,"GKB2140506","Бак мембранный для водоснабжения горизонтальный Gekon WAO100 (25 бар)",null,100,{"v":25,"d":"25.0"},4,"1\" (НР)",{"v":51,"d":"51.0"},{"$f":"'Конвертация цен'!H507","v":{"v":138483.34859695437,"d":"138483.35"}},{"$f":"J171-J171*Оглавление!$K$21","v":{"v":138483.34859695437,"d":"138,483.35"}},null,{"v":0,"d":"0.00"}]
[null,"GKB0140997","Бак мембранный для водоснабжения горизонтальный Gekon WAO150",null,150,{"v":10,"d":"10.0"},1.5,"1\" (НР)",21.5,{"$f":"'Конвертация цен'!H508","v":25099.06},{"$f":"J172-J172*Оглавление!$K$21","v":{"v":25099.06,"d":"25,099.06"}},null,{"v":0,"d":"0.00"}]
[]
["ВЕРТИКАЛЬНЫЕ МЕМБРАННЫЕ РАСШИРИТЕЛЬНЫЕ БАКИ СЕРИИ WAV ДЛЯ СИСТЕМ ВОДОСНАБЖЕНИЯ С КОНТРФЛАНЦЕМ ИЗ НЕРЖАВЕЮЩЕЙ СТАЛИ"]
["• Диапазон рабочих температур теплоносителя: от -10⁰C до +80⁰C (кратковременно до +99⁰C)"]
["• Тип теплоносителя: вода или водные растворы гликоля с концентрацие до 50%"]
["• Материал корпуса: сталь углеродистая с эпоксиполиэфирным покрытием, цвет синий RAL 5015; Материал контрфланца: нержавеющая сталь"]
["• Тип мембраны: заменяемая, материал мембраны: EPDM"]
["• Материал ниппеля: латунь"]
["• Тип исполнения: вертикальный"]
["• Размер держателя мембраны у баков 80- 4000 л 3/4\"(НР)x1/2\"(ВР)"]
[]
["Фото","Артикул","Наименование товара",null,"Объём бака","Pmax","P     преднастройки","Присоединение к системе","Вес","Цена за шт.","Цена со скидкой, RUB","Кол-во, шт.","Сумма со скидкой, RUB"]
[{"$nulls":4},"л","бар","бар","G или DN","кг","RUB"]
[null,"GKB1140232","Бак мембранный для водоснабжения Gekon WAV8 с контрфланцем из нерж.стали",null,8,10,1.5,"3/4\" (НР)",1.61,{"$f":"'Конвертация цен'!H509","v":2883.29},{"$f":"J185-J185*Оглавление!$K$21","v":{"v":2883.29,"d":"2,883.29"}},null,{"$f":"L185*K185","v":{"v":0,"d":"0.00"}}]
[null,"GKB1140234","Бак мембранный для водоснабжения Gekon WAV12 с контрфланцем из нерж.стали",null,12,10,1.5,"3/4\" (НР)",2.05,{"$f":"'Конвертация цен'!H510","v":3137.06},{"$f":"J186-J186*Оглавление!$K$21","v":{"v":3137.06,"d":"3,137.06"}},null,{"$f":"L186*K186","v":{"v":0,"d":"0.00"}}]
[null,"GKB1140236","Бак мембранный для водоснабжения Gekon WAV18 с контрфланцем из нерж.стали",null,18,10,1.5,"3/4\" (НР)",2.8,{"$f":"'Конвертация цен'!H511","v":3777.17},{"$f":"J187-J187*Оглавление!$K$21","v":{"v":3777.17,"d":"3,777.17"}},null,{"v":0,"d":"0.00"}]
[null,"GKB1140238","Бак мембранный для водоснабжения Gekon WAV24 с контрфланцем из нерж.стали",null,24,10,1.5,"3/4\" (НР)",4.25,{"$f":"'Конвертация цен'!H512","v":3986.75},{"$f":"J188-J188*Оглавление!$K$21","v":{"v":3986.75,"d":"3,986.75"}},null,{"v":0,"d":"0.00"}]
[null,"GKB1140240","Бак мембранный для водоснабжения Gekon WAV35 с контрфланцем из нерж.стали",null,35,10,1.5,"3/4\" (НР)",5.95,{"$f":"'Конвертация цен'!H513","v":{"v":6328.1,"d":"6328.10"}},{"$f":"J189-J189*Оглавление!$K$21","v":{"v":6328.1,"d":"6,328.10"}},null,{"v":0,"d":"0.00"}]
[null,"GKB1140242","Бак мембранный для водоснабжения Gekon WAV50 с контрфланцем из нерж.стали",null,50,10,1.5,"1\" (НР)",9.2,{"$f":"'Конвертация цен'!H514","v":{"v":11008.5,"d":"11008.50"}},{"$f":"J190-J190*Оглавление!$K$21","v":{"v":11008.5,"d":"11,008.50"}},null,{"v":0,"d":"0.00"}]
[null,"GKB1140244","Бак мембранный для водоснабжения Gekon WAV80 с контрфланцем из нерж.стали",null,80,10,1.5,"1\" (НР)",11.6,{"$f":"'Конвертация цен'!H515","v":14573.81},{"$f":"J191-J191*Оглавление!$K$21","v":{"v":14573.81,"d":"14,573.81"}},null,{"v":0,"d":"0.00"}]
[null,"GKB1140246","Бак мембранный для водоснабжения Gekon WAV100 с контрфланцем из нерж.стали",null,100,10,1.5,"1\" (НР)",15.1,{"$f":"'Конвертация цен'!H516","v":19513.67},{"$f":"J192-J192*Оглавление!$K$21","v":{"v":19513.67,"d":"19,513.67"}},null,{"v":0,"d":"0.00"}]
[null,"GKB1140248","Бак мембранный для водоснабжения Gekon WAV150 с контрфланцем из нерж.стали",null,150,10,1.5,"1\" (НР)",18.4,{"$f":"'Конвертация цен'!H517","v":23646.63},{"$f":"J193-J193*Оглавление!$K$21","v":{"v":23646.63,"d":"23,646.63"}},null,{"v":0,"d":"0.00"}]
[]
["ГОРИЗОНТАЛЬНЫЕ МЕМБРАННЫЕ РАСШИРИТЕЛЬНЫЕ БАКИ СЕРИИ WAO ДЛЯ СИСТЕМ ВОДОСНАБЖЕНИЯ С КОНТРФЛАНЦЕМ ИЗ НЕРЖАВЕЮЩЕЙ СТАЛИ"]
["• Диапазон рабочих температур теплоносителя: от -10⁰C до +80⁰C (кратковременно до +99⁰C)"]
["• Тип теплоносителя: вода или водные растворы гликоля с концентрацие до 50%"]
["• Материал корпуса: сталь углеродистая с эпоксиполиэфирным покрытием, цвет синий RAL 5015; Материал контрфланца: нержавеющая сталь"]
["• Тип мембраны: заменяемая, материал мембраны: EPDM"]
["• Материал ниппеля: латунь"]
["• Тип исполнения: горизонтальный"]
["• Размер держателя мембраны у баков 80- 4000 л 3/4\"(НР)x1/2\"(ВР)"]
[]
["Фото","Артикул","Наименование товара",null,"Объём бака","Pmax","P     преднастройки","Присоединение к системе","Вес","Цена за шт.","Цена со скидкой, RUB","Кол-во, шт.","Сумма со скидкой, RUB"]
[{"$nulls":4},"л","бар","бар","G или DN","кг","RUB"]
[null,"GKB0140410","Бак мембранный для водоснабжения гор-й Gekon WAO24 ",null,24,10,1.5,"1\" (НР)",4.4,{"$f":"'Конвертация цен'!H518","v":{"v":4018.6,"d":"4018.60"}},{"$f":"J206-J206*Оглавление!$K$21","v":{"v":4018.6,"d":"4,018.60"}},null,{"$f":"L206*K206","v":{"v":0,"d":"0.00"}}]
[null,"GKB0140420","Бак мембранный для водоснабжения гор-й Gekon WAO50 с контрфланцем из нерж.стали",null,50,10,1.5,"1\" (НР)",9.4,{"$f":"'Конвертация цен'!H519","v":{"v":11239.1,"d":"11239.10"}},{"$f":"J207-J207*Оглавление!$K$21","v":{"v":11239.1,"d":"11,239.10"}},null,{"$f":"L207*K207","v":{"v":0,"d":"0.00"}}]
[null,"GKB1140250","Бак мембранный для водоснабжения гор-й Gekon WAO80 с контрфланцем из нерж.стали",null,80,10,1.5,"1\" (НР)",13.7,{"$f":"'Конвертация цен'!H520","v":14316.04},{"$f":"J208-J208*Оглавление!$K$21","v":{"v":14316.04,"d":"14,316.04"}},null,{"v":0,"d":"0.00"}]
[null,"GKB1140252","Бак мембранный для водоснабжения гор-й Gekon WAO100 с контрфланцем из нерж.стали",null,100,10,1.5,"1\" (НР)",16.3,{"$f":"'Конвертация цен'!H521","v":19450.23},{"$f":"J209-J209*Оглавление!$K$21","v":{"v":19450.23,"d":"19,450.23"}},null,{"v":0,"d":"0.00"}]
[null,"GKB1140254","Бак мембранный для водоснабжения горй Gekon WAO150 с контрфланцем из нерж.стали",null,150,10,1.5,"1\" (НР)",21.5,{"$f":"'Конвертация цен'!H522","v":29574.94},{"$f":"J210-J210*Оглавление!$K$21","v":{"v":29574.94,"d":"29,574.94"}},null,{"v":0,"d":"0.00"}]
[]
["ВЕРТИКАЛЬНЫЕ МЕМБРАННЫЕ РАСШИРИТЕЛЬНЫЕ БАКИ СЕРИИ WDV ДЛЯ ГВС И ГЕЛИОСИСТЕМ"]
["• Диапазон рабочих температур теплоносителя: от -10⁰C до +80⁰C (кратковременно до +99⁰C)"]
["• Тип теплоносителя: вода или водные растворы гликоля с концентрацие до 50%"]
["• Материал корпуса: сталь углеродистая с эпоксиполиэфирным покрытием, цвет синий RAL 9016; Материал контрфланца: нержавеющая сталь"]
["• Тип мембраны: заменяемая, материал мембраны: EPDM"]
["• Материал ниппеля: латунь"]
["• Тип исполнения: вертикальный"]
[]
["Фото","Артикул","Наименование товара",null,"Объём бака","Pmax","P     преднастройки","Присоединение к системе","Вес","Цена за шт.","Цена со скидкой, RUB","Кол-во, шт.","Сумма со скидкой, RUB"]
[{"$nulls":4},"л","бар","бар","G или DN","кг","RUB"]
[null,"GKB0140350","Бак мембранный для ГВС и гелиосистем Gekon WDV 8 с контрфланцем из нерж.стали",null,8,12,1.5,"3/4\" (НР)",1.7,{"$f":"'Конвертация цен'!H523","v":3439.46},{"$f":"J222-J222*Оглавление!$K$21","v":{"v":3439.46,"d":"3,439.46"}},null,{"$f":"L222*K222","v":{"v":0,"d":"0.00"}}]
[null,"GKB0140360","Бак мембранный для ГВС и гелиосистем Gekon WDV 12 с контрфланцем из нерж.стали",null,12,12,1.5,"3/4\" (НР)",2.1,{"$f":"'Конвертация цен'!H524","v":4041.92},{"$f":"J223-J223*Оглавление!$K$21","v":{"v":4041.92,"d":"4,041.92"}},null,{"$f":"L223*K223","v":{"v":0,"d":"0.00"}}]
[null,"GKB0140370","Бак мембранный для ГВС и гелиосистем Gekon WDV 18 с контрфланцем из нерж.стали",null,18,12,1.5,"3/4\" (НР)",2.9,{"$f":"'Конвертация цен'!H525","v":4820.25},{"$f":"J224-J224*Оглавление!$K$21","v":{"v":4820.25,"d":"4,820.25"}},null,{"v":0,"d":"0.00"}]
[null,"GKB0140380","Бак мембранный для ГВС и гелиосистем Gekon WDV 24 с контрфланцем из нерж.стали",null,24,12,1.5,"3/4\" (НР)",4.4,{"$f":"'Конвертация цен'!H526","v":5243.27},{"$f":"J225-J225*Оглавление!$K$21","v":{"v":5243.27,"d":"5,243.27"}},null,{"v":0,"d":"0.00"}]
[null,"GKB0140390","Бак мембранный для ГВС и гелиосистем Gekon WDV 35 с контрфланцем из нерж.стали",null,35,12,1.5,"3/4\" (НР)",6.3,{"$f":"'Конвертация цен'!H527","v":7588.54},{"$f":"J226-J226*Оглавление!$K$21","v":{"v":7588.54,"d":"7,588.54"}},null,{"v":0,"d":"0.00"}]
[]
["ПРИНАДЛЕЖНОСТИ ДЛЯ МЕМБРАННЫХ БАКОВ"]
[]
["Фото","Артикул","Наименование товара",{"$nulls":6},"Цена за шт.","Цена со скидкой, RUB","Кол-во, шт.","Сумма со скидкой, RUB"]
[{"$nulls":9},"RUB"]
[null,"GKB0143010","Комплект крепления для мембранных баков 8-35 л",{"$nulls":6},{"$f":"'Конвертация цен'!H528","v":{"v":1143,"d":"1143.00"}},{"$f":"J232-J232*Оглавление!$K$21","v":{"v":1143,"d":"1,143.00"}},null,{"$f":"L232*K232","v":{"v":0,"d":"0.00"}}]
[null,"GKBQRVG34","Клапан быстроразъемный для расширительного бака 3/4\"",{"$nulls":6},{"$f":"'Конвертация цен'!H529","v":{"v":970,"d":"970.00"}},{"$f":"J233-J233*Оглавление!$K$21","v":{"v":970,"d":"970.00"}},null,{"$f":"L233*K233","v":{"v":0,"d":"0.00"}}]
[]
["ЗАПАСНЫЕ ЧАСТИ ДЛЯ МЕМБРАННЫХ БАКОВ"]
[]
["Фото","Артикул","Наименование товара",{"$nulls":6},"Цена за шт.","Цена со скидкой, RUB","Кол-во, шт.","Сумма со скидкой, RUB"]
[{"$nulls":9},"RUB"]
[null,"999ME001","Мембрана для баков 8, 12 л. с горловиной диаметром 51,5 мм (для WAV, WRV, WDV)",{"$nulls":6},"по запросу",{"$f":"J239","v":"по запросу"},null,{"$f":"K239","v":"по запросу"}]
[null,"999ME016","Мембрана для баков 18, 24 л. с горловиной диаметром 51,5 мм (для WAV, WRV, WDV)",{"$nulls":6},"по запросу",{"$f":"J240","v":"по запросу"},null,{"$f":"K240","v":"по запросу"}]
[null,"999ME070","Мембрана для баков 24 л. с горловиной диаметром 89 мм (для WAO)",{"$nulls":6},"по запросу","по запросу",null,"по запросу"]
[null,"999ME055","Мембрана для баков 35, 50 л. с горловиной диаметром 89 мм (для WAV, WRV, WAO)",{"$nulls":6},"по запросу","по запросу",null,"по запросу"]
[null,"999ME090","Мембрана для баков 80, 100 л. с горловиной диаметром 89 мм (для WRV)",{"$nulls":6},"по запросу","по запросу",null,"по запросу"]
[null,"999ME089","Мембрана (проходная) для баков 80, 100 л. с горловиной диаметром 89 мм (для WAV, WAO)",{"$nulls":6},"по запросу","по запросу",null,"по запросу"]
[null,"999ME201","Мембрана (проходная) для баков 150 л. с горловиной диаметром 89 мм (для WAV, WAO)",{"$nulls":6},"по запросу","по запросу",null,"по запросу"]
[null,"999ME200","Мембрана для баков 150 л. с горловиной диаметром 89 мм (для WRV)",{"$nulls":6},"по запросу","по запросу",null,"по запросу"]
[null,"999ME120","Мембрана для баков 200 л. (для WAV, WRV)",{"$nulls":6},"по запросу","по запросу",null,"по запросу"]
[null,"999ME700","Мембрана для баков 300 л. (для WAV, WRV)",{"$nulls":6},"по запросу","по запросу",null,"по запросу"]
[null,"999ME750","Мембрана для баков 500 л. (для WAV, WRV)",{"$nulls":6},"по запросу","по запросу",null,"по запросу"]
[null,"FOA0244","Мембрана для водоснабжения, 750 л. (для WAV, WRV)",{"$nulls":6},"по запросу","по запросу",null,"по запросу"]
[null,"FOA0245","Мембрана для водоснабжения, 1000 л. (для WAV, WRV)",{"$nulls":6},"по запросу","по запросу",null,"по запросу"]

{"sheet":"Бойлеры OLD","index":8,"n_rows":70,"n_cols":12,"rows_kept":70,"merged":[[3,0,3,8],[4,0,4,7],[5,9,5,11],[17,10,17,11],[18,0,19,0],[18,1,19,1],[18,2,19,3],[18,9,19,9],[18,10,19,10],[18,11,19,11],[20,0,24,0],[20,2,20,3],[21,2,21,3],[22,2,22,3],[23,2,23,3],[24,2,24,3],[25,0,28,0],[25,1,28,1],[25,2,28,3],[25,4,28,4],[25,5,28,5],[25,6,28,6],[25,7,28,7],[25,8,28,8],[25,9,28,9],[25,10,28,10],[25,11,28,11],[29,0,30,0],[29,2,29,3],[30,2,30,3],[31,0,33,0],[31,2,31,3],[32,2,32,3],[33,2,33,3],[45,0,46,0],[45,1,46,1],[45,2,46,3],[45,9,46,9],[45,10,46,10],[45,11,46,11],[47,0,52,0],[47,2,47,3],[48,2,48,3],[49,2,49,3],[50,2,50,3],[51,2,51,3],[52,2,52,3],[64,0,65,0],[64,1,65,1],[64,2,65,3],[64,5,64,6],[64,9,65,9],[64,10,65,10],[64,11,65,11],[65,5,65,6],[66,0,69,0],[66,2,66,3],[66,5,66,6],[67,2,67,3],[67,5,67,6],[68,2,68,3],[68,5,68,6],[69,2,69,3],[69,5,69,6]]}
[]
[]
[]
["Бойлеры косвенного нагрева, Накопители горячей воды,"]
["Теплоаккумуляторы (ДО СЕНТЯБРЯ 2024 ГОДА)"]
[{"$nulls":9},"На главную страницу"]
["БОЙЛЕРЫ КОСВЕННОГО НАГРЕВА НАПОЛЬНЫЕ "]
["• Максимальная рабочая температура бойлера: +95⁰C"]
["• Максимальное рабочее давление бойлера: 6 бар"]
["• Бойлеры изготовлены из нержавеющей стали ГОСТ 08Х18Н10 (AISI 304)"]
["• Толщина стали корпуса 1,5 мм для объёма 150-500 л и  3,0 мм для объёма 800-1000 л"]
["• Теплообменник выполнен из гладкой трубы с толщиной стенки 1,5 мм"]
["• Встроенный магниевый анод, для модели TC - магниевый анод не предусмотрен"]
["• Разборная секционная теплоизоляция из пенополистирола 30 мм для модели TC, 50 мм для бойлеров 150-500 л, 60 мм для бойлеров 800-1000 л"]
["• Защитный кожух из ABS-пластика для бойлеров 150-500 л, из ткани для бойлеров 800-1000 л"]
["• Возможность установки ТЭНа с присоединением G1 1/2”, ТЭН поставляется отдельно"]
["• Ревизионный люк диаметром 125 мм"]
[{"$nulls":9},"Итого:",{"$f":"SUM(L21:L34)+SUM(L48:L53)+SUM(L67:L70)+SUM(#REF!)+SUM(#REF!)","v":{"$error":"#REF!"}}]
["Фото","Артикул","Наименование товара",null,"Вместимость бойлера","Площадь теплообменника","Ёмкость теплообменника","Вес","Цена за шт.","Цена со скидкой, RUB","Кол-во, шт.","Сумма со скидкой, RUB"]
[{"$nulls":4},"л","м2","л","кг","RUB"]
[null,"GKB1501N","Бойлер Gekon HWB 150 1HE INOX, 30 кВт",null,150,1.1,7.9,36,{"$f":"'Конвертация цен'!H307","v":{"v":78481,"d":"78481.00"}},{"$f":"I21-I21*Оглавление!$K$20","v":{"v":78481,"d":"78,481.00"}},null,{"$f":"K21*J21","v":{"v":0,"d":"0.00"}}]
[null,"GKB2001N","Бойлер Gekon HWB 200 1HE INOX, 30 кВт",null,200,1.1,7.9,46,{"$f":"'Конвертация цен'!H308","v":{"v":86816,"d":"86816.00"}},{"$f":"I22-I22*Оглавление!$K$20","v":{"v":86816,"d":"86,816.00"}},null,{"$f":"K22*J22","v":{"v":0,"d":"0.00"}}]
[null,"GKB3001N","Бойлер Gekon HWB 300 1HE INOX, 45 кВт",null,300,1.6,11.8,67,{"$f":"'Конвертация цен'!H309","v":{"v":121300,"d":"121300.00"}},{"$f":"I23-I23*Оглавление!$K$20","v":{"v":121300,"d":"121,300.00"}},null,{"v":0,"d":"0.00"}]
[null,"GKB4001N","Бойлер Gekon HWB 400 1HE INOX, 53 кВт",null,400,1.8,12.6,75,{"$f":"'Конвертация цен'!H310","v":{"v":137354,"d":"137354.00"}},{"$f":"I24-I24*Оглавление!$K$20","v":{"v":137354,"d":"137,354.00"}},null,{"v":0,"d":"0.00"}]
[null,"GKB5001N","Бойлер Gekon HWB 500 1HE INOX, 70 кВт",null,500,2.3,14,103,{"$f":"'Конвертация цен'!H311","v":{"v":180930,"d":"180930.00"}},{"$f":"I25-I25*Оглавление!$K$20","v":{"v":180930,"d":"180,930.00"}},null,{"v":0,"d":"0.00"}]
[null,"GKB120TC","Бойлер Gekon HWB 120 1HE TC INOX, 30 кВт            с верхним подключением",null,120,1,7.3,36.5,{"$f":"'Конвертация цен'!H312","v":{"v":83150,"d":"83150.00"}},{"$f":"I26-I26*Оглавление!$K$20","v":{"v":83150,"d":"83,150.00"}},null,{"v":0,"d":"0.00"}]
[]
[]
[]
[null,"GKB300XL","Бойлер Gekon HWB 300 1HE XL INOX, 129 кВт",null,300,4.4,30.9,83,{"$f":"'Конвертация цен'!H313","v":{"v":154392,"d":"154392.00"}},{"$f":"I30-I30*Оглавление!$K$20","v":{"v":154392,"d":"154,392.00"}},null,{"v":0,"d":"0.00"}]
[null,"GKB400XL","Бойлер Gekon HWB 400 1HE XL INOX, 120кВт",null,400,4.1,28.6,86,{"$f":"'Конвертация цен'!H314","v":{"v":161432,"d":"161432.00"}},{"$f":"I31-I31*Оглавление!$K$20","v":{"v":161432,"d":"161,432.00"}},null,{"v":0,"d":"0.00"}]
[null,"GKB2002N","Бойлер Gekon HWB 200 2HE INOX, 15/33 кВт",null,200,"0,5/1,1","3,6/7,9",52,{"$f":"'Конвертация цен'!H315","v":{"v":100570,"d":"100570.00"}},{"$f":"I32-I32*Оглавление!$K$20","v":{"v":100570,"d":"100,570.00"}},null,{"v":0,"d":"0.00"}]
[null,"GKB3002N","Бойлер Gekon HWB 300 2HE INOX, 30/45 кВт",null,300,"1,0/1,6","7,3/11",73,{"$f":"'Конвертация цен'!H316","v":{"v":142417,"d":"142417.00"}},{"$f":"I33-I33*Оглавление!$K$20","v":{"v":142417,"d":"142,417.00"}},null,{"v":0,"d":"0.00"}]
[null,"GKB4002N","Бойлер Gekon HWB 400 2HE INOX, 30/53 кВт",null,400,"1,0/1,8","7,3/11,9",81,{"$f":"'Конвертация цен'!H317","v":{"v":158470,"d":"158470.00"}},{"$f":"I34-I34*Оглавление!$K$20","v":{"v":158470,"d":"158,470.00"}},null,{"v":0,"d":"0.00"}]
[]
["БОЙЛЕРЫ КОСВЕННОГО НАГРЕВА НАСТЕННЫЕ"]
["• Максимальная рабочая температура бойлера: +95⁰C"]
["• Максимальное рабочее давление бойлера: 6 бар"]
["• Бойлеры изготовлены из нержавеющей стали ГОСТ 08Х18Н10 (AISI 304)"]
["• Толщина стали корпуса и теплообменника 1,5 мм"]
["• Встроенный магниевый анод"]
["• Разборная секционная теплоизоляция из пенополистирола 30 мм"]
["• Защитный кожух из ABS-пластика белового цвета"]
["• Возможность установки ТЭНа с присоединением G1 1/2”, ТЭН поставляется отдельно"]
[]
["Фото","Артикул","Наименование товара",null,"Вместимость бойлера","Площадь теплообменника","Ёмкость теплообменника","Вес","Цена за шт.","Цена со скидкой, RUB","Кол-во, шт.","Сумма со скидкой, RUB"]
[{"$nulls":4},"л","м2","л","кг","RUB"]
[null,"GKB80WL","Бойлер Gekon HWB 80 1HE WL INOX, 15,3 кВт с левым подключением",null,80,0.5,3.6,19,{"$f":"'Конвертация цен'!H318","v":{"v":50271,"d":"50271.00"}},{"$f":"I48-I48*Оглавление!$K$20","v":{"v":50271,"d":"50,271.00"}},null,{"$f":"K48*J48","v":{"v":0,"d":"0.00"}}]
[null,"GKB100WL","Бойлер Gekon HWB 100 1HE WL INOX, 15,3 кВт с левым подключением",null,100,0.5,3.6,21,{"$f":"'Конвертация цен'!H319","v":{"v":55500,"d":"55500.00"}},{"$f":"I49-I49*Оглавление!$K$20","v":{"v":55500,"d":"55,500.00"}},null,{"$f":"K49*J49","v":{"v":0,"d":"0.00"}}]
[null,"GKB150WL","Бойлер Gekon HWB 150 1HE WL INOX, 33 кВт с левым подключением",null,150,1.1,7.9,32,{"$f":"'Конвертация цен'!H320","v":{"v":72430,"d":"72430.00"}},{"$f":"I50-I50*Оглавление!$K$20","v":{"v":72430,"d":"72,430.00"}},null,{"$f":"K50*J50","v":{"v":0,"d":"0.00"}}]
[null,"GKB80WR","Бойлер Gekon HWB 80 1HE WL INOX, 15,3 кВт с правым подключением",null,80,0.5,3.6,19,{"$f":"'Конвертация цен'!H321","v":{"v":50271,"d":"50271.00"}},{"$f":"I51-I51*Оглавление!$K$20","v":{"v":50271,"d":"50,271.00"}},null,{"v":0,"d":"0.00"}]
[null,"GKB100WR","Бойлер Gekon HWB 100 1HE WL INOX, 15,3 кВт с правым подключением",null,100,0.5,3.6,21,{"$f":"'Конвертация цен'!H322","v":{"v":55500,"d":"55500.00"}},{"$f":"I52-I52*Оглавление!$K$20","v":{"v":55500,"d":"55,500.00"}},null,{"$f":"K52*J52","v":{"v":0,"d":"0.00"}}]
[null,"GKB150WR","Бойлер Gekon HWB 150 1HE WL INOX, 33 кВт с правым подключением",null,150,1.1,7.9,32,{"$f":"'Конвертация цен'!H323","v":{"v":72430,"d":"72430.00"}},{"$f":"I53-I53*Оглавление!$K$20","v":{"v":72430,"d":"72,430.00"}},null,{"$f":"K53*J53","v":{"v":0,"d":"0.00"}}]
[]
["НАКОПИТЕЛИ ГОРЯЧЕЙ ВОДЫ НАПОЛЬНЫЕ"]
["• Максимальная рабочая температура накопителя: +95⁰C"]
["• Максимальное рабочее давление накопителя: 6 бар"]
["• Накопители изготовлены из нержавеющей стали ГОСТ 08Х18Н10 (AISI 304)"]
["• Толщина стали корпуса 1,5 мм для объёма 150-500 л и  3,0 мм для объёма 800-1000 л"]
["• Встроенный магниевый анод"]
["• Разборная секционная теплоизоляция из пенополистирола 50 мм для накопителей 150-500 л, 60 мм для накопителей 800-1000 л"]
["• Возможность установки ТЭНа с присоединением G1 1/2”, ТЭН поставляется отдельно"]
["• Ревизионный люк диаметром 125 мм"]
[]
["Фото","Артикул","Наименование товара",null,"Вместимость накопителя","Время нагрева воды электроТЭНом 2 кВт/3 кВт - для объёма 150-500 л, \n3 кВт/5 кВт - для объёма  800-1000 л",null,"Вес","Цена за шт.","Цена со скидкой, RUB","Кол-во, шт.","Сумма со скидкой, RUB"]
[{"$nulls":4},"л","ч",null,"кг","RUB"]
[null,"GKB150ZN","Накопитель горячей воды Gekon HWB 150 ZHE INOX",null,150,"3/2",null,25,{"$f":"'Конвертация цен'!H324","v":{"v":58842,"d":"58842.00"}},{"$f":"I67-I67*Оглавление!$K$20","v":{"v":58842,"d":"58,842.00"}},null,{"$f":"K67*J67","v":{"v":0,"d":"0.00"}}]
[null,"GKB200ZN","Накопитель горячей воды Gekon HWB 200 ZHE INOX",null,200,"4/2,7",null,35,{"$f":"'Конвертация цен'!H325","v":{"v":67364,"d":"67364.00"}},{"$f":"I68-I68*Оглавление!$K$20","v":{"v":67364,"d":"67,364.00"}},null,{"$f":"K68*J68","v":{"v":0,"d":"0.00"}}]
[null,"GKB300ZN","Накопитель горячей воды Gekon HWB 300 ZHE INOX",null,300,"6/4",null,56,{"$f":"'Конвертация цен'!H326","v":{"v":93819,"d":"93819.00"}},{"$f":"I69-I69*Оглавление!$K$20","v":{"v":93819,"d":"93,819.00"}},null,{"v":0,"d":"0.00"}]
[null,"GKB400ZN","Накопитель горячей воды Gekon HWB 400 ZHE INOX",null,400,"8,2/5,4",null,64,{"$f":"'Конвертация цен'!H327","v":{"v":107844,"d":"107844.00"}},{"$f":"I70-I70*Оглавление!$K$20","v":{"v":107844,"d":"107,844.00"}},null,{"v":0,"d":"0.00"}]

{"sheet":"Бойлеры NEW","index":9,"n_rows":120,"n_cols":12,"rows_kept":120,"merged":[[3,0,3,8],[4,0,4,7],[5,9,5,11],[17,10,17,11],[18,0,19,0],[18,1,19,1],[18,2,19,3],[18,9,19,9],[18,10,19,10],[18,11,19,11],[20,0,26,0],[20,2,20,3],[21,2,21,3],[22,2,22,3],[23,2,23,3],[24,2,24,3],[25,2,25,3],[26,2,26,3],[27,0,30,0],[27,1,30,1],[27,2,30,3],[27,4,30,4],[27,5,30,5],[27,6,30,6],[27,7,30,7],[27,8,30,8],[27,9,30,9],[27,10,30,10],[27,11,30,11],[31,0,36,0],[31,2,31,3],[32,2,32,3],[33,2,33,3],[34,2,34,3],[35,2,35,3],[36,2,36,3],[37,0,42,0],[37,2,37,3],[38,2,38,3],[39,2,39,3],[40,2,40,3],[41,2,41,3],[42,2,42,3],[54,0,55,0],[54,1,55,1],[54,2,55,3],[54,9,55,9],[54,10,55,10],[54,11,55,11],[56,0,61,0],[56,2,56,3],[57,2,57,3],[58,2,58,3],[59,2,59,3],[60,2,60,3],[61,2,61,3],[62,2,62,3],[74,0,75,0],[74,1,75,1],[74,2,75,3],[74,5,74,6],[74,9,75,9],[74,10,75,10],[74,11,75,11],[75,5,75,6],[76,0,82,0],[76,2,76,3],[76,5,76,6],[77,2,77,3],[77,5,77,6],[78,2,78,3],[78,5,78,6],[79,2,79,3],[79,5,79,6],[80,2,80,3],[80,5,80,6],[81,2,81,3],[81,5,81,6],[82,2,82,3],[82,5,82,6],[93,0,94,0],[93,1,94,1],[93,2,94,3],[93,5,93,6],[93,9,94,9],[93,10,94,10],[93,11,94,11],[94,5,94,6],[95,2,95,3],[95,5,95,6],[105,0,106,0],[105,1,106,1],[105,2,106,3],[105,5,105,6],[105,9,106,9],[105,10,106,10],[105,11,106,11],[106,5,106,6],[107,0,109,0],[107,2,107,3],[107,5,107,6],[108,2,108,3],[108,5,108,6],[109,2,109,3],[109,5,109,6],[110,0,112,0],[110,2,110,3],[110,5,110,6],[111,2,111,3],[111,5,111,6],[112,2,112,3],[112,5,112,6],[116,0,117,0],[116,1,117,1],[116,2,117,3],[116,5,117,5],[116,9,117,9],[116,10,117,10],[116,11,117,11],[118,0,119,0],[118,2,118,3],[119,2,119,3]]}
[]
[]
[]
["Бойлеры косвенного нагрева, Накопители горячей воды,"]
["Теплоаккумуляторы (С СЕНТЯБРЯ 2024 ГОДА)"]
[{"$nulls":9},"На главную страницу"]
["БОЙЛЕРЫ КОСВЕННОГО НАГРЕВА НАПОЛЬНЫЕ "]
["• Максимальная рабочая температура бойлера: +95⁰C"]
["• Максимальное рабочее давление бойлера: 6 бар"]
["• Бойлеры изготовлены из нержавеющей стали ГОСТ 08Х18Н10 (AISI 304)"]
["• Толщина стали корпуса 1,5 мм для объёма 150-500 л и  3,0 мм для объёма 800-1000 л"]
["• Теплообменник выполнен из гладкой трубы с толщиной стенки 1,5 мм"]
["• Встроенный магниевый анод, для модели TC - магниевый анод не предусмотрен"]
["• Разборная секционная теплоизоляция из пенополистирола 30 мм для модели TC, 50 мм для бойлеров 150-500 л, 60 мм для бойлеров 800-1000 л"]
["• Защитный кожух из ABS-пластика для бойлеров 150-500 л, из ткани для бойлеров 800-1000 л"]
["• Возможность установки ТЭНа с присоединением G1 1/2”, ТЭН поставляется отдельно"]
["• Ревизионный люк диаметром 125 мм"]
[{"$nulls":9},"Итого:",{"$f":"SUM(L21:L43)+SUM(L57:L63)+SUM(L77:L83)+SUM(L96)+SUM(L108:L113)","v":{"v":0,"d":"0.00"}}]
["Фото","Артикул","Наименование товара",null,"Вместимость бойлера","Площадь теплообменника","Ёмкость теплообменника","Вес","Цена за шт.","Цена со скидкой, RUB","Кол-во, шт.","Сумма со скидкой, RUB"]
[{"$nulls":4},"л","м2","л","кг","RUB"]
[null,"GK1501","Бойлер напольный B01 150 л, с 1-м ТО, 30 кВт, INOX, Gekon",null,150,{"v":1,"d":"1.0"},{"v":8,"d":"8.0"},42,{"$f":"'Конвертация цен'!H331","v":{"v":78481.26018468224,"d":"78481.26"}},{"$f":"I21-I21*Оглавление!$K$20","v":{"v":78481.26018468224,"d":"78,481.26"}},null,{"$f":"K21*J21","v":{"v":0,"d":"0.00"}}]
[null,"GK2001","Бойлер напольный B01 200 л, с 1-м ТО, 30 кВт, INOX, Gekon",null,200,{"v":1,"d":"1.0"},{"v":8,"d":"8.0"},50,{"$f":"'Конвертация цен'!H332","v":{"v":86815.86094513851,"d":"86815.86"}},{"$f":"I22-I22*Оглавление!$K$20","v":{"v":86815.86094513851,"d":"86,815.86"}},null,{"$f":"K22*J22","v":{"v":0,"d":"0.00"}}]
[null,"GK3001","Бойлер напольный B01 300 л, с 1-м ТО, 40 кВт, INOX, Gekon",null,300,1.3,{"v":10,"d":"10.0"},68,{"$f":"'Конвертация цен'!H333","v":{"v":121300.38022813688,"d":"121300.38"}},{"$f":"I23-I23*Оглавление!$K$20","v":{"v":121300.38022813688,"d":"121,300.38"}},null,{"v":0,"d":"0.00"}]
[null,"GK4001","Бойлер напольный B01 400 л, с 1-м ТО, 51 кВт, INOX, Gekon",null,400,1.7,{"v":14,"d":"14.0"},77,{"$f":"'Конвертация цен'!H334","v":{"v":137353.6121673004,"d":"137353.61"}},{"$f":"I24-I24*Оглавление!$K$20","v":{"v":137353.6121673004,"d":"137,353.61"}},null,{"v":0,"d":"0.00"}]
[null,"GK5001","Бойлер напольный B01 500 л, с 1-м ТО, 60 кВт, INOX, Gekon",null,500,{"v":3,"d":"3.0"},{"v":16,"d":"16.0"},103,{"$f":"'Конвертация цен'!H335","v":{"v":180929.92938620315,"d":"180929.93"}},{"$f":"I25-I25*Оглавление!$K$20","v":{"v":180929.92938620315,"d":"180,929.93"}},null,{"v":0,"d":"0.00"}]
[null,"GK8001","Бойлер напольный B01 800 л, с 1-м ТО, 90 кВт, INOX, Gekon",null,800,{"v":3,"d":"3.0"},{"v":24,"d":"24.0"},165,{"$f":"'Конвертация цен'!H336","v":{"v":305535.6855163525,"d":"305535.69"}},{"$f":"I26-I26*Оглавление!$K$20","v":{"v":305535.6855163525,"d":"305,535.69"}},null,{"v":0,"d":"0.00"}]
[null,"GK10001","Бойлер напольный B01 1000 л, с 1-м ТО, 98 кВт, INOX, Gekon",null,1000,3.2,{"v":25,"d":"25.0"},200,{"$f":"'Конвертация цен'!H337","v":{"v":351996.1333977767,"d":"351996.13"}},{"$f":"I27-I27*Оглавление!$K$20","v":{"v":351996.1333977767,"d":"351,996.13"}},null,{"v":0,"d":"0.00"}]
[null,"GK1201TC","Бойлер напольный BTC 120 л, с 1-м ТО, 28 кВт, INOX, Gekon",null,120,0.9,{"v":7,"d":"7.0"},39,{"$f":"'Конвертация цен'!H338","v":{"v":83150,"d":"83150.00"}},{"$f":"I28-I28*Оглавление!$K$20","v":{"v":83150,"d":"83,150.00"}},null,{"v":0,"d":"0.00"}]
[]
[]
[]
[null,"GK2001XL","Бойлер напольный BXL 200 л, с 1-м ТО, 60 кВт, INOX, Gekon",null,200,2,{"v":16,"d":"16.0"},62,{"$f":"'Конвертация цен'!H339","v":{"v":109750.00542994287,"d":"109750.01"}},{"$f":"I32-I32*Оглавление!$K$20","v":{"v":109750.00542994287,"d":"109,750.01"}},null,{"v":0,"d":"0.00"}]
[null,"GK3001XL","Бойлер напольный BXL 300 л, с 1-м ТО, 115 кВт, INOX, Gekon",null,300,3.8,{"v":30,"d":"30.0"},93,{"$f":"'Конвертация цен'!H340","v":{"v":154392.17816404128,"d":"154392.18"}},{"$f":"I33-I33*Оглавление!$K$20","v":{"v":154392.17816404128,"d":"154,392.18"}},null,{"v":0,"d":"0.00"}]
[null,"GK4001XL","Бойлер напольный BXL 400 л, с 1-м ТО, 100 кВт, INOX, Gekon",null,400,3.3,{"v":26,"d":"26.0"},93,{"$f":"'Конвертация цен'!H341","v":{"v":161431.83052688756,"d":"161431.83"}},{"$f":"I34-I34*Оглавление!$K$20","v":{"v":161431.83052688756,"d":"161,431.83"}},null,{"v":0,"d":"0.00"}]
[null,"GK5001XL","Бойлер напольный BXL 500 л, с 1-м ТО, 127 кВт, INOX, Gekon",null,500,4.2,{"v":33,"d":"33.0"},122.5,{"$f":"'Конвертация цен'!H342","v":{"v":225560.23083758928,"d":"225560.23"}},{"$f":"I35-I35*Оглавление!$K$20","v":{"v":225560.23083758928,"d":"225,560.23"}},null,{"v":0,"d":"0.00"}]
[null,"GK8001XL","Бойлер напольный BXL 800 л, с 1-м ТО, 120 кВт, INOX, Gekon",null,800,4,{"v":32,"d":"32.0"},179,{"$f":"'Конвертация цен'!H343","v":{"v":325539.981741045,"d":"325539.98"}},{"$f":"I36-I36*Оглавление!$K$20","v":{"v":325539.981741045,"d":"325,539.98"}},null,{"v":0,"d":"0.00"}]
[null,"GK10001XL","Бойлер напольный BXL 1000 л, с 1-м ТО, 150 кВт, INOX, Gekon",null,1000,5,{"v":40,"d":"40.0"},209,{"$f":"'Конвертация цен'!H344","v":{"v":390900.59610117605,"d":"390900.60"}},{"$f":"I37-I37*Оглавление!$K$20","v":{"v":390900.59610117605,"d":"390,900.60"}},null,{"v":0,"d":"0.00"}]
[null,"GK2002","Бойлер напольный B02 200 л, с 2-я ТО, 30/15 кВт, INOX, Gekon",null,200,"1,0/0,5","8,0/4,0",57,{"$f":"'Конвертация цен'!H345","v":{"v":100570.34220532319,"d":"100570.34"}},{"$f":"I38-I38*Оглавление!$K$20","v":{"v":100570.34220532319,"d":"100,570.34"}},null,{"v":0,"d":"0.00"}]
[null,"GK3002","Бойлер напольный B02 300 л, с 2-я ТО, 40/28 кВт, INOX, Gekon",null,300,"1,3/0,9","10,0/7,0",79.5,{"$f":"'Конвертация цен'!H346","v":{"v":142417.16458446498,"d":"142417.16"}},{"$f":"I39-I39*Оглавление!$K$20","v":{"v":142417.16458446498,"d":"142,417.16"}},null,{"v":0,"d":"0.00"}]
[null,"GK4002","Бойлер напольный B02 400 л, с 2-я ТО, 51/23 кВт, INOX, Gekon",null,400,"1,7/0,8","14,0/6,0",82,{"$f":"'Конвертация цен'!H347","v":{"v":158470.39652362847,"d":"158470.40"}},{"$f":"I40-I40*Оглавление!$K$20","v":{"v":158470.39652362847,"d":"158,470.40"}},null,{"v":0,"d":"0.00"}]
[null,"GK5002","Бойлер напольный B02 500 л, с 2-я ТО, 60/23 кВт, INOX, Gekon",null,500,"2,0/0,8","16,0/6,0",112,{"$f":"'Конвертация цен'!H348","v":{"v":206707.70877944323,"d":"206707.71"}},{"$f":"I41-I41*Оглавление!$K$20","v":{"v":206707.70877944323,"d":"206,707.71"}},null,{"v":0,"d":"0.00"}]
[null,"GK8002","Бойлер напольный B02 800 л, с 2-я ТО, 90/28 кВт, INOX, Gekon",null,800,"3,0/0,9","24,0/7,0",180,{"$f":"'Конвертация цен'!H349","v":{"v":324936.36217174155,"d":"324936.36"}},{"$f":"I42-I42*Оглавление!$K$20","v":{"v":324936.36217174155,"d":"324,936.36"}},null,{"v":0,"d":"0.00"}]
[null,"GK10002","Бойлер напольный B02 1000 л, с 2-я ТО, 98/45 кВт, INOX, Gekon",null,1000,"3,2/1,5","25,0/12,0",200,{"$f":"'Конвертация цен'!H350","v":{"v":371394.66194081947,"d":"371394.66"}},{"$f":"I43-I43*Оглавление!$K$20","v":{"v":371394.66194081947,"d":"371,394.66"}},null,{"v":0,"d":"0.00"}]
[]
["БОЙЛЕРЫ КОСВЕННОГО НАГРЕВА НАСТЕННЫЕ"]
["• Максимальная рабочая температура бойлера: +95⁰C"]
["• Максимальное рабочее давление бойлера: 6 бар"]
["• Бойлеры изготовлены из нержавеющей стали ГОСТ 08Х18Н10 (AISI 304)"]
["• Толщина стали корпуса и теплообменника 1,5 мм"]
["• Встроенный магниевый анод"]
["• Разборная секционная теплоизоляция из пенополистирола 30 мм"]
["• Защитный кожух из ABS-пластика белового цвета"]
["• Возможность установки ТЭНа с присоединением G1 1/2”, ТЭН поставляется отдельно"]
[]
["Фото","Артикул","Наименование товара",null,"Вместимость бойлера","Площадь теплообменника","Ёмкость теплообменника","Вес","Цена за шт.","Цена со скидкой, RUB","Кол-во, шт.","Сумма со скидкой, RUB"]
[{"$nulls":4},"л","м2","л","кг","RUB"]
[null,"GK801WL","Бойлер настенный BW 80 л, с 1-м ТО, 15 кВт, подключение слева, INOX, Gekon",null,80,0.5,{"v":4,"d":"4.0"},24,{"$f":"'Конвертация цен'!H351","v":{"v":50270.505160239,"d":"50270.51"}},{"$f":"I57-I57*Оглавление!$K$20","v":{"v":50270.505160239,"d":"50,270.51"}},null,{"$f":"K57*J57","v":{"v":0,"d":"0.00"}}]
[null,"GK1001WL","Бойлер настенный BW 100 л, с 1-м ТО, 15 кВт, подключение слева, INOX, Gekon",null,100,0.5,{"v":4,"d":"4.0"},26,{"$f":"'Конвертация цен'!H352","v":{"v":55500.27159152635,"d":"55500.27"}},{"$f":"I58-I58*Оглавление!$K$20","v":{"v":55500.27159152635,"d":"55,500.27"}},null,{"$f":"K58*J58","v":{"v":0,"d":"0.00"}}]
[null,"GK1501WL","Бойлер настенный BW 150 л, с 1-м ТО, 30 кВт, подключение слева, INOX, Gekon",null,150,1,{"v":8,"d":"8.0"},37,{"$f":"'Конвертация цен'!H353","v":{"v":72430.2009777295,"d":"72430.20"}},{"$f":"I59-I59*Оглавление!$K$20","v":{"v":72430.2009777295,"d":"72,430.20"}},null,{"$f":"K59*J59","v":{"v":0,"d":"0.00"}}]
[null,"GK801WR","Бойлер настенный BW 80 л, с 1-м ТО, 15 кВт, подключение справа, INOX, Gekon",null,80,0.5,{"v":4,"d":"4.0"},24,{"$f":"'Конвертация цен'!H354","v":{"v":50270.505160239,"d":"50270.51"}},{"$f":"I60-I60*Оглавление!$K$20","v":{"v":50270.505160239,"d":"50,270.51"}},null,{"v":0,"d":"0.00"}]
[null,"GK1001WR","Бойлер настенный BW 100 л, с 1-м ТО, 15 кВт, подключение справа, INOX, Gekon",null,100,0.5,{"v":4,"d":"4.0"},26,{"$f":"'Конвертация цен'!H355","v":{"v":55500.27159152635,"d":"55500.27"}},{"$f":"I61-I61*Оглавление!$K$20","v":{"v":55500.27159152635,"d":"55,500.27"}},null,{"$f":"K61*J61","v":{"v":0,"d":"0.00"}}]
[null,"GK1501WR","Бойлер настенный BW 150 л, с 1-м ТО, 30 кВт, подключение справа, INOX, Gekon",null,150,1,{"v":8,"d":"8.0"},37,{"$f":"'Конвертация цен'!H356","v":{"v":72430.2009777295,"d":"72430.20"}},{"$f":"I62-I62*Оглавление!$K$20","v":{"v":72430.2009777295,"d":"72,430.20"}},null,{"$f":"K62*J62","v":{"v":0,"d":"0.00"}}]
[null,"GK1201WB","Бойлер настенный BW 120 л, с 1-м ТО, 28 кВт, подключение нижнее, INOX, Gekon",null,120,0.9,0.7,39,{"$f":"'Конвертация цен'!H357","v":{"v":83058.82352941176,"d":"83058.82"}},{"$f":"I63-I63*Оглавление!$K$20","v":{"v":83058.82352941176,"d":"83,058.82"}},null,{"$f":"K63*J63","v":{"v":0,"d":"0.00"}}]
[]
["НАКОПИТЕЛИ ГОРЯЧЕЙ ВОДЫ НАПОЛЬНЫЕ"]
["• Максимальная рабочая температура накопителя: +95⁰C"]
["• Максимальное рабочее давление накопителя: 6 бар"]
["• Накопители изготовлены из нержавеющей стали ГОСТ 08Х18Н10 (AISI 304)"]
["• Толщина стали корпуса 1,5 мм для объёма 150-500 л и  3,0 мм для объёма 800-1000 л"]
["• Встроенный магниевый анод"]
["• Разборная секционная теплоизоляция из пенополистирола 50 мм для накопителей 150-500 л, 60 мм для накопителей 800-1000 л"]
["• Возможность установки ТЭНа с присоединением G1 1/2”, ТЭН поставляется отдельно"]
["• Ревизионный люк диаметром 125 мм"]
[]
["Фото","Артикул","Наименование товара",null,"Вместимость накопителя","Время нагрева воды электроТЭНом 2 кВт/3 кВт - для объёма 150-500 л, \n3 кВт/5 кВт - для объёма  800-1000 л",null,"Вес","Цена за шт.","Цена со скидкой, RUB","Кол-во, шт.","Сумма со скидкой, RUB"]
[{"$nulls":4},"л","ч",null,"кг","RUB"]
[null,"GK150","Накопитель горячей воды напольный BT 150 л, INOX, Gekon",null,150,"3/2",null,31,{"$f":"'Конвертация цен'!H358","v":{"v":58841.933731667574,"d":"58841.93"}},{"$f":"I77-I77*Оглавление!$K$20","v":{"v":58841.933731667574,"d":"58,841.93"}},null,{"$f":"K77*J77","v":{"v":0,"d":"0.00"}}]
[null,"GK200","Накопитель горячей воды напольный BT 200 л, INOX, Gekon",null,200,"4/2,7",null,39,{"$f":"'Конвертация цен'!H359","v":{"v":67364.47582835416,"d":"67364.48"}},{"$f":"I78-I78*Оглавление!$K$20","v":{"v":67364.47582835416,"d":"67,364.48"}},null,{"$f":"K78*J78","v":{"v":0,"d":"0.00"}}]
[null,"GK300","Накопитель горячей воды напольный BT 300 л, INOX, Gekon",null,300,"6/4",null,52,{"$f":"'Конвертация цен'!H360","v":{"v":93818.57686040195,"d":"93818.58"}},{"$f":"I79-I79*Оглавление!$K$20","v":{"v":93818.57686040195,"d":"93,818.58"}},null,{"v":0,"d":"0.00"}]
[null,"GK400","Накопитель горячей воды напольный BT 400 л, INOX, Gekon",null,400,"8,2/5,4",null,52,{"$f":"'Конвертация цен'!H361","v":{"v":107843.56328082563,"d":"107843.56"}},{"$f":"I80-I80*Оглавление!$K$20","v":{"v":107843.56328082563,"d":"107,843.56"}},null,{"v":0,"d":"0.00"}]
[null,"GK500","Накопитель горячей воды напольный BT 500 л, INOX, Gekon",null,500,"10,2/6,8",null,78,{"$f":"'Конвертация цен'!H362","v":{"v":149364.02569593146,"d":"149364.03"}},{"$f":"I81-I81*Оглавление!$K$20","v":{"v":149364.02569593146,"d":"149,364.03"}},null,{"v":0,"d":"0.00"}]
[null,"GK800","Накопитель горячей воды напольный BT 800 л, INOX, Gekon",null,800,"11/7",null,130,{"$f":"'Конвертация цен'!H363","v":{"v":242432.74729930097,"d":"242432.75"}},{"$f":"I82-I82*Оглавление!$K$20","v":{"v":242432.74729930097,"d":"242,432.75"}},null,{"v":0,"d":"0.00"}]
[null,"GK1000","Накопитель горячей воды напольный BT 1000 л, INOX, Gekon",null,1000,"13,5/8",null,143,{"$f":"'Конвертация цен'!H364","v":{"v":279095.7041179461,"d":"279095.70"}},{"$f":"I83-I83*Оглавление!$K$20","v":{"v":279095.7041179461,"d":"279,095.70"}},null,{"v":0,"d":"0.00"}]
[]
["НАКОПИТЕЛИ ГОРЯЧЕЙ ВОДЫ НАПОЛЬНЫЕ"]
["• Максимальная рабочая температура накопителя: +95⁰C"]
["• Максимальное рабочее давление накопителя: 6 бар"]
["• Накопители изготовлены из нержавеющей стали ГОСТ 08Х18Н10 (AISI 304)"]
["• Толщина стали корпуса 1,5 мм "]
["• Встроенный магниевый анод"]
["• Разборная секционная теплоизоляция из пенополистирола 30 мм "]
["• В составе накопителя установлен циркуляционный насос 20-4 (130) с термостатом"]
[]
["Фото","Артикул","Наименование товара",null,"Вместимость накопителя","Время нагрева воды электроТЭНом 2 кВт/3 кВт - для объёма 100 л",null,"Вес","Цена за шт.","Цена со скидкой, RUB","Кол-во, шт.","Сумма со скидкой, RUB"]
[{"$nulls":4},"л","ч",null,"кг","RUB"]
[null,"GK100P","Накопитель горячей воды напольный BP 100 л, с насосом ГВС, INOX, Gekon",null,100,"2/1,5",null,36.5,{"$f":"'Конвертация цен'!H365","v":{"v":61539.9471437284,"d":"61539.95"}},{"$f":"I96-I96*Оглавление!$K$20","v":{"v":61539.9471437284,"d":"61,539.95"}},null,{"$f":"K96*J96","v":{"v":0,"d":"0.00"}}]
[]
["ТЕПЛОВЫЕ ВОДЯНЫЕ АККУМУЛЯТОРЫ"]
["• Максимальная рабочая температура бака: +95⁰C"]
["• Максимальное рабочее давление: 6 бар"]
["• Толщина стенки бака 3 мм для объёма 500 л и  4 мм для объёма 800-1000 л"]
["• Разборная секционная теплоизоляция из пенополистирола 50 мм для баков 500 л, 60 мм для баков 800-1000 л"]
["• Защитная тканевая оболочка чёрного цвета"]
["• Возможность установки ТЭНа с присоединением G2”, ТЭН поставляется отдельно"]
[]
["Фото","Артикул","Наименование товара",null,"Вместимость накопителя","Время нагрева воды электроТЭНом 2 кВт/3 кВт - для объёма 150-500 л, \n3 кВт/5 кВт - для объёма  800-1000 л",null,"Вес","Цена за шт.","Цена со скидкой, RUB","Кол-во, шт.","Сумма со скидкой, RUB"]
[{"$nulls":4},"л","ч",null,"кг","RUB"]
[null,"GK500BS","Теплоаккумулятор Buffer S 500 л, одностороннее расположение патрубков, Gekon",null,500,"10,2/6,8",null,102,{"$f":"'Конвертация цен'!H366","v":{"v":63530.906990179086,"d":"63530.91"}},{"$f":"I108-I108*Оглавление!$K$20","v":{"v":63530.906990179086,"d":"63,530.91"}},null,{"$f":"K108*J108","v":{"v":0,"d":"0.00"}}]
[null,"GK800BS","Теплоаккумулятор Buffer S 800 л, одностороннее расположение патрубков, Gekon",null,800,"11/7",null,173,{"$f":"'Конвертация цен'!H367","v":{"v":85370.30618139803,"d":"85370.31"}},{"$f":"I109-I109*Оглавление!$K$20","v":{"v":85370.30618139803,"d":"85,370.31"}},null,{"$f":"K109*J109","v":{"v":0,"d":"0.00"}}]
[null,"GK1000BS","Теплоаккумулятор Buffer S 1000 л, одностороннее расположение патрубков, Gekon",null,1000,"13,5/8",null,200,{"$f":"'Конвертация цен'!H368","v":{"v":96481.80242634314,"d":"96481.80"}},{"$f":"I110-I110*Оглавление!$K$20","v":{"v":96481.80242634314,"d":"96,481.80"}},null,{"v":0,"d":"0.00"}]
[null,"GK500BA","Теплоаккумулятор Buffer A 500 л, расположение патрубков под углом 90 градусов, Gekon",null,500,"10,2/6,8",null,102,{"$f":"'Конвертация цен'!H369","v":{"v":63530.906990179086,"d":"63530.91"}},{"$f":"I111-I111*Оглавление!$K$20","v":{"v":63530.906990179086,"d":"63,530.91"}},null,{"v":0,"d":"0.00"}]
[null,"GK800BA","Теплоаккумулятор Buffer A 800 л, расположение патрубков под углом 90 градусов, Gekon",null,800,"11/7",null,173,{"$f":"'Конвертация цен'!H370","v":{"v":85370.30618139803,"d":"85370.31"}},{"$f":"I112-I112*Оглавление!$K$20","v":{"v":85370.30618139803,"d":"85,370.31"}},null,{"v":0,"d":"0.00"}]
[null,"GK1000BA","Теплоаккумулятор Buffer A 1000 л, расположение патрубков под углом 90 градусов, Gekon",null,1000,"13,5/8",null,200,{"$f":"'Конвертация цен'!H371","v":{"v":96481.80242634314,"d":"96481.80"}},{"$f":"I113-I113*Оглавление!$K$20","v":{"v":96481.80242634314,"d":"96,481.80"}},null,{"v":0,"d":"0.00"}]
[]
["ДОПОЛНИТЕЛЬНОЕ ОБОРУДОВАНИЕ ДЛЯ БОЙЛЕРОВ, НАГРЕВАТЕЛЕЙ И ТЕПЛОАККУМУЛЯТОРОВ"]
[]
["Фото","Артикул","Наименование товара",null,"Диаметр","Присоединение","Длина","Вес","Цена за шт.","Цена со скидкой, RUB","Кол-во, шт.","Сумма со скидкой, RUB"]
[{"$nulls":4},"мм",null,"мм","кг","RUB"]
[null,"GKMA8D2140","Анод магниевый L=400 мм, D21 мм,  М8х10 ",null,21,"М8х10",400,{"v":0.3,"d":"0.30"},{"$f":"'Конвертация цен'!H372","v":{"v":736.7441860465117,"d":"736.74"}},{"$f":"I119-I119*Оглавление!$K$20","v":{"v":736.7441860465117,"d":"736.74"}},null,{"$f":"K119*J119","v":{"v":0,"d":"0.00"}}]
[null,"GKMA8D2145","Анод магниевый L=450 мм, D21 мм,  М8х10 ",null,21,"М8х11",450,0.34,{"$f":"'Конвертация цен'!H373","v":{"v":803.7209302325582,"d":"803.72"}},{"$f":"I120-I120*Оглавление!$K$20","v":{"v":803.7209302325582,"d":"803.72"}},null,{"$f":"K120*J120","v":{"v":0,"d":"0.00"}}]

{"sheet":"Конвертация цен","index":10,"n_rows":619,"n_cols":12,"rows_kept":619,"hidden":true,"merged":[[2,0,2,7],[3,2,4,2],[3,3,4,4],[3,5,4,5],[5,3,10,4],[11,3,14,4],[15,3,20,4],[21,3,24,4],[25,3,28,4],[29,3,31,4],[32,3,34,4],[35,2,37,2],[35,3,37,4],[35,5,37,5],[35,6,37,6],[35,7,37,7],[38,3,43,4],[44,3,49,4],[50,0,50,7],[51,2,52,2],[51,3,52,4],[53,3,53,4],[54,3,54,4],[55,3,55,4],[56,3,56,4],[57,3,57,4],[58,3,58,4],[59,3,59,4],[60,3,60,4],[61,3,61,4],[62,3,62,4],[63,3,63,4],[64,3,64,4],[65,3,65,4],[66,3,66,4],[67,3,67,4],[68,3,68,4],[69,3,69,4],[70,3,70,4],[71,3,71,4],[72,0,72,7],[73,2,74,2],[73,3,74,4],[73,5,74,5],[75,3,75,4],[76,3,76,4],[77,3,77,4],[78,3,78,4],[79,3,79,4],[80,3,80,4],[81,3,81,4],[82,3,82,4],[83,3,83,4],[84,3,84,4],[85,3,85,4],[86,3,86,4],[87,3,87,4],[88,3,88,4],[89,3,89,4],[90,3,90,4],[91,3,91,4],[92,3,92,4],[93,3,93,4],[94,3,94,4],[95,3,95,4],[96,3,96,4],[97,3,97,4],[98,3,98,4],[99,3,99,4],[100,3,100,4],[101,3,101,4],[102,3,102,4],[103,3,103,4],[104,3,104,4],[105,3,105,4],[106,3,106,4],[107,3,107,4],[108,3,108,4],[109,3,109,4],[110,3,110,4],[111,3,111,4],[112,3,112,4],[113,3,113,4],[114,3,114,4],[115,3,115,4],[116,3,116,4],[117,3,117,4],[118,3,118,4],[119,3,119,4],[120,3,120,4],[121,3,121,4],[122,3,122,4],[123,3,123,4],[124,3,124,4],[125,3,125,4],[126,3,126,4],[127,3,127,4],[128,3,128,4],[129,3,129,4],[130,3,130,4],[131,3,131,4],[132,3,132,4],[133,3,133,4],[134,3,134,4],[135,3,135,4],[136,3,136,4],[137,3,137,4],[138,3,138,4],[139,3,139,4],[140,3,140,4],[141,3,141,4],[142,3,142,4],[143,3,143,4],[144,3,144,4],[145,3,145,4],[146,3,146,4],[147,3,147,4],[148,3,148,4],[149,3,149,4],[150,3,150,4],[151,3,151,4],[152,3,152,4],[153,3,153,4],[154,3,154,4],[155,3,155,4],[156,3,156,4],[157,3,157,4],[158,3,158,4],[159,3,159,4],[160,3,160,4],[161,3,161,4],[162,3,162,4],[163,3,163,4],[164,3,164,4],[165,3,165,4],[166,3,166,4],[167,3,167,4],[168,3,168,4],[169,3,169,4],[170,3,170,4],[171,3,171,4],[172,3,172,4],[173,3,173,4],[174,3,174,4],[175,3,175,4],[176,3,176,4],[177,3,177,4],[178,3,178,4],[179,3,179,4],[180,3,180,4],[181,3,181,4],[182,3,182,4],[183,3,183,4],[184,3,184,4],[185,3,185,4],[186,0,186,7],[187,2,188,2],[187,3,188,4],[187,5,188,5],[189,3,195,4],[196,3,202,4],[203,3,209,4],[210,0,210,7],[211,2,212,2],[211,3,212,4],[211,5,212,5],[213,3,213,4],[214,3,214,4],[215,3,215,4],[216,3,216,4],[217,3,217,4],[218,3,218,4],[219,3,229,4],[230,3,240,4],[241,3,251,4],[252,3,262,4],[263,3,263,4],[264,3,264,4],[265,3,265,4],[266,3,266,4],[267,3,267,4],[268,3,269,4],[270,3,270,4],[271,3,271,4],[272,3,272,4],[273,0,273,7],[274,2,275,2],[274,3,275,4],[274,5,275,5],[276,3,276,4],[277,3,277,4],[278,3,279,4],[280,3,281,4],[282,3,283,4],[284,3,285,4],[286,3,286,4],[287,3,287,4],[288,3,289,4],[290,3,291,4],[292,3,292,4],[293,3,293,4],[294,3,294,4],[295,3,295,4],[296,3,296,4],[297,3,297,4],[298,0,298,7],[299,2,300,2],[299,3,300,4],[299,5,300,5],[301,3,301,4],[302,3,302,4],[303,0,303,7],[304,2,305,2],[304,3,305,4],[304,5,305,5],[306,3,306,4],[307,3,307,4],[308,3,308,4],[309,3,309,4],[310,3,310,4],[311,3,311,4],[312,3,312,4],[313,3,313,4],[314,3,314,4],[315,3,315,4],[316,3,316,4],[317,3,317,4],[318,3,318,4],[319,3,319,4],[320,3,320,4],[321,3,321,4],[322,3,322,4],[323,3,323,4],[324,3,324,4],[325,3,325,4],[326,3,326,4],[327,0,327,7],[328,2,329,2],[328,3,329,4],[328,5,329,5],[330,3,330,4],[331,3,331,4],[332,3,332,4],[333,3,333,4],[334,3,334,4],[335,3,335,4],[336,3,336,4],[337,3,337,4],[338,3,338,4],[339,3,339,4],[340,3,340,4],[341,3,341,4],[342,3,342,4],[343,3,343,4],[344,3,344,4],[345,3,345,4],[346,3,346,4],[347,3,347,4],[348,3,348,4],[349,3,349,4],[350,3,350,4],[351,3,351,4],[352,3,352,4],[353,3,353,4],[354,3,354,4],[355,3,355,4],[356,3,356,4],[357,3,357,4],[358,3,358,4],[359,3,359,4],[360,3,360,4],[361,3,361,4],[362,3,362,4],[363,3,363,4],[364,3,364,4],[365,3,365,4],[366,3,366,4],[367,3,367,4],[368,3,368,4],[369,3,369,4],[370,3,370,4],[371,3,371,4],[372,3,372,4],[373,0,373,7],[374,2,375,2],[374,3,375,4],[374,5,375,5],[376,3,376,4],[377,3,377,4],[378,3,378,4],[379,3,379,4],[380,3,380,4],[381,3,381,4],[382,3,382,4],[383,3,383,4],[384,3,384,4],[385,3,385,4],[386,3,386,4],[387,3,387,4],[388,3,388,4],[389,3,389,4],[390,3,390,4],[391,3,391,4],[392,3,392,4],[393,3,393,4],[394,3,394,4],[395,3,395,4],[396,3,396,4],[397,3,397,4],[398,3,398,4],[399,3,399,4],[400,3,400,4],[401,3,401,4],[402,3,402,4],[403,3,403,4],[404,3,404,4],[405,3,405,4],[406,3,406,4],[407,3,407,4],[408,3,408,4],[409,3,409,4],[410,3,410,4],[411,3,411,4],[412,3,412,4],[413,3,413,4],[414,3,414,4],[415,3,415,4],[416,3,416,4],[417,3,417,4],[418,3,418,4],[419,3,419,4],[420,3,420,4],[421,3,421,4],[422,3,422,4],[423,3,423,4],[424,3,424,4],[425,3,425,4],[426,3,426,4],[427,3,427,4],[428,3,428,4],[429,3,429,4],[430,3,430,4],[431,3,431,4],[432,3,432,4],[433,3,433,4],[434,3,434,4],[435,3,435,4],[436,3,436,4],[437,3,437,4],[438,3,438,4],[439,3,439,4],[440,3,440,4],[441,3,441,4],[442,3,442,4],[443,3,443,4],[444,3,444,4],[445,3,445,4],[446,3,446,4],[447,3,447,4],[448,3,448,4],[449,3,449,4],[450,3,450,4],[451,3,451,4],[452,3,452,4],[453,3,453,4],[454,3,454,4],[455,3,455,4],[456,3,456,4],[457,3,457,4],[458,3,458,4],[459,3,459,4],[460,3,460,4],[461,3,461,4],[462,3,462,4],[463,3,463,4],[464,3,464,4],[465,3,465,4],[466,3,466,4],[467,3,467,4],[468,3,468,4],[469,3,469,4],[470,3,470,4],[471,3,471,4],[472,3,472,4],[473,3,473,4],[474,3,474,4],[475,3,475,4],[476,3,476,4],[477,3,477,4],[478,3,478,4],[479,3,479,4],[480,3,480,4],[481,3,481,4],[482,3,482,4],[483,3,483,4],[484,3,484,4],[485,3,485,4],[486,3,486,4],[487,3,487,4],[488,3,488,4],[489,3,489,4],[490,3,490,4],[491,3,491,4],[492,3,492,4],[493,3,493,4],[494,3,494,4],[495,3,495,4],[496,3,496,4],[497,3,497,4],[498,3,498,4],[499,3,499,4],[500,3,500,4],[501,3,501,4],[502,3,502,4],[503,3,503,4],[504,3,504,4],[505,3,505,4],[506,3,506,4],[507,3,507,4],[508,3,508,4],[509,3,509,4],[510,3,510,4],[511,3,511,4],[512,3,512,4],[513,3,513,4],[514,3,514,4],[515,3,515,4],[516,3,516,4],[517,3,517,4],[518,3,518,4],[519,3,519,4],[520,3,520,4],[521,3,521,4],[522,3,522,4],[523,3,523,4],[524,3,524,4],[525,3,525,4],[526,3,526,4],[527,3,527,4],[528,3,528,4],[529,0,529,7],[530,2,531,2],[530,3,531,4],[530,5,531,5],[532,3,532,4],[533,3,533,4],[534,3,534,4],[535,3,535,4],[536,3,536,4],[537,3,537,4],[538,3,538,4],[539,3,539,4],[540,3,540,4],[541,3,541,4],[542,3,542,4],[543,3,543,4],[544,3,544,4],[545,3,545,4],[546,3,546,4],[547,3,547,4],[548,3,548,4],[549,3,549,4],[550,3,550,4],[551,3,551,4],[552,3,552,4],[553,3,553,4],[554,3,554,4],[555,3,555,4],[556,3,556,4],[557,3,557,4],[558,3,558,4],[559,3,559,4],[560,3,560,4],[561,3,561,4],[562,3,562,4],[563,3,563,4],[564,3,564,4],[565,3,565,4],[566,3,566,4],[567,3,567,4],[568,3,568,4],[569,3,569,4],[570,3,570,4],[571,3,571,4],[572,3,572,4],[573,3,573,4],[574,3,574,4],[575,3,575,4],[576,3,576,4],[577,3,577,4],[578,3,578,4],[579,3,579,4],[580,3,580,4],[581,3,581,4],[582,3,582,4],[583,3,583,4],[584,3,584,4],[585,3,585,4],[586,3,586,4],[587,3,587,4],[588,3,588,4],[589,3,589,4],[590,3,590,4],[591,3,591,4],[592,3,592,4],[593,3,593,4],[594,3,594,4],[595,3,595,4],[596,3,596,4],[597,3,597,4],[598,3,598,4],[599,3,599,4],[600,3,600,4],[601,3,601,4],[602,3,602,4],[603,3,603,4],[604,3,604,4],[605,3,605,4],[606,3,606,4],[607,3,607,4],[608,3,608,4],[609,3,609,4],[610,3,610,4],[611,3,611,4],[612,3,612,4],[613,3,613,4],[614,3,614,4],[615,3,615,4],[616,3,616,4],[617,3,617,4],[618,3,618,4]]}
[" EUR","RUB",{"$nulls":6},"EUR","Евро",{"$f":"TODAY()","v":"2024-09-16"},{"$f":"GetRate(I1,K1)","v":{"v":100.7957992553711,"d":"100.7958"}}]
[1,98]
["Шаровые краны, ОК, Сетч.фильтры"]
[null,null,"Артикул","Наименование товара",null,"Размер","Цена за шт.","Цена за шт."]
[{"$nulls":6},"EUR","RUB"]
[null,null,"GK 550 12","Кран шаровой (ручка -  рычаг), внутренняя-внутренняя резьба",null,"1/2\"",{"v":5.089468085106384,"d":"5.09"},{"$f":"G6*$B$2","v":{"v":498.76787234042564,"d":"498.77"}}]
[null,null,"GK 550 34",null,null,"3/4\"",{"v":7.69108843537415,"d":"7.69"},{"v":753.7266666666667,"d":"753.73"}]
[null,null,"GK 550 1",null,null,"1\"",{"v":12.088640350877194,"d":"12.09"},{"v":1184.686754385965,"d":"1184.69"}]
[null,null,"GK 550 114",null,null,"1 1/4\"",{"v":17.786607929515416,"d":"17.79"},{"v":1743.0875770925109,"d":"1743.09"}]
[null,null,"GK 550 112",null,null,"1 1/2\"",{"v":28.124137291280153,"d":"28.12"},{"v":2756.165454545455,"d":"2756.17"}]
[null,null,"GK 550 2",null,null,"2\"",{"v":43.39356197352588,"d":"43.39"},{"v":4252.569073405536,"d":"4252.57"}]
[null,null,"GK 551 12","Кран шаровой (ручка -  бабочка), внутренняя-внутренняя резьба",null,"1/2\"",{"v":5.089468085106384,"d":"5.09"},{"v":498.76787234042564,"d":"498.77"}]
[null,null,"GK 551 34",null,null,"3/4\"",{"v":7.69108843537415,"d":"7.69"},{"v":753.7266666666667,"d":"753.73"}]
[null,null,"GK 551 1",null,null,"1\"",{"v":12.088640350877194,"d":"12.09"},{"v":1184.686754385965,"d":"1184.69"}]
[null,null,"GK 551 114",null,null,"1 1/4\"",{"v":17.786607929515416,"d":"17.79"},{"v":1743.0875770925109,"d":"1743.09"}]
[null,null,"GK 554L 12","Кран шаровой (ручка -  рычаг), внутренняя-наружная резьба",null,"1/2\"",{"v":5.486896551724137,"d":"5.49"},{"v":537.7158620689654,"d":"537.72"}]
[null,null,"GK 554L 34",null,null,"3/4\"",{"v":8.1743949044586,"d":"8.17"},{"v":801.0907006369428,"d":"801.09"}]
[null,null,"GK 554L 1",null,null,"1\"",{"v":13.06886454183267,"d":"13.07"},{"v":1280.7487250996016,"d":"1280.75"}]
[null,null,"GK 554L 114",null,null,"1 1/4\"",{"v":20.19572327044025,"d":"20.20"},{"v":1979.1808805031446,"d":"1979.18"}]
[null,null,"GK 554L 112",null,null,"1 1/2\"",{"v":32.862494208494205,"d":"32.86"},{"v":3220.524432432432,"d":"3220.52"}]
[null,null,"GK 554L 2",null,null,"2\"",{"v":52.58845634346358,"d":"52.59"},{"v":5153.668721659431,"d":"5153.67"}]
[null,null,"GK 554 12","Кран шаровой (ручка - бабочка), внутренняя-наружная резьба",null,"1/2\"",{"v":5.648275862068966,"d":"5.65"},{"v":553.5310344827587,"d":"553.53"}]
[null,null,"GK 554 34",null,null,"3/4\"",{"v":8.404012738853503,"d":"8.40"},{"v":823.5932484076433,"d":"823.59"}]
[null,null,"GK 554 1",null,null,"1\"",{"v":13.06886454183267,"d":"13.07"},{"v":1280.7487250996016,"d":"1280.75"}]
[null,null,"GK 554 114",null,null,"1 1/4\"",{"v":21.859880525686982,"d":"21.86"},{"v":2142.268291517324,"d":"2142.27"}]
[null,null,"GK 559 12","Кран шаровой (ручка-бабочка), внутренняя-американка",null,"1/2\"",{"v":7.178586956521739,"d":"7.18"},{"v":703.5015217391305,"d":"703.50"}]
[null,null,"GK 559 34",null,null,"3/4\"",{"v":11.04424170616114,"d":"11.04"},{"v":1082.3356872037916,"d":"1082.34"}]
[null,null,"GK 559 1",null,null,"1\"",{"v":17.401276276276274,"d":"17.40"},{"v":1705.325075075075,"d":"1705.33"}]
[null,null,"GK 559 114",null,null,"1\" 1/4",{"v":26.236666666666665,"d":"26.24"},{"v":2571.193333333333,"d":"2571.19"}]
[null,null,"GK 7954 12","Кран шаровой с возможностью установки термосенсора (ручка-бабочка), внутренняя-внутренняя резьба",null,"1/2\"",7.34,{"v":719.3199999999999,"d":"719.32"}]
[null,null,"GK 7954 34",null,null,"3/4\"",9.23,{"v":904.5400000000001,"d":"904.54"}]
[null,null,"GK 7954 1",null,null,"1\"",14.87,1457.26]
[null,null,"GK 7966 12","Кран шаровой поливочный с насадкой под шланг (ручка-рычаг), наружная резьба",null,"1/2\"",6.95,{"v":681.1,"d":"681.10"}]
[null,null,"GK 7966 34",null,null,"3/4\"",9.73,{"v":953.5400000000001,"d":"953.54"}]
[null,null,"GK 7966 1",null,null,"1\"",17.21,{"v":1686.5800000000002,"d":"1686.58"}]
[null,null,"GK 7961 1","Кран шаровой  угловой  с полусгоном (ручка-бабочка), внутренняя-наружная резьба",null,"1/2\"",26.57,2603.86]
[]
[]
[null,null,"GK 30 12","Клапан обратный с латунным золотником, внутренняя-внутренняя резьба",null,"1/2\"",5.19,{"$f":"G39*$B$2","v":{"v":508.62000000000006,"d":"508.62"}}]
[null,null,"GK 30 34",null,null,"3/4\"",6.96,682.08]
[null,null,"GK 30 1",null,null,"1\"",9.76,956.48]
[null,null,"GK 30 114",null,null,"1 1/4\"",14.53,{"v":1423.9399999999998,"d":"1423.94"}]
[null,null,"GK 30 112",null,null,"1 1/2\"",18.98,1860.04]
[null,null,"GK 30 2",null,null,"2\"",28.68,2810.64]
[null,null,"GK 44N 12","Фильтр тонкой механической очистки косой, сетка 500 мкм, внутренняя-внутренняя резьба",null,"1/2\"",5.75,{"$f":"G45*$B$2","v":{"v":563.5,"d":"563.50"}}]
[null,null,"GK 44N 34",null,null,"3/4\"",8.99,881.02]
[null,null,"GK 44N 1",null,null,"1\"",11.16,1093.68]
[null,null,"GK 44N 114",null,null,"1 1/4\"",21.59,2115.82]
[null,null,"GK 44N 112",null,null,"1 1/2\"",{"v":32.4,"d":"32.40"},{"v":3175.2,"d":"3175.20"}]
[null,null,"GK 44N 2",null,null,"2\"",53.74,5266.52]
["Трубы"]
[null,null,"Артикул","Наименование товара",null,"Диаметр","Цена за метр","Цена за метр"]
[{"$nulls":5},"мм","руб.","руб."]
[null,null,"GK 71640006","Труба Gekon TRITHERM универсальная PE-Xa/EVOH 16х2,0, бухта 400 м",null,16,{"v":104,"d":"104.00"},{"$f":"G54*1","v":{"v":104,"d":"104.00"}}]
[null,null,"GK 71630006","Труба Gekon TRITHERM универсальная PE-Xa/EVOH 16х2,0, бухта 300 м",null,16,{"v":104,"d":"104.00"},{"$f":"G55*1","v":{"v":104,"d":"104.00"}}]
[null,null,"GK 71620006","Труба Gekon TRITHERM универсальная PE-Xa/EVOH 16х2,0, бухта 200 м",null,16,{"v":104,"d":"104.00"},{"v":104,"d":"104.00"}]
[null,null,"GK 71610006","Труба Gekon TRITHERM универсальная PE-Xa/EVOH 16х2,0, бухта 100 м",null,16,{"v":104,"d":"104.00"},{"v":104,"d":"104.00"}]
[null,null,"GK 71620010","Труба Gekon TRITHERM универсальная PE-Xa/EVOH 16х2,2, бухта 200 м",null,16,{"v":110,"d":"110.00"},{"v":110,"d":"110.00"}]
[null,null,"GK 71610010","Труба Gekon TRITHERM универсальная PE-Xa/EVOH 16х2,2, бухта 100 м",null,16,{"v":110,"d":"110.00"},{"v":110,"d":"110.00"}]
[null,null,"GK 72020006","Труба Gekon TRITHERM универсальная PE-Xa/EVOH 20х2,0, бухта 200 м",null,20,{"v":149,"d":"149.00"},{"v":149,"d":"149.00"}]
[null,null,"GK 72010006","Труба Gekon TRITHERM универсальная PE-Xa/EVOH 20х2,0, бухта 100 м",null,20,{"v":149,"d":"149.00"},{"v":149,"d":"149.00"}]
[null,null,"GK 72010010","Труба Gekon TRITHERM универсальная PE-Xa/EVOH 20х2,8, бухта 100 м",null,20,{"v":164,"d":"164.00"},{"v":164,"d":"164.00"}]
[null,null,"GK 72505010","Труба Gekon TRITHERM универсальная PE-Xa/EVOH 25х3,5, бухта 50 м",null,25,{"v":280,"d":"280.00"},{"v":280,"d":"280.00"}]
[null,null,"GK 73205010","Труба Gekon TRITHERM универсальная PE-Xa/EVOH 32х4,4, бухта 50 м",null,32,{"v":466,"d":"466.00"},{"v":466,"d":"466.00"}]
[null,null,"GK 716050R","Труба гофрированная ПНД для 16-й полимерной трубы, красная, бухта 50 метров",null,21,25.96,25.96]
[null,null,"GK 720050R","Труба гофрированная ПНД для 20-й полимерной трубы, красная, бухта 50 метров",null,25,32.34,32.34]
[null,null,"GK 725030R","Труба гофрированная ПНД для 25-й полимерной трубы, красная, бухта 30 метров",null,32,{"v":44,"d":"44.00"},{"v":44,"d":"44.00"}]
[null,null,"GK 732030R","Труба гофрированная ПНД для 32-й полимерной трубы, красная, бухта 30 метров",null,40,57.48,57.48]
[null,null,"GK 716050B","Труба гофрированная ПНД для 16-й полимерной трубы, синяя, бухта 50 метров",null,21,25.96,25.96]
[null,null,"GK 720050B","Труба гофрированная ПНД для 20-й полимерной трубы, синяя, бухта 50 метров",null,25,32.34,32.34]
[null,null,"GK 725030B","Труба гофрированная ПНД для 25-й полимерной трубы, синяя, бухта 30 метров",null,32,{"v":44,"d":"44.00"},{"v":44,"d":"44.00"}]
[null,null,"GK 732030B","Труба гофрированная ПНД для 32-й полимерной трубы, синяя, бухта 30 метров",null,40,57.48,57.48]
["Аксиальные фитинги"]
[null,null,"Артикул","Наименование товара",null,"Размер","Цена за шт.","Цена за шт."]
[{"$nulls":6},"EUR","RUB"]
[null,null,"GK 7GX001000016","Кольцо монтажное GX 16",null,16,0.35,{"$f":"G76*$B$2","v":{"v":34.3,"d":"34.30"}}]
[null,null,"GK 7GX001000020","Кольцо монтажное GX 20",null,20,{"v":0.4,"d":"0.40"},{"$f":"G77*$B$2","v":{"v":39.2,"d":"39.20"}}]
[null,null,"GK 7GX001000025","Кольцо монтажное GX 25",null,25,0.67,{"v":65.66000000000001,"d":"65.66"}]
[null,null,"GK 7GX001000032","Кольцо монтажное GX 32",null,32,1.09,{"v":106.82000000000001,"d":"106.82"}]
[null,null,"GK 7GX002001616","Прямой фитинг GX 16x16",null,"16x16",1.67,163.66]
[null,null,"GK 7GX002002020","Прямой фитинг GX 20x20",null,"20x20",3.15,{"v":308.7,"d":"308.70"}]
[null,null,"GK 7GX002002525","Прямой фитинг GX 25x25",null,"25x25",4.47,438.06]
[null,null,"GK 7GX002003232","Прямой фитинг GX 32x32",null,"32x32",10.87,1065.26]
[null,null,"GK 7GX002004040","Прямой фитинг GX 40x40",null,"40x40",26.51,2597.98]
[null,null,"GK 7GX002002016","Прямой переходный фитинг GX 20x16",null,"20x16",2.64,258.72]
[null,null,"GK 7GX002002516","Прямой переходный фитинг GX 25x16",null,"25x16",4.15,{"v":406.70000000000005,"d":"406.70"}]
[null,null,"GK 7GX002002520","Прямой переходный фитинг GX 25x20",null,"25x20",4.15,{"v":406.70000000000005,"d":"406.70"}]
[null,null,"GK 7GX002003220","Прямой переходный фитинг GX 32x20",null,"32x20",14.11,1382.78]
[null,null,"GK 7GX002003225","Прямой переходный фитинг GX 32x25",null,"32x25",11.04,{"v":1081.9199999999998,"d":"1081.92"}]
[null,null,"GK 7GX002004025","Прямой переходный фитинг GX 40x25",null,"40x25",24.55,{"v":2405.9,"d":"2405.90"}]
[null,null,"GK 7GX002004032","Прямой переходный фитинг GX 40x32",null,"40x32",24.25,{"v":2376.5,"d":"2376.50"}]
[null,null,"GK 7GX005001612","Прямой фитинг GX с наружной резьбой 16x1/2\"M",null,"16x1/2\"M",1.91,{"v":187.17999999999998,"d":"187.18"}]
[null,null,"GK 7GX005002012","Прямой фитинг GX с наружной резьбой 20x1/2\"M",null,"20x1/2\"M",2.42,237.16]
[null,null,"GK 7GX005002512","Прямой фитинг GX с наружной резьбой 25x1/2\"M",null,"25x1/2\"M",3.67,{"v":359.65999999999997,"d":"359.66"}]
[null,null,"GK 7GX005001634","Прямой фитинг GX с наружной резьбой 16x3/4\"M",null,"16x3/4\"M",3.05,{"v":298.9,"d":"298.90"}]
[null,null,"GK 7GX005002034","Прямой фитинг GX с наружной резьбой 20x3/4\"M",null,"20x3/4\"M",3.33,{"v":326.34000000000003,"d":"326.34"}]
[null,null,"GK 7GX005002534","Прямой фитинг GX с наружной резьбой 25x3/4\"M",null,"25x3/4\"M",3.56,348.88]
[null,null,"GK 7GX005002010","Прямой фитинг GX с наружной резьбой 20x1\"M",null,"20x1\"M",4.84,474.32]
[null,null,"GK 7GX005002510","Прямой фитинг GX с наружной резьбой 25x1\"M",null,"25x1\"M",{"v":5.6,"d":"5.60"},{"v":548.8,"d":"548.80"}]
[null,null,"GK 7GX005003210","Прямой фитинг GX с наружной резьбой 32x1\"M",null,"32x1\"M",9.78,{"v":958.4399999999999,"d":"958.44"}]
[null,null,"GK 7GX005040114","Прямой фитинг GX с наружной резьбой 40x1\"1/4M",null,"40x1\"1/4M",15.62,1530.76]
[null,null,"GK 7GX005040112","Прямой фитинг GX с наружной резьбой 40x1\"1/2M",null,"40x1\"1/2M",18.47,1810.06]
[null,null,"GK 7GX006001612","Прямой фитинг GX с внутренней резьбой 16x1/2\"F",null,"16x1/2\"F",3.38,331.24]
[null,null,"GK 7GX006002012","Прямой фитинг GX с внутренней резьбой 20x1/2\"F",null,"20x1/2\"F",3.65,{"v":357.7,"d":"357.70"}]
[null,null,"GK 7GX006001634","Прямой фитинг GX с внутренней резьбой 16x3/4\"F",null,"16x3/4\"F",{"v":4,"d":"4.00"},{"v":392,"d":"392.00"}]
[null,null,"GK 7GX006002034","Прямой фитинг GX с внутренней резьбой 20x3/4\"F",null,"20x3/4\"F",5.35,{"v":524.3,"d":"524.30"}]
[null,null,"GK 7GX006002534","Прямой фитинг GX с внутренней резьбой 25x3/4\"F",null,"25x3/4\"F",5.84,{"v":572.3199999999999,"d":"572.32"}]
[null,null,"GK 7GX006002510","Прямой фитинг GX с внутренней резьбой 25x1\"F",null,"25x1\"F",7.98,{"v":782.0400000000001,"d":"782.04"}]
[null,null,"GK 7GX006003210","Прямой фитинг GX с внутренней резьбой 32x1\"F",null,"32x1\"F",14.96,{"v":1466.0800000000002,"d":"1466.08"}]
[null,null,"GK 7GX006040114","Прямой фитинг GX с внутренней резьбой 40x1\"1/4F",null,"40x1\"1/4F",{"v":15.4,"d":"15.40"},{"v":1509.2,"d":"1509.20"}]
[null,null,"GK 7GX006040112","Прямой фитинг GX с внутренней резьбой 40x1\"1/2F",null,"40x1\"1/2F",17.76,{"v":1740.4800000000002,"d":"1740.48"}]
[null,null,"GK 7GX003001616","Угольник 90° GX 16x16",null,"16x16",{"v":2.6,"d":"2.60"},{"v":254.8,"d":"254.80"}]
[null,null,"GK 7GX003002020","Угольник 90° GX 20x20",null,"20x20",3.84,376.32]
[null,null,"GK 7GX003002525","Угольник 90° GX 25x25",null,"25x25",{"v":5.6,"d":"5.60"},{"v":548.8,"d":"548.80"}]
[null,null,"GK 7GX003003232","Угольник 90° GX 32x32",null,"32x32",11.55,{"v":1131.9,"d":"1131.90"}]
[null,null,"GK 7GX003004040","Угольник 90° GX 40x40",null,"40x40",24.75,{"v":2425.5,"d":"2425.50"}]
[null,null,"GK 7GX009001612","Угольник 90° GX с наружной резьбой",null,"16x1/2\"M",3.25,{"v":318.5,"d":"318.50"}]
[null,null,"GK 7GX009002012","Угольник 90° GX с наружной резьбой",null,"20x1/2\"M",4.38,429.24]
[null,null,"GK 7GX009001634","Угольник 90° GX с наружной резьбой",null,"16x3/4\"M",4.67,{"v":457.65999999999997,"d":"457.66"}]
[null,null,"GK 7GX009002534","Угольник 90° GX с наружной резьбой",null,"25x3/4\"M",7.89,{"v":773.2199999999999,"d":"773.22"}]
[null,null,"GK 7GX009002034","Угольник 90° GX с наружной резьбой",null,"20x3/4\"M",5.67,555.66]
[null,null,"GK 7GX009002510","Угольник 90° GX с наружной резьбой",null,"25x1\"M",{"v":9.2,"d":"9.20"},{"v":901.5999999999999,"d":"901.60"}]
[null,null,"GK 7GX009003210","Угольник 90° GX с наружной резьбой",null,"32x1\"M",14.96,{"v":1466.0800000000002,"d":"1466.08"}]
[null,null,"GK 7GX010001612","Угольник 90° GX с внутренней резьбой",null,"16x1/2\"F",3.47,340.06]
[null,null,"GK 7GX010002012","Угольник 90° GX с внутренней резьбой",null,"20x1/2\"F",4.45,{"v":436.1,"d":"436.10"}]
[null,null,"GK 7GX010001634","Угольник 90° GX с внутренней резьбой",null,"16x3/4\"F",5.29,518.42]
[null,null,"GK 7GX010002034","Угольник 90° GX с внутренней резьбой",null,"20x3/4\"F",5.36,{"v":525.2800000000001,"d":"525.28"}]
[null,null,"GK 7GX010002534","Угольник 90° GX с внутренней резьбой",null,"25x3/4\"F",{"v":6.4,"d":"6.40"},{"v":627.2,"d":"627.20"}]
[null,null,"GK 7GX010002510","Угольник 90° GX с внутренней резьбой",null,"25x1\"F",11.62,1138.76]
[null,null,"GK 7GX010003210","Угольник 90° GX с внутренней резьбой",null,"32x1\"F",{"v":19.6,"d":"19.60"},{"v":1920.8000000000002,"d":"1920.80"}]
[null,null,"GK 7GX004161616","Тройник соединительный GX 16х16х16",null,"16x16x16",3.33,{"v":326.34000000000003,"d":"326.34"}]
[null,null,"GK 7GX004202020","Тройник соединительный GX 20х20х20",null,"20x20x20",5.02,491.96]
[null,null,"GK 7GX004252525","Тройник соединительный GX 25х25х25",null,"25x25x25",7.51,735.98]
[null,null,"GK 7GX004323232","Тройник соединительный GX 32х32х32",null,"32x32x32",15.24,1493.52]
[null,null,"GK 7GX004404040","Тройник соединительный GX 40х40х40",null,"40x40x40",33.36,{"v":3269.2799999999997,"d":"3269.28"}]
[null,null,"GK 7GX004162016","Тройник переходной GX 16х20х16",null,"16x20x16",4.73,463.54]
[null,null,"GK 7GX004201616","Тройник переходной GX 20х16х16",null,"20x16X16",4.73,463.54]
[null,null,"GK 7GX004201620","Тройник переходной GX 20х16х20",null,"20x16x20",5.16,505.68]
[null,null,"GK 7GX004202016","Тройник переходной GX 20х20х16",null,"20x20x16",5.45,{"v":534.1,"d":"534.10"}]
[null,null,"GK 7GX004202520","Тройник переходной GX 20х25х20",null,"20x25x20",{"v":7.4,"d":"7.40"},{"v":725.2,"d":"725.20"}]
[null,null,"GK 7GX004251616","Тройник переходной GX 25х16х16",null,"25x16x16",5.89,{"$f":"G141*$B$2","v":{"v":577.2199999999999,"d":"577.22"}}]
[null,null,"GK 7GX004251620","Тройник переходной GX 25х16х20",null,"25x16x20",7.11,{"v":696.7800000000001,"d":"696.78"}]
[null,null,"GK 7GX004251625","Тройник переходной GX 25х16х25",null,"25x16x25",7.27,{"v":712.4599999999999,"d":"712.46"}]
[null,null,"GK 7GX004252020","Тройник переходной GX 25х20х20",null,"25x20x20",7.35,{"v":720.3,"d":"720.30"}]
[null,null,"GK 7GX004252025","Тройник переходной GX 25х20х25",null,"25x20x25",8.05,{"v":788.9000000000001,"d":"788.90"}]
[null,null,"GK 7GX004252520","Тройник переходной GX 25х25х20",null,"25x25x20",8.64,846.72]
[null,null,"GK 7GX004252516","Тройник переходной GX 25х25х16",null,"25x25x16",8.64,846.72]
[null,null,"GK 7GX004322020","Тройник переходной GX 32х20х20",null,"32x20x20",15.96,{"v":1564.0800000000002,"d":"1564.08"}]
[null,null,"GK 7GX004322025","Тройник переходной GX 32х20х25",null,"32x20x25",15.56,1524.88]
[null,null,"GK 7GX004322525","Тройник переходной GX 32х25х25",null,"32x25x25",15.47,{"v":1516.0600000000002,"d":"1516.06"}]
[null,null,"GK 7GX004322532","Тройник переходной GX 32х25х32",null,"32x25x32",15.75,{"v":1543.5,"d":"1543.50"}]
[null,null,"GK 7GX004323220","Тройник переходной GX 32х32х20",null,"32x32x20",{"v":19.8,"d":"19.80"},{"v":1940.4,"d":"1940.40"}]
[null,null,"GK 7GX004323225","Тройник переходной GX 32х32х25",null,"32x32x25",16.31,{"v":1598.3799999999999,"d":"1598.38"}]
[null,null,"GK 7GX004402040","Тройник переходной GX 40х20х40",null,"40x20x40",23.69,{"v":2321.6200000000003,"d":"2321.62"}]
[null,null,"GK 7GX004402540","Тройник переходной GX 40х25х40",null,"40x25x40",25.09,2458.82]
[null,null,"GK 7GX004403232","Тройник переходной GX 40х32х32",null,"40x32x32",24.55,{"v":2405.9,"d":"2405.90"}]
[null,null,"GK 7GX004403240","Тройник переходной GX 40х32х40",null,"40x32x40",27.95,{"v":2739.1,"d":"2739.10"}]
[null,null,"GK 7GX016161216","Тройник с наружной резьбой GX 16x1/2\"Mx16",null,"16x1/2\"Mx16",4.73,463.54]
[null,null,"GK 7GX016201220","Тройник с наружной резьбой GX 20x1/2\"Mx20",null,"20x1/2\"Mx20",5.84,{"v":572.3199999999999,"d":"572.32"}]
[null,null,"GK 7GX016203420","Тройник с наружной резьбой GX 20x3/4\"Mx20",null,"20x3/4\"Mx20",7.44,729.12]
[null,null,"GK 7GX016253425","Тройник с наружной резьбой GX 25x3/4\"Mx25",null,"25x3/4\"Mx25",10.05,{"v":984.9000000000001,"d":"984.90"}]
[null,null,"GK 7GX016320132","Тройник с наружной резьбой GX 32x1\"Mx32",null,"32x1\"Mx32",16.85,{"v":1651.3000000000002,"d":"1651.30"}]
[null,null,"GK 7GX017161216","Тройник GX с внутренней резьбой",null,"16x1/2\"Fx16",4.29,420.42]
[null,null,"GK 7GX017201220","Тройник GX с внутренней резьбой",null,"20x1/2\"Fx20",5.45,{"v":534.1,"d":"534.10"}]
[null,null,"GK 7GX017203420","Тройник GX с внутренней резьбой",null,"20x3/4\"Fx20",7.82,766.36]
[null,null,"GK 7GX017253425","Тройник GX с внутренней резьбой",null,"25x3/4\"Fx25",8.31,814.38]
[null,null,"GK 7GX017320132","Тройник GX с внутренней резьбой",null,"32x1\"Fx32",16.64,1630.72]
[null,null,"GK 7GX011001612","Угольник установочный GX с внутренней резьбой",null,"16x1/2\"F",5.62,550.76]
[null,null,"GK 7GX018001612","Угольник установочный GX с внутренней резьбой",null,"16x1/2\"F (45 мм)",5.53,541.94]
[null,null,"GK 7GX011002012","Угольник установочный GX с внутренней резьбой",null,"20x1/2\"F",6.87,673.26]
[null,null,"GK 7GX018002012","Угольник установочный GX с внутренней резьбой",null,"20x1/2\"F (45 мм)",6.78,664.44]
[null,null,"GK 7GX011002034","Угольник установочный GX с внутренней резьбой",null,"20x3/4\"F",{"v":9.2,"d":"9.20"},{"v":901.5999999999999,"d":"901.60"}]
[null,null,"GK 7GX011002534","Угольник установочный GX с внутренней резьбой",null,"25x3/4\"F",9.13,{"v":894.7400000000001,"d":"894.74"}]
[null,null,"GK 7GX012001625","Угольник GX с хромированной трубкой (250 мм)",null,"16x15(L-250 мм)",10.53,{"v":1031.9399999999998,"d":"1031.94"}]
[null,null,"GK 7GX012002025","Угольник GX с хромированной трубкой (250 мм)",null,"20x15(L-250 мм)",12.53,{"v":1227.9399999999998,"d":"1227.94"}]
[null,null,"GK 7GX019001625","Тройник GX с хромированной трубкой (250 мм)",null,"16x15(L-250 мм)x16",14.53,{"v":1423.9399999999998,"d":"1423.94"}]
[null,null,"GK 7GX019002025","Тройник GX с хромированной трубкой (250 мм)",null,"20x15(L-250 мм)x20",16.47,1614.06]
[null,null,"GK 7GX020000016","Заглушка GX 16",null,16,1.25,{"v":122.5,"d":"122.50"}]
[null,null,"GK 7GX020000020","Заглушка GX 20",null,20,2.38,{"v":233.23999999999998,"d":"233.24"}]
[null,null,"GK 7GX020000025","Заглушка GX 25",null,25,3.58,{"v":350.84000000000003,"d":"350.84"}]
[null,null,"GK 7GX008001612","Фитинг с накидной гайкой GX 1/2\"E x 16 PEX",null,"1/2\"Ex16 PEX",{"v":4.4,"d":"4.40"},{"v":431.20000000000005,"d":"431.20"}]
[null,null,"GK 7GX008001634","Фитинг с накидной гайкой GX 3/4\"E x 16 PEX",null,"3/4\"Ex16 PEX",3.85,{"v":377.3,"d":"377.30"}]
[null,null,"GK 7GX008002034","Фитинг с накидной гайкой GX 3/4\"E x 20 PEX",null,"3/4\"Ex20 PEX",{"v":5.8,"d":"5.80"},{"v":568.4,"d":"568.40"}]
[null,null,"GK 7GX013002034","Переходник для пластиковой трубы с соединением евроконус, 3/4\"E x(16x2,2)",null,"3/4\"E x 16 PEX (16*2,2)",3.47,340.06]
[null,null,"GK 7GX013001534","Переходник для пластиковой трубы с соединением евроконус, 3/4\"E x(20x2,8)",null,"3/4\"E x 20 PEX (20*2,8)",4.11,{"v":402.78000000000003,"d":"402.78"}]
[null,null,"GK 7GX013001634","Переходник для медной трубы с соединением евроконус, 3/4\"E x15",null,"3/4\"E x 15",2.45,{"v":240.10000000000002,"d":"240.10"}]
["Шкафы коллекторные"]
[null,null,"Артикул","Наименование товара",null,"Высота х ширина","Цена за шт.","Цена за шт."]
[{"$nulls":6},"RUB","RUB"]
[null,null,"GK SHV-0","Шкаф встроенный (ШРВ) с накладной дверцей, регулируемая глубина от 125 до 195 мм",null,"668 x 402",3840.75,{"$f":"G190*1","v":3840.75}]
[null,null,"GK SHV-1",null,null,"668 x 492",4098.41,{"$f":"G191*1","v":4098.41}]
[null,null,"GK SHV-2",null,null,"668 x 592",{"v":4770,"d":"4770.00"},{"v":4770,"d":"4770.00"}]
[null,null,"GK SHV-3",null,null,"668 x 742",5865.75,5865.75]
[null,null,"GK SHV-4",null,null,"668 x 892",{"v":6862.5,"d":"6862.50"},{"v":6862.5,"d":"6862.50"}]
[null,null,"GK SHV-5",null,null,"668 x 1042",{"v":7582.5,"d":"7582.50"},{"v":7582.5,"d":"7582.50"}]
[null,null,"GK SHV-6",null,null,"668 x 1192",{"v":8302.5,"d":"8302.50"},{"v":8302.5,"d":"8302.50"}]
[null,null,"GK SHN-0","Шкаф наружный (ШРН) с накладной дверцей, стандартная глубина 120 мм",null,"652 x 367",{"v":3217.5,"d":"3217.50"},{"v":3217.5,"d":"3217.50"}]
[null,null,"GK SHN-1",null,null,"652 x 457",3881.82,3881.82]
[null,null,"GK SHN-2",null,null,"652 x 557",4154.81,4154.81]
[null,null,"GK SHN-3",null,null,"652 x 707",{"v":4954.2,"d":"4954.20"},{"v":4954.2,"d":"4954.20"}]
[null,null,"GK SHN-4",null,null,"652 x 857",5898.96,5898.96]
[null,null,"GK SHN-5",null,null,"652 x 1007",6716.01,6716.01]
[null,null,"GK SHN-6","Трехходовой фитинг для установки в поток датчика температуры",null,"652 x 1157",7933.47,7933.47]
[null,null,"GK SHN-150-0","Шкаф наружный (ШРН) с накладной дверцей, увеличенная глубина 150 мм",null,"652 x 367",{"v":3712.5,"d":"3712.50"},{"v":3712.5,"d":"3712.50"}]
[null,null,"GK SHN-150-1",null,null,"652 x 457",{"v":4185,"d":"4185.00"},{"v":4185,"d":"4185.00"}]
[null,null,"GK SHN-150-2",null,null,"652 x 557",4538.48,4538.48]
[null,null,"GK SHN-150-3",null,null,"652 x 707",5496.32,5496.32]
[null,null,"GK SHN-150-4",null,null,"652 x 857",{"v":6304.5,"d":"6304.50"},{"v":6304.5,"d":"6304.50"}]
[null,null,"GK SHN-150-5",null,null,"652 x 1007",7543.42,7543.42]
[null,null,"GK SHN-150-6","Трехходовой фитинг для установки в поток датчика температуры",null,"652 x 1157",8340.75,8340.75]
["Узлы ТП, коллекторы"]
[null,null,"Артикул","Наименование товара",null,"Присоединение к ТП","Цена за шт.","Цена за шт."]
[{"$nulls":6},"EUR","RUB"]
[null,null,"GK 7686-F30","Насосно-смесительнаый узел для напольного отопления по фиксированной температуре смешения",null,"1\"",152.55,{"$f":"G214*$B$2","v":{"v":14949.900000000001,"d":"14949.90"}}]
[null,null,"GK 7686G-F30","Насосно-смесительная группа для напольного отопления по фиксированной температуре смешения c фитингом для подключения байпаса и накидной гайкой для насоса G1",null,"1\"",{"v":201,"d":"201.00"},{"$f":"G215*$B$2","v":{"v":19698,"d":"19698.00"}}]
[null,null,"GK 7686G-F3","Насосно-смесительная группа для напольного отопления по фиксированной температуре смешения c фитингом для подключения байпаса и накидной гайкой для насоса G1 ½",null,"1\"",{"v":201,"d":"201.00"},{"v":19698,"d":"19698.00"}]
[null,null,"GK 7686901","Байпасная линия для узлов GK 7686G-F30, GK 7686G-F3 (диапазон 0÷0.5 бар, Kvs 5,0 м3/ч, Межосевое расстояние 210 мм)",null,"1/2\"",55.23,5412.54]
[null,null,"GK 7685","Насосно-смесительный узел для напольного отопления с термостатической головкой",null,"3/4\"",127.48,12493.04]
[null,null,"GK 714R","Трехходовой фитинг для установки в поток датчика температуры",null,"1\"",{"v":23.2,"d":"23.20"},{"v":2273.6,"d":"2273.60"}]
[null,null,"GK 72102","Коллекторный блок с расходомерами, термостатическими клапанами и ручными воздухоотводчиками",null,"1\"x3/4\"х2",95.62,9370.76]
[null,null,"GK 72103",null,null,"1\"x3/4\"х3",117.42,11507.16]
[null,null,"GK 72104",null,null,"1\"x3/4\"х4",139.46,13667.08]
[null,null,"GK 72105",null,null,"1\"x3/4\"х5",{"v":164.5,"d":"164.50"},{"v":16121,"d":"16121.00"}]
[null,null,"GK 72106",null,null,"1\"x3/4\"х6",{"v":186.6,"d":"186.60"},{"v":18286.8,"d":"18286.80"}]
[null,null,"GK 72107",null,null,"1\"x3/4\"х7",216.21,21188.58]
[null,null,"GK 72108",null,null,"1\"x3/4\"х8",242.07,23722.86]
[null,null,"GK 72109",null,null,"1\"x3/4\"х9",265.44,26013.12]
[null,null,"GK 72110",null,null,"1\"x3/4\"х10",290.92,28510.16]
[null,null,"GK 72111",null,null,"1\"x3/4\"х11",314.22,30793.56]
[null,null,"GK 72112",null,null,"1\"x3/4\"х12",{"v":337.1,"d":"337.10"},{"v":33035.8,"d":"33035.80"}]
[null,null,"GK 73102","Коллекторный блок с микрометрическими вентилями, термостатическими клапанами и ручными воздухоотводчиками",null,"1\"x3/4\"х2",99.44,{"v":9745.119999999999,"d":"9745.12"}]
[null,null,"GK 73103",null,null,"1\"x3/4\"х3",117.13,11478.74]
[null,null,"GK 73104",null,null,"1\"x3/4\"х4",{"v":135,"d":"135.00"},{"v":13230,"d":"13230.00"}]
[null,null,"GK 73105",null,null,"1\"x3/4\"х5",155.29,15218.42]
[null,null,"GK 73106",null,null,"1\"x3/4\"х6",174.28,17079.44]
[null,null,"GK 73107",null,null,"1\"x3/4\"х7",{"v":197.7,"d":"197.70"},{"v":19374.6,"d":"19374.60"}]
[null,null,"GK 73108",null,null,"1\"x3/4\"х8",218.92,21454.16]
[null,null,"GK 73109",null,null,"1\"x3/4\"х9",{"v":237.5,"d":"237.50"},{"v":23275,"d":"23275.00"}]
[null,null,"GK 73110",null,null,"1\"x3/4\"х10",258.43,25326.14]
[null,null,"GK 73111",null,null,"1\"x3/4\"х11",{"v":276.8,"d":"276.80"},{"v":27126.4,"d":"27126.40"}]
[null,null,"GK 73112",null,null,"1\"x3/4\"х12",294.89,{"v":28899.219999999998,"d":"28899.22"}]
[null,null,"GK 74102","Коллекторный блок с расходомерами, термостатическими клапанами без воздухоотводчиков                                                           ",null,"1\"x3/4\"х2",{"v":82.8,"d":"82.80"},{"v":8114.4,"d":"8114.40"}]
[null,null,"GK 74103",null,null,"1\"x3/4\"х3",104.64,10254.72]
[null,null,"GK 74104",null,null,"1\"x3/4\"х4",126.66,12412.68]
[null,null,"GK 74105",null,null,"1\"x3/4\"х5",151.66,14862.68]
[null,null,"GK 74106",null,null,"1\"x3/4\"х6",173.76,17028.48]
[null,null,"GK 74107",null,null,"1\"x3/4\"х7",203.39,{"v":19932.219999999998,"d":"19932.22"}]
[null,null,"GK 74108",null,null,"1\"x3/4\"х8",229.25,{"v":22466.5,"d":"22466.50"}]
[null,null,"GK 74109",null,null,"1\"x3/4\"х9",252.63,{"v":24757.739999999998,"d":"24757.74"}]
[null,null,"GK 74110",null,null,"1\"x3/4\"х10",278.08,27251.84]
[null,null,"GK 74111",null,null,"1\"x3/4\"х11",301.39,{"v":29536.219999999998,"d":"29536.22"}]
[null,null,"GK 74112",null,null,"1\"x3/4\"х12",324.26,31777.48]
[null,null,"GK 75102","Коллекторный блок с микрометрическими вентилями, термостатическими клапанами без воздухоотводчиков",null,"1\"x3/4\"х2",74.01,{"v":7252.9800000000005,"d":"7252.98"}]
[null,null,"GK 75103",null,null,"1\"x3/4\"х3",91.72,8988.56]
[null,null,"GK 75104",null,null,"1\"x3/4\"х4",109.56,{"v":10736.880000000001,"d":"10736.88"}]
[null,null,"GK 75105",null,null,"1\"x3/4\"х5",129.91,12731.18]
[null,null,"GK 75106",null,null,"1\"x3/4\"х6",148.86,14588.28]
[null,null,"GK 75107",null,null,"1\"x3/4\"х7",172.25,{"v":16880.5,"d":"16880.50"}]
[null,null,"GK 75108",null,null,"1\"x3/4\"х8",193.51,18963.98]
[null,null,"GK 75109",null,null,"1\"x3/4\"х9",216.11,{"v":21178.780000000002,"d":"21178.78"}]
[null,null,"GK 75110",null,null,"1\"x3/4\"х10",232.99,22833.02]
[null,null,"GK 75111",null,null,"1\"x3/4\"х11",256.15,{"v":25102.699999999997,"d":"25102.70"}]
[null,null,"GK 75112",null,null,"1\"x3/4\"х12",{"v":282.3,"d":"282.30"},{"v":27665.4,"d":"27665.40"}]
[null,null,"GK 7590","Комплект коллекторных фитингов со сливным краном и ручным воздухоотводчиком",null,"1\"",31.53,3089.94]
[null,null,"GK 7591","Комплект коллекторных фитингов со сливным краном и автоматическим воздухоотводчиком",null,"1\"",41.11,{"v":4028.7799999999997,"d":"4028.78"}]
[null,null,"GK 79115","Латунный расходомер для коллекторных блоков напольного и радиаторного отопления",null,"1/2\"",8.87,{"v":869.2599999999999,"d":"869.26"}]
[null,null,"GK 1903N","Электротермическая головка 230В, нормально закрытая ",null,"М30х1,5",30.24,2963.52]
[null,null,"GK 1904N","Электротермическая головка 24В, нормально закрытая ",null,"М30х1,5",31.68,3104.64]
[null,null,"GK 71602","Концовка для металлопластиковых труб и труб РЕХ, 3/4\" Евроконус",null,"16*2 x 3/4\"",{"v":2.9,"d":"2.90"},{"v":284.2,"d":"284.20"}]
[null,null,"GK 72002",null,null,"20*2 x 3/4\"",4.42,{"v":433.15999999999997,"d":"433.16"}]
[null,null,"GK 79181","Комплект (2 шт) шаровых кранов для коллекторов: с \"американкой\", термометром и отводом для температурного зонда, ручки - красная и синяя \"бабочка\"",null,"1\"",72.19,7074.62]
[null,null,"GK 7534","Группа безопасности бойлера с прямым сливом, рабочее давление 10 бар, давление настройки предохранительного клапана 7 ± 0,1 бар",null,"3/4\"",47.23,4628.54]
[null,null,"GK 7535","Группа безопасности бойлера с угловым сливом, рабочее давление 10 бар, давление настройки предохранительного клапана 7 ± 0,1 бар",null,"3/4\"",62.46,6121.08]
["Клапаны для отоп.приборов"]
[null,null,"Артикул","Наименование товара",null,"Размер","Цена за шт.","Цена за шт."]
[{"$nulls":6},"EUR","RUB"]
[null,null,"GK 7423","Узел нижнего подключения для стальных панельных радиаторов в двухтрубных системах прямой, с ручным управлением",null,"3/4\"",14.22,{"$f":"G277*$B$2","v":{"v":1393.5600000000002,"d":"1393.56"}}]
[null,null,"GK 7421","Узел нижнего подключения для стальных панельных радиаторов в двухтрубных системах угловой, с ручным управлением",null,"3/4\"",13.29,{"$f":"G278*$B$2","v":{"v":1302.4199999999998,"d":"1302.42"}}]
[null,null,"GK 7400 12","Клапан запорный прямой",null,"1/2\"",8.08,791.84]
[null,null,"GK 7400 34",null,null,"3/4\"",12.18,{"v":1193.6399999999999,"d":"1193.64"}]
[null,null,"GK 7200 12","Клапан запорный угловой",null,"1/2\"",6.96,682.08]
[null,null,"GK 7200 34",null,null,"3/4\"",11.05,{"v":1082.9,"d":"1082.90"}]
[null,null,"GK 7350 12","Клапан регулирующий прямой",null,"1/2\"",9.01,882.98]
[null,null,"GK 7350 34",null,null,"3/4\"",15.84,1552.32]
[null,null,"GK 7150 12","Клапан регулирующий угловой",null,"1/2\"",8.19,802.62]
[null,null,"GK 7150 34",null,null,"3/4\"",14.89,1459.22]
[null,null,"GK 7355 12","Клапан регулирующий прямой компактной серии",null,"1/2\"",8.18,801.64]
[null,null,"GK 7155 12","Клапан регулирующий угловой компактной серии",null,"1/2\"",7.26,711.48]
[null,null,"GK 7640 12","Клапан терморегулирующий прямой",null,"1/2\"",11.45,{"v":1122.1,"d":"1122.10"}]
[null,null,"GK 7640 34",null,null,"3/4\"",14.07,{"v":1378.8600000000001,"d":"1378.86"}]
[null,null,"GK 7620 12","Клапан терморегулирующий угловой",null,"1/2\"",10.15,{"v":994.7,"d":"994.70"}]
[null,null,"GK 7620 34",null,null,"3/4\"",12.97,{"v":1271.0600000000002,"d":"1271.06"}]
[null,null,"GK 7625 12","Клапан терморегулирующий   осевой",null,"1/2\"",13.15,{"v":1288.7,"d":"1288.70"}]
[null,null,"GK 7824","Термостатическая головка с внутренним жидкостным датчиком, с настройкой против замораживания",null,"CLIP-CLAP",10.64,1042.72]
[null,null,"GK 7825","Термостатическая головка с внутренним жидкостным датчиком, с настройкой против замораживания",null,"M30x1,5",{"v":12,"d":"12.00"},{"v":1176,"d":"1176.00"}]
[null,null,"GK 76407400 12","Комплект для подключения отопительных приборов прямой",null,"1/2\"",{"v":31,"d":"31.00"},{"v":3038,"d":"3038.00"}]
[null,null,"GK 76207200 12","Комплект для подключения отопительных приборов угловой",null,"1/2\"",{"v":35,"d":"35.00"},{"v":3430,"d":"3430.00"}]
[null,null,"GK 7081","Переходник для узлов нижнего подключения в радиаторы с внутренней резьбой 1/2''",null,"1/2''x3/4''",2.13,{"v":208.73999999999998,"d":"208.74"}]
["Теплоноситель"]
[null,null,"Артикул","Наименование товара",null,"Размер","Цена за шт.","Цена за шт."]
[{"$nulls":6},"RUB","RUB"]
[null,null,"GK 569214"," Теплоноситель GEKON ECOSAVE - 30°С, 10 кг.",null,"3/4\"",{"v":2483,"d":"2483.00"},{"$f":"G302*1","v":{"v":2483,"d":"2483.00"}}]
[null,null,"GK 873256"," Теплоноситель GEKON ECOSAVE - 30°С, 20 кг.",null,"3/4\"",{"v":4967,"d":"4967.00"},{"$f":"G303*1","v":{"v":4967,"d":"4967.00"}}]
["Бойлеры, накопители, теплоаккумуляторы OLD (до сентября 2024) "]
[null,null,"Артикул","Наименование товара",null,"Объём","Цена за шт.","Цена за шт."]
[{"$nulls":6},"RUB","RUB"]
[null,null,"GKB1501N","Бойлер Gekon HWB 150 1HE INOX, 30 кВт",null,150,{"v":78481,"d":"78481.00"},{"$f":"G307*1","v":{"v":78481,"d":"78481.00"}}]
[null,null,"GKB2001N","Бойлер Gekon HWB 200 1HE INOX, 30 кВт",null,200,{"v":86816,"d":"86816.00"},{"$f":"G308*1","v":{"v":86816,"d":"86816.00"}}]
[null,null,"GKB3001N","Бойлер Gekon HWB 300 1HE INOX, 45 кВт",null,300,{"v":121300,"d":"121300.00"},{"v":121300,"d":"121300.00"}]
[null,null,"GKB4001N","Бойлер Gekon HWB 400 1HE INOX, 53 кВт",null,400,{"v":137354,"d":"137354.00"},{"v":137354,"d":"137354.00"}]
[null,null,"GKB5001N","Бойлер Gekon HWB 500 1HE INOX, 70 кВт",null,500,{"v":180930,"d":"180930.00"},{"v":180930,"d":"180930.00"}]
[null,null,"GKB120TC","Бойлер Gekon HWB 120 1HE TC INOX, 30 кВт с верхним подключением",null,120,{"v":83150,"d":"83150.00"},{"v":83150,"d":"83150.00"}]
[null,null,"GKB300XL","Бойлер Gekon HWB 300 1HE XL INOX, 129 кВт",null,300,{"v":154392,"d":"154392.00"},{"v":154392,"d":"154392.00"}]
[null,null,"GKB400XL","Бойлер Gekon HWB 400 1HE XL INOX, 120кВт",null,400,{"v":161432,"d":"161432.00"},{"v":161432,"d":"161432.00"}]
[null,null,"GKB2002N","Бойлер Gekon HWB 200 2HE INOX, 15/33 кВт",null,200,{"v":100570,"d":"100570.00"},{"v":100570,"d":"100570.00"}]
[null,null,"GKB3002N","Бойлер Gekon HWB 300 2HE INOX, 30/45 кВт",null,300,{"v":142417,"d":"142417.00"},{"v":142417,"d":"142417.00"}]
[null,null,"GKB4002N","Бойлер Gekon HWB 400 2HE INOX, 30/53 кВт",null,400,{"v":158470,"d":"158470.00"},{"v":158470,"d":"158470.00"}]
[null,null,"GKB80WL","Бойлер Gekon HWB 80 1HE WL INOX, 15,3 кВт с левым подключением",null,80,{"v":50271,"d":"50271.00"},{"v":50271,"d":"50271.00"}]
[null,null,"GKB100WL","Бойлер Gekon HWB 100 1HE WL INOX, 15,3 кВт с левым подключением",null,100,{"v":55500,"d":"55500.00"},{"v":55500,"d":"55500.00"}]
[null,null,"GKB150WL","Бойлер Gekon HWB 150 1HE WL INOX, 33 кВт с левым подключением",null,150,{"v":72430,"d":"72430.00"},{"v":72430,"d":"72430.00"}]
[null,null,"GKB80WR","Бойлер Gekon HWB 80 1HE WL INOX, 15,3 кВт с правым подключением",null,80,{"v":50271,"d":"50271.00"},{"v":50271,"d":"50271.00"}]
[null,null,"GKB100WR","Бойлер Gekon HWB 100 1HE WL INOX, 15,3 кВт с правым подключением",null,100,{"v":55500,"d":"55500.00"},{"v":55500,"d":"55500.00"}]
[null,null,"GKB150WR","Бойлер Gekon HWB 150 1HE WL INOX, 33 кВт с правым подключением",null,150,{"v":72430,"d":"72430.00"},{"v":72430,"d":"72430.00"}]
[null,null,"GKB150ZN","Накопитель горячей воды Gekon HWB 150 ZHE INOX",null,150,{"v":58842,"d":"58842.00"},{"v":58842,"d":"58842.00"}]
[null,null,"GKB200ZN","Накопитель горячей воды Gekon HWB 200 ZHE INOX",null,200,{"v":67364,"d":"67364.00"},{"v":67364,"d":"67364.00"}]
[null,null,"GKB300ZN","Накопитель горячей воды Gekon HWB 300 ZHE INOX",null,300,{"v":93819,"d":"93819.00"},{"v":93819,"d":"93819.00"}]
[null,null,"GKB400ZN","Накопитель горячей воды Gekon HWB 400 ZHE INOX",null,400,{"v":107844,"d":"107844.00"},{"v":107844,"d":"107844.00"}]
["Бойлеры, накопители, теплоаккумуляторы NEW (с сентября 2024)"]
[null,null,"Артикул","Наименование товара",null,"Объём","Цена за шт.","Цена за шт."]
[{"$nulls":6},"RUB","RUB"]
[null,null,"GK1501","Бойлер напольный B01 150 л, с 1-м ТО, 30 кВт, INOX, Gekon",null,150,{"v":78481.26018468224,"d":"78481.26"},{"$f":"G331*1","v":{"v":78481.26018468224,"d":"78481.26"}}]
[null,null,"GK2001","Бойлер напольный B01 200 л, с 1-м ТО, 30 кВт, INOX, Gekon",null,200,{"v":86815.86094513851,"d":"86815.86"},{"$f":"G332*1","v":{"v":86815.86094513851,"d":"86815.86"}}]
[null,null,"GK3001","Бойлер напольный B01 300 л, с 1-м ТО, 40 кВт, INOX, Gekon",null,300,{"v":121300.38022813688,"d":"121300.38"},{"v":121300.38022813688,"d":"121300.38"}]
[null,null,"GK4001","Бойлер напольный B01 400 л, с 1-м ТО, 51 кВт, INOX, Gekon",null,400,{"v":137353.6121673004,"d":"137353.61"},{"v":137353.6121673004,"d":"137353.61"}]
[null,null,"GK5001","Бойлер напольный B01 500 л, с 1-м ТО, 60 кВт, INOX, Gekon",null,500,{"v":180929.92938620315,"d":"180929.93"},{"v":180929.92938620315,"d":"180929.93"}]
[null,null,"GK8001","Бойлер напольный B01 800 л, с 1-м ТО, 90 кВт, INOX, Gekon",null,800,{"v":305535.6855163525,"d":"305535.69"},{"v":305535.6855163525,"d":"305535.69"}]
[null,null,"GK10001","Бойлер напольный B01 1000 л, с 1-м ТО, 98 кВт, INOX, Gekon",null,1000,{"v":351996.1333977767,"d":"351996.13"},{"v":351996.1333977767,"d":"351996.13"}]
[null,null,"GK1201TC","Бойлер напольный BTC 120 л, с 1-м ТО, 28 кВт, INOX, Gekon",null,120,{"v":83150,"d":"83150.00"},{"v":83150,"d":"83150.00"}]
[null,null,"GK2001XL","Бойлер напольный BXL 200 л, с 1-м ТО, 60 кВт, INOX, Gekon",null,200,{"v":109750.00542994287,"d":"109750.01"},{"v":109750.00542994287,"d":"109750.01"}]
[null,null,"GK3001XL","Бойлер напольный BXL 300 л, с 1-м ТО, 115 кВт, INOX, Gekon",null,300,{"v":154392.17816404128,"d":"154392.18"},{"v":154392.17816404128,"d":"154392.18"}]
[null,null,"GK4001XL","Бойлер напольный BXL 400 л, с 1-м ТО, 100 кВт, INOX, Gekon",null,400,{"v":161431.83052688756,"d":"161431.83"},{"v":161431.83052688756,"d":"161431.83"}]
[null,null,"GK5001XL","Бойлер напольный BXL 500 л, с 1-м ТО, 127 кВт, INOX, Gekon",null,500,{"v":225560.23083758928,"d":"225560.23"},{"v":225560.23083758928,"d":"225560.23"}]
[null,null,"GK8001XL","Бойлер напольный BXL 800 л, с 1-м ТО, 120 кВт, INOX, Gekon",null,800,{"v":325539.981741045,"d":"325539.98"},{"v":325539.981741045,"d":"325539.98"}]
[null,null,"GK10001XL","Бойлер напольный BXL 1000 л, с 1-м ТО, 150 кВт, INOX, Gekon",null,1000,{"v":390900.59610117605,"d":"390900.60"},{"v":390900.59610117605,"d":"390900.60"}]
[null,null,"GK2002","Бойлер напольный B02 200 л, с 2-я ТО, 30/15 кВт, INOX, Gekon",null,200,{"v":100570.34220532319,"d":"100570.34"},{"v":100570.34220532319,"d":"100570.34"}]
[null,null,"GK3002","Бойлер напольный B02 300 л, с 2-я ТО, 40/28 кВт, INOX, Gekon",null,300,{"v":142417.16458446498,"d":"142417.16"},{"v":142417.16458446498,"d":"142417.16"}]
[null,null,"GK4002","Бойлер напольный B02 400 л, с 2-я ТО, 51/23 кВт, INOX, Gekon",null,400,{"v":158470.39652362847,"d":"158470.40"},{"v":158470.39652362847,"d":"158470.40"}]
[null,null,"GK5002","Бойлер напольный B02 500 л, с 2-я ТО, 60/23 кВт, INOX, Gekon",null,500,{"v":206707.70877944323,"d":"206707.71"},{"v":206707.70877944323,"d":"206707.71"}]
[null,null,"GK8002","Бойлер напольный B02 800 л, с 2-я ТО, 90/28 кВт, INOX, Gekon",null,800,{"v":324936.36217174155,"d":"324936.36"},{"v":324936.36217174155,"d":"324936.36"}]
[null,null,"GK10002","Бойлер напольный B02 1000 л, с 2-я ТО, 98/45 кВт, INOX, Gekon",null,1000,{"v":371394.66194081947,"d":"371394.66"},{"v":371394.66194081947,"d":"371394.66"}]
[null,null,"GK801WL","Бойлер настенный BW 80 л, с 1-м ТО, 15 кВт, подключение слева, INOX, Gekon",null,80,{"v":50270.505160239,"d":"50270.51"},{"v":50270.505160239,"d":"50270.51"}]
[null,null,"GK1001WL","Бойлер настенный BW 100 л, с 1-м ТО, 15 кВт, подключение слева, INOX, Gekon",null,100,{"v":55500.27159152635,"d":"55500.27"},{"v":55500.27159152635,"d":"55500.27"}]
[null,null,"GK1501WL","Бойлер настенный BW 150 л, с 1-м ТО, 30 кВт, подключение слева, INOX, Gekon",null,150,{"v":72430.2009777295,"d":"72430.20"},{"v":72430.2009777295,"d":"72430.20"}]
[null,null,"GK801WR","Бойлер настенный BW 80 л, с 1-м ТО, 15 кВт, подключение справа, INOX, Gekon",null,80,{"v":50270.505160239,"d":"50270.51"},{"v":50270.505160239,"d":"50270.51"}]
[null,null,"GK1001WR","Бойлер настенный BW 100 л, с 1-м ТО, 15 кВт, подключение справа, INOX, Gekon",null,100,{"v":55500.27159152635,"d":"55500.27"},{"v":55500.27159152635,"d":"55500.27"}]
[null,null,"GK1501WR","Бойлер настенный BW 150 л, с 1-м ТО, 30 кВт, подключение справа, INOX, Gekon",null,150,{"v":72430.2009777295,"d":"72430.20"},{"v":72430.2009777295,"d":"72430.20"}]
[null,null,"GK1201WB","Бойлер настенный BW 120 л, с 1-м ТО, 28 кВт, подключение нижнее, INOX, Gekon",null,120,{"v":83058.82352941176,"d":"83058.82"},{"v":83058.82352941176,"d":"83058.82"}]
[null,null,"GK150","Накопитель горячей воды напольный BT 150 л, INOX, Gekon",null,150,{"v":58841.933731667574,"d":"58841.93"},{"v":58841.933731667574,"d":"58841.93"}]
[null,null,"GK200","Накопитель горячей воды напольный BT 200 л, INOX, Gekon",null,200,{"v":67364.47582835416,"d":"67364.48"},{"v":67364.47582835416,"d":"67364.48"}]
[null,null,"GK300","Накопитель горячей воды напольный BT 300 л, INOX, Gekon",null,300,{"v":93818.57686040195,"d":"93818.58"},{"v":93818.57686040195,"d":"93818.58"}]
[null,null,"GK400","Накопитель горячей воды напольный BT 400 л, INOX, Gekon",null,400,{"v":107843.56328082563,"d":"107843.56"},{"v":107843.56328082563,"d":"107843.56"}]
[null,null,"GK500","Накопитель горячей воды напольный BT 500 л, INOX, Gekon",null,500,{"v":149364.02569593146,"d":"149364.03"},{"v":149364.02569593146,"d":"149364.03"}]
[null,null,"GK800","Накопитель горячей воды напольный BT 800 л, INOX, Gekon",null,800,{"v":242432.74729930097,"d":"242432.75"},{"v":242432.74729930097,"d":"242432.75"}]
[null,null,"GK1000","Накопитель горячей воды напольный BT 1000 л, INOX, Gekon",null,1000,{"v":279095.7041179461,"d":"279095.70"},{"v":279095.7041179461,"d":"279095.70"}]
[null,null,"GK100P","Накопитель горячей воды напольный BP 100 л, с насосом ГВС, INOX, Gekon",null,100,{"v":61539.9471437284,"d":"61539.95"},{"v":61539.9471437284,"d":"61539.95"}]
[null,null,"GK500BS","Теплоаккумулятор Buffer S 500 л, одностороннее расположение патрубков, Gekon",null,500,{"v":63530.906990179086,"d":"63530.91"},{"v":63530.906990179086,"d":"63530.91"}]
[null,null,"GK800BS","Теплоаккумулятор Buffer S 800 л, одностороннее расположение патрубков, Gekon",null,800,{"v":85370.30618139803,"d":"85370.31"},{"v":85370.30618139803,"d":"85370.31"}]
[null,null,"GK1000BS","Теплоаккумулятор Buffer S 1000 л, одностороннее расположение патрубков, Gekon",null,1000,{"v":96481.80242634314,"d":"96481.80"},{"v":96481.80242634314,"d":"96481.80"}]
[null,null,"GK500BA","Теплоаккумулятор Buffer A 500 л, расположение патрубков под углом 90 градусов, Gekon",null,500,{"v":63530.906990179086,"d":"63530.91"},{"v":63530.906990179086,"d":"63530.91"}]
[null,null,"GK800BA","Теплоаккумулятор Buffer A 800 л, расположение патрубков под углом 90 градусов, Gekon",null,800,{"v":85370.30618139803,"d":"85370.31"},{"v":85370.30618139803,"d":"85370.31"}]
[null,null,"GK1000BA","Теплоаккумулятор Buffer A 1000 л, расположение патрубков под углом 90 градусов, Gekon",null,1000,{"v":96481.80242634314,"d":"96481.80"},{"v":96481.80242634314,"d":"96481.80"}]
[null,null,"GKMA8D2140","Анод магниевый L=400 мм, D21 мм,  М8х10 ",null,21,{"v":736.7441860465117,"d":"736.74"},{"v":736.7441860465117,"d":"736.74"}]
[null,null,"GKMA8D2145","Анод магниевый L=450 мм, D21 мм,  М8х10 ",null,21,{"v":803.7209302325582,"d":"803.72"},{"v":803.7209302325582,"d":"803.72"}]
["Мембранные баки"]
[null,null,"Артикул","Наименование товара",null,"Объём, л","Цена за шт.","Цена за шт."]
[{"$nulls":6},"EUR / RUB","RUB"]
[null,null,"GKB0140029","Бак мембранный для отопления Gekon WRV8",null,8,{"v":2334.29,"d":"2,334.29 ₽"},{"$f":"G377*1","v":2334.29}]
[null,null,"GKB2140200","Бак мембранный для отопления Gekon WRV8 (16 бар)",null,8,{"v":116,"d":"116.00 €"},{"$f":"G378*$L$1*1.1","v":{"v":12861.543984985352,"d":"12861.54"}}]
[null,null,"GKB2140300","Бак мембранный для отопления Gekon WRV8 (25 бар)",null,8,{"v":338,"d":"338.00 €"},{"$f":"G379*$L$1*1.1","v":{"v":37475.878163146976,"d":"37475.88"}}]
[null,null,"GKB0140049","Бак мембранный для отопления Gekon WRV12",null,12,{"v":2544.54,"d":"2,544.54 ₽"},{"$f":"G380*1","v":2544.54}]
[null,null,"GKB2140302","Бак мембранный для отопления Gekon WRV12 (25 бар)",null,12,{"v":338,"d":"338.00 €"},{"$f":"G381*$L$1*1.1","v":{"v":37475.878163146976,"d":"37475.88"}}]
[null,null,"GKB0140059","Бак мембранный для отопления Gekon WRV18",null,18,{"v":2782.31,"d":"2,782.31 ₽"},2782.31]
[null,null,"GKB2140304","Бак мембранный для отопления Gekon WRV18 (25 бар)",null,18,{"v":463,"d":"463.00 €"},{"$f":"G383*$L$1*1.1","v":{"v":51335.3005607605,"d":"51335.30"}}]
[null,null,"GKB0140069","Бак мембранный для отопления Gekon WRV24",null,24,{"v":2998.79,"d":"2,998.79 ₽"},2998.79]
[null,null,"GKB2140206","Бак мембранный для отопления Gekon WRV24 (16 бар)",null,24,{"v":160,"d":"160.00 €"},{"$f":"G385*$L$1*1.1","v":{"v":17740.060668945313,"d":"17740.06"}}]
[null,null,"GKB2140306","Бак мембранный для отопления Gekon WRV24 (25 бар)",null,24,{"v":463,"d":"463.00 €"},{"$f":"G386*$L$1*1.1","v":{"v":51335.3005607605,"d":"51335.30"}}]
[null,null,"GKB0140080","Бак мембранный для отопления Gekon WRV35",null,35,{"v":5083.81,"d":"5,083.81 ₽"},5083.81]
[null,null,"GKB0140100","Бак мембранный для отопления Gekon WRV50",null,50,{"v":6259.08,"d":"6,259.08 ₽"},6259.08]
[null,null,"GKB2140208","Бак мембранный для отопления Gekon WRV50 (16 бар)",null,50,{"v":322,"d":"322.00 €"},{"$f":"G389*$L$1*1.1","v":{"v":35701.872096252446,"d":"35701.87"}}]
[null,null,"GKB0140120","Бак мембранный для отопления Gekon WRV80",null,80,{"v":8706.48,"d":"8,706.48 ₽"},8706.48]
[null,null,"GKB2140212","Бак мембранный для отопления Gekon WRV80 (16 бар)",null,80,{"v":502,"d":"502.00 €"},{"$f":"G391*$L$1*1.1","v":{"v":55659.44034881592,"d":"55659.44"}}]
[null,null,"GKB0140140","Бак мембранный для отопления Gekon WRV100",null,100,{"v":12513.58,"d":"12,513.58 ₽"},12513.58]
[null,null,"GKB2140214","Бак мембранный для отопления Gekon WRV100 (16 бар)",null,100,{"v":540,"d":"540.00 €"},{"$f":"G393*$L$1*1.1","v":{"v":59872.70475769044,"d":"59872.70"}}]
[null,null,"GKB2140314","Бак мембранный для отопления Gekon WRV100 (25 бар)",null,100,{"v":1249,"d":"1,249.00 €"},{"$f":"G394*$L$1*1.1","v":{"v":138483.34859695437,"d":"138483.35"}}]
[null,null,"GKB0140160","Бак мембранный для отопления Gekon WRV150",null,150,{"v":18956.77,"d":"18,956.77 ₽"},18956.77]
[null,null,"GKB2140216","Бак мембранный для отопления Gekon WRV150 (16 бар)",null,150,{"v":616,"d":"616.00 €"},{"$f":"G396*$L$1*1.1","v":{"v":68299.23357543946,"d":"68299.23"}}]
[null,null,"GKB2140316","Бак мембранный для отопления Gekon WRV150 (25 бар)",null,150,{"v":1999,"d":"1,999.00 €"},{"$f":"G397*$L$1*1.1","v":{"v":221639.88298263552,"d":"221639.88"}}]
[null,null,"GKB0140180","Бак мембранный для отопления Gekon WRV200",null,200,{"v":32108.6,"d":"32,108.60 ₽"},{"v":32108.6,"d":"32108.60"}]
[null,null,"GKB2140218","Бак мембранный для отопления Gekon WRV200 (16 бар)",null,200,{"v":1152,"d":"1,152.00 €"},{"$f":"G399*$L$1*1.1","v":{"v":127728.43681640626,"d":"127728.44"}}]
[null,null,"GKB2140318","Бак мембранный для отопления Gekon WRV200 (25 бар)",null,200,{"v":2600,"d":"2,600.00 €"},{"$f":"G400*$L$1*1.1","v":{"v":288275.9858703613,"d":"288275.99"}}]
[null,null,"GKB0140190","Бак мембранный для отопления Gekon WRV300",null,300,{"v":38272.4,"d":"38,272.40 ₽"},{"v":38272.4,"d":"38272.40"}]
[null,null,"GKB2140220","Бак мембранный для отопления Gekon WRV300 (16 бар)",null,300,{"v":1360,"d":"1,360.00 €"},{"$f":"G402*$L$1*1.1","v":{"v":150790.51568603516,"d":"150790.52"}}]
[null,null,"GKB2140320","Бак мембранный для отопления Gekon WRV300 (25 бар)",null,300,{"v":3315,"d":"3,315.00 €"},{"$f":"G403*$L$1*1.1","v":{"v":367551.88198471075,"d":"367551.88"}}]
[null,null,"GKB0140200","Бак мембранный для отопления Gekon WRV500",null,500,{"v":67749.6,"d":"67,749.60 ₽"},{"v":67749.6,"d":"67749.60"}]
[null,null,"GKB2140222","Бак мембранный для отопления Gekon WRV500 (16 бар)",null,500,{"v":1859,"d":"1,859.00 €"},{"$f":"G405*$L$1*1.1","v":{"v":206117.32989730837,"d":"206117.33"}}]
[null,null,"GKB2140322","Бак мембранный для отопления Gekon WRV500 (25 бар)",null,500,{"v":4502,"d":"4,502.00 €"},{"$f":"G406*$L$1*1.1","v":{"v":499160.95707244874,"d":"499160.96"}}]
[null,null,"GKB0140210","Бак мембранный для отопления Gekon WRV750",null,750,{"v":151772.25,"d":"151,772.25 ₽"},151772.25]
[null,null,"GKB2140224","Бак мембранный для отопления Gekon WRV750 (16 бар)",null,750,{"v":3815,"d":"3,815.00 €"},{"$f":"G408*$L$1*1.1","v":{"v":422989.57157516485,"d":"422989.57"}}]
[null,null,"GKB0140220","Бак мембранный для отопления Gekon WRV1000",null,1000,{"v":220806.4,"d":"220,806.40 ₽"},{"v":220806.4,"d":"220806.40"}]
[null,null,"GKB2140226","Бак мембранный для отопления Gekon WRV1000 (16 бар)",null,1000,{"v":4800,"d":"4,800.00 €"},{"$f":"G410*$L$1*1.1","v":{"v":532201.8200683594,"d":"532201.82"}}]
[null,null,"GKB2140326","Бак мембранный для отопления Gekon WRV1000(25 бар)",null,1000,{"v":7869,"d":"7,869.00 €"},{"$f":"G411*$L$1*1.1","v":{"v":872478.3587745667,"d":"872478.36"}}]
[null,null,"GKB1140312","Бак мембранный для отопления Gekon WRV1500",null,1500,{"v":603769.91,"d":"603,769.91 ₽"},603769.91]
[null,null,"GKB2140228","Бак мембранный для отопления Gekon WRV1500 (16 бар)",null,1500,{"v":6567,"d":"6,567.00 €"},{"$f":"G413*$L$1*1.1","v":{"v":728118.6150810242,"d":"728118.62"}}]
[null,null,"GKB2140328","Бак мембранный для отопления Gekon WRV1500(25 бар)",null,1500,{"v":10689,"d":"10,689.00 €"},{"$f":"G414*$L$1*1.1","v":{"v":1185146.928064728,"d":"1185146.93"}}]
[null,null,"GKB1140315","Бак мембранный для отопления Gekon WRV2000",null,2000,{"v":754958.94,"d":"754,958.94 ₽"},754958.94]
[null,null,"GKB2140230","Бак мембранный для отопления Gekon WRV2000 (16 бар)",null,2000,{"v":10864,"d":"10,864.00 €"},{"$f":"G416*$L$1*1.1","v":{"v":1204550.1194213869,"d":"1204550.12"}}]
[null,null,"GKB2140330","Бак мембранный для отопления Gekon WRV2000 (25 бар)",null,2000,{"v":16776,"d":"16,776.00 €"},{"$f":"G417*$L$1*1.1","v":{"v":1860045.361138916,"d":"1860045.36"}}]
[null,null,"GKB2140104","Бак мембранный для отопления Gekon WRV2500",null,2500,{"v":833021.21,"d":"833,021.21 ₽"},833021.21]
[null,null,"GKB1140320","Бак мембранный для отопления Gekon WRV3000",null,3000,{"v":881982.66,"d":"881,982.66 ₽"},881982.66]
[null,null,"GKB2140234","Бак мембранный для отопления Gekon WRV3000 (16 бар)",null,3000,{"v":14643,"d":"14,643.00 €"},{"$f":"G420*$L$1*1.1","v":{"v":1623548.1773460389,"d":"1623548.18"}}]
[null,null,"GKB2140332","Бак мембранный для отопления Gekon WRV3000 (25 бар)",null,3000,{"v":22144,"d":"22,144.00 €"},{"$f":"G421*$L$1*1.1","v":{"v":2455224.3965820316,"d":"2455224.40"}}]
[null,null,"GKB2140108","Бак мембранный для отопления Gekon WRV4000",null,4000,{"v":18020,"d":"18,020.00 €"},{"v":1997974.332839966,"d":"1997974.33"}]
[null,null,"GKB2140236","Бак мембранный для отопления Gekon WRV4000 (16 бар)",null,4000,{"v":23045,"d":"23,045.00 €"},{"v":2555123.1132240295,"d":"2555123.11"}]
[null,null,"GKB1140330","Бак мембранный для отопления Gekon WRV5000",null,5000,{"v":24487,"d":"24,487.00 €"},{"v":2715005.4100028994,"d":"2715005.41"}]
[null,null,"GKB2140238","Бак мембранный для отопления Gekon WRV5000 (16 бар)",null,5000,{"v":29462,"d":"29,462.00 €"},{"v":3266610.4214279177,"d":"3266610.42"}]
[null,null,"GKB2140112","Бак мембранный для отопления Gekon WRV8000",null,8000,{"v":44456,"d":"44,456.00 €"},{"v":4929075.856866456,"d":"4929075.86"}]
[null,null,"GKB2140240","Бак мембранный для отопления Gekon WRV8000 (16 бар)",null,8000,{"v":65635,"d":"65,635.00 €"},{"v":7277305.512538911,"d":"7277305.51"}]
[null,null,"GKB2140340","Бак мембранный для отопления Gekon WRV8000 (25 бар)",null,8000,{"v":77142,"d":"77,142.00 €"},{"v":8553148.500773622,"d":"8553148.50"}]
[null,null,"GKB2140114","Бак мембранный для отопления Gekon WRV10000",null,10000,{"v":52277,"d":"52,277.00 €"},{"v":5796232.197440338,"d":"5796232.20"}]
[null,null,"GKB2140242","Бак мембранный для отопления Gekon WRV 10000 (16 бар)",null,10000,"по запросу",{"$f":"G430","v":"по запросу"}]
[null,null,"GKB0141029","Бак мембранный для водоснабжения Gekon WAV8",null,8,{"v":2346.06,"d":"2,346.06 ₽"},{"$f":"G431*1","v":2346.06}]
[null,null,"GKB2140250","Бак мембранный для водоснабжения Gekon WAV8 (16 бар)",null,8,{"v":116,"d":"116.00 €"},{"$f":"G432*$L$1*1.1","v":{"v":12861.543984985352,"d":"12861.54"}}]
[null,null,"GKB2140350","Бак мембранный для водоснабжения Gekon WAV8 (25 бар)",null,8,{"v":338,"d":"338.00 €"},{"$f":"G433*$L$1*1.1","v":{"v":37475.878163146976,"d":"37475.88"}}]
[null,null,"GKB0141039","Бак мембранный для водоснабжения Gekon WAV12",null,12,{"v":2552.5,"d":"2,552.50 ₽"},{"$f":"G434*1","v":{"v":2552.5,"d":"2552.50"}}]
[null,null,"GKB2140252","Бак мембранный для водоснабжения GekonWAV12 (16 бар)",null,12,{"v":116,"d":"116.00 €"},{"$f":"G435*$L$1*1.1","v":{"v":12861.543984985352,"d":"12861.54"}}]
[null,null,"GKB2140352","Бак мембранный для водоснабжения Gekon WAV12 (25 бар)",null,12,{"v":338,"d":"338.00 €"},{"$f":"G436*$L$1*1.1","v":{"v":37475.878163146976,"d":"37475.88"}}]
[null,null,"GKB0141049","Бак мембранный для водоснабжения Gekon WAV18",null,18,{"v":3072.63,"d":"3,072.63 ₽"},3072.63]
[null,null,"GKB2140354","Бак мембранный для водоснабжения Gekon WAV18 (25 бар)",null,18,{"v":463,"d":"463.00 €"},{"$f":"G438*$L$1*1.1","v":{"v":51335.3005607605,"d":"51335.30"}}]
[null,null,"GKB0141069","Бак мембранный для водоснабжения Gekon WAV24",null,24,{"v":3202.33,"d":"3,202.33 ₽"},3202.33]
[null,null,"GKB2140256","Бак мембранный для водоснабжения Gekon WAV24 (16 бар)",null,24,{"v":160,"d":"160.00 €"},{"$f":"G440*$L$1*1.1","v":{"v":17740.060668945313,"d":"17740.06"}}]
[null,null,"GKB2140356","Бак мембранный для водоснабжения Gekon WAV 24 (25 бар)",null,24,{"v":463,"d":"463.00 €"},{"$f":"G441*$L$1*1.1","v":{"v":51335.3005607605,"d":"51335.30"}}]
[null,null,"GKB0141080","Бак мембранный для водоснабжения Gekon WAV35",null,35,{"v":5258.79,"d":"5,258.79 ₽"},5258.79]
[null,null,"GKB0141100","Бак мембранный для водоснабжения Gekon WAV50",null,50,{"v":8720.44,"d":"8,720.44 ₽"},8720.44]
[null,null,"GKB2140260","Бак мембранный для водоснабжения Gekon WAV50 (16 бар)",null,50,{"v":322,"d":"322.00 €"},{"$f":"G444*$L$1*1.1","v":{"v":35701.872096252446,"d":"35701.87"}}]
[null,null,"GKB2140358","Бак мембранный для водоснабжения Gekon WAV 50 (25 бар)",null,50,{"v":685,"d":"685.00 €"},{"$f":"G445*$L$1*1.1","v":{"v":75949.63473892212,"d":"75949.63"}}]
[null,null,"GKB2140262","Бак мембранный для водоснабжения Gekon WAV60 (16 бар)",null,60,{"v":358,"d":"358.00 €"},{"v":39693.38574676514,"d":"39693.39"}]
[null,null,"GKB2140359","Бак мембранный для водоснабжения Gekon WAV60 (25 бар)",null,60,{"v":772,"d":"772.00 €"},{"v":85595.79272766114,"d":"85595.79"}]
[null,null,"GKB0141120","Бак мембранный для водоснабжения Gekon WAV80",null,80,{"v":11544.94,"d":"11,544.94 ₽"},11544.94]
[null,null,"GKB2140264","Бак мембранный для водоснабжения Gekon WAV80 (16 бар)",null,80,{"v":502,"d":"502.00 €"},{"$f":"G449*$L$1*1.1","v":{"v":55659.44034881592,"d":"55659.44"}}]
[null,null,"GKB2140360","Бак мембранный для водоснабжения Gekon WAV 80 (25 бар)",null,80,{"v":1229,"d":"1,229.00 €"},{"$f":"G450*$L$1*1.1","v":{"v":136265.8410133362,"d":"136265.84"}}]
[null,null,"GKB0141140","Бак мембранный для водоснабжения Gekon WAV100",null,100,{"v":15533.15,"d":"15,533.15 ₽"},15533.15]
[null,null,"GKB2140266","Бак мембранный для водоснабжения Gekon WAV100 (16 бар)",null,100,{"v":540,"d":"540.00 €"},{"$f":"G452*$L$1*1.1","v":{"v":59872.70475769044,"d":"59872.70"}}]
[null,null,"GKB2140362","Бак мембранный для водоснабжения Gekon WAV100 (25 бар)",null,100,{"v":1249,"d":"1,249.00 €"},{"$f":"G453*$L$1*1.1","v":{"v":138483.34859695437,"d":"138483.35"}}]
[null,null,"GKB0141160","Бак мембранный для водоснабжения Gekon WAV150",null,150,{"v":19647.75,"d":"19,647.75 ₽"},19647.75]
[null,null,"GKB2140268","Бак мембранный для водоснабжения Gekon WAV150 (16 бар)",null,150,{"v":616,"d":"616.00 €"},{"$f":"G455*$L$1*1.1","v":{"v":68299.23357543946,"d":"68299.23"}}]
[null,null,"GKB2140366","Бак мембранный для водоснабжения Gekon WAV150 (25 бар)",null,150,{"v":1999,"d":"1,999.00 €"},{"$f":"G456*$L$1*1.1","v":{"v":221639.88298263552,"d":"221639.88"}}]
[null,null,"GKB0141510","Бак мембранный для водоснабжения Gekon WAV200",null,200,{"v":36111.79,"d":"36,111.79 ₽"},36111.79]
[null,null,"GKB2140270","Бак мембранный для водоснабжения Gekon WAV200 (16 бар)",null,200,{"v":1152,"d":"1,152.00 €"},{"$f":"G458*$L$1*1.1","v":{"v":127728.43681640626,"d":"127728.44"}}]
[null,null,"GKB2140368","Бак мембранный для водоснабжения GekonWAV 200 (25 бар)",null,200,{"v":2600,"d":"2,600.00 €"},{"$f":"G459*$L$1*1.1","v":{"v":288275.9858703613,"d":"288275.99"}}]
[null,null,"GKB0141515","Бак мембранный для водоснабжения Gekon WAV300",null,300,{"v":43804.54,"d":"43,804.54 ₽"},43804.54]
[null,null,"GKB2140272","Бак мембранный для водоснабжения Gekon WAV300 (16 бар)",null,300,{"v":1360,"d":"1,360.00 €"},{"$f":"G461*$L$1*1.1","v":{"v":150790.51568603516,"d":"150790.52"}}]
[null,null,"GKB2140370","Бак мембранный для водоснабжения Gekon WAV 300 (25 бар)",null,300,{"v":3315,"d":"3,315.00 €"},{"$f":"G462*$L$1*1.1","v":{"v":367551.88198471075,"d":"367551.88"}}]
[null,null,"GKB0141520","Бак мембранный для водоснабжения Gekon WAV500",null,500,{"v":68108.08,"d":"68,108.08 ₽"},68108.08]
[null,null,"GKB2140274","Бак мембранный для водоснабжения Gekon WAV500 (16 бар)",null,500,{"v":1859,"d":"1,859.00 €"},{"$f":"G464*$L$1*1.1","v":{"v":206117.32989730837,"d":"206117.33"}}]
[null,null,"GKB2140372","Бак мембранный для водоснабжения Gekon WAV 500 (25 бар)",null,500,{"v":4502,"d":"4,502.00 €"},{"$f":"G465*$L$1*1.1","v":{"v":499160.95707244874,"d":"499160.96"}}]
[null,null,"GKB1140300","Бак мембранный для водоснабжения Gekon WAV750",null,750,{"v":170759.17,"d":"170,759.17 ₽"},170759.17]
[null,null,"GKB2140276","Бак мембранный для водоснабжения Gekon WAV750 (16 бар)",null,750,{"v":3815,"d":"3,815.00 €"},{"$f":"G467*$L$1*1.1","v":{"v":422989.57157516485,"d":"422989.57"}}]
[null,null,"GKB2140374","Бак мембранный для водоснабжения Gekon WAV750 (25 бар)",null,750,{"v":6431,"d":"6,431.00 €"},{"$f":"G468*$L$1*1.1","v":{"v":713039.5635124207,"d":"713039.56"}}]
[null,null,"GKB1140302","Бак мембранный для водоснабжения Gekon WAV1000",null,1000,{"v":291510.64,"d":"291,510.64 ₽"},291510.64]
[null,null,"GKB2140278","Бак мембранный для водоснабжения GekonWAV1000 (16 бар)",null,1000,{"v":4800,"d":"4,800.00 €"},{"$f":"G470*$L$1*1.1","v":{"v":532201.8200683594,"d":"532201.82"}}]
[null,null,"GKB2140376","Бак мембранный для водоснабжения Gekon WAV 1000 (25 бар)",null,1000,{"v":7869,"d":"7,869.00 €"},{"$f":"G471*$L$1*1.1","v":{"v":872478.3587745667,"d":"872478.36"}}]
[null,null,"GKB2140120","Бак мембранный для водоснабжения Gekon WAV1500",null,1500,{"v":603769.91,"d":"603,769.91 ₽"},603769.91]
[null,null,"GKB2140280","Бак мембранный для водоснабжения Gekon WAV1500 (16 бар)",null,1500,{"v":6567,"d":"6,567.00 €"},{"$f":"G473*$L$1*1.1","v":{"v":728118.6150810242,"d":"728118.62"}}]
[null,null,"GKB2140378","Бак мембранный для водоснабжения Gekon WAV1500 (25 бар)",null,1500,{"v":10689,"d":"10,689.00 €"},{"$f":"G474*$L$1*1.1","v":{"v":1185146.928064728,"d":"1185146.93"}}]
[null,null,"GKB2140122","Бак мембранный для водоснабжения Gekon WAV2000",null,2000,{"v":754958.94,"d":"754,958.94 ₽"},754958.94]
[null,null,"GKB2140282","Бак мембранный для водоснабжения Gekon WAV2000 (16 бар)",null,2000,{"v":10864,"d":"10,864.00 €"},{"$f":"G476*$L$1*1.1","v":{"v":1204550.1194213869,"d":"1204550.12"}}]
[null,null,"GKB2140380","Бак мембранный для водоснабжения Gekon WAV 2000 (25 бар)",null,2000,{"v":16776,"d":"16,776.00 €"},{"$f":"G477*$L$1*1.1","v":{"v":1860045.361138916,"d":"1860045.36"}}]
[null,null,"GKB2140124","Бак мембранный для водоснабжения Gekon WAV2500",null,2500,{"v":1049994.17,"d":"1,049,994.17 ₽"},1049994.17]
[null,null,"GKB2140382","Бак мембранный для водоснабжения Gekon WAV2500 (25 бар)",null,2500,{"v":18987,"d":"18,987.00 €"},{"$f":"G479*$L$1*1.1","v":{"v":2105190.8245079042,"d":"2105190.82"}}]
[null,null,"GKB2140126","Бак мембранный для водоснабжения Gekon WAV3000",null,3000,{"v":1111708.36,"d":"1,111,708.36 ₽"},1111708.36]
[null,null,"GKB2140286","Бак мембранный для водоснабжения Gekon WAV3000 (16 бар)",null,3000,{"v":14643,"d":"14,643.00 €"},{"$f":"G481*$L$1*1.1","v":{"v":1623548.1773460389,"d":"1623548.18"}}]
[null,null,"GKB2140384","Бак мембранный для водоснабжения Gekon WAV3000 (25 бар)",null,3000,{"v":22144,"d":"22,144.00 €"},{"$f":"G482*$L$1*1.1","v":{"v":2455224.3965820316,"d":"2455224.40"}}]
[null,null,"GKB2140128","Бак мембранный для водоснабжения Gekon WAV4000",null,4000,{"v":18020,"d":"18,020.00 €"},{"v":1997974.332839966,"d":"1997974.33"}]
[null,null,"GKB2140288","Бак мембранный для водоснабжения Gekon WAV4000 (16 бар)",null,4000,{"v":23045,"d":"23,045.00 €"},{"v":2555123.1132240295,"d":"2555123.11"}]
[null,null,"GKB2140386","Бак мембранный для водоснабжения Gekon WAV4000 (25 бар)",null,4000,{"v":30970,"d":"30,970.00 €"},{"v":3433810.4932327275,"d":"3433810.49"}]
[null,null,"GKB2140130","Бак мембранный для водоснабжения Gekon WAV5000",null,5000,{"v":24487,"d":"24,487.00 €"},{"v":2715005.4100028994,"d":"2715005.41"}]
[null,null,"GKB2140290","Бак мембранный для водоснабжения Gekon WAV5000 (16 бар)",null,5000,{"v":29462,"d":"29,462.00 €"},{"v":3266610.4214279177,"d":"3266610.42"}]
[null,null,"GKB2140388","Бак мембранный для водоснабжения Gekon WAV5000 (25 бар)",null,5000,{"v":38844,"d":"38,844.00 €"},{"v":4306843.228903199,"d":"4306843.23"}]
[null,null,"GKB2140132","Бак мембранный для водоснабжения Gekon WAV8000",null,8000,{"v":44456,"d":"44,456.00 €"},{"v":4929075.856866456,"d":"4929075.86"}]
[null,null,"GKB2140292","Бак мембранный для водоснабжения Gekon WAV 8000 (16 бар)",null,8000,{"v":65635,"d":"65,635.00 €"},{"v":7277305.512538911,"d":"7277305.51"}]
[null,null,"GKB2140390","Бак мембранный для водоснабжения Gekon WAV8000 (25 бар)",null,8000,{"v":77142,"d":"77,142.00 €"},{"v":8553148.500773622,"d":"8553148.50"}]
[null,null,"GKB2140134","Бак мембранный для водоснабжения Gekon WAV10000",null,10000,{"v":52277,"d":"52,277.00 €"},{"v":5796232.197440338,"d":"5796232.20"}]
[null,null,"GKB2140294","Бак мембранный для водоснабжения Gekon WAV 10000 (16 бар)",null,10000,{"v":76146,"d":"76,146.00 €"},{"v":8442716.623109438,"d":"8442716.62"}]
[null,null,"GKB2140392","Бак мембранный для водоснабжения Gekon WAV10000 (25 бар)",null,10000,{"v":92571,"d":"92,571.00 €"},{"v":10263844.726155855,"d":"10263844.73"}]
[null,null,"GKB0140949","Бак мембранный для водоснабжения горизонтальный Gekon WAO19",null,19,{"v":3024.6,"d":"3,024.60 ₽"},{"$f":"G495*1","v":{"v":3024.6,"d":"3024.60"}}]
[null,null,"GKB0140959","Бак мембранный для водоснабжения горизонтальный Gekon WAO24",null,24,{"v":3261.85,"d":"3,261.85 ₽"},{"$f":"G496*1","v":3261.85}]
[null,null,"GKB2140400","Бак мембранный для водоснабжения горизонтальный Gekon WAO24 (16 бар)",null,24,{"v":160,"d":"160.00 €"},{"$f":"G497*$L$1*1.1","v":{"v":17740.060668945313,"d":"17740.06"}}]
[null,null,"GKB2140500","Бак мембранный для водоснабжения горизонтальный Gekon WAO24 (25 бар)",null,24,{"v":463,"d":"463.00 €"},{"$f":"G498*$L$1*1.1","v":{"v":51335.3005607605,"d":"51335.30"}}]
[null,null,"GKB0140970","Бак мембранный для водоснабжения горизонтальный Gekon WAO50",null,50,{"v":9221.46,"d":"9,221.46 ₽"},9221.46]
[null,null,"GKB2140402","Бак мембранный для водоснабжения горизонтальный Gekon WAO50 (16 бар)",null,50,{"v":322,"d":"322.00 €"},{"$f":"G500*$L$1*1.1","v":{"v":35701.872096252446,"d":"35701.87"}}]
[null,null,"GKB2140502","Бак мембранный для водоснабжения горизонтальный Gekon WAO50 (25 бар)",null,50,{"v":685,"d":"685.00 €"},{"$f":"G501*$L$1*1.1","v":{"v":75949.63473892212,"d":"75949.63"}}]
[null,null,"GKB0140990","Бак мембранный для водоснабжения горизонтальный Gekon WAO80",null,80,{"v":11583.38,"d":"11,583.38 ₽"},11583.38]
[null,null,"GKB2140404","Бак мембранный для водоснабжения горизонтальный Gekon WAO80 (16 бар)",null,80,{"v":502,"d":"502.00 €"},{"$f":"G503*$L$1*1.1","v":{"v":55659.44034881592,"d":"55659.44"}}]
[null,null,"GKB2140504","Бак мембранный для водоснабжения горизонтальный Gekon WAO80 ( 25 бар)",null,80,{"v":1229,"d":"1,229.00 €"},{"$f":"G504*$L$1*1.1","v":{"v":136265.8410133362,"d":"136265.84"}}]
[null,null,"GKB0140995","Бак мембранный для водоснабжения горизонтальный Gekon WAO100",null,100,{"v":15737.44,"d":"15,737.44 ₽"},15737.44]
[null,null,"GKB2140406","Бак мембранный для водоснабжения горизонтальный Gekon WAO100 (16 бар)",null,100,{"v":540,"d":"540.00 €"},{"$f":"G506*$L$1*1.1","v":{"v":59872.70475769044,"d":"59872.70"}}]
[null,null,"GKB2140506","Бак мембранный для водоснабжения горизонтальный Gekon WAO100 (25 бар)",null,100,{"v":1249,"d":"1,249.00 €"},{"$f":"G507*$L$1*1.1","v":{"v":138483.34859695437,"d":"138483.35"}}]
[null,null,"GKB0140997","Бак мембранный для водоснабжения горизонтальный Gekon WAO150",null,150,{"v":25099.06,"d":"25,099.06 ₽"},25099.06]
[null,null,"GKB1140232","Бак мембранный для водоснабжения Gekon WAV8 с контрфланцем из нерж.стали",null,8,{"v":2883.29,"d":"2,883.29 ₽"},2883.29]
[null,null,"GKB1140234","Бак мембранный для водоснабжения Gekon WAV12 с контрфланцем из нерж.стали",null,12,{"v":3137.06,"d":"3,137.06 ₽"},3137.06]
[null,null,"GKB1140236","Бак мембранный для водоснабжения Gekon WAV18 с контрфланцем из нерж.стали",null,18,{"v":3777.17,"d":"3,777.17 ₽"},3777.17]
[null,null,"GKB1140238","Бак мембранный для водоснабжения Gekon WAV24 с контрфланцем из нерж.стали",null,24,{"v":3986.75,"d":"3,986.75 ₽"},3986.75]
[null,null,"GKB1140240","Бак мембранный для водоснабжения Gekon WAV35 с контрфланцем из нерж.стали",null,35,{"v":6328.1,"d":"6,328.10 ₽"},{"v":6328.1,"d":"6328.10"}]
[null,null,"GKB1140242","Бак мембранный для водоснабжения Gekon WAV50 с контрфланцем из нерж.стали",null,50,{"v":11008.5,"d":"11,008.50 ₽"},{"v":11008.5,"d":"11008.50"}]
[null,null,"GKB1140244","Бак мембранный для водоснабжения Gekon WAV80 с контрфланцем из нерж.стали",null,80,{"v":14573.81,"d":"14,573.81 ₽"},14573.81]
[null,null,"GKB1140246","Бак мембранный для водоснабжения Gekon WAV100 с контрфланцем из нерж.стали",null,100,{"v":19513.67,"d":"19,513.67 ₽"},19513.67]
[null,null,"GKB1140248","Бак мембранный для водоснабжения Gekon WAV150 с контрфланцем из нерж.стали",null,150,{"v":23646.63,"d":"23,646.63 ₽"},23646.63]
[null,null,"GKB0140410","Бак мембранный для водоснабжения гор-й Gekon WAO24 ",null,24,{"v":4018.6,"d":"4,018.60 ₽"},{"v":4018.6,"d":"4018.60"}]
[null,null,"GKB0140420","Бак мембранный для водоснабжения гор-й Gekon WAO50 с контрфланцем из нерж.стали",null,50,{"v":11239.1,"d":"11,239.10 ₽"},{"v":11239.1,"d":"11239.10"}]
[null,null,"GKB1140250","Бак мембранный для водоснабжения гор-й Gekon WAO80 с контрфланцем из нерж.стали",null,80,{"v":14316.04,"d":"14,316.04 ₽"},14316.04]
[null,null,"GKB1140252","Бак мембранный для водоснабжения гор-й Gekon WAO100 с контрфланцем из нерж.стали",null,100,{"v":19450.23,"d":"19,450.23 ₽"},19450.23]
[null,null,"GKB1140254","Бак мембранный для водоснабжения горй Gekon WAO150 с контрфланцем из нерж.стали",null,150,{"v":29574.94,"d":"29,574.94 ₽"},29574.94]
[null,null,"GKB0140350","Бак мембранный для ГВС и гелиосистем Gekon WDV 8 с контрфланцем из нерж.стали",null,8,{"v":3439.46,"d":"3,439.46 ₽"},3439.46]
[null,null,"GKB0140360","Бак мембранный для ГВС и гелиосистем Gekon WDV 12 с контрфланцем из нерж.стали",null,12,{"v":4041.92,"d":"4,041.92 ₽"},4041.92]
[null,null,"GKB0140370","Бак мембранный для ГВС и гелиосистем Gekon WDV 18 с контрфланцем из нерж.стали",null,18,{"v":4820.25,"d":"4,820.25 ₽"},4820.25]
[null,null,"GKB0140380","Бак мембранный для ГВС и гелиосистем Gekon WDV 24 с контрфланцем из нерж.стали",null,24,{"v":5243.27,"d":"5,243.27 ₽"},5243.27]
[null,null,"GKB0140390","Бак мембранный для ГВС и гелиосистем Gekon WDV 35 с контрфланцем из нерж.стали",null,35,{"v":7588.54,"d":"7,588.54 ₽"},7588.54]
[null,null,"GKB0143010","Комплект крепления для мембранных баков 8-35 л",null,"8-35",{"v":1143,"d":"1,143.00 ₽"},{"v":1143,"d":"1143.00"}]
[null,null,"GKBQRVG34","Клапан быстроразъемный для расширительного бака 3/4\"",null,"3/4\"",{"v":970,"d":"970.00 ₽"},{"v":970,"d":"970.00"}]
["Дымоходы"]
[null,null,"Артикул","Наименование товара",null,"Размер","Цена за шт.","Цена за шт."]
[{"$nulls":6},"RUB","RUB"]
[null,null,"GKD K60100L1ALPA","Универсальный комплект Gekon Ø60/100 мм L=1,0 м (хомут, фланец, проставка 60 мм), Алюминий, система Антилед",null,"60/100",{"v":3585.920312881936,"d":"3585.92"},{"$f":"G533*1","v":{"v":3585.920312881936,"d":"3585.92"}}]
[null,null,"GKD K60100L1GSPA","Универсальный комплект Gekon Ø60/100 мм       L=1,0 м (хомут, фланец, проставка 60 мм), Алюминий и Оц.сталь, система Антилёд",null,"60/100",{"v":3234,"d":"3234.00"},{"$f":"G534*1","v":{"v":3234,"d":"3234.00"}}]
[null,null,"GKD K60100L3ALPA","Универсальный комплект Gekon Ø60/100 мм L=1,35 м (хомут, фланец, проставка 60 мм), Алюминий, система Антилед",null,"60/100",{"v":4289.904668785138,"d":"4289.90"},{"v":4289.904668785138,"d":"4289.90"}]
[null,null,"GKD K60100L3GSPA","Универсальный комплект Gekon Ø60/100 мм, L=1,35 м (хомут, фл-ц, пр-а 60 мм), Ал/Оц.Ст., (Антилёд)",null,"60/100",{"v":3564,"d":"3564.00"},{"v":3564,"d":"3564.00"}]
[null,null,"GKD 60100T1000AL","Труба выпускная с наконечником Gekon Ø60/100 мм, L=1190 мм, Алюминий, (Антилед)",null,"60/100",{"v":3069,"d":"3069.00"},{"$f":"G537*1","v":{"v":3069,"d":"3069.00"}}]
[null,null,"GKD 60100L1000GS","Труба выпускная с наконечником Gekon 60/100 мм, L=1190 мм, Ал/Оц.Ст., (Антилёд)",null,"60/100",{"v":2222,"d":"2222.00"},{"v":2222,"d":"2222.00"}]
[null,null,"GKD 80125L1000GS","Труба выпускная с наконечником Gekon 80/125 мм, L=1000 мм, Алюминий и Оц.сталь, система Антилед",null,"80/125",{"v":3520,"d":"3520.00"},{"v":3520,"d":"3520.00"}]
[null,null,"GKD 60100L025AL","Удлинение дымохода Gekon Ø60/100 мм, L=250 мм, Алюминий",null,"60/100",{"v":924,"d":"924.00"},{"v":924,"d":"924.00"}]
[null,null,"GKD 60100L025","Удлинение дымохода Gekon Ø60/100 мм, L=250 мм, Алюминий и Оц.сталь",null,"60/100",{"v":660,"d":"660.00"},{"v":660,"d":"660.00"}]
[null,null,"GKD 80L025AL","Удлинение дымохода Gekon Ø80 мм, L=250 мм, Алюминий",null,80,{"v":407,"d":"407.00"},{"v":407,"d":"407.00"}]
[null,null,"GKD 80125L025","Удлинение дымохода Gekon Ø80/125 мм, L=250 мм, Алюминий и Оц.сталь",null,"80/125",{"v":1639,"d":"1639.00"},{"v":1639,"d":"1639.00"}]
[null,null,"GKD 60100L050AL","Удлинение дымохода Gekon Ø60/100 мм, L=500 мм, Алюминий",null,"60/100",{"v":1287,"d":"1287.00"},{"$f":"G544*1","v":{"v":1287,"d":"1287.00"}}]
[null,null,"GKD 60100L050","Удлинение дымохода Gekon Ø60/100 мм, L=500 мм, Алюминий и Оц.сталь",null,"60/100",{"v":924,"d":"924.00"},{"v":924,"d":"924.00"}]
[null,null,"GKD 80L050AL","Удлинение дымохода Gekon Ø80 мм, L=500 мм, Алюминий",null,80,{"v":649,"d":"649.00"},{"v":649,"d":"649.00"}]
[null,null,"GKD 80125L050","Удлинение дымохода Gekon Ø80/125 мм, L=500 мм, Алюминий и Оц.сталь",null,"80/125",{"v":2310,"d":"2310.00"},{"v":2310,"d":"2310.00"}]
[null,null,"GKD 60100L100AL","Удлинение дымохода Gekon Ø60/100 мм, L=1000 мм, Алюминий",null,"60/100",{"v":2332,"d":"2332.00"},{"v":2332,"d":"2332.00"}]
[null,null,"GKD 60100L100","Удлинение дымохода Gekon Ø60/100 мм, L=1000 мм, Алюминий и Оц.сталь",null,"60/100",{"v":1606,"d":"1606.00"},{"v":1606,"d":"1606.00"}]
[null,null,"GKD 80L100AL","Удлинение дымохода Gekon Ø80 мм, L=1000 мм, Алюминий",null,80,{"v":1133,"d":"1133.00"},{"v":1133,"d":"1133.00"}]
[null,null,"GKD 80125L100","Удлинение дымохода Gekon Ø80/125 мм, L=1000 мм, Алюминий и Оц.сталь",null,"80/125",{"v":3179,"d":"3179.00"},{"v":3179,"d":"3179.00"}]
[null,null,"GKD 60100L150AL","Удлинение дымохода Gekon Ø60/100 мм, L=1500 мм, Алюминий",null,"60/100",{"v":3465,"d":"3465.00"},{"v":3465,"d":"3465.00"}]
[null,null,"GKD 80L150AL","Удлинение дымохода Gekon Ø80 мм, L=1500 мм, Алюминий",null,80,{"v":1837,"d":"1837.00"},{"v":1837,"d":"1837.00"}]
[null,null,"GKD 60100L200AL","Удлинение дымохода Gekon Ø60/100 мм, L=2000 мм, Алюминий",null,"60/100",{"v":4477,"d":"4477.00"},{"v":4477,"d":"4477.00"}]
[null,null,"GKD 80L200AL","Удлинение дымохода Gekon Ø80 мм, L=2000 мм, Алюминий",null,80,{"v":2409,"d":"2409.00"},{"v":2409,"d":"2409.00"}]
[null,null,"GKD 60100K45AL","Колено Gekon Ø60/100 мм, угол 45 гр., Алюминий",null,"60/100",{"v":1419,"d":"1419.00"},{"v":1419,"d":"1419.00"}]
[null,null,"GKD 80K45AL","Колено Gekon 80 мм, угол 45 гр., Алюминий",null,80,{"v":902,"d":"902.00"},{"v":902,"d":"902.00"}]
[null,null,"GKD 80125K45AL","Колено Gekon Ø80/125 мм, угол 45 гр., Алюминий",null,"80/125",{"v":3927,"d":"3927.00"},{"v":3927,"d":"3927.00"}]
[null,null,"GKD 60100K90AL","Колено Gekon Ø60/100 мм, угол 90 гр., Алюминий",null,"60/100",{"v":1331,"d":"1331.00"},{"v":1331,"d":"1331.00"}]
[null,null,"GKD 80K90AL","Колено Gekon 80 мм, угол 90 гр., Алюминий",null,80,{"v":759,"d":"759.00"},{"v":759,"d":"759.00"}]
[null,null,"GKD 80125K90AL","Колено Gekon Ø80/125 мм, угол 90 гр., Алюминий",null,"80/125",{"v":3465,"d":"3465.00"},{"v":3465,"d":"3465.00"}]
[null,null,"GKD 60100KSTRAL","Колено стартовое Gekon Ø60/100 мм, угол 90 гр., Алюминий",null,"60/100",{"v":1705,"d":"1705.00"},{"v":1705,"d":"1705.00"}]
[null,null,"GKD 60100VDAG","Дымоход вертикальный Gekon Ø60/100 мм, L=1000 мм, черный, Алюминий и Оц.сталь",null,"60/100",{"v":6127,"d":"6127.00"},{"v":6127,"d":"6127.00"}]
[null,null,"GKD 80125VD","Дымоход вертикальный Gekon Ø80/125 мм, L=1000 мм, черный, Алюминий и сталь",null,"80/125",{"v":9823,"d":"9823.00"},{"v":9823,"d":"9823.00"}]
[null,null,"GKD 60100VNPG","Наконечник для вертикального дымохода Gekon Ø60/100 мм, черный, Полиамид и Оц.сталь",null,"60/100",{"v":3773,"d":"3773.00"},{"v":3773,"d":"3773.00"}]
[null,null,"GKD 80125VN","Наконечник для вертикального дымохода Gekon Ø80/125 мм, черный, Алюминий и Сталь",null,"80/125",{"v":7095,"d":"7095.00"},{"v":7095,"d":"7095.00"}]
[null,null,"GKD 80VERTN","Наконечник для вертикального дымохода Gekon Ø80 мм, черный, Оц.cталь",null,80,{"v":803,"d":"803.00"},{"v":803,"d":"803.00"}]
[null,null,"GKD 60100M01AL","Муфта Gekon Ø60/100 мм, L=100 мм, Алюминий",null,"60/100",{"v":1100,"d":"1100.00"},{"v":1100,"d":"1100.00"}]
[null,null,"GKD 60100KOAL","Конденсатоотводчик Gekon Ø60/100 мм, L=155 мм, Алюминий",null,"60/100",{"v":1892,"d":"1892.00"},{"v":1892,"d":"1892.00"}]
[null,null,"GKD 80OTVAL","Конденсатоотводчик Gekon Ø80 мм, L=120 мм, Алюминий",null,80,{"v":1342,"d":"1342.00"},{"v":1342,"d":"1342.00"}]
[null,null,"GKD 80125P01AL","Переходник Gekon Ø60/100х80/125 мм, папа-мама, Алюминий",null,"60/100*80/125",{"v":2343,"d":"2343.00"},{"v":2343,"d":"2343.00"}]
[null,null,"GKD 6080AL","Переход Gekon Ø60-80 мм, L=100 мм, Алюминий",null,"60*80",{"v":539,"d":"539.00"},{"v":539,"d":"539.00"}]
[null,null,"GKD 80VZWAL","Решётка воздухозабора Gekon Ø80 мм, белый окрас, Алюминий и Сталь",null,80,{"v":418,"d":"418.00"},{"v":418,"d":"418.00"}]
[null,null,"GKD 80VOWN","Решётка газоотвода Gekon Ø80 мм, белый окрас, Нержавеющая сталь",null,80,{"v":803,"d":"803.00"},{"v":803,"d":"803.00"}]
[null,null,"GKD 60100/80","Комплект дымохода, адаптер Gekon Ø60/100х80/80 мм (хомут, фланец, проставка 60 мм), Алюминий",null,"60/100*80/80",{"v":2838,"d":"2838.00"},{"v":2838,"d":"2838.00"}]
[null,null,"GKD 60100ASTRAL","Адаптер стартовый вертикальный Gekon Ø60/100 мм, L=150 мм, Алюминий",null,"60/100",{"v":1485,"d":"1485.00"},{"v":1485,"d":"1485.00"}]
[null,null,"GKD 80100025TAL","Удлинение дымохода утепленное Gekon Ø80 мм, δут=10 мм, L=250 мм, Алюминий",null,80,{"v":1892,"d":"1892.00"},{"v":1892,"d":"1892.00"}]
[null,null,"GKD 80100025T","Удлинение дымохода утепленное Gekon Ø80 мм, δут=10 мм, L=250 мм, Алюминий и Оц.сталь",null,80,{"v":1617,"d":"1617.00"},{"v":1617,"d":"1617.00"}]
[null,null,"GKD 80100050TAL","Удлинение дымохода утепленное Gekon 80 мм, δут=10 мм, L=500 мм, Алюминий",null,80,{"v":2398,"d":"2398.00"},{"v":2398,"d":"2398.00"}]
[null,null,"GKD 80100050T","Удлинение дымохода утепленное Gekon 80 мм, δут=10 мм, L=500 мм, Алюминий и Оц.сталь",null,80,{"v":2288,"d":"2288.00"},{"v":2288,"d":"2288.00"}]
[null,null,"GKD 80100100TAL","Удлинение дымохода утепленное Gekon 80 мм, δут=10 мм, L=1000 мм, Алюминий",null,80,{"v":4004,"d":"4004.00"},{"v":4004,"d":"4004.00"}]
[null,null,"GKD 80100100T","Удлинение дымохода утепленное Gekon 80 мм, δут=10 мм, L=1000 мм, Ал/Оц.Ст.",null,80,{"v":3949,"d":"3949.00"},{"v":3949,"d":"3949.00"}]
[null,null,"GKD 80100150TAL","Удлинение дымохода утепленное Gekon 80 мм, δут=10 мм, L=1500 мм, Алюминий",null,80,{"v":6523,"d":"6523.00"},{"v":6523,"d":"6523.00"}]
[null,null,"GKD 80100200TAL","Удлинение дымохода утепленное Gekon 80 мм, δут=10 мм, L=2000 мм, Алюминий",null,80,{"v":8151,"d":"8151.00"},{"v":8151,"d":"8151.00"}]
[null,null,"GKD 80100VDAL","Дымоход вертикальный утеплённый Gekon Ø80 мм, δут=10 мм, L=1000 мм, черный, Алюминий",null,80,{"v":9823,"d":"9823.00"},{"v":9823,"d":"9823.00"}]
[null,null,"GKD 80100VNAS","Наконечник для вертикального утеплённого дымохода Gekon Ø80 мм, δут=10 мм, черный, Ал/Ст",null,80,{"v":2046,"d":"2046.00"},{"v":2046,"d":"2046.00"}]
[null,null,"GKD 80VZBAL","Решётка воздухозабора для утепл-го дымохода Gekon Ø80 мм, δут=10 мм, черный окрас, Алюминий",null,80,{"v":1342,"d":"1342.00"},{"v":1342,"d":"1342.00"}]
[null,null,"GKD 80VOBN","Решётка газоотвода для утепл-го дымохода Gekon Ø80 мм, δут=10 мм, черный окрас, Алюминий и Сталь",null,80,{"v":1892,"d":"1892.00"},{"v":1892,"d":"1892.00"}]
[null,null,"GKD 80100K45T","Колено утепленное Gekon 80, δут=10 мм, угол 45 гр., Алюминий",null,80,{"v":3905,"d":"3905.00"},{"v":3905,"d":"3905.00"}]
[null,null,"GKD 80100K90T","Колено утепленное Gekon 80, δут=10 мм, угол 90 гр., Алюминий",null,80,{"v":3531,"d":"3531.00"},{"v":3531,"d":"3531.00"}]
[null,null,"GKD 015100PAL","Универсальный комплект конденсационный Gekon Ø60/100 мм, L=1000 мм, PP-R и Алюминий, система Антилёд",null,"60/100",{"v":5841,"d":"5841.00"},{"v":5841,"d":"5841.00"}]
[null,null,"GKD 016100PAL","Универсальный комплект конденсационный Gekon Ø80/125 мм, L=1240 мм, PP-R/Сталь, (Антилёд)",null,"80/125",{"v":9097,"d":"9097.00"},{"v":9097,"d":"9097.00"}]
[null,null,"GKD 80125025PAL","Удлинитель конденсационный Gekon Ø80/125 мм, L=250 мм, PP-R и Оц.сталь",null,"80/125",{"v":2134,"d":"2134.00"},{"v":2134,"d":"2134.00"}]
[null,null,"GKD 6010005PAL","Удлинитель конденсационный Gekon Ø60/100 мм, L=500 мм, PP-R и Оц.сталь",null,"60/100",{"v":3124,"d":"3124.00"},{"v":3124,"d":"3124.00"}]
[null,null,"GKD 8012505PAL","Удлинитель конденсационный Gekon Ø80/125 мм, L=500 мм, PP-R и Оц.сталь",null,"80/125",{"v":3509,"d":"3509.00"},{"v":3509,"d":"3509.00"}]
[null,null,"GKD 80005PAL","Удлинитель конденсационный Gekon Ø80 мм, L=500 мм, PP-R",null,80,{"v":1639,"d":"1639.00"},{"v":1639,"d":"1639.00"}]
[null,null,"GKD 601001PAL","Удлинитель конденсационный Gekon Ø60/100 мм, L=1000 мм, PP-R и Оц.сталь.",null,"60/100",{"v":2442,"d":"2442.00"},{"v":2442,"d":"2442.00"}]
[null,null,"GKD 801251PAL","Удлинитель конденсационный Gekon Ø80/125 мм, L=1000 мм, PP-R и Оц.сталь",null,"80/125",{"v":5071,"d":"5071.00"},{"v":5071,"d":"5071.00"}]
[null,null,"GKD 8001PAL","Удлинитель конденсационный Gekon Ø80 мм, L=1000 мм, PP-R",null,80,{"v":2321,"d":"2321.00"},{"v":2321,"d":"2321.00"}]
[null,null,"GKD 806104PAL","Комплект дымохода, адаптер конденсационный Gekon 60-100х2/80 мм, PP-R/Алюминий",null,"60/100*80/80",{"v":7007,"d":"7007.00"},{"v":7007,"d":"7007.00"}]
[null,null,"GKD 6080PAL","Адаптер переход конденсационный Gekon 60-80 мм, PP-R",null,"60-80",{"v":1661,"d":"1661.00"},{"v":1661,"d":"1661.00"}]
[null,null,"GKD 60100045PAL","Колено конденсационное Gekon 60/100 мм, угол 45 гр., PP-R/Сталь",null,"60/100",{"v":2442,"d":"2442.00"},{"v":2442,"d":"2442.00"}]
[null,null,"GKD 80125045PAL","Колено конденсационное Gekon 80/125 мм, угол 45 гр., PP-R/Сталь",null,"80/125",{"v":4653,"d":"4653.00"},{"v":4653,"d":"4653.00"}]
[null,null,"GKD 80045PAL","Колено конденсационное Gekon 80 мм, угол 45 гр., PP-R",null,80,{"v":1540,"d":"1540.00"},{"v":1540,"d":"1540.00"}]
[null,null,"GKD 60100090PAL","Колено конденсационное Gekon 60/100 мм, угол 90 гр., PP-R/Сталь",null,"60/100",{"v":2442,"d":"2442.00"},{"v":2442,"d":"2442.00"}]
[null,null,"GKD 10080090PAL","Колено конденсационное Gekon 80/125 мм, угол 90 гр., PP-R/Сталь",null,"80/125",{"v":4653,"d":"4653.00"},{"v":4653,"d":"4653.00"}]
[null,null,"GKD 80090PAL","Колено конденсационное Gekon 80 мм, угол 90 гр., PP-R",null,80,{"v":1540,"d":"1540.00"},{"v":1540,"d":"1540.00"}]
[null,null,"GKD 60100AINPB","Наконечник 60/100 мм, Система Антилед, Система Антиворобей, черный",null,"60/100",{"v":693,"d":"693.00"},{"v":693,"d":"693.00"}]
[null,null,"GKD 60OR","Уплотнительное кольцо на внутреннюю трубу Gekon 60 мм",null,60,{"v":198,"d":"198.00"},{"v":198,"d":"198.00"}]
[null,null,"GKD 80OR","Уплотнительное кольцо на внутреннюю трубу Gekon 80 мм",null,80,{"v":242,"d":"242.00"},{"v":242,"d":"242.00"}]
[null,null,"GKD 100OR","Уплотнительное кольцо на внешнюю трубу Gekon 100 мм",null,100,{"v":264,"d":"264.00"},{"v":264,"d":"264.00"}]
[null,null,"GKD 125OR","Уплотнительное кольцо на внешнюю трубу Gekon 125 мм",null,125,{"v":407,"d":"407.00"},{"v":407,"d":"407.00"}]
[null,null,"GKD 80H","Хомут Gekon 80 мм со шпилькой",null,80,{"v":352,"d":"352.00"},{"v":352,"d":"352.00"}]
[null,null,"GKD 100H","Хомут Gekon 100 мм со шпилькой",null,100,{"v":374,"d":"374.00"},{"v":374,"d":"374.00"}]
[null,null,"GKD 80MS","Накладка декоративная Gekon 80 мм",null,80,{"v":220,"d":"220.00"},{"v":220,"d":"220.00"}]
[null,null,"GKD 60100M","Накладка декоративная Gekon 100 мм",null,100,{"v":198,"d":"198.00"},{"v":198,"d":"198.00"}]
[null,null,"GKD 60125M","Накладка декоративная Gekon 125 мм",null,125,{"v":264,"d":"264.00"},{"v":264,"d":"264.00"}]
[null,null,"GKD 110UF","Фланец Gekon с прокладкой, винтами и гайкой, 100 мм",null,100,{"v":242,"d":"242.00"},{"v":242,"d":"242.00"}]
[null,null,"GKD 60100H","Хомут обжимной Gekon (труба-труба) 100 мм",null,100,{"v":242,"d":"242.00"},{"v":242,"d":"242.00"}]

{"sheet":"Дымоходы","index":11,"n_rows":127,"n_cols":11,"rows_kept":127,"merged":[[3,0,3,7],[6,8,6,10],[8,9,8,10],[9,0,10,0],[9,1,10,1],[9,2,10,3],[9,8,10,8],[9,9,10,9],[9,10,10,10],[9,13,9,36],[11,0,14,0],[11,2,11,3],[12,2,12,3],[13,2,13,3],[14,2,14,3],[15,0,17,0],[15,2,15,3],[16,2,16,3],[17,2,17,3],[18,0,33,0],[18,2,18,3],[19,2,19,3],[20,2,20,3],[21,2,21,3],[22,2,22,3],[23,2,23,3],[24,2,24,3],[25,2,25,3],[26,2,26,3],[27,2,27,3],[28,2,28,3],[29,2,29,3],[30,2,30,3],[31,2,31,3],[32,2,32,3],[33,2,33,3],[34,0,35,0],[34,2,34,3],[35,2,35,3],[36,0,38,0],[36,2,36,3],[37,2,37,3],[38,2,38,3],[39,2,39,3],[40,0,41,0],[40,2,40,3],[41,2,41,3],[42,0,43,0],[42,2,42,3],[43,2,43,3],[44,2,44,3],[45,2,45,3],[46,2,46,3],[47,2,47,3],[49,0,50,0],[49,1,50,1],[49,2,50,3],[49,8,50,8],[49,9,50,9],[49,10,50,10],[49,13,49,36],[51,0,53,0],[51,2,51,3],[52,2,52,3],[53,2,53,3],[54,0,56,0],[54,2,54,3],[55,2,55,3],[56,2,56,3],[57,2,57,3],[64,0,65,0],[64,1,65,1],[64,2,65,3],[64,8,65,8],[64,9,65,9],[64,10,65,10],[66,0,73,0],[66,2,66,3],[67,2,67,3],[68,2,68,3],[69,2,69,3],[70,2,70,3],[71,2,71,3],[72,2,72,3],[73,2,73,3],[74,2,74,3],[75,2,75,3],[76,2,76,3],[77,2,77,3],[79,0,80,0],[79,1,80,1],[79,2,80,3],[79,8,80,8],[79,9,80,9],[79,10,80,10],[79,13,79,36],[81,2,81,3],[82,2,82,3],[88,0,89,0],[88,1,89,1],[88,2,89,3],[88,8,89,8],[88,9,89,9],[88,10,89,10],[90,0,91,0],[90,2,90,3],[91,2,91,3],[92,0,98,0],[92,2,92,3],[93,2,93,3],[94,2,94,3],[95,2,95,3],[96,2,96,3],[97,2,97,3],[98,2,98,3],[99,2,99,3],[100,2,100,3],[102,0,103,0],[102,1,103,1],[102,2,103,3],[102,8,103,8],[102,9,103,9],[102,10,103,10],[104,0,106,0],[104,2,104,3],[105,2,105,3],[106,2,106,3],[107,0,109,0],[107,2,107,3],[108,2,108,3],[109,2,109,3],[113,0,114,0],[113,1,114,1],[113,2,114,3],[113,4,113,5],[113,8,114,8],[113,9,114,9],[113,10,114,10],[114,4,114,5],[115,2,115,3],[115,4,115,5],[116,0,119,0],[116,2,116,3],[116,4,116,5],[117,2,117,3],[117,4,117,5],[118,2,118,3],[118,4,118,5],[119,2,119,3],[119,4,119,5],[120,0,121,0],[120,2,120,3],[120,4,120,5],[121,2,121,3],[121,4,121,5],[122,0,124,0],[122,2,122,3],[122,4,122,5],[123,2,123,3],[123,4,123,5],[124,2,124,3],[124,4,124,5],[125,2,125,3],[125,4,125,5],[126,2,126,3],[126,4,126,5]]}
[]
[]
[]
["Дымоходы"]
[]
["ДЫМОХОДЫ КОАКСИАЛЬНЫЕ ДЛЯ КЛАССИЧЕСКИХ КОТЛОВ"]
["• Универсальные комплекты Ø60/100 и Ø80/125 мм",{"$nulls":7},"На главную страницу"]
["• Основные элементы изготовлены из АЛЮМИНИЯ, АЛЮМИНИЯ С ОЦИНКОВАННОЙ СТАЛИ или СТАЛИ"]
[{"$nulls":8},"Итого:",{"$f":"SUM(K12:K48)+SUM(K52:K58)+SUM(K67:K78)+SUM(K82:K83)","v":{"v":0,"d":"0.00"}}]
["Фото","Артикул","Наименование товара",null,"Диаметр","Длина","Вес","Цена за шт.","Цена со скидкой, RUB","Кол-во, шт.","Сумма со скидкой, RUB"]
[{"$nulls":4},"мм","м","кг","RUB"]
[null,"GKD K60100L1ALPA","Универсальный комплект Gekon Ø60/100 мм L=1,0 м (хомут, фланец, проставка 60 мм), Алюминий, система Антилед",null,"60/100",{"v":1,"d":"1.0"},1.8,{"$f":"'Конвертация цен'!H533","v":{"v":3585.920312881936,"d":"3585.92"}},{"$f":"H12-H12*Оглавление!$K$22","v":{"v":3585.920312881936,"d":"3,585.92"}},null,{"$f":"J12*I12","v":{"v":0,"d":"0.00"}}]
[null,"GKD K60100L1GSPA","Универсальный комплект Gekon Ø60/100 мм       L=1,0 м (хомут, фланец, проставка 60 мм), Алюминий и Оц.сталь, система Антилёд",null,"60/100",{"v":1,"d":"1.0"},1.7,{"$f":"'Конвертация цен'!H534","v":{"v":3234,"d":"3234.00"}},{"$f":"H13-H13*Оглавление!$K$22","v":{"v":3234,"d":"3,234.00"}},null,{"$f":"J13*I13","v":{"v":0,"d":"0.00"}}]
[null,"GKD K60100L3ALPA","Универсальный комплект Gekon Ø60/100 мм L=1,35 м (хомут, фланец, проставка 60 мм), Алюминий, система Антилед",null,"60/100",1.35,2.4,{"$f":"'Конвертация цен'!H535","v":{"v":4289.904668785138,"d":"4289.90"}},{"$f":"H14-H14*Оглавление!$K$22","v":{"v":4289.904668785138,"d":"4,289.90"}},null,{"v":0,"d":"0.00"}]
[null,"GKD K60100L3GSPA","Универсальный комплект Gekon Ø60/100 мм, L=1,35 м (хомут, фланец, проставка 60 мм), Алюминий и Оц.сталь, система Антилёд",null,"60/100",1.35,2.3,{"$f":"'Конвертация цен'!H536","v":{"v":3564,"d":"3564.00"}},{"$f":"H15-H15*Оглавление!$K$22","v":{"v":3564,"d":"3,564.00"}},null,{"v":0,"d":"0.00"}]
[null,"GKD 60100T1000AL","Труба выпускная с наконечником Gekon Ø60/100 мм, L=1190 мм, Алюминий, система Антилед",null,"60/100",1.19,2.1,{"$f":"'Конвертация цен'!H537","v":{"v":3069,"d":"3069.00"}},{"$f":"H16-H16*Оглавление!$K$22","v":{"v":3069,"d":"3,069.00"}},null,{"$f":"J16*I16","v":{"v":0,"d":"0.00"}}]
[null,"GKD 60100L1000GS","Труба выпускная с наконечником Gekon Ø60/100 мм, L=1190 мм, Алюминий и Оц.сталь, система Антилёд",null,"60/100",1.19,1.9,{"$f":"'Конвертация цен'!H538","v":{"v":2222,"d":"2222.00"}},{"$f":"H17-H17*Оглавление!$K$22","v":{"v":2222,"d":"2,222.00"}},null,{"v":0,"d":"0.00"}]
[null,"GKD 80125L1000GS","Труба выпускная с наконечником Gekon Ø80/125 мм, L=1000 мм, Алюминий и Оц.сталь, система Антилед",null,"80/125",{"v":1,"d":"1.0"},3.1,{"$f":"'Конвертация цен'!H539","v":{"v":3520,"d":"3520.00"}},{"$f":"H18-H18*Оглавление!$K$22","v":{"v":3520,"d":"3,520.00"}},null,{"v":0,"d":"0.00"}]
[null,"GKD 60100L025AL","Удлинение дымохода Gekon Ø60/100 мм, L=250 мм, Алюминий",null,"60/100",0.25,{"v":0.44,"d":"0.4"},{"$f":"'Конвертация цен'!H540","v":{"v":924,"d":"924.00"}},{"$f":"H19-H19*Оглавление!$K$22","v":{"v":924,"d":"924.00"}},null,{"v":0,"d":"0.00"}]
[null,"GKD 60100L025","Удлинение дымохода Gekon Ø60/100 мм, L=250 мм, Алюминий и Оц.сталь",null,"60/100",0.25,0.4,{"$f":"'Конвертация цен'!H541","v":{"v":660,"d":"660.00"}},{"$f":"H20-H20*Оглавление!$K$22","v":{"v":660,"d":"660.00"}},null,{"v":0,"d":"0.00"}]
[null,"GKD 80L025AL","Удлинение дымохода Gekon Ø80 мм, L=250 мм, Алюминий",null,80,0.25,0.2,{"$f":"'Конвертация цен'!H542","v":{"v":407,"d":"407.00"}},{"$f":"H21-H21*Оглавление!$K$22","v":{"v":407,"d":"407.00"}},null,{"$f":"J21*I21","v":{"v":0,"d":"0.00"}}]
[null,"GKD 80125L025","Удлинение дымохода Gekon Ø80/125 мм, L=250 мм, Алюминий и Оц.сталь",null,"80/125",0.25,0.7,{"$f":"'Конвертация цен'!H543","v":{"v":1639,"d":"1639.00"}},{"$f":"H22-H22*Оглавление!$K$22","v":{"v":1639,"d":"1,639.00"}},null,{"v":0,"d":"0.00"}]
[null,"GKD 60100L050AL","Удлинение дымохода Gekon Ø60/100 мм, L=500 мм, Алюминий",null,"60/100",0.5,{"v":0.98,"d":"1.0"},{"$f":"'Конвертация цен'!H544","v":{"v":1287,"d":"1287.00"}},{"$f":"H23-H23*Оглавление!$K$22","v":{"v":1287,"d":"1,287.00"}},null,{"v":0,"d":"0.00"}]
[null,"GKD 60100L050","Удлинение дымохода Gekon Ø60/100 мм, L=500 мм, Алюминий и Оц.сталь",null,"60/100",0.5,0.9,{"$f":"'Конвертация цен'!H545","v":{"v":924,"d":"924.00"}},{"$f":"H24-H24*Оглавление!$K$22","v":{"v":924,"d":"924.00"}},null,{"v":0,"d":"0.00"}]
[null,"GKD 80L050AL","Удлинение дымохода Gekon Ø80 мм, L=500 мм, Алюминий",null,80,0.5,0.4,{"$f":"'Конвертация цен'!H546","v":{"v":649,"d":"649.00"}},{"$f":"H25-H25*Оглавление!$K$22","v":{"v":649,"d":"649.00"}},null,{"v":0,"d":"0.00"}]
[null,"GKD 80125L050","Удлинение дымохода Gekon Ø80/125 мм, L=500 мм, Алюминий и Оц.сталь",null,"80/125",0.5,1.6,{"$f":"'Конвертация цен'!H547","v":{"v":2310,"d":"2310.00"}},{"$f":"H26-H26*Оглавление!$K$22","v":{"v":2310,"d":"2,310.00"}},null,{"v":0,"d":"0.00"}]
[null,"GKD 60100L100AL","Удлинение дымохода Gekon Ø60/100 мм, L=1000 мм, Алюминий",null,"60/100",{"v":1,"d":"1.0"},{"v":1.74,"d":"1.7"},{"$f":"'Конвертация цен'!H548","v":{"v":2332,"d":"2332.00"}},{"$f":"H27-H27*Оглавление!$K$22","v":{"v":2332,"d":"2,332.00"}},null,{"v":0,"d":"0.00"}]
[null,"GKD 60100L100","Удлинение дымохода Gekon Ø60/100 мм, L=1000 мм, Алюминий и Оц.сталь",null,"60/100",{"v":1,"d":"1.0"},1.7,{"$f":"'Конвертация цен'!H549","v":{"v":1606,"d":"1606.00"}},{"$f":"H28-H28*Оглавление!$K$22","v":{"v":1606,"d":"1,606.00"}},null,{"v":0,"d":"0.00"}]
[null,"GKD 80L100AL","Удлинение дымохода Gekon Ø80 мм, L=1000 мм, Алюминий",null,80,{"v":1,"d":"1.0"},0.7,{"$f":"'Конвертация цен'!H550","v":{"v":1133,"d":"1133.00"}},{"$f":"H29-H29*Оглавление!$K$22","v":{"v":1133,"d":"1,133.00"}},null,{"v":0,"d":"0.00"}]
[null,"GKD 80125L100","Удлинение дымохода Gekon Ø80/125 мм, L=1000 мм, Алюминий и Оц.сталь",null,"80/125",{"v":1,"d":"1.0"},3.2,{"$f":"'Конвертация цен'!H551","v":{"v":3179,"d":"3179.00"}},{"$f":"H30-H30*Оглавление!$K$22","v":{"v":3179,"d":"3,179.00"}},null,{"v":0,"d":"0.00"}]
[null,"GKD 60100L150AL","Удлинение дымохода Gekon Ø60/100 мм, L=1500 мм, Алюминий",null,"60/100",1.5,{"v":2.94,"d":"2.9"},{"$f":"'Конвертация цен'!H552","v":{"v":3465,"d":"3465.00"}},{"$f":"H31-H31*Оглавление!$K$22","v":{"v":3465,"d":"3,465.00"}},null,{"v":0,"d":"0.00"}]
[null,"GKD 80L150AL","Удлинение дымохода Gekon Ø80 мм, L=1500 мм, Алюминий",null,80,1.5,1.1,{"$f":"'Конвертация цен'!H553","v":{"v":1837,"d":"1837.00"}},{"$f":"H32-H32*Оглавление!$K$22","v":{"v":1837,"d":"1,837.00"}},null,{"v":0,"d":"0.00"}]
[null,"GKD 60100L200AL","Удлинение дымохода Gekon Ø60/100 мм, L=2000 мм, Алюминий",null,"60/100",{"v":2,"d":"2.0"},{"v":3.92,"d":"3.9"},{"$f":"'Конвертация цен'!H554","v":{"v":4477,"d":"4477.00"}},{"$f":"H33-H33*Оглавление!$K$22","v":{"v":4477,"d":"4,477.00"}},null,{"v":0,"d":"0.00"}]
[null,"GKD 80L200AL","Удлинение дымохода Gekon Ø80 мм, L=2000 мм, Алюминий",null,80,{"v":2,"d":"2.0"},1.5,{"$f":"'Конвертация цен'!H555","v":{"v":2409,"d":"2409.00"}},{"$f":"H34-H34*Оглавление!$K$22","v":{"v":2409,"d":"2,409.00"}},null,{"v":0,"d":"0.00"}]
[null,"GKD 60100VDAG","Дымоход вертикальный Gekon Ø60/100 мм, L=1000 мм, черный, Алюминий и Оц.сталь",null,"60/100",1,{"v":3,"d":"3.0"},{"$f":"'Конвертация цен'!H563","v":{"v":6127,"d":"6127.00"}},{"$f":"H35-H35*Оглавление!$K$22","v":{"v":6127,"d":"6,127.00"}},null,{"v":0,"d":"0.00"}]
[null,"GKD 80125VD","Дымоход вертикальный Gekon Ø80/125 мм, L=1000 мм, черный, Алюминий и сталь",null,"80/125",1,1.7,{"$f":"'Конвертация цен'!H564","v":{"v":9823,"d":"9823.00"}},{"$f":"H36-H36*Оглавление!$K$22","v":{"v":9823,"d":"9,823.00"}},null,{"v":0,"d":"0.00"}]
[null,"GKD 60100VNPG","Наконечник для вертикального дымохода Gekon Ø60/100 мм, черный, Полиамид и Оц.сталь",null,"60/100",0.43,{"v":1,"d":"1.0"},{"$f":"'Конвертация цен'!H565","v":{"v":3773,"d":"3773.00"}},{"$f":"H37-H37*Оглавление!$K$22","v":{"v":3773,"d":"3,773.00"}},null,{"v":0,"d":"0.00"}]
[null,"GKD 80125VN","Наконечник для вертикального дымохода Gekon Ø80/125 мм, черный, Алюминий и Сталь",null,"80/125",0.43,1.3,{"$f":"'Конвертация цен'!H566","v":{"v":7095,"d":"7095.00"}},{"$f":"H38-H38*Оглавление!$K$22","v":{"v":7095,"d":"7,095.00"}},null,{"v":0,"d":"0.00"}]
[null,"GKD 80VERTN","Наконечник для вертикального дымохода Gekon Ø80 мм, черный, Оц.cталь",null,80,0.43,0.4,{"$f":"'Конвертация цен'!H567","v":{"v":803,"d":"803.00"}},{"$f":"H39-H39*Оглавление!$K$22","v":{"v":803,"d":"803.00"}},null,{"$f":"J39*I39","v":{"v":0,"d":"0.00"}}]
[null,"GKD 60100M01AL","Муфта Gekon Ø60/100 мм, L=100 мм, Алюминий",null,"60/100",0.1,0.4,{"$f":"'Конвертация цен'!H568","v":{"v":1100,"d":"1100.00"}},{"$f":"H40-H40*Оглавление!$K$22","v":{"v":1100,"d":"1,100.00"}},null,{"$f":"J40*I40","v":{"v":0,"d":"0.00"}}]
[null,"GKD 60100KOAL","Конденсатоотводчик Gekon Ø60/100 мм, L=155 мм, Алюминий",null,"60/100",0.155,0.3,{"$f":"'Конвертация цен'!H569","v":{"v":1892,"d":"1892.00"}},{"$f":"H41-H41*Оглавление!$K$22","v":{"v":1892,"d":"1,892.00"}},null,{"$f":"J41*I41","v":{"v":0,"d":"0.00"}}]
[null,"GKD 80OTVAL","Конденсатоотводчик Gekon Ø80 мм, L=120 мм, Алюминий",null,80,0.12,0.2,{"$f":"'Конвертация цен'!H570","v":{"v":1342,"d":"1342.00"}},{"$f":"H42-H42*Оглавление!$K$22","v":{"v":1342,"d":"1,342.00"}},null,{"$f":"J42*I42","v":{"v":0,"d":"0.00"}}]
[null,"GKD 80125P01AL","Переходник Gekon Ø60/100х80/125 мм, папа-мама, Алюминий",null,"60/100*80/125",0.3,0.2,{"$f":"'Конвертация цен'!H571","v":{"v":2343,"d":"2343.00"}},{"$f":"H43-H43*Оглавление!$K$22","v":{"v":2343,"d":"2,343.00"}},null,{"$f":"J43*I43","v":{"v":0,"d":"0.00"}}]
[null,"GKD 6080AL","Переход Gekon Ø60-80 мм, L=100 мм, Алюминий",null,"60*80",0.1,0.1,{"$f":"'Конвертация цен'!H572","v":{"v":539,"d":"539.00"}},{"$f":"H44-H44*Оглавление!$K$22","v":{"v":539,"d":"539.00"}},null,{"$f":"J44*I44","v":{"v":0,"d":"0.00"}}]
[null,"GKD 80VZWAL","Решётка воздухозабора Gekon Ø80 мм, белый окрас, Алюминий и Сталь",null,80,0.03,0.1,{"$f":"'Конвертация цен'!H573","v":{"v":418,"d":"418.00"}},{"$f":"H45-H45*Оглавление!$K$22","v":{"v":418,"d":"418.00"}},null,{"$f":"J45*I45","v":{"v":0,"d":"0.00"}}]
[null,"GKD 80VOWN","Решётка газоотвода Gekon Ø80 мм, белый окрас, Нержавеющая сталь",null,80,0.07,0.1,{"$f":"'Конвертация цен'!H574","v":{"v":803,"d":"803.00"}},{"$f":"H46-H46*Оглавление!$K$22","v":{"v":803,"d":"803.00"}},null,{"v":0,"d":"0.00"}]
[null,"GKD 60100/80","Комплект дымохода, адаптер Gekon Ø60/100х80/80 мм (хомут, фланец, проставка 60 мм), Алюминий",null,"60/100*80/80",0.3,0.8,{"$f":"'Конвертация цен'!H575","v":{"v":2838,"d":"2838.00"}},{"$f":"H47-H47*Оглавление!$K$22","v":{"v":2838,"d":"2,838.00"}},null,{"$f":"J47*I47","v":{"v":0,"d":"0.00"}}]
[null,"GKD 60100ASTRAL","Адаптер стартовый вертикальный Gekon Ø60/100 мм, L=150 мм, Алюминий",null,"60/100",0.15,0.6,{"$f":"'Конвертация цен'!H576","v":{"v":1485,"d":"1485.00"}},{"$f":"H48-H48*Оглавление!$K$22","v":{"v":1485,"d":"1,485.00"}},null,{"$f":"J48*I48","v":{"v":0,"d":"0.00"}}]
[]
["Фото","Артикул","Наименование товара",null,"Диаметр","Угол","Вес","Цена за шт.","Цена со скидкой, RUB","Кол-во, шт.","Сумма со скидкой, RUB"]
[{"$nulls":4},"мм","⁰ (градус)","кг","RUB"]
[null,"GKD 60100K45AL","Колено Gekon Ø60/100 мм, угол 45 гр., Алюминий",null,"60/100",45,0.4,{"$f":"'Конвертация цен'!H556","v":{"v":1419,"d":"1419.00"}},{"$f":"H52-H52*Оглавление!$K$22","v":{"v":1419,"d":"1,419.00"}},null,{"v":0,"d":"0.00"}]
[null,"GKD 80K45AL","Колено Gekon Ø80 мм, угол 45 гр., Алюминий",null,80,45,0.2,{"$f":"'Конвертация цен'!H557","v":{"v":902,"d":"902.00"}},{"$f":"H53-H53*Оглавление!$K$22","v":{"v":902,"d":"902.00"}},null,{"$f":"J53*I53","v":{"v":0,"d":"0.00"}}]
[null,"GKD 80125K45AL","Колено Gekon Ø80/125 мм, угол 45 гр., Алюминий",null,"80/125",45,0.7,{"$f":"'Конвертация цен'!H558","v":{"v":3927,"d":"3927.00"}},{"$f":"H54-H54*Оглавление!$K$22","v":{"v":3927,"d":"3,927.00"}},null,{"v":0,"d":"0.00"}]
[null,"GKD 60100K90AL","Колено Gekon Ø60/100 мм, угол 90 гр., Алюминий",null,"60/100",90,0.6,{"$f":"'Конвертация цен'!H559","v":{"v":1331,"d":"1331.00"}},{"$f":"H55-H55*Оглавление!$K$22","v":{"v":1331,"d":"1,331.00"}},null,{"v":0,"d":"0.00"}]
[null,"GKD 80K90AL","Колено Gekon Ø80 мм, угол 90 гр., Алюминий",null,80,90,0.3,{"$f":"'Конвертация цен'!H560","v":{"v":759,"d":"759.00"}},{"$f":"H56-H56*Оглавление!$K$22","v":{"v":759,"d":"759.00"}},null,{"v":0,"d":"0.00"}]
[null,"GKD 80125K90AL","Колено Gekon Ø80/125 мм, угол 90 гр., Алюминий",null,"80/125",90,{"v":1,"d":"1.0"},{"$f":"'Конвертация цен'!H561","v":{"v":3465,"d":"3465.00"}},{"$f":"H57-H57*Оглавление!$K$22","v":{"v":3465,"d":"3,465.00"}},null,{"v":0,"d":"0.00"}]
[null,"GKD 60100KSTRAL","Колено стартовое Gekon Ø60/100 мм, угол 90 гр., Алюминий",null,"60/100",90,0.8,{"$f":"'Конвертация цен'!H562","v":{"v":1705,"d":"1705.00"}},{"$f":"H58-H58*Оглавление!$K$22","v":{"v":1705,"d":"1,705.00"}},null,{"v":0,"d":"0.00"}]
[]
["ДЫМОХОДЫ КОАКСИАЛЬНЫЕ ДЛЯ КЛАССИЧЕСКИХ КОТЛОВ УТЕПЛЁННЫЕ"]
["• Универсальные комплекты Ø80 мм"]
["• Основные элементы изготовлены из АЛЮМИНИЯ, АЛЮМИНИЯ С ОЦИНКОВАННОЙ СТАЛИ или СТАЛИ"]
["• Утеплитель из минеральной ваты толщиной 10 мм"]
[]
["Фото","Артикул","Наименование товара",null,"Диаметр","Длина","Вес","Цена за шт.","Цена со скидкой, RUB","Кол-во, шт.","Сумма со скидкой, RUB"]
[{"$nulls":4},"мм","м","кг","RUB"]
[null,"GKD 80100025TAL","Удлинение дымохода утепленное Gekon Ø80 мм, δут=10 мм, L=250 мм, Алюминий",null,80,0.25,0.5,{"$f":"'Конвертация цен'!H577","v":{"v":1892,"d":"1892.00"}},{"$f":"H67-H67*Оглавление!$K$22","v":{"v":1892,"d":"1,892.00"}},null,{"$f":"J67*I67","v":{"v":0,"d":"0.00"}}]
[null,"GKD 80100025T","Удлинение дымохода утепленное Gekon Ø80 мм, δут=10 мм, L=250 мм, Алюминий и Оц.сталь",null,80,0.25,0.4,{"$f":"'Конвертация цен'!H578","v":{"v":1617,"d":"1617.00"}},{"$f":"H68-H68*Оглавление!$K$22","v":{"v":1617,"d":"1,617.00"}},null,{"$f":"J68*I68","v":{"v":0,"d":"0.00"}}]
[null,"GKD 80100050TAL","Удлинение дымохода утепленное Gekon Ø80 мм, δут=10 мм, L=500 мм, Алюминий",null,80,0.5,1.1,{"$f":"'Конвертация цен'!H579","v":{"v":2398,"d":"2398.00"}},{"$f":"H69-H69*Оглавление!$K$22","v":{"v":2398,"d":"2,398.00"}},null,{"$f":"J69*I69","v":{"v":0,"d":"0.00"}}]
[null,"GKD 80100050T","Удлинение дымохода утепленное Gekon Ø80 мм, δут=10 мм, L=500 мм, Алюминий и Оц.сталь",null,80,0.5,{"v":1,"d":"1.0"},{"$f":"'Конвертация цен'!H580","v":{"v":2288,"d":"2288.00"}},{"$f":"H70-H70*Оглавление!$K$22","v":{"v":2288,"d":"2,288.00"}},null,{"v":0,"d":"0.00"}]
[null,"GKD 80100100TAL","Удлинение дымохода утепленное Gekon Ø80 мм, δут=10 мм, L=1000 мм, Алюминий",null,80,1,2.2,{"$f":"'Конвертация цен'!H581","v":{"v":4004,"d":"4004.00"}},{"$f":"H71-H71*Оглавление!$K$22","v":{"v":4004,"d":"4,004.00"}},null,{"$f":"J71*I71","v":{"v":0,"d":"0.00"}}]
[null,"GKD 80100100T","Удлинение дымохода утепленное Gekon Ø80 мм, δут=10 мм, L=1000 мм, Ал/Оц.Ст.",null,80,1,{"v":2,"d":"2.0"},{"$f":"'Конвертация цен'!H582","v":{"v":3949,"d":"3949.00"}},{"$f":"H72-H72*Оглавление!$K$22","v":{"v":3949,"d":"3,949.00"}},null,{"v":0,"d":"0.00"}]
[null,"GKD 80100150TAL","Удлинение дымохода утепленное Gekon Ø80 мм, δут=10 мм, L=1500 мм, Алюминий",null,80,{"v":1.5,"d":"2"},3.3,{"$f":"'Конвертация цен'!H583","v":{"v":6523,"d":"6523.00"}},{"$f":"H73-H73*Оглавление!$K$22","v":{"v":6523,"d":"6,523.00"}},null,{"v":0,"d":"0.00"}]
[null,"GKD 80100200TAL","Удлинение дымохода утепленное Gekon Ø80 мм, δут=10 мм, L=2000 мм, Алюминий",null,80,2,4.4,{"$f":"'Конвертация цен'!H584","v":{"v":8151,"d":"8151.00"}},{"$f":"H74-H74*Оглавление!$K$22","v":{"v":8151,"d":"8,151.00"}},null,{"v":0,"d":"0.00"}]
[null,"GKD 80100VDAL","Дымоход вертикальный утеплённый Gekon Ø80 мм, δут=10 мм, L=1000 мм, черный, Алюминий",null,80,1,2.2,{"$f":"'Конвертация цен'!H585","v":{"v":9823,"d":"9823.00"}},{"$f":"H75-H75*Оглавление!$K$22","v":{"v":9823,"d":"9,823.00"}},null,{"v":0,"d":"0.00"}]
[null,"GKD 80100VNAS","Наконечник для вертикального утеплённого дымохода Gekon Ø80 мм, δут=10 мм, черный, Алюминий и Сталь",null,80,1,0.5,{"$f":"'Конвертация цен'!H586","v":{"v":2046,"d":"2046.00"}},{"$f":"H76-H76*Оглавление!$K$22","v":{"v":2046,"d":"2,046.00"}},null,{"v":0,"d":"0.00"}]
[null,"GKD 80VZBAL","Решётка воздухозабора для утеплённого дымохода Gekon Ø80 мм, δут=10 мм, черный, Алюминий",null,80,0.03,0.2,{"$f":"'Конвертация цен'!H587","v":{"v":1342,"d":"1342.00"}},{"$f":"H77-H77*Оглавление!$K$22","v":{"v":1342,"d":"1,342.00"}},null,{"$f":"J77*I77","v":{"v":0,"d":"0.00"}}]
[null,"GKD 80VOBN","Решётка газоотвода для утепл-го дымохода Gekon Ø80 мм, δут=10 мм, черный окрас, Алюминий и Сталь",null,80,0.07,0.3,{"$f":"'Конвертация цен'!H588","v":{"v":1892,"d":"1892.00"}},{"$f":"H78-H78*Оглавление!$K$22","v":{"v":1892,"d":"1,892.00"}},null,{"v":0,"d":"0.00"}]
[]
["Фото","Артикул","Наименование товара",null,"Диаметр","Угол","Вес","Цена за шт.","Цена со скидкой, RUB","Кол-во, шт.","Сумма со скидкой, RUB"]
[{"$nulls":4},"мм","⁰ (градус)","кг","RUB"]
[null,"GKD 80100K45T","Колено утепленное Gekon Ø80, δут=10 мм, угол 45 гр., Алюминий",null,80,45,0.7,{"$f":"'Конвертация цен'!H589","v":{"v":3905,"d":"3905.00"}},{"$f":"H82-H82*Оглавление!$K$22","v":{"v":3905,"d":"3,905.00"}},null,{"$f":"I82*J82","v":{"v":0,"d":"0.00"}}]
[null,"GKD 80100K90T","Колено утепленное Gekon Ø80, δут=10 мм, угол 90 гр., Алюминий",null,80,90,0.7,{"$f":"'Конвертация цен'!H590","v":{"v":3531,"d":"3531.00"}},{"$f":"H83-H83*Оглавление!$K$22","v":{"v":3531,"d":"3,531.00"}},null,{"$f":"I83*J83","v":{"v":0,"d":"0.00"}}]
[]
["ДЫМОХОДЫ КОАКСИАЛЬНЫЕ ДЛЯ КОНДЕНСАЦИОННЫХ КОТЛОВ"]
["• Универсальные комплекты Ø60/100 и Ø80/125 мм"]
["• Основные элементы изготовлены из PP-R(ПОЛИПРОПИЛЕНА), АЛЮМИНИЯ, АЛЮМИНИЯ и ОЦИНКОВАННОЙ СТАЛИ или СТАЛИ"]
[]
["Фото","Артикул","Наименование товара",null,"Диаметр","Длина","Вес","Цена за шт.","Цена со скидкой, RUB","Кол-во, шт.","Сумма со скидкой, RUB"]
[{"$nulls":4},"мм","м","кг","RUB"]
[null,"GKD 015100PAL","Универсальный комплект конденсационный Gekon Ø60/100 мм, L=1000 мм, PP-R и Алюминий, система Антилёд",null,"60/100",1,1.9,{"$f":"'Конвертация цен'!H591","v":{"v":5841,"d":"5841.00"}},{"$f":"H91-H91*Оглавление!$K$22","v":{"v":5841,"d":"5,841.00"}},null,{"$f":"I91*J91","v":{"v":0,"d":"0.00"}}]
[null,"GKD 016100PAL","Универсальный комплект конденсационный Gekon Ø80/125 мм, L=1240 мм, PP-R и Сталь, система Антилёд",null,"80/125",1.24,2.8,{"$f":"'Конвертация цен'!H592","v":{"v":9097,"d":"9097.00"}},{"$f":"H92-H92*Оглавление!$K$22","v":{"v":9097,"d":"9,097.00"}},null,{"$f":"I92*J92","v":{"v":0,"d":"0.00"}}]
[null,"GKD 80125025PAL","Удлинитель конденсационный Gekon Ø80/125 мм, L=250 мм, PP-R и Оц.сталь",null,"80/125",0.25,0.7,{"$f":"'Конвертация цен'!H593","v":{"v":2134,"d":"2134.00"}},{"$f":"H93-H93*Оглавление!$K$22","v":{"v":2134,"d":"2,134.00"}},null,{"$f":"I93*J93","v":{"v":0,"d":"0.00"}}]
[null,"GKD 6010005PAL","Удлинитель конденсационный Gekon Ø60/100 мм, L=500 мм, PP-R и Оц.сталь",null,"60/100",0.5,{"v":1,"d":"1.0"},{"$f":"'Конвертация цен'!H594","v":{"v":3124,"d":"3124.00"}},{"$f":"H94-H94*Оглавление!$K$22","v":{"v":3124,"d":"3,124.00"}},null,{"v":0,"d":"0.00"}]
[null,"GKD 8012505PAL","Удлинитель конденсационный Gekon Ø80/125 мм, L=500 мм, PP-R и Оц.сталь",null,"80/125",0.5,1.6,{"$f":"'Конвертация цен'!H595","v":{"v":3509,"d":"3509.00"}},{"$f":"H95-H95*Оглавление!$K$22","v":{"v":3509,"d":"3,509.00"}},null,{"v":0,"d":"0.00"}]
[null,"GKD 80005PAL","Удлинитель конденсационный Gekon Ø80 мм, L=500 мм, PP-R",null,80,0.5,0.4,{"$f":"'Конвертация цен'!H596","v":{"v":1639,"d":"1639.00"}},{"$f":"H96-H96*Оглавление!$K$22","v":{"v":1639,"d":"1,639.00"}},null,{"$f":"I96*J96","v":{"v":0,"d":"0.00"}}]
[null,"GKD 601001PAL","Удлинитель конденсационный Gekon Ø60/100 мм, L=1000 мм, PP-R и Оц.сталь.",null,"60/100",1,1.7,{"$f":"'Конвертация цен'!H597","v":{"v":2442,"d":"2442.00"}},{"$f":"H97-H97*Оглавление!$K$22","v":{"v":2442,"d":"2,442.00"}},null,{"v":0,"d":"0.00"}]
[null,"GKD 801251PAL","Удлинитель конденсационный Gekon Ø80/125 мм, L=1000 мм, PP-R и Оц.сталь",null,"80/125",1,3.2,{"$f":"'Конвертация цен'!H598","v":{"v":5071,"d":"5071.00"}},{"$f":"H98-H98*Оглавление!$K$22","v":{"v":5071,"d":"5,071.00"}},null,{"v":0,"d":"0.00"}]
[null,"GKD 8001PAL","Удлинитель конденсационный Gekon Ø80 мм, L=1000 мм, PP-R",null,80,1,0.6,{"$f":"'Конвертация цен'!H599","v":{"v":2321,"d":"2321.00"}},{"$f":"H99-H99*Оглавление!$K$22","v":{"v":2321,"d":"2,321.00"}},null,{"$f":"I99*J99","v":{"v":0,"d":"0.00"}}]
[null,"GKD 806104PAL","Комплект дымохода, адаптер конденсационный Gekon 60-100х2/80 мм, PP-R/Алюминий",null,"60/100*80/80",0.3,0.6,{"$f":"'Конвертация цен'!H600","v":{"v":7007,"d":"7007.00"}},{"$f":"H100-H100*Оглавление!$K$22","v":{"v":7007,"d":"7,007.00"}},null,{"$f":"I100*J100","v":{"v":0,"d":"0.00"}}]
[null,"GKD 6080PAL","Адаптер переход конденсационный Gekon 60-80 мм, PP-R",null,"60-80",0.1,0.2,{"$f":"'Конвертация цен'!H601","v":{"v":1661,"d":"1661.00"}},{"$f":"H101-H101*Оглавление!$K$22","v":{"v":1661,"d":"1,661.00"}},null,{"v":0,"d":"0.00"}]
[]
["Фото","Артикул","Наименование товара",null,"Диаметр","Угол","Вес","Цена за шт.","Цена со скидкой, RUB","Кол-во, шт.","Сумма со скидкой, RUB"]
[{"$nulls":4},"мм","⁰ (градус)","кг","RUB"]
[null,"GKD 60100045PAL","Колено конденсационное Gekon 60/100 мм, угол 45 гр., PP-R/Сталь",null,"60/100",45,0.5,{"$f":"'Конвертация цен'!H602","v":{"v":2442,"d":"2442.00"}},{"$f":"H105-H105*Оглавление!$K$22","v":{"v":2442,"d":"2,442.00"}},null,{"$f":"I105*J105","v":{"v":0,"d":"0.00"}}]
[null,"GKD 80125045PAL","Колено конденсационное Gekon 80/125 мм, угол 45 гр., PP-R/Сталь",null,"80/125",45,0.6,{"$f":"'Конвертация цен'!H603","v":{"v":4653,"d":"4653.00"}},{"$f":"H106-H106*Оглавление!$K$22","v":{"v":4653,"d":"4,653.00"}},null,{"$f":"I106*J106","v":{"v":0,"d":"0.00"}}]
[null,"GKD 80045PAL","Колено конденсационное Gekon 80 мм, угол 45 гр., PP-R",null,80,45,0.2,{"$f":"'Конвертация цен'!H604","v":{"v":1540,"d":"1540.00"}},{"$f":"H107-H107*Оглавление!$K$22","v":{"v":1540,"d":"1,540.00"}},null,{"v":0,"d":"0.00"}]
[null,"GKD 60100090PAL","Колено конденсационное Gekon 60/100 мм, угол 90 гр., PP-R/Сталь",null,"60/100",90,0.6,{"$f":"'Конвертация цен'!H605","v":{"v":2442,"d":"2442.00"}},{"$f":"H108-H108*Оглавление!$K$22","v":{"v":2442,"d":"2,442.00"}},null,{"v":0,"d":"0.00"}]
[null,"GKD 10080090PAL","Колено конденсационное Gekon 80/125 мм, угол 90 гр., PP-R/Сталь",null,"80/125",90,0.8,{"$f":"'Конвертация цен'!H606","v":{"v":4653,"d":"4653.00"}},{"$f":"H109-H109*Оглавление!$K$22","v":{"v":4653,"d":"4,653.00"}},null,{"v":0,"d":"0.00"}]
[null,"GKD 80090PAL","Колено конденсационное Gekon 80 мм, угол 90 гр., PP-R",null,80,90,0.2,{"$f":"'Конвертация цен'!H607","v":{"v":1540,"d":"1540.00"}},{"$f":"H110-H110*Оглавление!$K$22","v":{"v":1540,"d":"1,540.00"}},null,{"v":0,"d":"0.00"}]
[]
["ЗАПАСНЫЕ ЧАСТИ ДЛЯ ДЫМОХОДОВ"]
[]
["Фото","Артикул","Наименование товара",null,"Диаметр",null,"Вес","Цена за шт.","Цена со скидкой, RUB","Кол-во, шт.","Сумма со скидкой, RUB"]
[{"$nulls":4},"мм",null,"кг","RUB"]
[null,"GKD 60100AINPB","Наконечник 60/100 мм, Система Антилед, Система Антиворобей, черный",null,"60/100",null,0.2,{"$f":"'Конвертация цен'!H608","v":{"v":693,"d":"693.00"}},{"$f":"H116-H116*Оглавление!$K$22","v":{"v":693,"d":"693.00"}},null,{"$f":"J116*I116","v":{"v":0,"d":"0.00"}}]
[null,"GKD 60OR","Уплотнительное кольцо на внутреннюю трубу Gekon 60 мм",null,60,null,0.1,{"$f":"'Конвертация цен'!H609","v":{"v":198,"d":"198.00"}},{"$f":"H117-H117*Оглавление!$K$22","v":{"v":198,"d":"198.00"}},null,{"$f":"J117*I117","v":{"v":0,"d":"0.00"}}]
[null,"GKD 80OR","Уплотнительное кольцо на внутреннюю трубу Gekon 80 мм",null,80,null,0.1,{"$f":"'Конвертация цен'!H610","v":{"v":242,"d":"242.00"}},{"$f":"H118-H118*Оглавление!$K$22","v":{"v":242,"d":"242.00"}},null,{"v":0,"d":"0.00"}]
[null,"GKD 100OR","Уплотнительное кольцо на внешнюю трубу Gekon 100 мм",null,100,null,0.1,{"$f":"'Конвертация цен'!H611","v":{"v":264,"d":"264.00"}},{"$f":"H119-H119*Оглавление!$K$22","v":{"v":264,"d":"264.00"}},null,{"v":0,"d":"0.00"}]
[null,"GKD 125OR","Уплотнительное кольцо на внешнюю трубу Gekon 125 мм",null,125,null,0.1,{"$f":"'Конвертация цен'!H612","v":{"v":407,"d":"407.00"}},{"$f":"H120-H120*Оглавление!$K$22","v":{"v":407,"d":"407.00"}},null,{"v":0,"d":"0.00"}]
[null,"GKD 80H","Хомут Gekon 80 мм со шпилькой",null,80,null,0.1,{"$f":"'Конвертация цен'!H613","v":{"v":352,"d":"352.00"}},{"$f":"H121-H121*Оглавление!$K$22","v":{"v":352,"d":"352.00"}},null,{"v":0,"d":"0.00"}]
[null,"GKD 100H","Хомут Gekon 100 мм со шпилькой",null,100,null,0.1,{"$f":"'Конвертация цен'!H614","v":{"v":374,"d":"374.00"}},{"$f":"H122-H122*Оглавление!$K$22","v":{"v":374,"d":"374.00"}},null,{"v":0,"d":"0.00"}]
[null,"GKD 80MS","Накладка декоративная Gekon 80 мм",null,80,null,0.1,{"$f":"'Конвертация цен'!H615","v":{"v":220,"d":"220.00"}},{"$f":"H123-H123*Оглавление!$K$22","v":{"v":220,"d":"220.00"}},null,{"v":0,"d":"0.00"}]
[null,"GKD 60100M","Накладка декоративная Gekon 100 мм",null,100,null,0.1,{"$f":"'Конвертация цен'!H616","v":{"v":198,"d":"198.00"}},{"$f":"H124-H124*Оглавление!$K$22","v":{"v":198,"d":"198.00"}},null,{"v":0,"d":"0.00"}]
[null,"GKD 60125M","Накладка декоративная Gekon 125 мм",null,125,null,0.1,{"$f":"'Конвертация цен'!H617","v":{"v":264,"d":"264.00"}},{"$f":"H125-H125*Оглавление!$K$22","v":{"v":264,"d":"264.00"}},null,{"v":0,"d":"0.00"}]
[null,"GKD 110UF","Фланец Gekon с прокладкой, винтами и гайкой, 100 мм",null,100,null,0.1,{"$f":"'Конвертация цен'!H618","v":{"v":242,"d":"242.00"}},{"$f":"H126-H126*Оглавление!$K$22","v":{"v":242,"d":"242.00"}},null,{"v":0,"d":"0.00"}]
[null,"GKD 60100H","Хомут обжимной Gekon (труба-труба) 100 мм",null,100,null,0.1,{"$f":"'Конвертация цен'!H619","v":{"v":242,"d":"242.00"}},{"$f":"H127-H127*Оглавление!$K$22","v":{"v":242,"d":"242.00"}},null,{"v":0,"d":"0.00"}]

{"sheet":"Теплоноситель","index":12,"n_rows":21,"n_cols":11,"rows_kept":21,"merged":[[3,0,3,8],[7,10,7,12],[9,8,9,10],[14,0,14,7],[14,9,14,10],[15,0,16,0],[15,1,16,1],[15,2,16,2],[15,5,15,6],[15,9,16,9],[15,10,16,10],[16,5,16,6],[17,0,22,0],[17,1,19,1],[17,2,19,2],[17,3,19,3],[17,4,19,4],[17,5,19,6],[17,7,19,7],[17,8,19,8],[17,9,19,9],[17,10,19,10],[20,1,22,1],[20,2,22,2],[20,3,22,3],[20,4,22,4],[20,5,22,6],[20,7,22,7],[20,8,22,8],[20,9,22,9],[20,10,22,10]]}
[]
[]
[]
["Теплохладоноситель"]
[]
["ТЕПЛОНОСИТЕЛЬ GEKON ECOSAVE - 30"]
["• Теплохладоноситель GEKON ECOSAVE -30 изготовлен на основе ПРОПИЛЕНГЛИКОЛЯ"]
["• В составе присутствует сбалансированный пакет присадок: антикоррозионные, антипенные,"]
["    антиокислительные и повышающие инертность к уплотнительным материалам"]
["• Не содержит нитритов, аминов и фосфатов",{"$nulls":7},"На главную страницу"]
["• Температурный диапазон применения: от -30⁰C до +106⁰C"]
["• Срок эксплуатации не менее 5 лет"]
["• Соответствует ГОСТ 28084-89 по коррозионному воздействию на металлы"]
["• Страна производства: Россия"]
[{"$nulls":8},"Итого:",{"$f":"SUM(K18:K23)","v":{"v":0,"d":"0.00"}}]
["Фото","Артикул","Наименование товара","Объём","Содержание основного вещества","Диапазон рабочих температур",null,"Цена за шт","Цена за шт со скидкой","Кол-во, шт","Сумма со скидкой, RUB"]
[{"$nulls":3},"л","%","⁰C",null,"RUB","RUB"]
[null,"GK 569214"," Теплоноситель GEKON ECOSAVE - 30°С, 10 кг.",10,45,"от -30 до +106",null,{"$f":"'Конвертация цен'!H302","v":{"v":2483,"d":"2483.00"}},{"$f":"H18-H18*Оглавление!$K$23","v":{"v":2483,"d":"2,483.00"}},null,{"$f":"J18*I18","v":{"v":0,"d":"0.00"}}]
[]
[]
[null,"GK 873256"," Теплоноситель GEKON ECOSAVE - 30°С, 20 кг.",20,45,"от -30 до +106",null,{"$f":"'Конвертация цен'!H303","v":{"v":4967,"d":"4967.00"}},{"$f":"H21-H21*Оглавление!$K$23","v":{"v":4967,"d":"4,967.00"}},null,{"$f":"J21*I21","v":{"v":0,"d":"0.00"}}]